{"text_format":"1","workbook":"xlsx","n_sheets":19,"sheets":["Wijzigingen","WikiWand","video","Lange verhalen","Blauwe reeks","Rode Reeks Ongekleurd","Rode Reeks 4kleuren","Rode Reeks Bijlagen","Classics","Amoras","krant","Lekturama","TotaleTabel (tekenaars)","Aankondigingen","datumschat","Wikipedia-Alle verhalen","WWWcatalogus","Comicweb lang","Review"],"not_rendered":{"charts":2,"images":52,"macros":1,"external_links":0,"defined_names":14,"comments":12,"pivot_tables":0},"unopened":[],"bounds":{"document_bytes":16777216,"sheet_cells":100000,"rows_first":2000,"rows_last":500,"rows_between":2000,"halvings":0,"cell_chars":16384,"cell_head_chars":4096},"cells_cut":0,"cells_raw":0,"read":"whole","date_system":"1900"}

{"sheet":"Wijzigingen","index":0,"n_rows":148,"n_cols":3,"rows_kept":148,"cut":false,"hidden":true,"merged":[]}
["Date","Subject","Remark"]
["2021-02-07","De Ongelooflijke Thomas, Rigo pagina","ipv pag 1"]
["2021-02-09","De Sonometer","Aantal pagina's error verwijderd (Lange Verhalen)"]
["2021-03-06","De Lange Verhalen","Update met datums en knop"]
["2021-03-08T22:47:17","Macro","Bij saven de wijzigingssheet activeren en datum toevoegen."]
["2021-03-11T23:06:20","Lekturama","Geupdate t/m 78"]
["2021-03-13T13:05:37","Macro","Datum update bij saven nu alleen voor mij."]
["2021-03-18T22:22:25","Button","Hide before save voor als je hem zonder macro's op je telefoon opent. Show bij open met macro's"]
["2021-03-25T23:04:26","Workbook","Splitup tussen Korte verhalen en Lange verhalen"]
["2021-03-27T01:02:13","De Lange Verhalen","Add hyperlinks"]
["2021-03-31T20:47:06","De grot van Gregorius","Toegevoegd. Vermeld op het forum door S&W lover."]
["2021-04-02T21:42:38","De drijvende dokters","Toegevoegd"]
["2021-04-02T21:42:38","De kale kroon","Toegevoegd"]
["2021-04-03T10:28:39","De kale kroon","tikfout kroom"]
["2021-04-05T11:49:20","Het lijdende Leiden","medewerking van Jeroen Bullaert toegevoegd"]
["2021-04-05T11:49:20","Suske de Rat","medewerking van Jeroen Bullaert toegevoegd"]
["2021-04-08T16:05:38","Het gewiste Wiske","Opmerking toegevoegd van site Wout Schoonis (www.schoonis.com) , dat inderdaad Het gewiste Wiske voor Team Krimson is gemaakt"]
["2021-04-09T15:51:44","De zalige ziener","Datum album aangepast van 6 naar 7 april 2021"]
["2021-04-10T15:48:39","Wout Schoonis","Werkzaamheden toegevoegd 341 Het Monamysterie (2017) t/m 357 De zalige ziener (2021), op basis van omscrrhijvingen afbeeldingen op zijn eigen website www.schoonis.com/suske-wiske"]
["2021-04-10T16:29:05","Macro","Na saven was de setfreeze weg, als er nu naar beneden gescrold wordt, dan wordt deze weer teruggezet."]
["2021-04-10T18:08:59","Scenario's, tekenaars","Geupdate met comments naar aanleiding van De Perfecte Podcast, interview met Marc Verhaegen deel 1."]
["2021-04-11T12:09:27","Scenario's, tekenaars","Geupdate met comments naar aanleiding van De Perfecte Podcast, interview met Marc Verhaegen deel 22"]
["2021-04-11T12:09:27","Macro","Commentes reset size and position macro"]
["2021-04-22T09:13:36","Nummering 2 kleurenreeks","Toegevoegd bij ongekleurd. Nummering 2 kleuren Vlaams, excl heruitgaven"]
["2021-04-24T09:33:00","info","1e druk Amoras oude spelling. Titels onder afbeelding 67-74, circusbarom vanaf 11e druk."]
["2021-04-26T01:32:39","info","Grote aanpassing toevoeging alle albums op bijlagen eerste druk , comments en tekenaars. Met name op basis van Lastdodo."]
["2021-04-26T15:57:26","info","Note Lambik Baba toegevoegd met info van censuur"]
["2021-04-29T10:18:50","info","Opmerkingen van Erik Strijbos verwerkt, naar aanleiding aanpassingen op basis van interview met Marc Verhaegen."]
["2021-06-03T21:44:32","De Drakenprinter","Rugcover door Wout Schoonis, en datum Telegraaf"]
["2021-06-06T13:42:51","info","Medewerker Thijs Wessels toegevoegd, Sinds De nacht van de Narwal"]
["2021-06-06T13:44:08","De Drakenprinter","Gastoptreden van Peter van Gucht en 'Einde bord dragers' Thijs Wessels (L) en Tom Wilequet (R)"]
["2021-08-13T11:32:50","Formule","Nu date minimum van album en krant"]
["2021-09-02T21:20:00","De Naamloze 9","Titel aangepast, datums aankondigingen verbeterd."]
["2021-11-16T16:09:37","De maffe maniak","Tussenaankondiging toegevoegd."]
["2021-11-24T11:35:41","De gulden krijger","Toegevoegd"]
["2022-01-13T21:54:02","Aankondigingen NL andere titel","Diverse toegevoegd van De Stem en Het neiuwsblad van het zuiden"]
["2022-02-01T16:16:43","De maffe markies ","toegevoegd. Komt voor de gulden krijger uit."]
["2022-12-10T14:36:51","De geplaagde Plantijn","Titel gewijzigd van Plantin"]
["2022-12-10T14:36:51","Autheurs en tekenaars","Verwijderd ivm mogelijke issues met De Standaard"]
["2022-12-10T23:45:00","Scrolling error","Freeze panes nu overal vanaf C10 ipv A10"]
["2022-12-10T23:46:08","Plaatje SW","Toegevoegd"]
["2022-12-11T00:00:12","tabblad wijzigingen ","verwijderd"]
["2022-12-11T23:08:29","Scrolling error","Geen referentie naar A1 bij SetFreeze"]
["2022-12-12T22:14:19","Scrolling error","Geen SetFreeze"]
["2022-12-12T22:23:14","videotab etc","niet zichtbaar"]
["2022-12-12T22:26:26","tekst 4 kleuren nrs","gecentreerd"]
["2022-12-20T02:28:28","Einde SW in De Standaard","Commentaar bij De boze boleet (laatste gedrukt) en De geplaagde Plantijn / De harteloze Hein, laatste 2 digitaal in De Standaard"]
["2022-12-20T02:28:28","De boterhammenman","Toegevoegd. Voor De Krijtkampioen"]
["2023-01-01T20:22:37","De geplaagde Plantijn","Startdatum De Telegraaf bevestigd en Note verbeterd"]
["2023-01-01T20:22:37","De belhamel-bende","Note van aankondiging uitgebreid met vermelding kort verhaal Gelukkig Nieuwjaar ipv de aankondiging."]
["2023-01-18T21:26:56","Hommages","Verplaatst van korte naar lange verhalen (SOS Kinderdorpen hernoemd in catergorie SOS en daar gelaten)"]
["2023-01-18T21:50:10","Raap van Rubens","Pagina's naar 80 en opmerking voer 4 missende stroken in krant en Roap van Rubbes"]
["2023-01-18T21:50:10","De gekalibreerde Kwibus","Opmerking erbij van ingekleurde versie in vakantieboek 1995."]
["2023-01-19T09:01:09","De fluitende olifant","Typo Trainworld"]
["2023-01-20T11:50:27","De Sissende Sampan","Toegevoegd dat verhaal in NL kranten wel verkort is weergegeven, ondanks dat publicatie maar 2 mnd achterliep."]
["2023-01-20T12:04:24","De parel in de lotusbloem","Uitleg toegevoegd van iets kleinere formaat."]
["2023-01-20T23:29:17","Amoras","Reeks toegevoegd, incl Kronieken van Amoras"]
["2023-01-22T21:41:55","Gelegenheids uitgaven","In ruwe vorm toegevoegd onderaan"]
["2023-01-23T21:19:31","Bijlagen bij 1e druk","Toegevoegd"]
["2023-01-23T21:33:22","Streektalen","Toegevoegd"]
["2023-02-04T22:06:25","Gelegenheids uitgaven","Uitgewerkt"]
["2023-02-05T11:15:21","De Sonometer","Verschoven naar Hommages"]
["2023-02-05T11:15:21","Amoras","Verschoven naar apart tabblad"]
["2023-02-05T12:19:22","Macro","Update version verbeterd, ook voor Amoras 'Heb ik'"]
["2023-02-09T21:15:57","De geplaagde Plantijn","Startdatum Telegraaf bevestigd"]
["2023-02-09T21:18:52","De Rodenburgh Rookies","Startdatum Telegraaf "]
["2023-02-26T17:49:41","Gelegenheidsuitgaven","Jaartal vervangen door datums, enkele toegevoegd zoals 2 jaren 70"]
["2023-02-26T21:41:13","De wervelende waterzak","Vermelding laatste album Vandersteen"]
["2023-02-26T21:41:13","De gekke gokker","Vermelding eerste album Paul Geerts"]
["2023-02-28T21:38:09","Swpic","was hidden, met macro teruggezet"]
["2023-02-28T22:33:29","Amoraspic","Toegevoegd"]
["2023-02-28T22:43:43","The making of Amoras","Toegevoegd"]
["2023-03-01T21:20:33","De Sonometer","Verwijderd uit hoofdlijst, dubbel, was al verplaatst naar hommage lijst"]
["2023-04-02T11:34:08","De val","Kronieken Amoras 12, toegevoegd"]
["2023-04-02T11:34:08","Speciale talen","Toegevoegd, 3 verhalen in Latijd en Esperanto"]
["2023-04-02T11:34:08","Streektalen","Omschrijving reden van uitgave toegevoegd."]
["2023-04-02T11:34:08","Zingende Nijlpaard Phila strips","Toegevoegd in bruin/blauw"]
["2023-04-02T11:34:08","Rikki en Wiske Stripschrift","Toegevoegd eerste uitgave na 1946 (reden van toevoegen aan lijst)"]
["2023-04-02T12:17:13","Koddige Kater","Pers Boartlike Boarre toegevoegd"]
["2023-04-02T12:17:13","Efteling Elfjes","krantenuitgave toegevoegd"]
["2023-04-02T12:17:13","Lilli Natal","krantenuitgaven toegevoegd"]
["2023-04-02T12:17:13","De verdwenen verteller","krantenuitgaven toegevoegd"]
["2023-04-02T12:27:27","Macro","Set freeze weer aangezet"]
["2023-05-08T22:48:15","Het hondenparadijs","Purina Dog Chow uitgave toegevoegd."]
["2023-06-14T08:53:07","De krijtkampioen","Verschijningsdatum en startdatum telegraaf toegevoegd"]
["2023-06-16T15:49:05","De krijtkampioen","Startdatum telegraaf gecorrigeerd, volgt nu opwww, 1 dag na stoppen Rookburgh Rookies"]
["2023-06-25T13:48:06","Lekturama 82","Toegevoegd in nog hidden tab"]
["2023-06-29T13:06:35","De zwevende zusters","Toegevoegd, datum nog indicatief."]
["2023-07-09T18:26:07","De zoevende zusters","Titel aangepast."]
["2023-07-09T18:26:07","Tex en Terry","Toegevoegd: 2e druk identiek aan 1e druk maar met extra pagina antwoordstrook SW weekblad."]
["2023-07-19T17:28:18","Nrs 209-2012","Bijschrift gewijzigd: eerste druk alleen met wit vignet. Geen eerste druk zoals nrs 200-208 met normaal nummer. Lastdodo is correct, Comicweb onjuist (zelfde ISBN nummers)."]
["2023-07-19T17:58:56","Wikiwand","nummering bijgewerkt na toevoeging Het Machtige Monololie"]
["2023-07-20T16:50:57","Lekturama","Uitgebreid met extra info van Lastdodo (nu bij 9) , Oorspronkelijke verhalen en Top 40"]
["2023-08-14T10:38:43","De Tartaarse helm","Jaartal album aangepast van 1952 naar 1953, conform Lastdodo en SW op het WWW"]
["2023-08-15T15:19:48","Blauwe reeks","Tab toegevoegd"]
["2023-08-21T22:43:57","Classics","Tab toegevoegd"]
["2023-08-27T14:50:24","Lekturama","Formating"]
["2023-09-03T23:23:15","De zoevende zusters","Juiste datum toegevoegd"]
["2023-09-13T22:01:15","Lekturama","Afgerond"]
["2023-09-19T22:02:30","Het laatste dwallicht","Voorpublicaties toegevoegd, details in comment. Enige poppenreeks verhaal wat eerder in de (Nederlandse) krant verscheen."]
["2023-09-20T12:51:56","De zoevende zusters","Startdatum De Telegraaf toegevoegd."]
["2023-10-06T09:11:30","Bolhoed Bik","Toegevoegd"]
["2023-10-08T12:15:35","Hoofdletters titels","Overgenomen van binnenkaft De krijtkampioen (t/m nr 154). Behalve De kleppende klipper zonder hoofdletters, en Zagemeel met hoofdletter (geen/wel naam)."]
["2023-10-17T20:22:50","De mottenvanger","Toegevoegd: in De Stem laatste strook vervangen door onderschrift waarin afwezigheid van Jerom verklaard wordt."]
["2023-10-18T21:20:52","Lambiorix","Toegevoegd: Laatste 2 stroken verkort tot 1 strook, grap over de koningskwestie verwijderd."]
["2023-10-18T22:38:39","De stierentemmer","Toegevoegd: Laatste 2 stroken verkort tot 1 strook, grap over de koningskwestie verwijderd."]
["2023-11-19T19:03:26","Rode Reeks 0-66","Vlaamse Ongekleurde reeks toegevoegd. Jaartallen heruitgaves gecorrigeerd."]
["2023-11-25T16:41:18","Het vliegende hart","Geklassificeerd als kort verhaal ivm het uitkomen in de reeks In het kort. Wel hier vermeld (maar nummering aangepast ivm als KVH01) in verband met verwijzing naar stripkatalogus en krantenuitgave."]
["2023-11-26T11:05:47","Rode Reeks 0-66","Vlaamse tweekleuren reeks toegevoegd, incl jaartal correcties."]
["2023-11-27T20:28:22","Rode Reeks 0-66","Gelijkvormige reeks toegevoegd, incl jaartal correcties."]
["2023-12-02T12:00:09","Rode Reeks 0-66","Nederlandse ongekleurde reeks toegevoegd."]
["2023-12-02T23:54:55","Rode Reeks 0-66","Nederlandse tweekleuren reeks toegevoegd."]
["2023-12-03T22:52:32","Rode Reeks 0-66","Nederlandse reeksen jaartallen heruitgaves gecorrigeerd."]
["2023-12-04T23:00:39","De schat van Beersel","Kiwanis uitgave toegevoegd aan de gelegenheidsuitgaven."]
["2023-12-06T22:37:05","Macro","Header Rode Reeks 0-66"]
["2023-12-07T07:53:59","Vliegende hart","Weetje van de week toegevoegd, gekopieerd van De korte verhalen"]
["2023-12-07T07:53:59","De schat van Beersel","Weetje van de week toegevoegd, hertekening Paul Geerts"]
["2023-12-07T07:53:59","Goud voor Rome","Weetje van de week toegevoegd, hertekening Paul Geerts"]
["2023-12-07T18:33:01","Klaartje wakker","Toegevoegd"]
["2023-12-08T16:30:46","Klaartje wakker","Verschijningsdatum"]
["2023-12-10T14:12:22","Macro Rode Reeks 0-66","Header in 1x hiden of showen ipv per regel."]
["2023-12-10T22:03:10","De koning drinkt","Aantal pagina's aangepast, verschil album en krant."]
["2023-12-10T22:59:51","Rode reeks 0-66","Vergeleken en gecorrigeerd tov Matla 9e dimensie"]
["2023-12-11T22:10:00","Rode reeks 0-66","Alle jaartallen gecorrigeerd in Lastdodo van Vlaams ongekleurde reeks. DeStem herdruk toegevoegd als regel."]
["2023-12-18T20:50:06","Rode reeks 0-66","Alle jaartallen gecorrigeerd in Lastdodo van Nederlandse ongekleurde reeks en alle drie tweekleuren reeksen."]
["2023-12-18T20:50:06","De stalen bloempot","Toegevoegd: Bij het herletteren komen in de eerdere drukken 4 verschilende spellingen van Schanulleke voor. Zie Note."]
["2024-01-03T23:47:09","Hoofdletters titels","Aangepast op alle vermeldingen volgens binnenkaft De krijtkampioen. Bleken er nog enkele niet conform, ook voor 154."]
["2024-01-10T13:13:08","De keizerkop","Toegevoegd."]
["2024-01-16T07:09:18","Klaartje wakker","Startdatum Telegraaf gecorrigeerd."]
["2024-01-16T21:41:24","De lachende wolf","Krantversie lengte aangepast naar 55 pagina's. Opmerking over verdwenen strook toegevoegd."]
["2024-01-26T17:28:01","Vincent Van Grroaâargh","toegevoegd. Nog geen volgnr en lengte"]
["2024-01-31T21:28:52","Schat van Beersel Kiwanis","Rode rand toegevoegd."]
["2024-01-31T22:43:15","Hommage 7","Nr toegevoegd"]
["2024-02-12T13:11:36","1e druk met bijlagen","De kleine postruiter toegevoegd. Uitlijning verbeterd."]
["2024-02-17T08:28:20","De gulden harpoen","Speciale uitgave Zuiderzeemuseum toegevoegd"]
["2024-03-06T14:56:49","Macro","AutoRowHeight"]
["2024-03-28T07:27:11","De schakende schim","toegevoegd. Startdatum Telegraag (Mr John) en album geschat."]
["2024-04-07T10:49:28","De keizerskop","Startdatum Telegraaf toegevoegd, geschat door Mr John. Startdatum De schakende schim verwijderd."]
["2024-04-14T19:10:52","Macro's","Setfreeze aangezet en gemaakt voor Ongekleurde en Gekleurde Rode Reeks"]
["2024-04-15T22:18:50","Bijlagen tab","Toegevoegd."]
["2024-04-20T15:49:33","Bijlagen tab","Afgerond."]
["2024-04-21T12:05:35","SW Font","Na plaatsing online: Plaatjes over geplakt voor Classics en Lecturama. Uitlijning hulp email blokje en gekopieerd naar andere tabbladen. Bijlagen Font plaatje naar beneden uitgelijnd. "]
["2024-04-21T12:10:58","Notes bij Telegraaf 1e strook","Telegraaf 2 schattingen notes verwijderd, want identiek aan suskeenwiske.ophetwww.net"]
["2024-04-21T12:22:38","De Vroemvroem-club","1e strook aangepast in de Telegraaf (met eerdere datum) ipv De Standaard."]
["2024-04-21T22:30:43","Lecturama 62","Titelfout Het machtige document toegevoegd (stond al wel in de lange verhalen lijst)."]
["2024-04-21T22:31:23","Amoras","De complete saga toegevoegd"]
["2024-04-21T22:31:23","Bijlagen","Tikfoutjes verwijderd: luisterstrip (regel De edele elfen); antwoordkaart (regel Het Aruba-dossier) en CD-rom (regel De Snoezige Snowijt)"]
["2024-04-21T22:31:23","De Lange verhalen","In onderschrift definitie aangepast. Lange verhalen zijn tegenwoordig ook minder dan 46 pagina's: slechts 38."]

{"sheet":"WikiWand","index":1,"n_rows":406,"n_cols":19,"rows_kept":406,"cut":false,"hidden":true,"merged":[]}
["https://www.wikiwand.com/nl/Lijst_van_verhalen_van_Suske_en_Wiske"]
[]
["Dit is een chronologische lijst van verhalen van Suske en Wiske. De chronologie is gebaseerd op de eerste verschijning van voorpublicatie. Wanneer een verhaal niet is voorgepubliceerd wordt de datum van de verschijningsdatum van het eerste album vermeld."]
["Het nummer in de eerste kolom is het volgnummer van de verhalen, dus in de volgorde waarin alle verhalen ooit verschenen zijn. Een aantal verhalen is in een of meer series uitgebracht, en het nummer dat in die serie gebruikt is, staat in de betreffende kolom. De meest voorkomende verschijningsvorm is de VK-kolom. De nummers die daar gebruikt zijn, zijn de nummers die voor op een dergelijk boek worden aangetroffen."]
["In het overzicht staan ook de nummers van de reeksen waarin het verhaal verscheen:"]
["1. VO - Vlaamse ongekleurde reeks (1946-1959)"]
["2. BR - Blauwe reeks (1952-1957)"]
["3. HO - Hollandse ongekleurde reeks (1953-1959)"]
["4. VT - Vlaamse tweekleurenreeks (1959-1964)"]
["5. HT - Hollandse tweekleurenreeks (1959-1964)"]
["6. GT - Gezamenlijke tweekleurenreeks (1964-1966)"]
["7. VK - Vierkleurenreeks (1967-heden)"]
["8. SK - Strip Klassiek Reeks (1981-1984)"]
["9. RK - Rode Klassiek Reeks (1993-1999)"]
["10. PR - Pocket Reeks (2007-2014)"]
["11. CL - Suske en Wiske Classics (2017-2019)"]
["12. HR - Hommage reeks (2017-heden)"]
[]
["Nr.","Datum","Titel","VO","BR","HO","VT","HT","GT","VK","SK","RK","PR","CL","HR"]
[1,"30 maart 1945","Rikki en Wiske (in Chocowakije)",0,null,null,null,null,null,154,null,1,null,null,null,null,{"$f":"VALUE(LEFT(B20,FIND(\" \",B20)-1))","v":30},{"$f":"MID(B20,LEN(Q20)+1,FIND(\" \",B20,LEN(Q20)+2)-(LEN(Q20)+1))","v":" maart"},{"$f":"VALUE(RIGHT(B20,4))","v":1945}]
[2,"1945-12-19","(Op) Het eiland Amoras",1,null,"1a",null,null,null,68,2,2,null,null,null,null,{"$error":"#VALUE!"},{"$error":"#VALUE!"},6790]
[3,"15 mei 1946","De sprietatoom",3,null,null,42,31,null,107,4,3,40,null,null,null,15," mei",1946]
[4,"1946-09-28","De vliegende aap",2,null,null,null,null,65,87,3,4,37,17,null,null,{"$error":"#VALUE!"},{"$error":"#VALUE!"},7073]
[5,"13 februari 1947","De zwarte madam",6,null,null,null,null,null,140,8,5,22,9,null,null,13," februari",1947]
[6,"1 juli 1947","De koning drinkt",4,null,null,null,null,null,105,5,6,17,5,null,null,1," juli",1947]
[7,"1947-11-08","Prinses Zagemeel",5,null,null,null,null,null,129,6,7,null,13,null,null,{"$error":"#VALUE!"},{"$error":"#VALUE!"},7479]
[8,"20 maart 1948","De bokkerijders",26,null,null,null,null,null,136,null,8,9,15,null,null,20," maart",1948]
[9,"29 juli 1948","De witte uil",7,null,null,null,null,null,134,13,9,35,null,null,null,29," juli",1948]
[10,"1948-09-09","Het Spaanse spook",null,0,null,null,null,null,150,null,null,null,21,null,null,{"$error":"#VALUE!"},{"$error":"#VALUE!"},7785]
[11,"31 oktober 1948","De gekalibreerde kwibus",null,null,null,null,null,null,null,1,10,null,null,null,null,31," oktober",1948]
[12,"1948-12-08","De mottenvanger",31,null,null,null,null,null,142,null,11,16,25,null,null,{"$error":"#VALUE!"},{"$error":"#VALUE!"},7875]
[13,"1949-04-16","Bibbergoud",8,null,1,null,null,null,138,14,12,20,26,null,null,{"$error":"#VALUE!"},{"$error":"#VALUE!"},8004]
[14,"25 augustus 1949","Lambiorix",9,null,3,null,null,null,144,19,13,23,18,null,null,25," augustus",1949]
[15,"5 januari 1950","De stierentemmer",10,null,7,null,null,null,132,null,14,null,null,null,null,5," januari",1950]
[16,"2 maart 1950","De bronzen sleutel",null,1,null,null,null,null,116,null,null,null,27,null,null,2," maart",1950]
[17,"16 mei 1950","De stalen bloempot",11,null,null,null,null,null,145,null,15,null,14,null,null,16," mei",1950]
[18,"1950-09-23","Het zingende nijlpaard",12,null,4,null,null,null,131,null,16,26,null,null,null,{"$error":"#VALUE!"},{"$error":"#VALUE!"},8529]
[19,"2 februari 1951","De ringelingschat",13,null,8,7,8,null,137,null,17,23,null,null,null,2," februari",1951]
[20,"9 mei 1951","De Tartaarse helm",null,2,null,null,null,null,114,null,null,null,22,null,null,9," mei",1951]
[21,"13 juni 1951","De tuf-tuf-club",14,null,5,null,null,null,133,null,18,37,null,null,null,13," juni",1951]
[22,"29 oktober 1951","Het bevroren vuur",15,null,2,null,null,null,141,null,19,null,null,null,null,29," oktober",1951]
[23,"10 maart 1952","De sterrenplukkers",16,null,6,null,null,null,146,null,20,31,null,null,null,10," maart",1952]
[24,"19 juli 1952","De lachende wolf",17,null,null,null,null,null,148,null,21,34,null,null,null,19," juli",1952]
[25,"23 juli 1952","De schat van Beersel",null,3,null,null,null,null,111,null,null,null,3,null,null,23," juli",1952]
[26,"1952-11-26","De dolle musketiers",18,null,9,null,null,59,89,null,22,32,null,null,null,{"$error":"#VALUE!"},{"$error":"#VALUE!"},9324]
[27,"1952-12-14","Het vliegende hart",null,null,null,null,null,null,188,null,23,null,null,null,null,{"$error":"#VALUE!"},{"$error":"#VALUE!"},9342]
[28,"1953-04-07","De tamtamkloppers",19,null,10,19,10,null,88,null,24,null,6,null,null,{"$error":"#VALUE!"},{"$error":"#VALUE!"},9456]
[29,"18 augustus 1953","De knokkersburcht",20,null,11,20,11,null,127,null,25,32,null,null,null,18," augustus",1953]
[30,"14 oktober 1953","Het geheim van de gladiatoren",null,4,null,null,null,null,113,null,null,15,1,null,null,14," oktober",1953]
[31,"1953-12-31","De circusbaron",21,null,12,null,null,56,81,null,26,40,null,null,null,{"$error":"#VALUE!"},{"$error":"#VALUE!"},9724]
[32,"15 mei 1954","De speelgoedzaaier",22,null,13,null,null,55,91,null,27,null,null,null,null,15," mei",1954]
[33,"1954-09-27","De ijzeren schelvis",23,null,14,null,null,60,76,null,28,27,null,null,null,{"$error":"#VALUE!"},{"$error":"#VALUE!"},9994]
[34,"2 februari 1955","De gezanten van Mars",null,5,null,null,null,null,115,null,null,30,10,null,null,2," februari",1955]
[35,"11 februari 1955","De kleppende klipper",24,null,15,null,null,null,95,null,29,19,null,null,null,11," februari",1955]
[36,"2 juli 1955","De straatridder",25,null,16,null,null,null,83,null,30,28,null,null,null,2," juli",1955]
[37,"1955-11-17","De brullende berg",27,null,17,null,null,58,80,null,31,10,null,null,null,{"$error":"#VALUE!"},{"$error":"#VALUE!"},410]
[38,"31 maart 1956","De spokenjagers",28,null,18,null,null,52,70,null,32,22,null,null,null,31," maart",1956]
[39,"27 juni 1956","De groene splinter",null,6,null,null,null,null,112,null,null,15,4,null,null,27," juni",1956]
[40,"1956-09-08","De snorrende snor",29,null,19,null,null,64,93,null,33,36,null,null,null,{"$error":"#VALUE!"},{"$error":"#VALUE!"},706]
[41,"21 januari 1957","De stemmenrover",30,null,20,null,null,62,84,null,34,16,null,null,null,21," januari",1957]
[42,"4 juni 1957","Het sprekende testament",32,null,21,32,21,null,119,null,35,null,null,null,null,4," juni",1957]
[43,"16 oktober 1957","De geverniste zeerovers",33,null,22,33,22,null,120,null,36,13,null,null,null,16," oktober",1957]
[44,1957,"De rammelende rally",null,null,null,null,null,null,null,null,null,null,null,null,null,{"$error":"#VALUE!"},{"$error":"#VALUE!"},1957]
[45,"26 februari 1958","Het gouden paard",null,null,null,null,null,null,100,null,null,18,8,null,null,26," februari",1958]
[46,"28 februari 1958","De duistere diamant",34,null,23,34,23,null,121,null,37,null,2,null,null,28," februari",1958]
[47,"14 juli 1958","De zwarte zwaan",35,null,null,35,26,null,123,null,38,35,7,null,null,14," juli",1958]
[48,"1958-11-27","Het vliegende bed",null,null,null,36,24,null,124,null,39,37,null,null,null,{"$error":"#VALUE!"},{"$error":"#VALUE!"},1516]
[49,"1959-04-13","De Texasrakkers",null,null,null,37,25,null,125,null,40,21,null,null,null,{"$error":"#VALUE!"},{"$error":"#VALUE!"},1653]
[50,"22 augustus 1959","De windmakers",null,null,null,38,27,null,126,null,41,null,19,null,null,22," augustus",1959]
[51,"4 januari 1960","De gouden cirkel",null,null,null,39,28,null,118,null,42,20,null,null,null,4," januari",1960]
[52,"18 mei 1960","De zingende zwammen",null,null,null,40,29,null,110,null,43,26,null,null,null,18," mei",1960]
[53,"1960-09-28","De wolkeneters",null,null,null,41,30,null,109,null,44,30,11,null,null,{"$error":"#VALUE!"},{"$error":"#VALUE!"},2187]
[54,"7 februari 1961","De klankentapper",null,null,null,43,32,null,103,null,45,null,null,null,null,7," februari",1961]
[55,"19 juni 1961","De wilde weldoener",null,null,null,44,33,null,104,null,46,28,12,null,null,19," juni",1961]
[56,"26 oktober 1961","Het hondenparadijs",null,null,null,45,34,null,98,null,47,14,20,null,null,26," oktober",1961]
[57,"7 maart 1962","De kaartendans",null,null,null,46,35,null,101,null,48,null,null,null,null,7," maart",1962]
[58,"14 juli 1962","De kwakstralen",null,null,null,47,36,null,99,null,49,30,null,null,null,14," juli",1962]
[59,"1962-11-22","Het rijmende paard",null,null,null,48,37,null,96,null,50,18,null,null,null,{"$error":"#VALUE!"},{"$error":"#VALUE!"},2972]
[60,"1963-04-02","De sissende sampan",null,null,null,49,38,null,94,null,51,19,null,null,null,{"$error":"#VALUE!"},{"$error":"#VALUE!"},3103]
[61,"12 augustus 1963","Sjeik El Rojenbiet",null,null,null,50,39,null,90,null,52,17,null,null,null,12," augustus",1963]
[62,"1963-12-21","De nerveuze Nerviërs",null,null,null,null,null,51,69,null,53,23,null,null,null,{"$error":"#VALUE!"},{"$error":"#VALUE!"},3366]
[63,"2 mei 1964","Het zoemende ei",null,null,null,null,null,53,73,null,54,39,null,null,null,2," mei",1964]
[64,"1964-09-11","De koddige kater",null,null,null,null,null,54,74,null,55,null,23,null,null,{"$error":"#VALUE!"},{"$error":"#VALUE!"},3631]
[65,"23 januari 1965","De schone slaper",null,null,null,null,null,57,85,null,56,8,24,null,null,{"$f":"VALUE(LEFT(B84,FIND(\" \",B84)-1))","v":23},{"$f":"MID(B84,LEN(Q84)+1,FIND(\" \",B84,LEN(Q84)+2)-(LEN(Q84)+1))","v":" januari"},{"$f":"VALUE(RIGHT(B84,4))","v":1965}]
[66,"2 juni 1965","De apekermis",null,null,null,null,null,61,77,null,57,7,16,null,null,2," juni",1965]
[67,"11 oktober 1965","Jeromba de Griek",null,null,null,null,null,63,72,null,58,32,28,null,null,11," oktober",1965]
[68,"22 februari 1966","De dulle griet",null,null,null,null,null,66,78,null,59,null,null,null,null,22," februari",1966]
[69,"2 juli 1966","De poenschepper",null,null,null,null,null,null,67,null,null,38,null,null,null,2," juli",1966]
[70,"1966-11-12","Wattman",null,null,null,null,null,null,71,null,null,28,null,null,null,{"$error":"#VALUE!"},{"$error":"#VALUE!"},4423]
[71,"24 maart 1967","Het mini-mierennest",null,null,null,null,null,null,75,null,null,29,null,null,null,24," maart",1967]
[72,"5 augustus 1967","De zeven snaren",null,null,null,null,null,null,79,null,null,null,null,null,null,5," augustus",1967]
[73,"1967-12-16","De gramme huurling",null,null,null,null,null,null,82,null,null,null,null,null,null,{"$error":"#VALUE!"},{"$error":"#VALUE!"},4822]
[74,"1968-04-27","Tedere Tronica",null,null,null,null,null,null,86,null,null,36,null,null,null,{"$error":"#VALUE!"},{"$error":"#VALUE!"},4955]
[75,"1968-09-09","De briesende bruid",null,null,null,null,null,null,92,null,null,39,null,null,null,{"$error":"#VALUE!"},{"$error":"#VALUE!"},5090]
[76,"18 januari 1969","De junglebloem",null,null,null,null,null,null,97,null,null,29,null,null,null,18," januari",1969]
[77,"3 juni 1969","De dromendiefstal",null,null,null,null,null,null,102,null,null,16,null,null,null,3," juni",1969]
[78,"11 oktober 1969","De charmante koffiepot",null,null,null,null,null,null,106,null,null,40,null,null,null,11," oktober",1969]
[79,"20 februari 1970","Twee toffe totems",null,null,null,null,null,null,108,null,null,34,null,null,null,20," februari",1970]
[80,"4 juli 1970","De toornige tjiftjaf",null,null,null,null,null,null,117,null,null,12,null,null,null,4," juli",1970]
[81,"1970-11-13","De kale kapper",null,null,null,null,null,null,122,null,null,29,null,null,null,{"$error":"#VALUE!"},{"$error":"#VALUE!"},5885]
[82,"31 maart 1971","Het brommende brons",null,null,null,null,null,null,128,null,null,25,null,null,null,31," maart",1971]
[83,"13 augustus 1971","De steensnoepers",null,null,null,null,null,null,130,null,null,24,null,null,null,13," augustus",1971]
[84,"1971-12-28","De gekke gokker",null,null,null,null,null,null,135,null,null,38,null,null,null,{"$error":"#VALUE!"},{"$error":"#VALUE!"},6295]
[85,"9 mei 1972","De boze boomzalver",null,null,null,null,null,null,139,null,null,6,null,null,null,9," mei",1972]
[86,"1972-09-20","De malle mergpijp",null,null,null,null,null,null,143,null,null,15,null,null,null,{"$error":"#VALUE!"},{"$error":"#VALUE!"},6562]
[87,"3 februari 1973","De poppenpakker",null,null,null,null,null,null,147,null,null,13,null,null,null,3," februari",1973]
[88,"31 maart 1973","De bevende Baobab",null,null,null,null,null,null,152,null,null,33,null,null,null,31," maart",1973]
[89,"18 juni 1973","De gladde glipper",null,null,null,null,null,null,149,null,null,38,null,null,null,18," juni",1973]
[90,"31 oktober 1973","Het ros Bazhaar",null,null,null,null,null,null,151,null,null,18,null,null,null,31," oktober",1973]
[91,"1973-12-01","De snoezige Snowijt",null,null,null,null,null,null,188,null,null,null,null,null,null,{"$error":"#VALUE!"},{"$error":"#VALUE!"},6999]
[92,"13 maart 1974","De nare varaan",null,null,null,null,null,null,153,null,null,null,null,null,null,13," maart",1974]
[93,"1974-04-27","De mollige meivis",null,null,null,null,null,null,157,null,null,null,null,null,null,{"$error":"#VALUE!"},{"$error":"#VALUE!"},7146]
[94,"juni 1974","De vergeten vallei",null,null,null,null,null,null,191,null,null,null,null,null,null,{"$error":"#VALUE!"},{"$error":"#VALUE!"},1974]
[95,"25 juli 1974","De poezelige poes",null,null,null,null,null,null,155,null,null,null,null,null,null,25," juli",1974]
[96,"1974-12-05","Beminde Barabas",null,null,null,null,null,null,156,null,null,11,null,null,null,{"$error":"#VALUE!"},{"$error":"#VALUE!"},7368]
[97,"januari 1975","Toffe Tiko",null,null,null,null,null,null,191,null,null,null,null,null,null,{"$error":"#VALUE!"},{"$error":"#VALUE!"},1975]
[98,"januari 1975","De gouden bloem",null,null,null,null,null,null,null,null,null,null,null,null,null,{"$error":"#VALUE!"},{"$error":"#VALUE!"},1975]
[99,"1975-04-17","De vinnige Viking",null,null,null,null,null,null,158,null,null,null,null,null,null,{"$error":"#VALUE!"},{"$error":"#VALUE!"},7501]
[100,"17 mei 1975","De vlijtige vlinder",null,null,null,null,null,null,163,null,null,12,null,null,null,17," mei",1975]
[101,"juni 1975","Hippus het zeeveulen",null,null,null,null,null,null,193,null,null,null,null,null,null,{"$error":"#VALUE!"},{"$error":"#VALUE!"},1975]
[102,"1975-09-01","De bokkige bombardon",null,null,null,null,null,null,160,null,null,39,null,null,null,{"$error":"#VALUE!"},{"$error":"#VALUE!"},7638]
[103,"6 oktober 1975","De minilotten van Kokonera",null,null,null,null,null,null,159,null,null,24,null,null,null,6," oktober",1975]
[104,"1975-12-01","De gouden locomotief",null,null,null,null,null,null,162,null,null,21,null,null,null,{"$error":"#VALUE!"},{"$error":"#VALUE!"},7729]
[105,1975,"De vliegende klomp",null,null,null,null,null,null,null,null,null,null,null,null,null,{"$error":"#VALUE!"},{"$error":"#VALUE!"},1975]
[106,"13 januari 1976","De blinkende boemerang",null,null,null,null,null,null,161,null,null,null,null,null,null,13," januari",1976]
[107,"9 februari 1976","De zingende kaars",null,null,null,null,null,null,167,null,null,26,null,null,null,9," februari",1976]
[108,"1976-04-14","Het laatste dwaallicht",null,null,null,null,null,null,172,null,null,null,null,null,null,{"$error":"#VALUE!"},{"$error":"#VALUE!"},7864]
[109,"24 mei 1976","De raap van Rubens",null,null,null,null,null,null,164,null,null,null,null,null,null,24," mei",1976]
[110,"juni 1976","Het verborgen volk",null,null,null,null,null,null,193,null,null,null,null,null,null,{"$error":"#VALUE!"},{"$error":"#VALUE!"},1976]
[111,"5 juni 1976","De maffe maniak",null,null,null,null,null,null,166,null,null,null,null,null,null,5," juni",1976]
[112,"10 juli 1976","De regenboogprinses",null,null,null,null,null,null,184,null,null,null,null,null,null,10," juli",1976]
[113,"6 oktober 1976","De windbrekers",null,null,null,null,null,null,179,null,null,null,null,null,null,6," oktober",1976]
[114,"1976-11-30","De sputterende spuiter",null,null,null,null,null,null,165,null,null,36,null,null,null,{"$error":"#VALUE!"},{"$error":"#VALUE!"},8094]
[115,"1977-04-12","De Efteling-elfjes",null,null,null,null,null,null,168,null,null,null,null,null,null,{"$error":"#VALUE!"},{"$error":"#VALUE!"},8227]
[116,"25 juni 1977","De olijke olifant",null,null,null,null,null,null,170,null,null,14,null,null,null,25," juni",1977]
[117,"1 juli 1977","De lollige lakens",null,null,null,null,null,null,null,null,null,null,null,null,null,1," juli",1977]
[118,"24 augustus 1977","De amoureuze amazone",null,null,null,null,null,null,169,null,null,11,null,null,null,24," augustus",1977]
[119,"5 januari 1978","Walli de walvis",null,null,null,null,null,null,171,null,null,null,null,null,null,5," januari",1978]
[120,"1978-04-01","Het monster van Loch Ness",null,null,null,null,null,null,null,null,null,null,null,null,null,{"$error":"#VALUE!"},{"$error":"#VALUE!"},8581]
[121,"19 mei 1978","Het drijvende dorp",null,null,null,null,null,null,173,null,null,null,null,null,null,19," mei",1978]
[122,"1 juni 1978","Het geheim van de Kalmthoutse heide",null,null,null,null,null,null,null,null,null,null,null,null,null,1," juni",1978]
[123,"15 juli 1978","De kadulle Cupido",null,null,null,null,null,null,175,null,null,11,null,null,null,15," juli",1978]
[124,"1978-09-28","Het statige standbeeld",null,null,null,null,null,null,174,null,null,25,null,null,null,{"$error":"#VALUE!"},{"$error":"#VALUE!"},8761]
[125,"9 februari 1979","De pompenplanters",null,null,null,null,null,null,176,null,null,null,null,null,null,9," februari",1979]
[126,"1 juni 1979","De witte gems",null,null,null,null,null,null,null,null,null,null,null,null,null,1," juni",1979]
[127,"23 juni 1979","De adellijke ark",null,null,null,null,null,null,177,null,null,null,null,null,null,23," juni",1979]
[128,"30 juli 1979","Het kregelige ketje",null,null,null,null,null,null,180,null,null,25,null,null,null,30," juli",1979]
[129,"1979-11-03","De stoute steenezel",null,null,null,null,null,null,178,null,null,null,null,null,null,{"$f":"VALUE(LEFT(B148,FIND(\" \",B148)-1))","v":{"$error":"#VALUE!"}},{"$f":"MID(B148,LEN(Q148)+1,FIND(\" \",B148,LEN(Q148)+2)-(LEN(Q148)+1))","v":{"$error":"#VALUE!"}},{"$f":"VALUE(RIGHT(B148,4))","v":9162}]
[130,"13 maart 1980","De perenprins",null,null,null,null,null,null,181,null,null,17,null,null,null,13," maart",1980]
[131,"1 juni 1980","Het verloren zwaard",null,null,null,null,null,null,null,null,null,null,null,null,null,1," juni",1980]
[132,"26 juli 1980","De koperen knullen",null,null,null,null,null,null,182,null,null,24,null,null,null,26," juli",1980]
[133,"18 augustus 1980","De botte botaknol",null,null,null,null,null,null,185,null,null,33,null,null,null,18," augustus",1980]
[134,"1980-12-06","De toffe tamboer",null,null,null,null,null,null,183,null,null,null,null,null,null,{"$error":"#VALUE!"},{"$error":"#VALUE!"},9561]
[135,"1981-04-17","De rosse reus",null,null,null,null,null,null,186,null,null,null,null,null,null,{"$error":"#VALUE!"},{"$error":"#VALUE!"},9693]
[136,"1 juni 1981","De stenen broden",null,null,null,null,null,null,null,null,null,null,null,null,null,1," juni",1981]
[137,"31 augustus 1981","De droevige duif",null,null,null,null,null,null,187,null,null,12,null,null,null,31," augustus",1981]
[138,"1981-09-07","De woelige wadden",null,null,null,null,null,null,190,null,null,27,null,null,null,{"$error":"#VALUE!"},{"$error":"#VALUE!"},9836]
[139,1981,"De zilveren appels",null,null,null,null,null,null,null,null,null,null,null,null,null,{"$error":"#VALUE!"},{"$error":"#VALUE!"},1981]
[140,"12 januari 1982","De belhamel-bende",null,null,null,null,null,null,189,null,null,31,null,null,null,12," januari",1982]
[141,"1982-04-01","De blijde broodeters",null,null,null,null,null,null,null,null,null,null,null,null,null,{"$error":"#VALUE!"},{"$error":"#VALUE!"},42]
[142,"24 mei 1982","Het Bretoense broertje",null,null,null,null,null,null,192,null,null,null,null,null,null,24," mei",1982]
[143,"juni 1982","Het onbekende eiland",null,null,null,null,null,null,null,null,null,null,null,null,null,{"$error":"#VALUE!"},{"$error":"#VALUE!"},1982]
[144,"1982-09-27","De natte Navajo",null,null,null,null,null,null,196,null,null,34,null,null,null,{"$error":"#VALUE!"},{"$error":"#VALUE!"},221]
[145,"2 oktober 1982","De gouden ganzeveer",null,null,null,null,null,null,194,null,null,20,null,null,null,2," oktober",1982]
[146,1982,"Een bij voor jou en mij",null,null,null,null,null,null,null,null,null,null,null,null,null,{"$error":"#VALUE!"},{"$error":"#VALUE!"},1982]
[147,"14 februari 1983","De hippe heksen",null,null,null,null,null,null,195,null,null,null,null,null,null,14," februari",1983]
[148,"1983-04-01","Beter voor Bert",null,null,null,null,null,null,null,null,null,null,null,null,null,{"$error":"#VALUE!"},{"$error":"#VALUE!"},407]
[149,"1 mei 1983","Sprookjesnacht aan zee",null,null,null,null,null,null,null,null,null,null,null,null,null,1," mei",1983]
[150,"27 juni 1983","Het Delta duel",null,null,null,null,null,null,197,null,null,null,null,null,null,27," juni",1983]
[151,"17 oktober 1983","De tamme tumi",null,null,null,null,null,null,199,null,null,null,null,null,null,17," oktober",1983]
[152,"1983-11-07","De lieve Lilleham",null,null,null,null,null,null,198,null,null,null,null,null,null,{"$error":"#VALUE!"},{"$error":"#VALUE!"},627]
[153,"16 maart 1984","Amoris van Amoras",null,null,null,null,null,null,200,null,null,7,null,null,null,16," maart",1984]
[154,"1 mei 1984","De bevende berken",null,null,null,null,null,null,null,null,null,null,null,null,null,1," mei",1984]
[155,"30 juli 1984","Het dreigende dinges",null,null,null,null,null,null,201,null,null,null,null,null,null,30," juli",1984]
[156,"1984-11-05","De kattige kat",null,null,null,null,null,null,205,null,null,14,null,null,null,{"$error":"#VALUE!"},{"$error":"#VALUE!"},991]
[157,"1984-12-08","Angst op de \"Amsterdam\"",null,null,null,null,null,null,202,null,null,19,null,null,null,{"$error":"#VALUE!"},{"$error":"#VALUE!"},1024]
[158,"februari 1985","De tandentikkers",null,null,null,null,null,null,null,null,null,null,null,null,null,{"$error":"#VALUE!"},{"$error":"#VALUE!"},1985]
[159,"1985-04-20","De mooie millirem",null,null,null,null,null,null,204,null,null,null,null,null,null,{"$error":"#VALUE!"},{"$error":"#VALUE!"},1157]
[160,"1985-09-01","De ruige regen",null,null,null,null,null,null,203,null,null,null,null,null,null,{"$error":"#VALUE!"},{"$error":"#VALUE!"},1291]
[161,"1985-09-02","De bonkige baarden",null,null,null,null,null,null,206,null,null,27,null,null,null,{"$error":"#VALUE!"},{"$error":"#VALUE!"},1292]
[162,"1985-11-25","De kwaaie kwieten",null,null,null,null,null,null,209,null,null,null,null,null,null,{"$error":"#VALUE!"},{"$error":"#VALUE!"},1376]
[163,"1985-12-01","De Tiroolse trawanten",null,null,null,null,null,null,null,null,null,null,null,null,null,{"$error":"#VALUE!"},{"$error":"#VALUE!"},1382]
[164,"14 januari 1986","De glanzende gletsjer",null,null,null,null,null,null,207,null,null,null,null,null,null,14," januari",1986]
[165,"februari 1986","Sony-San",null,null,null,null,null,null,null,null,null,null,null,null,null,{"$error":"#VALUE!"},{"$error":"#VALUE!"},1986]
[166,"28 mei 1986","De hellegathonden",null,null,null,null,null,null,208,null,null,9,null,null,null,28," mei",1986]
[167,"juni 1986","Tegen de ZZZ",null,null,null,null,null,null,null,null,null,null,null,null,{"$f":"+#REF!","v":{"$error":"#REF!"}},{"$error":"#VALUE!"},{"$error":"#VALUE!"},1986]
[168,"7 oktober 1986","De jolige joffer",null,null,null,null,null,null,210,null,null,null,null,null,null,7," oktober",1986]
[169,"1986-12-15","De eenzame eenhoorn",null,null,null,null,null,null,213,null,null,null,null,null,null,{"$error":"#VALUE!"},{"$error":"#VALUE!"},1761]
[170,"1 januari 1987","De parel in de lotusbloem",null,null,null,null,null,null,214,null,null,31,null,null,null,1," januari",1987]
[171,"18 februari 1987","De woeste wespen",null,null,null,null,null,null,211,null,null,null,null,null,null,18," februari",1987]
[172,"1987-04-01","Witte zwanen zwarte zwanen",null,null,null,null,null,null,null,null,null,null,null,null,null,{"$error":"#VALUE!"},{"$error":"#VALUE!"},1868]
[173,"27 juni 1987","De edele elfen",null,null,null,null,null,null,212,null,null,null,null,null,null,27," juni",1987]
[174,"1987-11-02","De Krimson-crisis",null,null,null,null,null,null,215,null,null,null,null,null,null,{"$error":"#VALUE!"},{"$error":"#VALUE!"},2083]
[175,"1987-12-22","De krachtige krans",null,null,null,null,null,null,218,null,null,22,null,null,null,{"$error":"#VALUE!"},{"$error":"#VALUE!"},2133]
[176,"februari 1988","Fata Morgana",null,null,null,null,null,null,null,null,null,null,null,null,null,{"$error":"#VALUE!"},{"$error":"#VALUE!"},1988]
[177,"14 maart 1988","De dappere duinduikers",null,null,null,null,null,null,null,null,null,null,null,null,null,14," maart",1988]
[178,"21 mei 1988","De komieke Coco",null,null,null,null,null,null,217,null,null,33,null,null,null,21," mei",1988]
[179,"1 oktober 1988","De wervelende waterzak",null,null,null,null,null,null,216,null,null,null,null,null,null,1," oktober",1988]
[180,"1 oktober 1988","De speelgoedspiegel",null,null,null,null,null,null,219,null,null,13,null,null,null,1," oktober",1988]
[181,"9 januari 1989","De kleurenkladder",null,null,null,null,null,null,223,null,null,null,null,null,null,9," januari",1989]
[182,"januari 1989","Het gouden kuipje",null,null,null,null,null,null,null,null,null,null,null,null,null,{"$error":"#VALUE!"},{"$error":"#VALUE!"},1989]
[183,"10 februari 1989","Sagarmatha",null,null,null,null,null,null,220,null,null,10,null,null,null,10," februari",1989]
[184,"1 juni 1989","Bosspel",null,null,null,null,null,null,null,null,null,null,null,null,null,1," juni",1989]
[185,"24 juni 1989","De bezeten bezitter",null,null,null,null,null,null,222,null,null,null,null,null,null,24," juni",1989]
[186,"1989-09-01","De rinoramp",null,null,null,null,null,null,221,null,null,6,null,null,null,{"$error":"#VALUE!"},{"$error":"#VALUE!"},2752]
[187,"1989-11-04","De kleine postruiter",null,null,null,null,null,null,224,null,null,35,null,null,null,{"$error":"#VALUE!"},{"$error":"#VALUE!"},2816]
[188,"januari 1990","De gouden friet",null,null,null,null,null,null,null,null,null,null,null,null,null,{"$error":"#VALUE!"},{"$error":"#VALUE!"},1990]
[189,"26 januari 1990","Het witte wief",null,null,null,null,null,null,227,null,null,8,null,null,null,26," januari",1990]
[190,"17 maart 1990","De goalgetter",null,null,null,null,null,null,225,null,null,null,null,null,null,17," maart",1990]
[191,"1 juni 1990","Knokken in Knossos",null,null,null,null,null,null,null,null,null,null,null,null,null,1," juni",1990]
[192,"11 juli 1990","De mysterieuze mijn",null,null,null,null,null,null,226,null,null,null,null,null,null,11," juli",1990]
[193,"1990-11-02","Het wondere Wolfje",null,null,null,null,null,null,228,null,null,4,null,null,null,{"$f":"VALUE(LEFT(B212,FIND(\" \",B212)-1))","v":{"$error":"#VALUE!"}},{"$f":"MID(B212,LEN(Q212)+1,FIND(\" \",B212,LEN(Q212)+2)-(LEN(Q212)+1))","v":{"$error":"#VALUE!"}},{"$f":"VALUE(RIGHT(B212,4))","v":3179}]
[194,"18 februari 1991","De scherpe schorpioen",null,null,null,null,null,null,231,null,null,1,null,null,null,18," februari",1991]
[195,"23 februari 1991","Tazuur en Tazijn",null,null,null,null,null,null,229,null,null,null,null,null,null,23," februari",1991]
[196,"1 juni 1991","Spruiten voor Sprotje",null,null,null,null,null,null,null,null,null,null,null,null,null,1," juni",1991]
[197,"19 juni 1991","Lambik Baba",null,null,null,null,null,null,230,null,null,1,null,null,null,19," juni",1991]
[198,"10 oktober 1991","De tootootjes",null,null,null,null,null,null,232,null,null,3,null,null,null,10," oktober",1991]
[199,"13 januari 1992","De krakende carcas",null,null,null,null,null,null,235,null,null,null,null,null,null,13," januari",1992]
[200,"3 februari 1992","De klinkende klokken",null,null,null,null,null,null,233,null,null,5,null,null,null,3," februari",1992]
[201,"27 februari 1992","Pezige Peekah",null,null,null,null,null,null,null,null,null,null,null,null,null,27," februari",1992]
[202,"27 mei 1992","Het kristallen kasteel",null,null,null,null,null,null,234,null,null,3,null,null,null,27," mei",1992]
[203,"1992-09-19","De gulden harpoen",null,null,null,null,null,null,236,null,null,null,null,null,null,{"$error":"#VALUE!"},{"$error":"#VALUE!"},3866]
[204,"1992-12-07","De stervende ster",null,null,null,null,null,null,239,null,null,null,null,null,null,{"$error":"#VALUE!"},{"$error":"#VALUE!"},3945]
[205,"12 januari 1993","De snikkende sirene",null,null,null,null,null,null,237,null,null,4,null,null,null,12," januari",1993]
[206,"20 maart 1993","De macabere macralles",null,null,null,null,null,null,null,null,null,null,null,null,null,20," maart",1993]
[207,"5 mei 1993","De slimme slapjanus",null,null,null,null,null,null,238,null,null,3,null,null,null,5," mei",1993]
[208,"juni 1993","De Galapagosgassen",null,null,null,null,null,null,null,null,null,null,null,null,null,{"$error":"#VALUE!"},{"$error":"#VALUE!"},1993]
[209,"30 augustus 1993","De pottenproever",null,null,null,null,null,null,240,null,null,null,null,null,null,30," augustus",1993]
[210,"1993-11-02","De averechtse aap",null,null,null,null,null,null,243,null,null,null,null,null,null,{"$error":"#VALUE!"},{"$error":"#VALUE!"},4275]
[211,"1993-12-21","Het Aruba-dossier",null,null,null,null,null,null,241,null,null,7,null,null,null,{"$error":"#VALUE!"},{"$error":"#VALUE!"},4324]
[212,"1994-04-14","Tokapua Toraja",null,null,null,null,null,null,242,null,null,1,null,null,null,{"$error":"#VALUE!"},{"$error":"#VALUE!"},4438]
[213,"juni 1994","De mollige marmotten",null,null,null,null,null,null,null,null,null,null,null,null,null,{"$error":"#VALUE!"},{"$error":"#VALUE!"},1994]
[214,"6 augustus 1994","De begeerde berg",null,null,null,null,null,null,244,null,null,10,null,null,null,6," augustus",1994]
[215,"1994-09-01","De vonkende vuurman",null,null,null,null,null,null,246,null,null,null,null,null,null,{"$error":"#VALUE!"},{"$error":"#VALUE!"},4578]
[216,"1994-11-29","De 7 schaken",null,null,null,null,null,null,245,null,null,null,null,null,null,{"$error":"#VALUE!"},{"$error":"#VALUE!"},4667]
[217,"mei 1995","Geschiedenis in strip",null,null,null,null,null,null,null,null,null,null,null,null,"Geschiedenis in de strip",{"$error":"#VALUE!"},{"$error":"#VALUE!"},1995]
[218,"7 juni 1995","Het kostbare kader",null,null,null,null,null,null,247,null,null,null,null,null,null,7," juni",1995]
[219,"augustus 1995","De razende race",null,null,null,null,null,null,249,null,null,null,null,null,null,{"$error":"#VALUE!"},{"$error":"#VALUE!"},1995]
[220,"1995-09-28","Robotkop",null,null,null,null,null,null,248,null,null,null,null,null,null,{"$error":"#VALUE!"},{"$error":"#VALUE!"},4970]
[221,"22 januari 1996","Het grote gat",null,null,null,null,null,null,250,null,null,null,null,null,null,22," januari",1996]
[222,"14 mei 1996","De verraderlijke Vinson",null,null,null,null,null,null,251,null,null,9,null,null,null,14," mei",1996]
[223,"juli 1996","Prachtige Pjotr",null,null,null,null,null,null,253,null,null,4,null,null,null,{"$error":"#VALUE!"},{"$error":"#VALUE!"},1996]
[224,"1996-09-06","Volle maan",null,null,null,null,null,null,252,null,null,5,null,null,null,{"$error":"#VALUE!"},{"$error":"#VALUE!"},5314]
[225,"1996-12-30","Tex en Terry",null,null,null,null,null,null,254,null,null,6,null,null,null,{"$error":"#VALUE!"},{"$error":"#VALUE!"},5429]
[226,"1997-04-24","De mompelende mummie",null,null,null,null,null,null,255,null,null,2,null,null,null,{"$error":"#VALUE!"},{"$error":"#VALUE!"},5544]
[227,"juni 1997","De gevederde slang",null,null,null,null,null,null,258,null,null,null,null,null,null,{"$error":"#VALUE!"},{"$error":"#VALUE!"},1997]
[228,"1997-11-12","De vogels der goden",null,null,null,null,null,null,256,null,null,2,null,null,null,{"$error":"#VALUE!"},{"$error":"#VALUE!"},5746]
[229,"1997-12-08","Amber",null,null,null,null,null,null,259,null,null,null,null,null,null,{"$error":"#VALUE!"},{"$error":"#VALUE!"},5772]
[230,"31 maart 1998","De rebelse Reinaert",null,null,null,null,null,null,257,null,null,8,null,null,null,31," maart",1998]
[231,"1998-04-01","Het berenbeklag",null,null,null,null,null,null,261,null,null,null,null,null,null,{"$error":"#VALUE!"},{"$error":"#VALUE!"},5886]
[232,"22 juli 1998","De bonte bollen",null,null,null,null,null,null,260,null,null,null,null,null,null,22," juli",1998]
[233,"1998-11-10","Het enge eiland",null,null,null,null,null,null,262,null,null,null,null,null,null,{"$error":"#VALUE!"},{"$error":"#VALUE!"},6109]
[234,"2 maart 1999","Het verdronken land",null,null,null,null,null,null,263,null,null,null,null,null,null,2," maart",1999]
[235,"maart 1999","Papa Razzi",null,null,null,null,null,null,265,null,null,null,null,null,null,{"$error":"#VALUE!"},{"$error":"#VALUE!"},1999]
[236,"23 juni 1999","Jeanne Panne",null,null,null,null,null,null,264,null,null,5,null,null,null,23," juni",1999]
[237,"11 oktober 1999","De kernmonsters",null,null,null,null,null,null,266,null,null,null,null,null,null,11," oktober",1999]
[238,"1 februari 2000","Lilli Natal",null,null,null,null,null,null,267,null,null,2,null,null,null,1," februari",2000]
[239,"februari 2000","De stugge Stuyvesant",null,null,null,null,null,null,269,null,null,null,null,null,null,{"$error":"#VALUE!"},{"$error":"#VALUE!"},2000]
[240,"22 mei 2000","De koeiencommissie",null,null,null,null,null,null,268,null,null,null,null,null,null,22," mei",2000]
[241,"2000-09-12","De ongelooflijke Thomas",null,null,null,null,null,null,270,null,null,null,null,null,null,{"$error":"#VALUE!"},{"$error":"#VALUE!"},6781]
[242,"3 januari 2001","Big Mother",null,null,null,null,null,null,271,null,null,null,null,null,null,3," januari",2001]
[243,"3 januari 2001","De europummel",null,null,null,null,null,null,273,null,null,null,null,null,null,3," januari",2001]
[244,"2001-04-09","De blote Belg",null,null,null,null,null,null,272,null,null,null,null,null,null,{"$error":"#VALUE!"},{"$error":"#VALUE!"},6990]
[245,2001,"De olijke opruimers",null,null,null,null,null,null,null,null,null,null,null,null,null,{"$error":"#VALUE!"},{"$error":"#VALUE!"},2001]
[246,"2 augustus 2001","De fleurige Floriade",null,null,null,null,null,null,274,null,null,null,null,null,null,2," augustus",2001]
[247,"2001-11-19","De kunstkraker",null,null,null,null,null,null,278,null,null,null,null,null,null,{"$error":"#VALUE!"},{"$error":"#VALUE!"},7214]
[248,"2001-11-21","Heilig bloed",null,null,null,null,null,null,275,null,null,null,null,null,null,{"$error":"#VALUE!"},{"$error":"#VALUE!"},7216]
[249,"12 maart 2002","In de ban van de Milt",null,null,null,null,null,null,276,null,null,null,null,null,null,12," maart",2002]
[250,"3 juli 2002","De verdwenen verteller",null,null,null,null,null,null,277,null,null,null,null,null,null,3," juli",2002]
[251,"2002-09-09","De ludieke les",null,null,null,null,null,null,null,null,null,null,null,null,null,{"$error":"#VALUE!"},{"$error":"#VALUE!"},7508]
[252,"21 oktober 2002","De laatste vloek",null,null,null,null,null,null,279,null,null,null,null,null,null,21," oktober",2002]
[253,"11 februari 2003","De kus van Odfella",null,null,null,null,null,null,280,null,null,null,null,null,null,11," februari",2003]
[254,"3 juni 2003","De gevangene van Prisonov",null,null,null,null,null,null,281,null,null,null,null,null,null,3," juni",2003]
[255,"2003-09-23","De breinbrekers",null,null,null,null,null,null,282,null,null,null,null,null,null,{"$error":"#VALUE!"},{"$error":"#VALUE!"},7887]
[256,"14 januari 2004","Paniek in Palermo",null,null,null,null,null,null,283,null,null,null,null,null,null,14," januari",2004]
[257,"februari 2004","De koppige kluizenaar",null,null,null,null,null,null,null,null,null,null,null,null,null,{"$f":"VALUE(LEFT(B276,FIND(\" \",B276)-1))","v":{"$error":"#VALUE!"}},{"$f":"MID(B276,LEN(Q276)+1,FIND(\" \",B276,LEN(Q276)+2)-(LEN(Q276)+1))","v":{"$error":"#VALUE!"}},{"$f":"VALUE(RIGHT(B276,4))","v":2004}]
[258,"4 mei 2004","Kaapse kaalkoppen",null,null,null,null,null,null,284,null,null,null,null,null,null,4," mei",2004]
[259,"14 mei 2004","De guitige gast",null,null,null,null,null,null,null,null,null,null,null,null,null,14," mei",2004]
[260,"24 augustus 2004","Verraad op de Veluwe",null,null,null,null,null,null,285,null,null,null,null,null,null,24," augustus",2004]
[261,"30 oktober 2004","De razende rentmeester",null,null,null,null,null,null,null,null,null,null,null,null,null,30," oktober",2004]
[262,"2004-12-13","De flierende fluiter",null,null,null,null,null,null,286,null,null,null,null,null,null,{"$error":"#VALUE!"},{"$error":"#VALUE!"},8334]
[263,"2005-04-04","De formidabele fantast",null,null,null,null,null,null,287,null,null,null,null,null,null,{"$error":"#VALUE!"},{"$error":"#VALUE!"},8446]
[264,"2005-04-23","Het mopperende masker",null,null,null,null,null,null,290,null,null,null,null,null,null,{"$error":"#VALUE!"},{"$error":"#VALUE!"},8465]
[265,"25 juli 2005","Het slapende goud",null,null,null,null,null,null,288,null,null,null,null,null,null,25," juli",2005]
[266,"2005-09-01","De lepe luis",null,null,null,null,null,null,null,null,null,null,null,null,null,{"$error":"#VALUE!"},{"$error":"#VALUE!"},8596]
[267,"2005-09-24","De energieke guiten",null,null,null,null,null,null,null,null,null,null,null,null,null,{"$error":"#VALUE!"},{"$error":"#VALUE!"},8619]
[268,"1 oktober 2005","De blikken blutser",null,null,null,null,null,null,290,null,null,null,null,null,null,1," oktober",2005]
[269,"2005-11-14","De kaduke klonen",null,null,null,null,null,null,289,null,null,null,null,null,null,{"$error":"#VALUE!"},{"$error":"#VALUE!"},8670]
[270,"2005-12-01","De sinistere site",null,null,null,null,null,null,null,null,null,null,null,null,null,{"$error":"#VALUE!"},{"$error":"#VALUE!"},8687]
[271,"2 maart 2006","De bangeschieters",null,null,null,null,null,null,291,null,null,21,null,null,null,2," maart",2006]
[272,"4 maart 2006","De primitieve paljassen",null,null,null,null,null,null,null,null,null,null,null,null,null,4," maart",2006]
[273,"9 juni 2006","De pronte professor",null,null,null,null,null,null,null,null,null,null,null,null,null,9," juni",2006]
[274,"22 juni 2006","De nachtwachtbrigade",null,null,null,null,null,null,292,null,null,null,null,null,null,22," juni",2006]
[275,"5 augustus 2006","Sinjeur Stekkepoot",null,null,null,null,null,null,null,null,null,null,null,null,null,5," augustus",2006]
[276,"26 augustus 2006","De vergeten vluchtelingen",null,null,null,null,null,null,null,null,null,null,null,null,null,26," augustus",2006]
[277,"augustus 2006","De terugkeer van de lepe luis",null,null,null,null,null,null,null,null,null,null,null,null,null,{"$error":"#VALUE!"},{"$error":"#VALUE!"},2006]
[278,"2006-09-17","Het rinkelende raderwerk",null,null,null,null,null,null,null,null,null,null,null,null,null,{"$error":"#VALUE!"},{"$error":"#VALUE!"},8977]
[279,"11 oktober 2006","De kaperkoters",null,null,null,null,null,null,293,null,null,null,null,null,null,11," oktober",2006]
[280,"2006-11-26","De weerwaterman",null,null,null,null,null,null,null,null,null,null,null,null,null,{"$error":"#VALUE!"},{"$error":"#VALUE!"},9047]
[281,"6 januari 2007","De microkomiek",null,null,null,null,null,null,null,null,null,null,null,null,null,6," januari",2007]
[282,"1 februari 2007","De tikkende tinkan",null,null,null,null,null,null,294,null,null,null,null,null,null,1," februari",2007]
[283,"2 mei 2007","De krasse kroko",null,null,null,null,null,null,295,null,null,null,null,null,null,2," mei",2007]
[284,"24 mei 2007","De curieuze neuzen",null,null,null,null,null,null,296,null,null,null,null,null,null,24," mei",2007]
[285,"9 juni 2007","De venijnige vanger",null,null,null,null,null,null,null,null,null,null,null,null,null,9," juni",2007]
[286,"2007-09-13","De joviale Gille",null,null,null,null,null,null,297,null,null,null,null,null,null,{"$error":"#VALUE!"},{"$error":"#VALUE!"},9338]
[287,"2007-11-10","De treiterende trien",null,null,null,null,null,null,null,null,null,null,null,null,null,{"$error":"#VALUE!"},{"$error":"#VALUE!"},9396]
[288,"2007-12-12","De elfstedenstunt",null,null,null,null,null,null,298,null,null,null,null,null,null,{"$error":"#VALUE!"},{"$error":"#VALUE!"},9428]
[289,"12 maart 2008","Het babbelende bad",null,null,null,null,null,null,299,null,null,null,null,null,null,12," maart",2008]
[290,"2008-04-01","De toetercup",null,null,null,null,null,null,null,null,null,null,null,null,null,{"$error":"#VALUE!"},{"$error":"#VALUE!"},9539]
[291,"2008-04-22","Het machtige monument",null,null,null,null,null,null,300,null,null,null,null,null,null,{"$error":"#VALUE!"},{"$error":"#VALUE!"},9560]
[292,"2008-04-01","De bosbollebozen",null,null,null,null,null,null,null,null,null,null,null,null,null,{"$error":"#VALUE!"},{"$error":"#VALUE!"},9539]
[293,"12 augustus 2008","De dartele draak",null,null,null,null,null,null,301,null,null,null,null,null,null,12," augustus",2008]
[294,"2008-09-13","De kribbige krab",null,null,null,null,null,null,null,null,null,null,null,null,null,{"$error":"#VALUE!"},{"$error":"#VALUE!"},9704]
[295,"2008-12-02","De knikkende knoken",null,null,null,null,null,null,303,null,null,null,null,null,null,{"$error":"#VALUE!"},{"$error":"#VALUE!"},9784]
[296,"2008-12-12","De sterrensteen",null,null,null,null,null,null,302,null,null,null,null,null,null,{"$error":"#VALUE!"},{"$error":"#VALUE!"},9794]
[297,"14 februari 2009","De werken van Lambik",null,null,null,null,null,null,null,null,null,null,null,null,null,14," februari",2009]
[298,"20 mei 2009","De jokkende joker",null,null,null,null,null,null,304,null,null,null,null,null,null,20," mei",2009]
[299,"14 juli 2009","De tijdbobijn",null,null,null,null,null,null,305,null,null,null,null,null,null,14," juli",2009]
[300,"18 juli 2009","De kokende kei",null,null,null,null,null,null,null,null,null,null,null,null,null,18," juli",2009]
[301,"2009-11-02","De rillende rots",null,null,null,null,null,null,307,null,null,null,null,null,null,{"$error":"#VALUE!"},{"$error":"#VALUE!"},119]
[302,"2009-11-18","De stralende staf",null,null,null,null,null,null,306,null,null,null,null,null,null,{"$error":"#VALUE!"},{"$error":"#VALUE!"},135]
[303,"2009-12-19","Krimson break",null,null,null,null,null,null,null,null,null,null,null,null,null,{"$error":"#VALUE!"},{"$error":"#VALUE!"},166]
[304,"22 februari 2010","De gamegoeroe",null,null,null,null,null,null,308,null,null,null,null,null,null,22," februari",2010]
[305,"22 mei 2010","Juffertje Janboel",null,null,null,null,null,null,null,null,null,null,null,null,null,22," mei",2010]
[306,"15 juni 2010","De halve Havelaar",null,null,null,null,null,null,310,null,null,null,null,null,null,15," juni",2010]
[307,"13 juli 2010","De meteomachine",null,null,null,null,null,null,null,null,null,null,null,null,{"$f":"+#REF!","v":{"$error":"#REF!"}},13," juli",2010]
[308,"14 juli 2010","De watersater",null,null,null,null,null,null,309,null,null,null,null,null,null,14," juli",2010]
[309,"2010-09-01","De barre bacterie",null,null,null,null,null,null,null,null,null,null,null,null,null,{"$error":"#VALUE!"},{"$error":"#VALUE!"},422]
[310,"2 oktober 2010","De stuivende stad",null,null,null,null,null,null,311,null,null,null,null,null,null,2," oktober",2010]
[311,"23 oktober 2010","Taxi Tata",null,null,null,null,null,null,334,null,null,null,null,null,null,23," oktober",2010]
[312,"24 januari 2011","De kwakende queen",null,null,null,null,null,null,313,null,null,null,null,null,null,24," januari",2011]
[313,"9 maart 2011","De zappende ziel",null,null,null,null,null,null,312,null,null,null,null,null,null,9," maart",2011]
[314,"26 maart 2011","Expeditie Robikson",null,null,null,null,null,null,334,null,null,null,null,null,null,26," maart",2011]
[315,"13 mei 2011","Het lijdende Leiden",null,null,null,null,null,null,314,null,null,null,null,null,null,13," mei",2011]
[316,"27 augustus 2011","De spottende spiegel",null,null,null,null,null,null,null,null,null,null,null,null,null,27," augustus",2011]
[317,"2011-09-03","De bananenzangers",null,null,null,null,null,null,315,null,null,null,null,null,null,{"$error":"#VALUE!"},{"$error":"#VALUE!"},789]
[318,"2011-12-23","Krimsonia",null,null,null,null,null,null,316,null,null,null,null,null,null,{"$error":"#VALUE!"},{"$error":"#VALUE!"},900]
[319,2011,"De laaiende linies",null,null,null,null,null,null,null,null,null,null,null,null,null,{"$error":"#VALUE!"},{"$error":"#VALUE!"},2011]
[320,"28 januari 2012","Het vurige Vitamitje",null,null,null,null,null,null,null,null,null,null,null,null,null,28," januari",2012]
[321,"2012-04-11","Het bizarre blok",null,null,null,null,null,null,317,null,null,null,null,null,null,{"$f":"VALUE(LEFT(B340,FIND(\" \",B340)-1))","v":{"$error":"#VALUE!"}},{"$f":"MID(B340,LEN(Q340)+1,FIND(\" \",B340,LEN(Q340)+2)-(LEN(Q340)+1))","v":{"$error":"#VALUE!"}},{"$f":"VALUE(RIGHT(B340,4))","v":1010}]
[322,"30 juni 2012","De coole Kastaar",null,null,null,null,null,null,null,null,null,null,null,null,null,30," juni",2012]
[323,"2 augustus 2012","Suske de rat",null,null,null,null,null,null,319,null,null,null,null,null,null,2," augustus",2012]
[324,"8 augustus 2012","De suikerslaven",null,null,null,null,null,null,318,null,null,null,null,null,null,8," augustus",2012]
[325,"2012-11-13","De tirannieke tor",null,null,null,null,null,null,320,null,null,null,null,null,null,{"$error":"#VALUE!"},{"$error":"#VALUE!"},1226]
[326,"2012-11-21","Het ijzeren duel",null,null,null,null,null,null,321,null,null,null,null,null,null,{"$error":"#VALUE!"},{"$error":"#VALUE!"},1234]
[327,"15 juni 2013","De witte wraak",null,null,null,null,null,null,null,null,null,null,null,null,null,15," juni",2013]
[328,"19 juni 2013","De vliegende rivier",null,null,null,null,null,null,322,null,null,null,null,null,null,19," juni",2013]
[329,"juni 2013","De bloedbroeder",null,null,null,null,null,null,null,null,null,null,null,null,null,{"$error":"#VALUE!"},{"$error":"#VALUE!"},2013]
[330,"2013-09-11","Barabas de Balorige",null,null,null,null,null,null,323,null,null,null,null,null,null,{"$error":"#VALUE!"},{"$error":"#VALUE!"},1528]
[331,"24 oktober 2013","Het oog van Ra",null,null,null,null,null,null,null,null,null,null,null,null,null,24," oktober",2013]
[332,"31 oktober 2013","De krijgers van Sekhmet",null,null,null,null,null,null,null,null,null,null,null,null,null,31," oktober",2013]
[333,"2013-11-07","De verboden tempel",null,null,null,null,null,null,null,null,null,null,null,null,null,{"$error":"#VALUE!"},{"$error":"#VALUE!"},1585]
[334,"2013-12-11","De royale ruiter",null,null,null,null,null,null,324,null,null,null,null,null,null,{"$error":"#VALUE!"},{"$error":"#VALUE!"},1619]
[335,"12 februari 2014","Het schrikkelspook",null,null,null,null,null,null,325,null,null,null,null,null,null,12," februari",2014]
[336,"2014-04-06","Het vervloekte venster",null,null,null,null,null,null,null,null,null,null,null,null,null,{"$error":"#VALUE!"},{"$error":"#VALUE!"},1735]
[337,2014,"De tragische tante",null,null,null,null,null,null,null,null,null,null,null,null,null,{"$error":"#VALUE!"},{"$error":"#VALUE!"},2014]
[338,"17 juni 2014","De zwarte tulp",null,null,null,null,null,null,326,null,null,null,null,null,null,17," juni",2014]
[339,"2014-09-09","Het gebroken dorp",null,null,null,null,null,null,327,null,null,null,null,null,null,{"$error":"#VALUE!"},{"$error":"#VALUE!"},1891]
[340,"2014-12-01","Tante Biotica",null,null,null,null,null,null,null,null,null,null,null,null,null,{"$error":"#VALUE!"},{"$error":"#VALUE!"},1974]
[341,"2014-12-19","Sterrenrood",null,null,null,null,null,null,328,null,null,null,null,null,null,{"$error":"#VALUE!"},{"$error":"#VALUE!"},1992]
[342,"13 maart 2015","De beestige brug",null,null,null,null,null,null,null,null,null,null,null,null,null,13," maart",2015]
[343,"18 maart 2015","Suskewiet",null,null,null,null,null,null,329,null,null,null,null,null,null,18," maart",2015]
[344,"16 juni 2015","De fabuleuze freak",null,null,null,null,null,null,330,null,null,null,null,null,null,16," juni",2015]
[345,"2015-09-09","Sooi en Sientje",null,null,null,null,null,null,331,null,null,null,null,null,null,{"$error":"#VALUE!"},{"$error":"#VALUE!"},2256]
[346,"2015-09-26","De spitse bergen",null,null,null,null,null,null,null,null,null,null,null,null,null,{"$error":"#VALUE!"},{"$error":"#VALUE!"},2273]
[347,"3 oktober 2015","De verwoede verzamelaar",null,null,null,null,null,null,null,null,null,null,null,null,null,3," oktober",2015]
[348,"10 oktober 2015","Vredeskruid",null,null,null,null,null,null,null,null,null,null,null,null,null,10," oktober",2015]
[349,"17 oktober 2015","Het naderende noodlot",null,null,null,null,null,null,null,null,null,null,null,null,null,17," oktober",2015]
[350,"24 oktober 2015","De groffe grapjas",null,null,null,null,null,null,null,null,null,null,null,null,null,24," oktober",2015]
[351,"31 oktober 2015","De barabass",null,null,null,null,null,null,null,null,null,null,null,null,null,31," oktober",2015]
[352,"2015-12-02","Het verloren verleden",null,null,null,null,null,null,332,null,null,null,null,null,null,{"$error":"#VALUE!"},{"$error":"#VALUE!"},2340]
[353,"9 februari 2016","De bibberende Bosch",null,null,null,null,null,null,333,null,null,null,null,null,null,9," februari",2016]
[354,"7 juni 2016","Het lederen monster",null,null,null,null,null,null,335,null,null,null,null,null,null,7," juni",2016]
[355,"2016-09-03","De grandioze gitaar",null,null,null,null,null,null,null,null,null,null,null,null,null,{"$error":"#VALUE!"},{"$error":"#VALUE!"},2616]
[356,"2016-09-10","De schaal van moraal",null,null,null,null,null,null,null,null,null,null,null,null,null,{"$error":"#VALUE!"},{"$error":"#VALUE!"},2623]
[357,"2016-09-17","De charmante chirurg",null,null,null,null,null,null,null,null,null,null,null,null,null,{"$error":"#VALUE!"},{"$error":"#VALUE!"},2630]
[358,"2016-09-24","De pientere pop",null,null,null,null,null,null,null,null,null,null,null,null,null,{"$error":"#VALUE!"},{"$error":"#VALUE!"},2637]
[359,"1 oktober 2016","De tollende toverkol",null,null,null,null,null,null,null,null,null,null,null,null,null,1," oktober",2016]
[360,"8 oktober 2016","De irritante imitator",null,null,null,null,null,null,null,null,null,null,null,null,null,8," oktober",2016]
[361,"2016-09-06","Het omgekeerde land",null,null,null,null,null,null,336,null,null,null,null,null,null,{"$error":"#VALUE!"},{"$error":"#VALUE!"},2619]
[362,"2016-12-06","Game of drones",null,null,null,null,null,null,337,null,null,null,null,null,null,{"$error":"#VALUE!"},{"$error":"#VALUE!"},2710]
[363,"14 februari 2017","De heldenmaker",null,null,null,null,null,null,338,null,null,null,null,null,null,14," februari",2017]
[364,"2017-04-28","De zorgzoekers",null,null,null,null,null,null,null,null,null,null,null,null,null,{"$error":"#VALUE!"},{"$error":"#VALUE!"},2853]
[365,"17 mei 2017","De planeetvreter",null,null,null,null,null,null,339,null,null,null,null,null,null,17," mei",2017]
[366,"14 juni 2017","Mami Wata",null,null,null,null,null,null,340,null,null,null,null,null,null,14," juni",2017]
[367,"2017-09-12","Het Monamysterie",null,null,null,null,null,null,341,null,null,null,null,null,null,{"$error":"#VALUE!"},{"$error":"#VALUE!"},2990]
[368,"2017-11-07","De zwarte zwevers",null,null,null,null,null,null,342,null,null,null,null,null,null,{"$error":"#VALUE!"},{"$error":"#VALUE!"},3046]
[369,"2017-12-05","Cromimi",null,null,null,null,null,null,null,null,null,null,null,1,null,{"$error":"#VALUE!"},{"$error":"#VALUE!"},3074]
[370,"13 maart 2018","SOS Snowbell",null,null,null,null,null,null,343,null,null,null,null,null,null,13," maart",2018]
[371,"12 juni 2018","BRBS 2.0",null,null,null,null,null,null,344,null,null,null,null,null,null,12," juni",2018]
[372,"2018-09-12","Operatie Siggy",null,null,null,null,null,null,345,null,null,null,null,null,null,{"$error":"#VALUE!"},{"$error":"#VALUE!"},3355]
[373,"2018-11-07","Boemerang",null,null,null,null,null,null,null,null,null,null,null,2,null,{"$error":"#VALUE!"},{"$error":"#VALUE!"},3411]
[374,"2018-12-05","Chronos en Chaos",null,null,null,null,null,null,346,null,null,null,null,null,null,{"$error":"#VALUE!"},{"$error":"#VALUE!"},3439]
[375,"1 maart 2019","Het betoverende boek",null,null,null,null,null,null,null,null,null,null,null,null,null,1," maart",2019]
[376,"13 maart 2019","Lambik Plastiek",null,null,null,null,null,null,347,null,null,null,null,null,null,13," maart",2019]
[377,"12 juni 2019","De wrede wensput",null,null,null,null,null,null,348,null,null,null,null,null,null,12," juni",2019]
[378,"2019-09-03","Het lekkere lab",null,null,null,null,null,null,349,null,null,null,null,null,null,{"$error":"#VALUE!"},{"$error":"#VALUE!"},3711]
[379,"2019-11-06","De kwakkelende kwakzalver",null,null,null,null,null,null,null,null,null,null,null,3,null,{"$f":"VALUE(LEFT(B398,FIND(\" \",B398)-1))","v":{"$error":"#VALUE!"}},{"$f":"MID(B398,LEN(Q398)+1,FIND(\" \",B398,LEN(Q398)+2)-(LEN(Q398)+1))","v":{"$error":"#VALUE!"}},{"$f":"VALUE(RIGHT(B398,4))","v":3775}]
[380,"2019-12-03","De nacht van de narwal",null,null,null,null,null,null,350,null,null,null,null,null,null,{"$error":"#VALUE!"},{"$error":"#VALUE!"},3802]
[381,"11 februari 2020","De verloren Van Eyck",null,null,null,null,null,null,351,null,null,null,null,null,null,11," februari",2020]
[382,"20 mei 2020","De preutse prinses",null,null,null,null,null,null,null,null,null,null,null,4,null,20," mei",2020]
[383,"16 juni 2020","Team Krimson",null,null,null,null,null,null,352,null,null,null,null,null,null,{"$f":"VALUE(LEFT(B402,FIND(\" \",B402)-1))","v":16},{"$f":"MID(B402,LEN(Q402)+1,FIND(\" \",B402,LEN(Q402)+2)-(LEN(Q402)+1))","v":" juni"},{"$f":"VALUE(RIGHT(B402,4))","v":2020}]
[384,"11 augustus 2020","Het gewiste Wiske",null,null,null,null,null,null,353,null,null,null,null,null,null,11," augustus",2020]
[385,"29 augustus 2020","De sonometer",null,null,null,null,null,null,null,null,null,null,null,5,null,29," augustus",2020]
[386,"6 oktober 2020","De zwijgende Zwollem",null,null,null,null,null,null,354,null,null,null,null,null,null,6," oktober",2020]
[387,"2020-12-01","De scheve Schot",null,null,null,null,null,null,355,null,null,null,null,null,null,{"$f":"VALUE(LEFT(B406,FIND(\" \",B406)-1))","v":{"$error":"#VALUE!"}},{"$f":"MID(B406,LEN(Q406)+1,FIND(\" \",B406,LEN(Q406)+2)-(LEN(Q406)+1))","v":{"$error":"#VALUE!"}},{"$f":"VALUE(RIGHT(B406,4))","v":4166}]

{"sheet":"video","index":2,"n_rows":71,"n_cols":40,"rows_kept":71,"cut":false,"hidden":true,"merged":[]}
[null,null,"Ja, van het hondenparadijs is een tekenfilm. Ik weet niet of deze ook op video is verschenen (weet in ieder geval het nummer niet. Van de volgende weet ik het wel:",null,null,null,null,null,null,null,null,null,null,null,null,null,null,null,null,null,null,null,null,null,null,null,null,null,null,null,null,null,null,null,null,null,"Musical"]
[null,null,"CNR Video 1991:",null,null,null,null,null,null,null,null,null,null,null,null,null,null,"CNR Video 1991 (60/70 min)",null,null,null,null,null,null,null,null,null,null,null,null,null,null,null,null,null,null,"1994-08-28","De Stralende Sterren"]
[null,null,"90000 De ijzeren schelvis",null,null,null,null,null,null,null,null,null,null,null,null,null,null,"(76) De ijzeren schelvis",null,null,null,null,null,null,null,null,null,null,null,null,null,null,null,null,null,null,"2002-07-21","De Spokenjagers","Music Hall"]
[null,null,"90200 De wolkeneters",null,null,null,null,null,null,null,null,null,null,null,null,null,null,"(79) De zeven snaren",null,null,null,null,null,null,null,"https://www.catawiki.nl/catalogus/dvd-v ... -nijlpaard",null,null,null,null,null,null,null,null,null,null,"2008-10-01","De Circusbaron","Music Hall","http://suskeenwiske.ophetwww.net/musical/spokenjagers/verhaal2.php"]
[null,null,"90300 Het zingende nijlpaard",null,null,null,null,null,null,null,null,null,null,null,null,null,null,"(109) De wolkeneters",null,null,null,null,null,null,null,"Zoals op de achterkant van deze hoes te zien was 'De dolle musketiers' deel 1 uit een serie uit 1991, deel 2 was 'Het zingende nijlpaard' en deel 3 t/m 5 waren in ieder geval 'in voorbereiding'.",null,null,null,null,null,null,null,null,null,null,"2015-10-24","De Circusbaron","Van Hoorne Entertainment","https://www.musicalweb.nl/musicals/suske-en-wiske-de-musical"]
[null,null,"90400 De zeven snaren",null,null,null,null,null,null,null,null,null,null,null,null,null,null,"(125) De Texasrakkers",null,null,null,null,null,null,null,"In 1991 zijn uiteindelijk alle op deze achterkant genoemde titels op video verschenen in een andere serie (namelijk de hierboven genoemde 'Kijkstrip'), BEHALVE 'De dolle musketiers'! Deze is om wat voor reden dan ook blijven liggen en daarvoor in de plaats is 'De zeven snaren' toegevoegd. Waarom? Geen idee....."]
[null,null,null,null,null,null,null,null,null,null,null,null,null,null,null,null,null,"(131) Het zingende nijlpaard"]
[null,null,"CNR Video 1992:",null,null,null,null,null,null,null,null,null,null,null,null,null,null,null,null,null,null,null,null,null,null,"Dit maakt het complete lijstje 'lange tekenfilms':"]
[null,null,"92400 Wattman",null,null,null,null,null,null,null,null,null,null,null,null,null,null,"CNR Video 1992 (60/70 min)"]
[null,null,"92500 De zingende zwammen",null,null,null,null,null,null,null,null,null,null,null,null,null,null,"(70) De spokenjagers",null,null,null,null,null,null,null,"Broadcastmaster 1991 (60/70 min)"]
[null,null,null,null,null,null,null,null,null,null,null,null,null,null,null,null,null,"(78) De dulle griet",null,null,null,null,null,null,null,"1. (89) De dolle musketiers"]
[null,null,"Disky 1994/1996:",null,null,null,null,null,null,null,null,null,null,null,null,null,null,"(84) De stemmenrover",null,null,null,null,null,null,null,"2. (131) Het zingende nijlpaard"]
[null,null,"SWVD 69 De nerveuze nerviers",null,null,null,null,null,null,null,null,null,null,null,null,null,null,"(142) De mottenvanger",null,null,null,null,null,null,null,"3. (76) De ijzeren schelvis (?? wellicht enkel gepland ??)"]
[null,null,"SWVD 71 Wattman",null,null,null,null,null,null,null,null,null,null,null,null,null,null,null,null,null,null,null,null,null,null,"4. (109) De wolkeneters (?? wellicht enkel gepland ??)"]
[null,null,"SWVD 72 Jeromba de Griek",null,null,null,null,null,null,null,null,null,null,null,null,null,null,"CNR Video 1992 (26 min)",null,null,null,null,null,null,null,"5. (125) De Texasrakkers (?? wellicht enkel gepland ??)"]
[null,null,"SWVD 73 Het zoemende ei",null,null,null,null,null,null,null,null,null,null,null,null,null,null,"(71) Wattman"]
[null,null,"SWVD 77 De apekermis",null,null,null,null,null,null,null,null,null,null,null,null,null,null,"(110) De zingende zwammen",null,null,null,null,null,null,null,"CNR Video 1991 (60/70 min)"]
[null,null,"SWVD 80 De brullende berg",null,null,null,null,null,null,null,null,null,null,null,null,null,null,"Vraag: Zijn dit er inderdaad maar twee of zijn er meer gemaakt?",null,null,null,null,null,null,null,"(76) De ijzeren schelvis",null,null,null,null,null,null,"'De Zingende zwammen' (Andere, langere versie van 67 i.p.v. 26 min.)",null,null,null,null,null,"CNR is 26 min..?"]
[null,null,"SWVD 82 De gramme huurling",null,null,null,null,null,null,null,null,null,null,null,null,null,null,null,null,null,null,null,null,null,null,"(79) De zeven snaren"]
[null,null,"SWVD 83 De straatridder",null,null,null,null,null,null,null,null,null,null,null,null,null,null,"Disky 1994 (26 min)",null,null,null,null,null,null,null,"(109) De wolkeneters",null,null,null,null,null,null,"'Wattman' (Ook weer andere, langere versie van 67 i.p.v. 26 min.)",null,null,null,null,null,"CNR is 26 min..?"]
[null,null,"SWVD 85 De schone slaper",null,null,null,null,null,null,null,null,null,null,null,null,null,null,"(69) De nerveuze Nerviërs",null,null,null,null,null,null,null,"(125) De Texasrakkers"]
[null,null,"SWVD 86 Tedere Tronica",null,null,null,null,null,null,null,null,null,null,null,null,null,null,"(71) Wattman",null,null,null,null,null,null,null,"(131) Het zingende nijlpaard"]
[null,null,"SWVD 92 De briesende bruid",null,null,null,null,null,null,null,null,null,null,null,null,null,null,"(72) Jeromba de Griek"]
[null,null,"SWVD 93 De snorrende snor",null,null,null,null,null,null,null,null,null,null,null,null,null,null,"(73) Het zoemende ei",null,null,null,null,null,null,null,"CNR Video 1992 (60/70 min)"]
[null,null,"SWVD 95 De Kleppende Klipper",null,null,null,null,null,null,null,null,null,null,null,null,null,null,"(77) De apekermis",null,null,null,null,null,null,null,"(70) De spokenjagers"]
[null,null,"SWVD 97 De Dromendiefstal",null,null,null,null,null,null,null,null,null,null,null,null,null,null,"(80) De brullende berg",null,null,null,null,null,null,null,"(78) De dulle griet"]
[null,null,"SWVD 110 De zingende zwammen",null,null,null,null,null,null,null,null,null,null,null,null,null,null,"(82) De gramme huurling",null,null,null,null,null,null,null,"(84) De stemmenrover"]
[null,null,null,null,null,null,null,null,null,null,null,null,null,null,null,null,null,"(83) De straatridder",null,null,null,null,null,null,null,"(142) De mottenvanger"]
[null,null,"DVD'S:",null,null,null,null,null,null,null,null,null,null,null,null,null,null,"(85) De schone slaper"]
[null,null,null,null,null,null,null,null,null,null,null,null,null,null,null,null,null,"(86) Tedere Tronica"]
[null,null,"Dice DVD 2001/1994",null,null,null,null,null,null,null,null,null,null,null,null,null,null,"(92) De briesende bruid"]
[null,null,"DDVD 008111 De apekermis",null,null,null,null,null,null,null,null,null,null,null,null,null,null,"(93) De snorrende snor"]
[null,null,"DDVD 008128 De briesende bruid",null,null,null,null,null,null,null,null,null,null,null,null,null,null,"(110) De zingende zwammen"]
[null,null,"DDVD 008135 De brullende berg"]
[null,null,"DDVD 008142 De gramme huurling",null,null,null,null,null,null,null,null,null,null,null,null,null,null,"Disky 1996 (26 min)"]
[null,null,"DDVD 008159 De snorrende snor",null,null,null,null,null,null,null,null,null,null,null,null,null,"x","(95) De kleppende klipper"]
[null,null,"DDVD 008166 De straatridder",null,null,null,null,null,null,null,null,null,null,null,null,null,"x","(98) Het hondenparadijs"]
[null,null,"DDVD 008173 De zingende zwammen",null,null,null,null,null,null,null,null,null,null,null,null,null,"x","(102) De dromendiefstal"]
[null,null,"DDVD 008180 Het zoemende ei",null,null,null,null,null,null,null,null,null,null,null,null,null,"x","(106) De charmante koffiepot"]
[null,null,"DDVD 008197 Tedere Tronica"]
[null,null,"DDVD 008203 Wattman",null,null,null,null,null,null,null,null,null,null,null,null,null,null,"Als vervolg op mijn vorige bericht over de berg tekenfilms die ik van een ex-fan kreeg... Ik kreeg dit weekend nog een paar videobanden van hem, die hij later nog ergens terug had gevonden."]
[]
[null,null,"De volgende zijn wel op tv verschenen, maar ik weet niet of ze ook op video zijn uitgebracht (anders weet ik het nummer niet):",null,null,null,null,null,null,null,null,null,null,null,null,null,null,"Dit zijn:"]
[null,null,null,null,null,null,null,null,null,null,null,null,null,null,null,null,null,"CNR Video 1991 (60/70 min)"]
[null,null,"De charmante koffiepot",null,null,null,null,null,null,null,null,null,null,null,null,null,null,"(109) De wolkeneters"]
[null,null,"Het hondenparadijs",null,null,null,null,null,null,null,null,null,null,null,null,null,null,"(131) Het zingende nijlpaard"]
[]
[null,null,"Deze (17) afleveringen zijn ook een hele tijd geleden bij Yorin (NL) uitgezonden, iedere dinsdag en donderdag om 7.15 s'morgens. Dat weet ik omdat ik ze heb opgenomen op video indertijd. Ik heb me ook wel eens verslapen (in de vakantie) en heb de afleveringen 'De Nerveuze Nerviers', 'De Charmante koffiepot' en 'Het hondenparadijs' niet.",null,null,null,null,null,null,null,null,null,null,null,null,null,null,"CNR Video 1992 (60/70 min)"]
[null,null,null,null,null,null,null,null,null,null,null,null,null,null,null,null,null,"(84) De stemmenrover"]
[null,null,"Dan heb je dus nog een aantal andere tekenfilms, hieronder een overzicht:"]
[null,null,null,null,null,null,null,null,null,null,null,null,null,null,null,null,null,"en een hele vreemde die ik nog nooit ergens in een lijst ben tegengekomen:"]
[null,null,"Uitgebracht door Atelier 5:",null,null,null,null,null,null,null,null,null,null,null,null,null,null,"(89) De dolle musketiers"]
[null,null,"\"De Dolle Musketiers\" (?? voor mij onbekend)",null,null,null,null,null,null,null,null,null,null,null,null,null,null,"Een jaartal staat er niet op, maar hij duurt volgens de hoes 67 minuten en past dus in het rijtje van de eerste 'lange' tekenfilms."]
[null,null,null,null,null,null,null,null,null,null,null,null,null,null,null,null,null,"In die series heb ik 'De dolle musketiers' echter nooit zien staan en het is ook de enige die totaal niet op YouTube etc is terug te vinden."]
[null,null,"Uitgebracht door CNR Video, onder de naam: 'Suske en Wiske kijkstrip':",null,null,null,null,null,null,null,null,null,null,null,null,null,null,"Hij is gemaakt door Atelier5, zoals alle anderen, maar niet uitgegeven door CNR of Disky. Er staat alleen op 'distributie: Broadcastmaster nv'."]
[null,null,"DUURDE ALLEMAAL ZO'N 60 TOT 67 MINUTEN",null,null,null,null,null,null,null,null,null,null,null,null,null,null,"Om het helemaal spannend te maken, op de zijkant van de hoes staat een '1' in een rondje, wat doet suggereren dat het deel 1 uit een (geplande?) serie is. Wat er verder in die serie zit?? Geen idee?"]
[null,null,"'Het zingende nijlpaard'",null,null,null,null,null,null,null,null,null,null,null,null,null,null,"Iemand ??"]
[null,null,"'De Mottenvanger'"]
[null,null,"'De IJzeren schelvis'"]
[null,null,"'De Spokenjagers'"]
[null,null,"'De stemmenrover'"]
[null,null,"'De Texasrakkers'"]
[null,null,"'De wolkeneters'"]
[null,null,"'De Zingende zwammen' (Andere, langere versie van 67 i.p.v. 26 min.)"]
[null,null,"'De Dulle Griet'"]
[null,null,"'Wattman' (Ook weer andere, langere versie van 67 i.p.v. 26 min.)"]
[null,null,"'De Zeven snaren'"]
[]
[null,null,"Ik hoop dat deze van CNR eens opnieuw uitgebracht wordt. Ik heb de aflevering 'De wolkeneters' eens gezien en deze is veel leuker als die afleveringen van Disky. Niet alleen om de speelduur, of de stemmetjes (het zijn niet meer zo'n erge Hollandse piep-stemmetjes), maar ook om het verhaal op zich. Bij Disky worden de verhalen kort samengevat en meer weggelaten als in beeld gebracht. Bij CNR zijn ook wel wat korte fragmentjes weggelaten, maar niet de echt grappige of spannende. In ruim een uur wordt het verhaal uitgebreid vertoond."]
[]
[null,null,"Maar toch ga ik ook deze box kopen want het is weer eens een verzamelingsitem. Als ik ze gekeken heb zal ik er eens een soort 'recensie' over plaatsen."]

{"sheet":"Lange verhalen","index":3,"n_rows":514,"n_cols":22,"rows_kept":514,"cut":false,"hidden":false,"merged":[[385,4,385,6],[385,7,385,10],[385,15,385,16],[371,15,371,16],[367,15,367,16],[362,15,362,16],[363,15,363,16],[365,15,365,16],[364,15,364,16],[372,15,372,16],[374,15,374,16],[376,15,376,16],[367,7,367,10],[377,4,377,6],[378,4,378,6],[377,7,377,10],[381,4,381,6],[381,7,381,10],[381,15,381,16],[379,15,379,16],[380,4,380,6],[380,15,380,16],[374,4,374,6],[375,4,375,6],[328,9,328,16],[384,7,384,10],[384,15,384,16],[382,7,382,10],[382,15,382,16],[349,15,349,16],[350,15,350,16],[361,7,361,10],[516,7,517,13],[454,7,454,9],[410,7,410,10],[342,7,342,10],[344,7,344,10],[343,7,343,10],[346,7,346,10],[345,7,345,10],[351,7,351,10],[349,7,349,10],[350,7,350,10],[347,7,347,10],[348,7,348,10],[352,15,352,16],[354,7,354,10],[359,15,359,16],[453,4,453,6],[453,10,453,15],[452,4,452,6],[452,10,452,15],[453,7,453,9],[452,7,452,9],[389,15,389,16],[394,15,394,16],[406,15,406,16],[407,15,407,16],[391,15,391,16],[408,15,408,16],[409,15,409,16],[410,15,410,16],[402,15,402,16],[415,4,415,6],[416,4,416,6],[413,4,413,6],[402,4,402,6],[401,15,401,16],[403,15,403,16],[401,4,401,6],[412,4,412,6],[410,4,410,6],[450,1,451,1],[450,2,451,2],[450,3,451,3],[450,4,451,6],[450,7,451,9],[450,10,451,15],[402,7,402,10],[418,4,418,6],[422,7,422,10],[418,15,418,16],[419,4,419,6],[450,16,451,16],[448,1,449,7],[420,7,420,10],[435,4,435,6],[435,10,435,15],[424,1,425,7],[404,15,404,16],[405,15,405,16],[445,4,445,6],[436,10,436,15],[437,10,437,15],[438,10,438,15],[439,10,439,15],[407,4,407,6],[408,4,408,6],[406,4,406,6],[403,4,403,6],[405,4,405,6],[411,7,411,10],[440,10,440,15],[433,10,433,15],[431,4,431,6],[432,4,432,6],[434,4,434,6],[436,4,436,6],[437,4,437,6],[432,10,432,15],[434,10,434,15],[416,15,416,16],[417,15,417,16],[416,7,416,10],[414,4,414,6],[417,4,417,6],[418,7,418,10],[417,7,417,10],[379,4,379,6],[371,7,371,10],[372,7,372,10],[368,15,368,16],[369,15,369,16],[413,7,413,10],[412,7,412,10],[393,15,393,16],[395,15,395,16],[396,15,396,16],[397,15,397,16],[398,15,398,16],[400,15,400,16],[399,15,399,16],[383,15,383,16],[376,7,376,10],[379,7,379,10],[383,7,383,10],[374,7,374,10],[375,7,375,10],[373,7,373,10],[388,7,388,10],[372,4,372,6],[409,4,409,6],[347,4,347,6],[350,4,350,6],[345,4,345,6],[335,4,335,6],[332,3,333,3],[332,4,333,6],[362,4,362,6],[363,4,363,6],[328,3,328,4],[360,4,360,6],[341,4,341,6],[359,4,359,6],[352,4,352,6],[354,4,354,6],[2,15,2,18],[3,15,3,16],[7,8,8,8],[322,9,322,16],[323,9,323,16],[320,9,320,16],[321,9,321,16],[4,1,5,6],[7,1,8,1],[7,2,8,2],[7,3,7,4],[7,6,8,6],[141,16,142,16],[7,16,8,16],[318,17,319,17],[318,18,319,18],[320,3,320,4],[321,3,321,4],[322,3,322,4],[323,3,323,4],[318,1,319,1],[318,2,319,2],[318,6,319,6],[0,0,3,7],[318,19,319,19],[318,9,319,16],[332,15,333,16],[395,7,395,10],[396,7,396,10],[397,7,397,10],[398,7,398,10],[400,7,400,10],[361,15,361,16],[336,15,336,16],[338,15,338,16],[339,15,339,16],[340,15,340,16],[342,15,342,16],[344,15,344,16],[343,15,343,16],[346,15,346,16],[336,7,336,10],[338,7,338,10],[339,7,339,10],[340,7,340,10],[332,7,333,10],[318,8,319,8],[325,9,325,16],[324,3,324,4],[330,1,331,7],[324,9,324,16],[353,15,353,16],[335,7,335,10],[335,15,335,16],[334,4,334,6],[334,7,334,10],[334,15,334,16],[351,4,351,6],[349,4,349,6],[345,15,345,16],[351,15,351,16],[332,1,333,1],[332,2,333,2],[326,3,326,4],[327,3,327,4],[325,3,325,4],[341,7,341,10],[341,15,341,16],[347,15,347,16],[348,15,348,16],[337,7,337,10],[326,9,326,16],[7,20,8,20],[7,9,7,14],[7,15,8,15],[7,7,8,7],[7,19,8,19],[353,4,353,6],[357,4,357,6],[356,4,356,6],[358,4,358,6],[336,4,336,6],[338,4,338,6],[339,4,339,6],[340,4,340,6],[342,4,342,6],[344,4,344,6],[7,17,8,17],[7,18,8,18],[346,4,346,6],[318,20,319,20],[348,4,348,6],[355,4,355,6],[318,7,319,7],[318,3,319,4],[327,9,327,16],[373,4,373,6],[361,4,361,6],[404,4,404,6],[366,4,366,6],[370,4,370,6],[368,4,368,6],[369,4,369,6],[371,4,371,6],[367,4,367,6],[398,4,398,6],[400,4,400,6],[399,4,399,6],[387,4,387,6],[388,4,388,6],[391,4,391,6],[365,4,365,6],[364,4,364,6],[392,4,392,6],[386,4,386,6],[383,4,383,6],[382,4,382,6],[376,4,376,6],[397,4,397,6],[384,4,384,6],[426,1,427,1],[426,2,427,2],[426,3,427,3],[426,4,427,6],[423,9,424,15],[422,4,422,6],[419,15,419,16],[422,15,422,16],[426,16,427,16],[419,7,419,10],[421,7,421,10],[395,4,395,6],[396,4,396,6],[389,4,389,6],[454,4,454,6],[426,10,427,15],[428,10,428,15],[429,10,429,15],[426,7,427,9],[428,4,428,6],[429,4,429,6],[430,4,430,6],[430,10,430,15],[442,10,442,15],[443,10,443,15],[444,10,444,15],[445,10,445,15],[454,10,454,15],[441,10,441,15],[433,4,433,6],[438,4,438,6],[439,4,439,6],[440,4,440,6],[441,4,441,6],[393,4,393,6],[442,4,442,6],[443,4,443,6],[444,4,444,6],[431,10,431,15],[415,15,415,16],[364,7,364,10],[366,7,366,10],[370,7,370,10],[368,7,368,10],[369,7,369,10],[415,7,415,10],[401,7,401,10],[403,7,403,10],[404,7,404,10],[388,15,388,16],[386,7,386,10],[386,15,386,16],[392,7,392,10],[392,15,392,16],[387,15,387,16],[378,7,378,10],[377,15,377,16],[378,15,378,16],[394,4,394,6],[359,7,359,10],[366,15,366,16],[370,15,370,16],[375,15,375,16],[373,15,373,16],[389,7,389,10],[352,7,352,10],[358,7,358,10],[362,7,362,10],[363,7,363,10],[365,7,365,10],[354,15,354,16],[355,7,355,10],[353,7,353,10],[357,7,357,10],[356,7,356,10],[355,15,355,16],[357,15,357,16],[356,15,356,16],[337,15,337,16],[337,4,337,6],[390,4,390,6],[390,7,390,10],[390,15,390,16],[360,15,360,16],[360,7,360,10],[387,7,387,10],[414,7,414,10],[411,15,411,16],[391,7,391,10],[393,7,393,10],[394,7,394,10],[399,7,399,10],[380,7,380,10],[405,7,405,10],[406,7,406,10],[407,7,407,10],[408,7,408,10],[409,7,409,10],[358,15,358,16],[353,11,353,13],[412,15,412,16],[413,15,413,16]]}
[" Suske en Wiske",null,null,null,null,null,null,null,null,null,null,null,null,null,null,null,null,null,"versie: 21 Apr 2024"]
[null,null,null,null,null,null,null,null,null,null,null,null,null,null,null,"  Wat is een lang verhaal?",null,null,"door Arjen Leine / Mark Ormel"]
[null,null,null,null,null,null,null,null,null,null,null,null,null,null,null,"- Een regulier verhaal, d.w.z als apart album opgenomen in de reguliere rode, blauwe of klassiek reeks . (VER)"]
[null,null,null,null,null,null,null,null,null,null,null,null,null,null,null,"- Een overzicht van de korte verhalen is in een aparte file hier te vinden."]
[null,"de lange verhalen"]
[]
[]
[null,"Nr","Datum","Album Nummer",null,null,"Titel","Pagina's","Heb ik","Verhaal nummers andere lijsten",null,null,null,null,null,"Eerste Publicatie","Krant Titel / Opmerking","Aankondiging","1e strook","Album","Eerste Datum"]
[null,null,null,"4 Kleuren","Ongekleurd","Datum",null,null,null,"Totale Tabel","Matla","Wikiwand","SW Klassiek","Comicweb nr","Wiki nr"]
[null,1,{"$f":"+U10","v":"1945-03-30"},154,0,"30 maart 1945","Rikki en Wiske (in Chocowakije)",60,null,"V 1","V1","V1","VR1","V1",1,"De Nieuwe Standaard","Rikki en Wiske; In album 20 stroken weggelaten + 12 stroken en 4 plaatjes hertekend.","-","1945-03-30","1946-01-01","1945-03-30"]
[null,{"$f":"+B10+1","v":2},{"$f":"+U11","v":"1945-12-20"},68,1,"1945-12-19","(Op) Het eiland Amoras",55,null,"V 2","V2","V2","VR2","V2a",2,"De Nieuwe Standaard","Op het eiland Amoras; In rode reeks nr 68 (gekeurd en hertekend) is 1 pagina weggelaten.","1945-12-19","1945-12-20","1947-01-01","1945-12-20"]
[null,{"$f":"+B11+1","v":3},"1946-05-16",107,3,"15 mei 1946","De sprietatoom",56.5,null,"V 3","V3","V3","VR3","V3a",3,"De Nieuwe Standaard","In album 6 stroken weggelaten.","1946-05-15","1946-05-16","1948-01-01","1946-05-16"]
[null,4,"1946-09-30",87,2,"1946-09-28","De vliegende aap",55,null,"V 4","V4","V4","VR4","V4a",4,"De Nieuwe Standaard",null,"1946-09-28","1946-09-30","1948-01-01","1946-09-30"]
[null,5,"1947-02-14",140,6,"13 februari 1947","De Zwarte Madam",54.5,null,"V 5","V5","V5","VR5","V5",5,"De Nieuwe Standaard","Originele aankondiging 3 stroken. In de Nederlandse krant getiteld 'De Zwarte Dame'. Zie note.","1947-02-13","1947-02-14","1949-01-01","1947-02-14"]
[null,6,"1947-07-02",105,4,"1 juli 1947","De koning drinkt",55,null,"V 6","V6","V6","VR6","V6a",6,"De Nieuwe Standaard / De Standaard","In de krantuitgave 2 stroken korter dan album (zonder laatste 2 stroken ) dus 54.5 pagina's.","1947-07-01","1947-07-02","1949-01-01","1947-07-02"]
[null,7,"1947-11-10",129,5,"1947-11-08","Prinses Zagemeel",55,null,"V 7","V7","V7","VR7","V7",7,"De Standaard","In de Nederlandse krant De Stem kreeg dit verhaal de titel 'De zaagselprinses'.","1947-11-08","1947-11-10","1949-01-01","1947-11-10"]
[null,8,"1948-03-22",136,26,"20 maart 1948","De bokkerijders",55,null,"V 8","V8","V8","VR8","V8",8,"De Standaard","Krant titel: De bokkerijder.","1948-03-20","1948-03-22","1956-01-01","1948-03-22"]
[null,9,"1948-07-30",134,7,"29 juli 1948","De witte uil",55,null,"V 9","V9","V9","VR9","V9a",9,"De Standaard",null,"1948-07-29","1948-07-30","1950-01-01","1948-07-30"]
[null,10,"1948-09-16",150,null,"1948-09-09","Het Spaanse spook",{"$f":"69+1","v":70},null,"V 10","V10","V10","VB1","V10a",10,"Kuifje","Blauwe reeks; In weekblad Kuifje 69 pagina's, in album eerste 4 pagina's hertekend tot 1 pagina extra.","1948-09-09","1948-09-16","1952-01-01","1948-09-16"]
[null,11,"1948-10-31","-",null,{"$f":"+C20","v":"1948-10-31"},"De gekalibreerde kwibus",44,null,"V 11","V11","V11","VR10","V11","-","Ons Parochieblad (voorloper van Kerkelijk Leven)","Drie in elkaar overlopende verhalen:  Lambik Miljonair, De Valsmunters en De onzichtbare generaal.","-","1948-10-31","1979-01-01","1948-10-31",""]
[null,12,"1948-12-09",142,31,"1948-12-08","De mottenvanger",55,null,"V 12","V12","V12","VR11","V12",12,"De Standaard","In De Stem is de laatste strook verwijderd en vervangen door een onderschrift over Jerom.","1948-12-08","1948-12-09","1957-01-01","1948-12-09"]
[null,13,"1949-04-18",138,8,"1949-04-16","Bibbergoud",55,null,"V 13","V13","V13","VR12","V13",13,"De Standaard","Twee plaatjes als vooraankondiging op 11 en 13, en op 12 en 14 april 1949.","1949-04-16","1949-04-18","1950-01-01","1949-04-18"]
[null,14,"1949-08-26",144,9,"25 augustus 1949","Lambiorix",55,null,"V 14","V14","V14","VR13","V14a",14,"De Standaard","Vooraankondiging 24 aug 1949. In album laatste 2 stroken verkort tot 1 strook (koningskwestie).","1949-08-25","1949-08-26","1950-01-01","1949-08-26"]
[null,15,"1950-01-06",132,10,"5 januari 1950","De stierentemmer",55,null,"V 15","V15","V15","VR14","V15",15,"De Standaard","Vooraankondigingsplaatje 4 jan 1950.","1950-01-05","1950-01-06","1950-01-01","1950-01-06"]
[null,16,"1950-03-02",116,null,"2 maart 1950","De bronzen sleutel",62,null,"V 16","V16","V16","VB2","V16",16,"Kuifje","Blauwe reeks; In Rode reeks 7 pagina's verkort tot 55 pagina's.","1950-03-02","1950-03-02","1952-01-01","1950-03-02"]
[null,17,"1950-05-17",145,11,"16 mei 1950","De stalen bloempot",55,null,"V 17","V17","V17","VR15","V17",17,"De Standaard","Vooraankondiging op 13 mei 1950.","1950-05-16","1950-05-17","1951-01-01","1950-05-17"]
[null,18,"1950-09-25",131,12,"1950-09-23","Het zingende nijlpaard",55,null,"V 18","V18","V18","VR16","V18",18,"De Standaard","Vooraankondiging op 22 september 1950.","1950-09-23","1950-09-25","1951-01-01","1950-09-25"]
[null,19,"1951-02-03",137,13,"2 februari 1951","De ringelingschat",55,null,"V 19","V19","V19","VR17","V19a",19,"De Standaard","Vooraankondigingsplaatje 1 feb 1951.","1951-02-02","1951-02-03","1951-01-01","1951-02-03"]
[null,20,"1951-05-16",114,null,"9 mei 1951","De Tartaarse helm",62,null,"V 20","V20","V20","VB3","V20",20,"Kuifje","Blauwe reeks; In Rode reeks 7 pagina's verkort tot 55 pagina's.","1951-05-09","1951-05-16","1953-01-01","1951-05-16"]
[null,21,"1951-06-14",133,14,"13 juni 1951","De Tuftuf-club",55,null,"V 21","V21","V21","VR18","V21",21,"De Standaard","De Tuftuf klub; In eerdere versies van nr 133 zijn jaartallen op de laatste pagina aangepast, zie note.","1951-06-13","1951-06-14","1952-01-01","1951-06-14"]
[null,22,"1951-10-30",141,15,"29 oktober 1951","Het bevroren vuur",55,null,"V 22","V22","V22","VR19","V22",22,"De Standaard","Oude en nieuwe spelling; vooraankondigingsplaatje 27 okt 1951","1951-10-29","1951-10-30","1952-01-01","1951-10-30"]
[null,23,"1952-03-11",146,16,"10 maart 1952","De sterrenplukkers",55,null,"V 23","V23","V23","VR20","V23",23,"De Standaard",null,"1952-03-10","1952-03-11","1952-01-01","1952-03-11"]
[null,24,"1952-07-21",148,17,"19 juli 1952","De lachende wolf",{"$f":"54.75+0.25","v":55},null,"V 24","V24","V24","VR21","V24",24,"De Standaard","Vooraankondigingsplaatje 18 juli 1952. Het album is 1 strook korter door verwijdering van de ijzertoren grap.","1952-07-19","1952-07-21","1953-01-01","1952-07-21"]
[null,25,"1952-07-23",111,null,"23 juli 1952","De schat van Beersel",64,null,"V 25","V25","V25","VB4","V25",25,"Kuifje","Blauwe reeks; In Rode reeks 9 pagina's verkort tot 55 pagina's.","1952-07-16","1952-07-23","1954-01-01","1952-07-23"]
[null,26,"1952-11-27",89,18,"1952-11-26","De dolle musketiers",55,null,"V 27","V27","V26","VR22","V26a",26,"De Standaard","Eerste optreden Jerom.","1952-11-26","1952-11-27","1953-07-26","1952-11-27"]
[null,"KVH 1","1952-12-14",188,null,{"$f":"+C36","v":"1952-12-14"},"Het vliegende hart",25,null,"V 26","V26","V27","VR23","V27","-","De Bond","Nummering Matla andersom; Ook uitgegeven als Ciso nr.7 (Brabantia Nostra, 1971).","-","1952-12-14","1982-01-01","1952-12-14"]
[null,{"$f":"+B35+1","v":27},"1953-04-08",88,19,"1953-04-07","De tamtamkloppers",55,null,"V 28","V28","V28","VR24","V28b",28,"De Standaard","Krant titel: De tamtamklopper (NL: De tomtomklopper, De Stem).","1953-04-07","1953-04-08","1953-01-01","1953-04-08"]
[null,28,"1953-08-19",127,20,"18 augustus 1953","De knokkersburcht",55.5,null,"V 29","V29","V29","VR25","V29a",29,"De Standaard","Vooraankondiging van een nieuw verhaal op 15 augustus 1953.","1953-08-18","1953-08-19","1954-01-01","1953-08-19"]
[null,29,"1953-10-14",113,null,"14 oktober 1953","Het geheim der gladiatoren",61,null,"V 30","V30","V30","VB5","V30",30,"Kuifje","Blauwe reeks; Titel in Kuifje: 'Goud voor Rome'. In Rode reeks 6 pagina's verkort tot 55 pagina's.","1953-10-14","1953-10-14","1955-01-01","1953-10-14"]
[null,30,"1954-01-01",81,21,"1953-12-31","De circusbaron",55,null,"V 31","V31","V31","VR26","V31a",31,"De Standaard","De cirkusbaron; 1 vooraankondigingsplaatje 29 en 30 december 1953.","1953-12-31","1954-01-01","1954-01-01","1954-01-01"]
[null,31,"1954-05-17",91,22,"15 mei 1954","De speelgoedzaaier",55,null,"V 32","V32","V32","VR27","V32a",32,"De Standaard","1 vooraankondigingsplaatje 13 mei 1954.","1954-05-15","1954-05-17","1954-01-01","1954-05-17"]
[null,32,"1954-09-28",76,23,"1954-09-27","De ijzeren schelvis",55,null,"V 33","V33","V33","VR28","V33a",33,"De Standaard",null,"1954-09-27","1954-09-28","1955-01-01","1954-09-28"]
[null,33,"1955-02-02",115,null,"2 februari 1955","De gezanten van Mars",62,null,"V 34","V34","V34","VB6","V34",34,"Kuifje","Blauwe reeks; In Rode reeks 7 pagina's verkort tot 55 pagina's.","-","1955-02-02","1956-01-01","1955-02-02"]
[null,34,"1955-02-12",95,24,"11 februari 1955","De Kleppende Klipper",55,null,"V 35","V35","V35","VR29","V35a",35,"De Standaard","3 vooraankondigingsplaatjes 8 - 10 februari 1955.","1955-02-11","1955-02-12","1955-07-25","1955-02-12"]
[null,35,"1955-07-04",83,25,"2 juli 1955","De straatridder",55,null,"V 36","V36","V36","VR30","V36a",36,"De Standaard","3 vooraankondigingsplaatjes 29 juni - 1 juli 1955.","1955-07-02","1955-07-04","1955-12-21","1955-07-04"]
[null,36,"1955-11-18",80,27,"1955-11-17","De brullende berg",55,null,"V 37","V37","V37","VR31","V37a",37,"De Standaard","2 vooraankondigingsplaatjes 15 en 16 november 1955.","1955-11-17","1955-11-18","1956-01-01","1955-11-18"]
[null,37,"1956-04-02",70,28,"31 maart 1956","De spokenjagers",55,null,"V 38","V38","V38","VR32","V38a",38,"De Standaard","2 vooraankondigingsplaatjes 29 en 30 maart 1956.","1956-03-31","1956-04-02","1956-01-01","1956-04-02"]
[null,38,"1956-07-04",112,null,"27 juni 1956","De groene splinter",62,null,"V 39","V39","V39","VB7","V39",39,"Kuifje","Blauwe reeks; In Rode reeks 7 pagina's verkort tot 55 pagina's.","1956-06-27","1956-07-04","1957-01-01","1956-07-04"]
[null,39,"1956-09-10",93,29,"1956-09-08","De snorrende Snor",55,null,"V 40","V40","V40","VR33","V40a",40,"De Standaard",null,"1956-09-08","1956-09-10","1957-01-01","1956-09-10"]
[null,40,"1957-01-22",84,30,"21 januari 1957","De stemmenrover",55,null,"V 41","V41","V41","VR34","V41a",41,"De Standaard","2 vooraankondigingsplaatjes 28 en 29 januari 1957.","1957-01-21","1957-01-22","1957-01-01","1957-01-22"]
[null,41,"1957-06-05",119,32,"4 juni 1957","Het sprekende testament",55,null,"V 42","V42","V42","VR35","V42a",42,"De Standaard","Krant: Het taterende testament (NL: Het sprekende testament, Het Nieuwsblad van het Zuiden, De Stem).","1957-06-04","1957-06-05","1958-01-01","1957-06-05"]
[null,42,"1957-10-17",120,33,"16 oktober 1957","De geverniste zeerovers",55,null,"V 43","V43","V43","VR36","V43a",43,"De Standaard","Krant: De zonnige zageman (NL: De zonnige zeurpiet, Het Nieuwsblad van het Zuiden, De Stem).","1957-10-16","1957-10-17","1958-01-01","1957-10-17"]
[null,43,"1958-02-26",100,null,"26 februari 1958","Het gouden paard",61,null,"V 44","V44","V45","VB8","V45",45,"Kuifje","Blauwe reeks; In Rode reeks 6 pagina's verkort tot 55 pagina's.","-","1958-02-26","1969-01-01","1958-02-26"]
[null,44,"1958-03-01",121,34,"28 februari 1958","De duistere diamant",55,null,"V 45","V45","V46","VR37","V46",46,"De Standaard",null,"1958-02-28","1958-03-01","1958-01-01","1958-03-01"]
[null,45,"1958-07-15",123,35,"14 juli 1958","De Zwarte Zwaan",55,null,"V 46","V46","V47","VR38","V47",47,"De Standaard","2 vooraankondigingsplaatjes 11 en 12 juli 1958. Op 5/11 een voorspelling van een artikel.","1958-07-14","1958-07-15","1959-01-01","1958-07-15"]
[null,46,"1958-11-28",124,36,"1958-11-27","Het vliegende bed",55,null,"V 47","V47","V48","VR39","V48",48,"De Standaard","1 vooraankondigingsplaatje 25 november 1958; 1e druk nr 124 ook in Vlaams.","1958-11-27","1958-11-28","1959-01-01","1958-11-28"]
[null,47,"1959-04-14",125,37,"1959-04-13","De Texas-Rakkers",55,null,"V 48","V48","V49","VR40","V49",49,"De Standaard","Krant titel: De Texas rakkers.","1959-04-13","1959-04-14","1959-01-01","1959-04-14"]
[null,48,"1959-08-25",126,38,"22 augustus 1959","De windmakers",55,null,"V 49","V49","V50","VR41","V50",50,"De Standaard","2 vooraankondigingsplaatjes 21 en 22 augustus 1959.","1959-08-22","1959-08-25","1960-01-01","1959-08-25"]
[null,49,"1960-01-05",118,39,"4 januari 1960","De gouden cirkel",55,null,"V 50","V50","V51","VR42","V51",51,"De Standaard","1 vooraankondigingsplaatje 2 januari 1960, en na afloop een plaatje met de route.","1960-01-04","1960-01-05","1960-01-01","1960-01-05"]
[null,50,"1960-05-19",110,40,"18 mei 1960","De zingende zwammen",55,null,"V 51","V51","V52","VR43","V52",52,"De Standaard","1 vooraankondigingsplaatje 14 en 16 mei 1960.","1960-05-18","1960-05-19","1960-01-01","1960-05-19"]
[null,51,"1960-09-29",109,41,"1960-09-28","De wolkeneters",55,null,"V 52","V52","V53","VR44","V53",53,"De Standaard",null,"1960-09-28","1960-09-29","1961-01-01","1960-09-29"]
[null,52,"1961-02-08",103,43,"7 februari 1961","De klankentapper",55,null,"V 53","V53","V54","VR45","V54",54,"De Standaard",null,"1961-02-07","1961-02-08","1961-01-01","1961-02-08"]
[null,53,"1961-06-20",104,44,"19 juni 1961","De wilde weldoener",55,null,"V 54","V54","V55","VR46","V55",55,"De Standaard",null,"1961-06-19","1961-06-20","1962-01-01","1961-06-20"]
[null,54,"1961-10-27",98,45,"26 oktober 1961","Het hondenparadijs",55,null,"V 55","V55","V56","VR47","V56",56,"De Standaard",null,"1961-10-26","1961-10-27","1962-01-01","1961-10-27"]
[null,55,"1962-03-08",101,46,"7 maart 1962","De kaartendans",55,null,"V 56","V56","V57","VR48","V57",57,"De Standaard",null,"1962-03-07","1962-03-08","1962-01-01","1962-03-08"]
[null,56,"1962-07-16",99,47,"14 juli 1962","De kwakstralen",55,null,"V 57","V57","V58","VR49","V58",58,"De Standaard",null,"1962-07-14","1962-07-16","1963-01-01","1962-07-16"]
[null,57,"1962-11-23",96,48,"1962-11-22","Het rijmende paard",55,null,"V 58","V58","V59","VR50","V59",59,"De Standaard",null,"1962-11-22","1962-11-23","1963-01-01","1962-11-23"]
[null,58,"1963-04-03",94,49,"1963-04-02","De sissende sampan",56,null,"V 59","V59","V60","VR51","V60",60,"De Standaard","Eerste druk en krant titel: De sissende sampam; in album 4 stroken weggelaten.","1963-04-02","1963-04-03","1963-01-01","1963-04-03"]
[null,59,"1963-08-13",90,50,"12 augustus 1963","Sjeik El Ro-jenbiet",55,null,"V 60","V60","V61","VR52","V61",61,"De Standaard",null,"1963-08-12","1963-08-13","1964-01-01","1963-08-13"]
[null,60,"1963-12-23",69,51,"1963-12-21","De nerveuze Nerviers",55,null,"V 61","V61","V62","VR53","V62",62,"De Standaard","Sinds 1994 getiteld 'De nerveuze Nerviërs'; Eerste album in ABN voor Nederland en België.","1963-12-21","1963-12-23","1964-01-01","1963-12-23"]
[null,61,"1964-04-04",73,53,"2 mei 1964","Het zoemende ei",55,null,"V 62","V62","V63","VR54","V63",63,"De Standaard",null,"1964-05-02","1964-04-04","1964-01-01","1964-04-04"]
[null,62,"1964-09-12",74,54,"1964-09-11","De koddige kater",55,null,"V 63","V63","V64","VR55","V64",64,"De Standaard",null,"1964-09-11","1964-09-12","1965-01-01","1964-09-12"]
[null,63,"1965-01-25",85,57,"23 januari 1965","De schone slaper",55,null,"V 64","V64","V65","VR56","V65",65,"De Standaard","Vanaf dit album worden de stroken genummerd.","1965-01-23","1965-01-25","1965-01-01","1965-01-25"]
[null,64,"1965-06-03",77,61,"2 juni 1965","De apekermis",55,null,"V 65","V65","V66","VR57","V66",66,"De Standaard",null,"1965-06-02","1965-06-03","1965-01-01","1965-06-03"]
[null,65,{"$f":"+U75","v":"1965-10-12"},72,63,"11 oktober 1965","Jeromba de Griek",55,null,"V 66","V66","V67","VR58","V67",67,"De Standaard",null,"1965-10-11","1965-10-12","1966-01-01","1965-10-12"]
[null,{"$f":"+B75+1","v":66},"1966-02-23",78,66,"22 februari 1966","De Dulle Griet",55,null,"V 67","V67","V68","VR59","V68",68,"De Standaard",null,"1966-02-22","1966-02-23","1966-01-01","1966-02-23"]
[null,67,"1966-07-04",67,null,"2 juli 1966","De poenschepper",55,null,"V 68","V68","V69",null,"V69",69,"De Standaard","1e drukken: titel onder illustratie Nr 67-74.","1966-07-02","1966-07-04","1967-03-01","1966-07-04"]
[null,68,"1966-11-14",71,null,"1966-11-12","Wattman",55,null,"V 69","V69","V70",null,"V70",70,"De Standaard","1e drukken: titel onder illustratie Nr 67-74.","1966-11-12","1966-11-14","1967-06-01","1966-11-14"]
[null,69,"1967-03-25",75,null,"24 maart 1967","Het mini mierennest",55,null,"V 70","V70","V71",null,"V71",71,"De Standaard","Krant titel: Het mini-mierennest.","1967-03-24","1967-03-25","1967-11-01","1967-03-25"]
[null,70,"1967-08-07",79,null,"5 augustus 1967","De zeven snaren",55,null,"V 71","V71","V72",null,"V72",72,"De Standaard",null,"1967-08-05","1967-08-07","1968-04-01","1967-08-07"]
[null,71,"1967-12-18",82,null,"1967-12-16","De gramme huurling",55,null,"V 72","V72","V73",null,"V73",73,"De Standaard",null,"1967-12-16","1967-12-18","1968-08-01","1967-12-18"]
[null,72,"1968-04-29",86,null,"1968-04-27","Tedere Tronica",55,null,"V 73","V73","V74",null,"V74",74,"De Standaard","Van nummer 86-124 wordt op de eerste druken t/m 1971-72 het albumnummer rechts geplaatst.","1968-04-27","1968-04-29","1968-11-01","1968-04-29"]
[null,73,"1968-09-10",92,null,"1968-09-09","De briesende bruid",55,null,"V 74","V74","V75",null,"V75",75,"De Standaard",null,"1968-09-09","1968-09-10","1969-04-01","1968-09-10"]
[null,74,"1969-01-20",97,null,"18 januari 1969","De junglebloem",55,null,"V 76","V76","V76",null,"V76",76,"De Standaard","Nummering Matla andersom.","1969-01-18","1969-01-20","1969-08-01","1969-01-20"]
[null,75,"1969-06-04",102,null,"3 juni 1969","De dromendiefstal",55,null,"V 75","V75","V77",null,"V77",77,"De Standaard",null,"1969-06-03","1969-06-04","1970-01-02","1969-06-04"]
[null,76,"1969-10-13",106,null,"11 oktober 1969","De charmante koffiepot",55,null,"V 77","V77","V78",null,"V78",78,"De Standaard","Van nr 106 -116 alleen eerste druk het albumnummer rechts geplaatst, vanaf 1971 al links.","1969-10-11","1969-10-13","1970-06-02","1969-10-13"]
[null,77,"1970-02-21",108,null,"20 februari 1970","Twee toffe totems",55,null,"V 78","V78","V79",null,"V79",79,"De Standaard",null,"1970-02-20","1970-02-21","1970-09-02","1970-02-21"]
[null,78,"1970-07-06",117,null,"4 juli 1970","De toornige tjiftjaf",55,null,"V 79","V79","V80",null,"V80",80,"De Standaard","Van nr 117 -124 alleen eerste druk het albumnummer rechts geplaatst, vanaf 1972 al links.","1970-07-04","1970-07-06","1971-03-01","1970-07-06"]
[null,79,"1970-11-14",122,null,"1970-11-13","De kale kapper",55,null,"V 80","V80","V81",null,"V81",81,"De Standaard",null,"1970-11-13","1970-11-14","1971-08-01","1970-11-14"]
[null,80,"1971-04-01",128,null,"31 maart 1971","Het brommende brons",55,null,"V 81","V81","V82",null,"V82",82,"De Standaard",null,"1971-03-31","1971-04-01","1972-01-01","1971-04-01"]
[null,81,"1971-08-14",130,null,"13 augustus 1971","De steensnoepers",55,null,"V 82","V82","V83",null,"V83",83,"De Standaard",null,"1971-08-13","1971-08-14","1972-03-01","1971-08-14"]
[null,82,"1971-12-29",135,null,"1971-12-28","De gekke gokker",55,null,"V 83","V83","V84",null,"V84",84,"De Standaard","Eerste verhaal volledig getekend en geschreven door Paul Geerts.","1971-12-28","1971-12-29","1972-08-01","1971-12-29"]
[null,83,"1972-05-10",139,null,"9 mei 1972","De boze boomzalver",55,null,"V 84","V84","V85",null,"V85",85,"De Standaard",null,"1972-05-09","1972-05-10","1973-01-01","1972-05-10"]
[null,84,"1972-09-21",143,null,"1972-09-20","De malle mergpijp",55,null,"V 85","V85","V86",null,"V86",86,"De Standaard","Nr 142-145 eerste druk met sticker.","1972-09-20","1972-09-21","1973-06-01","1972-09-21"]
[null,85,"1973-02-05",147,null,"3 februari 1973","De poppenpakker",55,null,"V 86","V86","V87",null,"V87",87,"De Standaard",null,"1973-02-03","1973-02-05","1974-01-01","1973-02-05"]
[null,86,"1973-03-31",152,null,"31 maart 1973","De bevende Baobab",55,null,"V 89","V89","V88",null,"V88",88,"TV Ekspres","Nummering Matla andersom.","-","1973-03-31","1974-10-01","1973-03-31"]
[null,87,"1973-06-19",149,null,"18 juni 1973","De gladde glipper",55,null,"V 87","V87","V89",null,"V89",89,"De Standaard",null,"1973-06-18","1973-06-19","1974-06-01","1973-06-19"]
[null,88,"1973-11-02",151,null,"31 oktober 1973","Het ros Bazhaar",55,null,"V 88","V88","V90",null,"V90",90,"De Standaard",null,"1973-10-31","1973-11-02","1974-08-01","1973-11-02"]
[null,89,"1974-03-14",153,null,"13 maart 1974","De nare varaan",55,null,"V 90","V90","V92",null,"V92",92,"De Standaard",null,"1974-03-13","1974-03-14","1975-01-01","1974-03-14"]
[null,90,"1974-04-27",157,null,"1974-04-27","De mollige meivis",55,null,"V 93","V93","V93",null,"V93",93,"TV Ekspres","Nummering Matla andersom.","-","1974-04-27","1975-11-01","1974-04-27"]
[null,91,"1974-07-26",155,null,"25 juli 1974","De poezelige poes",55,null,"V 91","V91","V95",null,"V95",95,"De Standaard",null,"1974-07-25","1974-07-26","1975-06-01","1974-07-26"]
[null,92,"1974-12-06",156,null,"1974-12-05","Beminde Barabas",55,null,"V 92","V92","V96",null,"V96",96,"De Standaard",null,"1974-12-05","1974-12-06","1975-08-01","1974-12-06"]
[null,93,"1975-04-18",158,null,"1975-04-17","De vinnige Viking",55,null,"V 94","V94","V99",null,"V99",99,"De Standaard",null,"1975-04-17","1975-04-18","1976-01-01","1975-04-18"]
[null,94,"1975-05-17",163,null,"17 mei 1975","De vlijtige vlinder",55,null,"V 95","V99","V100",null,"V100",100,"TV Ekspres",null,"-","1975-05-17","1977-01-01","1975-05-17"]
[null,95,"1975-09-02",160,null,"1975-09-01","De bokkige bombardon",55,null,"V 96","V96","V102",null,"V102",102,"De Standaard",null,"1975-09-01","1975-09-02","1976-06-01","1975-09-02"]
[null,96,"1975-10-06",159,null,"6 oktober 1975","De minilotten van Kokonera",55,null,"V 97","V95","V103",null,"V105",103,"Album (na TV serie)","TV poppenserie TROS , start op 6 oktober 1975, album apr 1976.","-","-","1976-04-01","1975-10-06"]
[null,97,"1975-12-01",162,null,"1975-12-01","De gouden locomotief",55,null,"V 98","V97","V104",null,"V109",104,"Album (na TV serie)","TV poppenserie TROS , start op 1 december 1975, album nov 1976.","-","-","1976-11-01","1975-12-01"]
[null,98,"1976-01-14",161,null,"13 januari 1976","De blinkende boemerang",55,null,"V 99","V98","V106",null,"V104",106,"De Standaard",null,"1976-01-13","1976-01-14","1976-08-01","1976-01-14"]
[null,99,"1976-02-09",167,null,"9 februari 1976","De zingende kaars",55,null,"V 100","V101","V107",null,"V117",107,"Album (na TV serie)","TV poppenserie TROS , start op 9 februari 1976, album jan 1978.","-","-","1978-01-01","1976-02-09"]
[null,100,"1976-04-14",172,null,"1976-04-14","Het laatste dwaallicht",55,null,"V 101","V104","V108",null,null,108,"Album (na TV serie)","TV poppenserie TROS , start op 14 april 1976, album mar 1979. Enige met voorpublicatie.","-","1978-10-21","1979-03-01","1976-04-14"]
[null,101,"1976-05-25",164,null,"24 mei 1976","De raap van Rubens",80,null,"V 102","V100","V109",null,null,109,"De Standaard","Extra lang verhaal; Album 1 pagina korter dan krant uitgave. Eerste uitgaven o.a. 'dubbeldik', zie note.","1976-05-24","1976-05-25","1977-06-20","1976-05-25"]
[null,102,"1976-06-05",166,null,"5 juni 1976","De maffe maniak",55,null,"V 103","V103","V111",null,null,111,"TV Ekspres","Tussenaankondiging door Vandersteen voor Zie Magazine 7-1-1977.","-","1976-06-05","1977-11-01","1976-06-05"]
[null,103,"1976-07-10",184,null,"10 juli 1976","De Regenboogprinses",55,null,"V 104","V107","V112",null,null,112,"Album (na TV serie)","TV poppenserie TROS , start op 10 juli 1976, album sep 1981.","-","-","1981-09-01","1976-07-10"]
[null,104,"1976-10-06",179,null,"6 oktober 1976","De windbrekers",55,null,"V 105","V109","V113",null,null,113,"Album (na TV serie)","TV poppenserie TROS , start op 6 oktober 1976, album sep 1980.","-","-","1980-09-01","1976-10-06"]
[null,105,"1976-12-01",165,null,"1976-11-30","De sputterende spuiter",55,null,"V 106","V102","V114",null,null,114,"De Standaard",null,"1976-11-30","1976-12-01","1977-08-01","1976-12-01"]
[null,106,"1977-04-13",168,null,"1977-04-12","De Efteling-elfjes",55,null,"V 107","V105","V115",null,null,115,"De Standaard",null,"1977-04-12","1977-04-13","1978-04-01","1977-04-13"]
[null,107,"1977-06-25",170,null,"25 juni 1977","De olijke olifant",55,null,"V 108","V108","V116",null,null,116,"TV Ekspres",null,"-","1977-06-25","1978-11-01","1977-06-25"]
[null,108,"1977-08-25",169,null,"24 augustus 1977","De amoureuze amazone",55,null,"V 109","V106","V118",null,null,118,"De Standaard","Krant titel: De amoureuse amazone (met s).","1977-08-24","1977-08-25","1978-06-01","1977-08-25"]
[null,109,"1978-01-06",171,null,"5 januari 1978","Walli de walvis",55,null,"V 110","V110","V119",null,null,119,"De Standaard",null,"1978-01-05","1978-01-06","1979-01-01","1978-01-06"]
[null,110,"1978-05-20",173,null,"19 mei 1978","Het drijvende dorp",55,null,"V 111","V111","V121",null,null,121,"De Standaard",null,"1978-05-19","1978-05-20","1979-05-01","1978-05-20"]
[null,111,"1978-07-15",175,null,"15 juli 1978","De kadulle Cupido",55,null,"V 112","V116","V123",null,null,123,"TV Ekspres",null,"-","1978-07-15","1979-09-01","1978-07-15"]
[null,112,"1978-09-29",174,null,"1978-09-28","Het statige standbeeld",55,null,"V 113","V112","V124",null,null,124,"De Standaard",null,"1978-09-28","1978-09-29","1979-06-01","1978-09-29"]
[null,113,"1979-02-10",176,null,"9 februari 1979","De pompenplanters",55,null,"V 114","V113","V125",null,null,125,"De Standaard",null,"1979-02-09","1979-02-10","1979-11-01","1979-02-10"]
[null,114,"1979-06-25",177,null,"23 juni 1979","De adellijke ark",55,null,"V 115","V115","V127",null,null,127,"De Standaard",null,"1979-06-23","1979-06-25","1980-02-01","1979-06-25"]
[null,115,"1979-07-30",180,null,"30 juli 1979","Het kregelige Ketje",55,null,"V 116","V114","V128",null,null,128,"TV Ekspres",null,"-","1979-07-30","1980-11-01","1979-07-30"]
[null,116,"1979-11-05",178,null,"1979-11-03","De stoute steenezel",55,null,"V 117","V117","V129",null,null,129,"De Standaard",null,"1979-11-03","1979-11-05","1980-06-01","1979-11-05"]
[null,117,"1980-03-14",181,null,"13 maart 1980","De perenprins",55,null,"V 118","V118","V130",null,null,130,"De Standaard",null,"1980-03-13","1980-03-14","1980-11-01","1980-03-14"]
[null,118,"1980-07-28",182,null,"26 juli 1980","De koperen knullen",55,null,"V 119","V119","V132",null,null,132,"De Standaard","Eerste druk nrs 182 t/m 190 met compleet-overzicht alle albums achterin.","1980-07-26","1980-07-28","1981-03-01","1980-07-28"]
[null,119,"1980-08-18",185,null,"18 augustus 1980","De botte botaknol",55,null,"V 120","V120","V133",null,null,133,"TV Ekspres","Eerste druk nrs 182 t/m 190 met compleet-overzicht alle albums achterin.","-","1980-08-18","1981-11-01","1980-08-18"]
[null,120,"1980-12-08",183,null,"1980-12-06","De toffe tamboer",55,null,"V 121","V121","V134",null,null,134,"De Standaard","Eerste druk nrs 182 t/m 190 met compleet-overzicht alle albums achterin.","1980-12-06","1980-12-08","1981-06-01","1980-12-08"]
[null,121,"1981-04-18",186,null,"1981-04-17","De rosse reus",55,null,"V 122","V122","V135",null,null,135,"De Standaard","Eerste druk nrs 182 t/m 190 met compleet-overzicht alle albums achterin.","1981-04-17","1981-04-18","1982-01-01","1981-04-18"]
[null,122,"1981-09-01",187,null,"31 augustus 1981","De droevige duif",55,null,"V 123","V123","V137",null,null,137,"De Standaard","Eerste druk nrs 182 t/m 190 met compleet-overzicht alle albums achterin.","1981-08-31","1981-09-01","1982-05-01","1981-09-01"]
[null,123,"1981-09-07",190,null,"1981-09-07","De woelige wadden",55,null,"V 124","V124","V138",null,null,138,"TV Ekspres","Eerste druk nrs 182 t/m 190 met compleet-overzicht alle albums achterin.","-","1981-09-07","1982-11-01","1981-09-07"]
[null,124,"1982-01-12",189,null,"12 januari 1982","De Belhamel-bende",55,null,"V 125","V125","V140",null,null,140,"De Standaard","Krant: De Belhamelbende; Eerste druk nrs 182 t/m 190 met compleet-overzicht alle albums achterin.","-","1982-01-12","1982-09-01","1982-01-12"]
[null,125,"1982-05-25",192,null,"24 mei 1982","Het Bretoense broertje",55,null,"V 126","V126","V142",null,null,142,"De Standaard",null,"1982-05-24","1982-05-25","1983-02-01","1982-05-25"]
[null,126,"1982-09-27",196,null,"1982-09-27","De natte Navajo",55,null,"V 127","V127","V144",null,null,144,"TV Ekspres",null,"-","1982-09-27","1983-11-01","1982-09-27"]
[null,127,"1982-10-04",194,null,"2 oktober 1982","De gouden ganzeveer",55,null,"V 128","V128","V145",null,null,145,"De Standaard",null,"1982-10-02","1982-10-04","1983-06-01","1982-10-04"]
[null,128,"1983-02-15",195,null,"14 februari 1983","De hippe heksen",55,null,"V 129","V129","V147",null,null,147,"De Standaard",null,"1983-02-14","1983-02-15","1983-09-01","1983-02-15"]
[null,129,{"$f":"+U139","v":"1983-06-28"},197,null,"27 juni 1983","Het Delta duel",55,null,"V 130","V130","V150",null,null,150,"De Standaard","Krant: Het Delta-duel.","1983-06-27","1983-06-28","1984-02-01","1983-06-28"]
[null,{"$f":"+B139+1","v":130},"1983-10-17",199,null,"17 oktober 1983","De tamme Tumi",55,null,"V 131","V131","V151",null,null,151,"TV Ekspres",null,"-","1983-10-17","1984-09-01","1983-10-17"]
[null,131,"1983-11-08",198,null,"1983-11-07","De lieve Lilleham",55,null,"V 132","V132","V152",null,null,152,"De Standaard","Eerste druk met folder en 1e deel van poster.","1983-11-07","1983-11-08","1984-06-01","1983-11-08"]
[null,132,"1984-03-17",200,null,"16 maart 1984","Amoris van Amoras",55,null,"V 133","V133","V153",null,null,153,"De Standaard","Eerste druk nrs 200-212 met wit eerste druk vignet. Van album 200 tot 208 zijn er 2 verschillende eerste drukken: ook met normaal nummer cirkeltje.","1984-03-16","1984-03-17","1984-11-01","1984-03-17"]
[null,133,"1984-07-31",201,null,"30 juli 1984","Het dreigende dinges",55,null,"V 134","V134","V155",null,null,155,"De Standaard",null,"1984-07-30","1984-07-31","1985-02-01","1984-07-31"]
[null,134,"1984-11-05",205,null,"1984-11-05","De kattige kat",55,null,"V 135","V138","V156",null,null,156,"TV Ekspres","Eerste druk nrs 200-208 met wit eerrste druk vignet of met normaal nummer cirkeltje.","-","1984-11-05","1986-02-01","1984-11-05"]
[null,135,"1984-12-10",202,null,"1984-12-08","Angst op de Amsterdam",55,null,"V 136","V135","V157",null,null,157,"De Standaard","Krant: Angst op de \"Amsterdam\"; Eerste druk met folder voor poster; Eerste druk met vignet  of cirkeltje.","1984-12-08","1984-12-10","1985-06-01","1984-12-10"]
[null,136,"1985-04-22",204,null,"1985-04-20","De mooie millirem",55,null,"V 137","V137","V159",null,null,159,"De Standaard","Eerste druk nrs 200-208 met wit eerrste druk vignet of met normaal nummer cirkeltje.","1985-04-20","1985-04-22","1985-11-01","1985-04-22"]
[null,137,"1985-09-01",203,null,"1985-09-01","De ruige regen",55,null,"V 139","V136","V160",null,null,160,"Album","Door Vandersteen; ; Eerste druk met vignet  of cirkeltje.","-","-","1985-09-01","1985-09-01"]
[null,138,"1985-09-03",206,null,"1985-09-02","De bonkige baarden",55,null,"V 138","V139","V161",null,null,161,"De Standaard","Eerste druk nrs 200-208 met wit eerrste druk vignet of met normaal nummer cirkeltje.","1985-09-02","1985-09-03","1986-06-01","1985-09-03"]
[null,139,"1985-11-25",209,null,"1985-11-25","De kwaaie kwieten",55,null,"V 140","V142","V162",null,null,162,"TV Ekspres","Eerste druk nrs 209-212 met wit eerrste druk vignet. ","-","1985-11-25","1987-04-01","1985-11-25"]
[null,140,"1986-01-15",207,null,"14 januari 1986","De glanzende gletsjer",55,null,"V 141","V140","V164",null,null,164,"De Standaard","Eerste druk nrs 200-208 met wit eerrste druk vignet of met normaal nummer cirkeltje.","1986-01-14","1986-01-15","1986-09-01","1986-01-15",""]
[null,141,"1986-05-29",208,null,"28 mei 1986","De Hellegathonden",55,null,"V 142","V141","V166",null,null,166,"De Standaard","Eerste druk nrs 200-212 met wit eerrste druk vignet of (200-208) met normaal nummer cirkeltje.","1986-05-28","1986-05-29","1986-11-01","1986-05-29"]
[null,142,"1986-10-08",210,null,"7 oktober 1986","De jolige joffer",55,null,"V 143","V143","V168",null,null,168,"De Standaard","1e druk met bijlage wedstrijd oproep met GAG \"Verzin een titel\"; 1e druk met vignet.","1986-10-07","1986-10-08","1987-06-01","1986-10-08"]
[null,143,"1986-12-15",213,null,"1986-12-15","De eenzame eenhoorn",53,null,"V 144","V146","V169",null,null,169,"TV Ekspres","Door Vandersteen; Eerste druk met vignet rechts 'Vandersteen 75'.","-","1986-12-15","1988-02-01","1986-12-15"]
[null,144,"1987-01-01",214,null,"1 januari 1987","De parel in de Lotusbloem",55,null,"V 145","V147","V170",null,null,170,"Album","In het geheim door Paul Geerts voor Vandersteen in 'In de Hoofdrol'. 1e druk met gouden kaft.","-","-","1987-01-01","1987-01-01"]
[null,145,"1987-02-19",211,null,"18 februari 1987","De woeste wespen",53,null,"V 146","V144","V171",null,null,171,"De Standaard","Eerste druk nrs 209-212 met wit eerrste druk vignet. ","1987-02-18","1987-02-19","1987-09-01","1987-02-19"]
[null,146,"1987-06-29",212,null,"27 juni 1987","De edele elfen",53,null,"V 147","V145","V173",null,null,173,"De Standaard","Eerste druk nrs 209-212 met wit eerrste druk vignet. ","1987-06-27","1987-06-29","1987-11-01","1987-06-29"]
[null,147,"1987-11-03",215,null,"1987-11-02","De Krimson-crisis",55,null,"V 148","V148","V174",null,null,174,"De Standaard","Eerste druk met zwart vignet rechts 'Vandersteen 75'.","1987-11-02","1987-11-03","1988-09-01","1987-11-03"]
[null,148,"1987-12-21",218,null,"1987-12-21","De krachtige krans",55,null,"V 149","V151","V175",null,null,175,"TV Ekspres",null,"-","1987-12-21","1989-02-01","1987-12-21"]
[null,149,"1988-05-24",217,null,"21 mei 1988","De komieke Coco",55,null,"V 150","V150","V178",null,null,178,"De Standaard","Eerste druk met vignet rechts 'Vandersteen 75'.","1988-05-21","1988-05-24","1988-11-01","1988-05-24"]
[null,150,"1988-10-01",216,null,"1 oktober 1988","De wervelende waterzak",55,null,"V 152","V149","V179",null,null,179,"Album","Laatste verhaal door Vandersteen; Eerste druk met vignet rechts 'Vandersteen 75'.","-","-","1988-10-01","1988-10-01"]
[null,151,"1988-10-03",219,null,"1 oktober 1988","De speelgoedspiegel",55,null,"V 151","V152","V180",null,null,180,"De Standaard",null,"1988-10-01","1988-10-03","1989-04-01","1988-10-03"]
[null,152,"1989-01-09",223,null,"9 januari 1989","De kleurenkladder",55,null,"V 153","V156","V181",null,null,181,"TV Ekspres",null,"-","1989-01-09","1990-02-01","1989-01-09"]
[null,153,"1989-02-11",220,null,"10 februari 1989","Sagarmatha",55,null,"V 154","V153","V183",null,null,183,"De Standaard",null,"1989-02-10","1989-02-11","1989-06-01","1989-02-11"]
[null,154,"1989-06-26",222,null,"24 juni 1989","De bezeten bezitter",55,null,"V 155","V155","V185",null,null,185,"De Standaard",null,"1989-06-24","1989-06-26","1989-11-01","1989-06-26"]
[null,155,"1989-09-01",221,null,"1989-09-01","De rinoramp",55,null,"V 156","V154","V186",null,null,186,"Album","Belgische en Nederlandse versie van adres WNF op achterbinnenkaft, 1e druk met WNF vignet.","-","-","1989-09-01","1989-09-01"]
[null,156,"1989-11-06",224,null,"1989-11-04","De kleine postruiter",55,null,"V 157",null,"V187",null,null,187,"De Standaard","1e druk met bijlage Kiekeboe folder, De taart (alleen bij de Nederlandse oplage).","1989-11-04","1989-11-06","1990-05-01","1989-11-06"]
[null,157,"1990-01-26",227,null,"26 januari 1990","Het Witte Wief",55,null,"V 158",null,"V189",null,null,189,"TV Ekspres","Laatste verhaal van 220 stroken, maar pas verschenen als nr 227.","-","1990-01-26","1991-02-01","1990-01-26"]
[null,158,"1990-03-19",225,null,"17 maart 1990","De goalgetter",47,null,"V 159",null,"V190",null,null,190,"De Standaard","Eerste verhaal wat slechts 188 stoken heeft.","1990-03-17","1990-03-19","1990-09-01","1990-03-19"]
[null,159,"1990-07-12",226,null,"11 juli 1990","De mysterieuze mijn",47,null,"V 160",null,"V192",null,null,192,"De Standaard",null,"1990-07-11","1990-07-12","1990-12-01","1990-07-12"]
[null,160,"1990-11-03",228,null,"1990-11-02","Het wondere Wolfje",47,null,"V 161",null,"V193",null,null,193,"De Standaard",null,"1990-11-02","1990-11-03","1991-04-01","1990-11-03"]
[null,161,"1991-02-18",231,null,"18 februari 1991","De scherpe schorpioen",47,null,"V 162",null,"V194",null,null,194,"TV Ekspres","Op achterkaft van nr 229-237 vierkantje met uitleg van nummers voor 67.","-","1991-02-18","1992-02-01","1991-02-18"]
[null,162,"1991-02-25",229,null,"23 februari 1991","Tazuur en Tazijn",47,null,"V 163",null,"V195",null,null,195,"De Standaard","Op achterkaft eerste uitleg van nummers voor 67. Op 1e druk achterkaft ontbreken nr 187-193.","1991-02-23","1991-02-25","1991-09-01","1991-02-25"]
[null,163,"1991-06-20",230,null,"19 juni 1991","Lambik Baba",47,null,"V 164",null,"V197",null,null,197,"De Standaard","Licht racistische tekst van Lambik over Indiers in krant verwijderd in album ; Nrs 187-193 ontbreken.","1991-06-19","1991-06-20","1991-11-01","1991-06-20"]
[null,164,"1991-10-11",232,null,"10 oktober 1991","De Tootootjes",47,null,"V 165",null,"V198",null,null,198,"De Standaard","Ook verspreid met als bijlage de Kiekeboe-folder, De roze Rolls.","1991-10-10","1991-10-11","1992-05-01","1991-10-11"]
[null,165,"1992-01-13",235,null,"13 januari 1992","De krakende Carcas",47,null,"V 166",null,"V199",null,null,199,"TV Ekspres","1e druk met op achterkaft reclame Klassiek reeks; soms met extra wikkel (Ned. en Belgische versie).","-","1992-01-13","1993-02-01","1992-01-13"]
[null,166,"1992-02-04",233,null,"3 februari 1992","De klinkende klokken",47,null,"V 167",null,"V200",null,null,200,"De Standaard",null,"1992-02-03","1992-02-04","1992-09-01","1992-02-04"]
[null,167,"1992-05-29",234,null,"27 mei 1992","Het kristallen kasteel",47,null,"V 168",null,"V202",null,null,202,"De Standaard",null,"1992-05-27","1992-05-29","1992-11-01","1992-05-29"]
[null,168,"1992-09-21",236,null,"1992-09-19","De gulden harpoen",47,null,"V 169",null,"V203",null,null,203,"De Standaard","Eerste druk soms met extra wikkel (Nederlandse en Belgische versie).","1992-09-19","1992-09-21","1993-05-01","1992-09-21"]
[null,169,"1992-12-07",239,null,"1992-12-07","De stervende ster",47,null,"V 170",null,"V204",null,null,204,"TV Ekspres","Vanaf nummer 238 backcover in rode kleur met De levende toren getekend door Paul Geerts.","-","1992-12-07","1994-02-01","1992-12-07"]
[null,170,"1993-01-13",237,null,"12 januari 1993","De snikkende sirene",47,null,"V 171",null,"V205",null,null,205,"De Standaard","Eerste druk met 1e uitgave SW weekblad 15/09/1993.","1993-01-12","1993-01-13","1993-09-01","1993-01-13"]
[null,171,"1993-05-06",238,null,"5 mei 1993","De slimme slapjanus",{"$f":"188/4-2+3","v":48},null,"V 172",null,"V207",null,null,207,"De Standaard"," 3 pagina's voor het album hertekend tot 2 pagina's (2 werd 1.5 en 1 werd 0.5, ivm censuur).","1993-05-05","1993-05-06","1993-11-01","1993-05-06",""]
[null,172,"1993-08-31",240,null,"30 augustus 1993","De pottenproever",47,null,"V 173",null,"V209",null,null,209,"De Standaard","Eerste druk soms met antwoordkaart S&W weekblad (ook nr 138 en 139).","1993-08-30","1993-08-31","1994-05-01","1993-08-31"]
[null,173,"1993-11-02",243,null,"1993-11-02","De averechtse aap",47,null,"V 174",null,"V210",null,null,210,"TV Ekspres","1e en 2e druk met vignet 'Suske en Wiske 50 jaar'.","-","1993-11-02","1995-02-01","1993-11-02"]
[null,174,"1993-12-22",241,null,"1993-12-21","Het Aruba-dossier",47,null,"V 175",null,"V211",null,null,211,"De Standaard","Met antwoordkaart weekblad 1 jaar en weekblad bijlage..","1993-12-21","1993-12-22","1994-09-01","1993-12-22"]
[null,175,"1994-04-15",242,null,"1994-04-14","Tokapua Toraja",47,null,"V 176",null,"V212",null,null,212,"De Standaard","Eerste druk met bijlage folder Suske en Wiske weekblad.","1994-04-14","1994-04-15","1994-11-01","1994-04-15"]
[null,176,"1994-08-08",244,null,"6 augustus 1994","De begeerde berg",47,null,"V 177",null,"V214",null,null,214,"De Standaard","1e en 2e druk met vignet 'Suske en Wiske 50 jaar'. 1e druk met blijlage musical info-folder.","1994-08-06","1994-08-08","1995-05-01","1994-08-08"]
[null,177,"1994-09-26",246,null,"1994-09-26","De vonkende vuurman",47,null,"V 179",null,"V215",null,null,215,"TV Ekspres","1e druk met vignet 'Suske en Wiske 50 jaar'.","-","1994-09-26","1995-11-01","1994-09-26"]
[null,178,"1994-12-03",245,null,"1994-11-29","De 7 schaken",{"$f":"312/4","v":78},null,"V 178",null,"V216",null,null,216,"De Standaard","Aankondiging op 29-11 en 2-12, met tussendoor een stripje en een brief. Extra lang voor operatie.","1994-11-29","1994-12-03","1995-09-01","1994-12-03"]
[null,179,"1995-06-08",247,null,"7 juni 1995","Het kostbare kader",47,null,"V 180",null,"V218",null,null,218,"De Standaard",null,"1995-06-07","1995-06-08","1996-02-01","1995-06-08"]
[null,180,"1995-08-21",249,null,"augustus 1995","De razende race",47,null,"V 182",null,"V219",null,null,219,"TV Ekspres","Eerste druk met kartonnen figuurtje van Lambik.","-","1995-08-21","1996-09-01","1995-08-21"]
[null,181,"1995-09-29",248,null,"1995-09-28","Robotkop",47,null,"V 181",null,"V220",null,null,220,"De Standaard","Verwijst naar hersesnoperatie Paul Geerts; ook verspreid met wedstrijdformulier Sunparks.","1995-09-28","1995-09-29","1996-04-01","1995-09-29"]
[null,182,"1996-01-23",250,null,"22 januari 1996","Het Grote Gat",47,null,"V 183",null,"V221",null,null,221,"De Standaard","1e druk met voorin extra pagina voor jubileumwedstrijd. 1e druk t/m 2001 met diamant vignet 250.","1996-01-22","1996-01-23","1996-11-01","1996-01-23"]
[null,183,"1996-05-15",251,null,"14 mei 1996","De verraderlijke Vinson",47,null,"V 184",null,"V222",null,null,222,"De Standaard",null,"1996-05-14","1996-05-15","1997-02-01","1996-05-15"]
[null,184,"1996-07-15",253,null,"juli 1996","Prachtige Pjotr",47,null,"V 185",null,"V223",null,null,223,"TV Ekspres",null,"-","1996-07-15","1997-09-01","1996-07-15"]
[null,185,"1996-09-07",252,null,"1996-09-06","Volle maan",47,null,"V 186",null,"V224",null,null,224,"De Standaard",null,"1996-09-06","1996-09-07","1997-04-01","1996-09-07"]
[null,186,"1996-12-31",254,null,"1996-12-30","Tex en Terry",47,null,"V 187",null,"V225",null,null,225,"De Standaard","Herdruk 1998 met identieke achterkant, maar extra blad met antwoordcoupon voor SW weekblad.","1996-12-30","1996-12-31","1997-12-01","1996-12-31"]
[null,187,"1997-04-23",255,null,"1997-04-22","De mompelende mummie",47,null,"V 189",null,"V226",null,null,226,"De Standaard","Duoverhaal met 'De volgels der goden'.","1997-04-22","1997-04-23","1998-02-01","1997-04-23"]
[null,188,"1997-06-09",258,null,"juni 1997","De gevederde slang",47,null,"V 188",null,"V227",null,null,227,"TV Ekspres",null,"-","1997-06-09","1998-12-01","1997-06-09"]
[null,189,"1997-08-18",256,null,"1997-08-16","De vogels der goden",47,null,"V 190",null,"V228",null,null,228,"De Standaard","Duoverhaal met 'De mompelende mummie'.","1997-08-16","1997-08-18","1998-05-01","1997-08-18"]
[null,190,"1997-12-09",259,null,"1997-12-08","Amber",47,null,"V 191",null,"V229",null,null,229,"De Standaard",null,"1997-12-08","1997-12-09","1999-02-01","1997-12-09"]
[null,191,"1998-04-01",257,null,"31 maart 1998","De rebelse Reinaert",46,null,"V 192",null,"V230",null,null,230,"De Standaard","Eerste druk met gratis SW clubblad nr 1.","1998-03-31","1998-04-01","1998-09-01","1998-04-01"]
[null,192,"1998-05-04",261,null,"1998-04-01","Het berenbeklag",46,null,"V 194",null,"V231",null,null,231,"TV Ekspres","Eerste druk met gratis SW clubblad nr 3.","-","1998-05-04","1999-09-01","1998-05-04"]
[null,193,{"$f":"+U203","v":"1998-07-23"},260,null,"22 juli 1998","De bonte bollen",46,null,"V 193",null,"V232",null,null,232,"De Standaard","Eerste druk met gratis SW clubblad nr 2.","1998-07-22","1998-07-23","1999-05-01","1998-07-23"]
[null,{"$f":"+B203+1","v":194},"1998-11-12",262,null,"1998-11-10","Het enge eiland",46,null,"V 195",null,"V233",null,null,233,"De Standaard","Eerste druk met extra pagina voor S&W Feest CD en als optie met bijlage Verassings-rom 1.","1998-11-10","1998-11-12","1999-12-01","1998-11-12"]
[null,195,"1999-03-03",263,null,"2 maart 1999","Het verdronken land",46,null,"V 196",null,"V234",null,null,234,"De Standaard",null,"1999-03-02","1999-03-03","2000-02-14","1999-03-03"]
[null,196,"1999-03-22",265,null,"maart 1999","Papa Razzi",46,null,"V 198",null,"V235",null,null,235,"TV Ekspres",null,"-","1999-03-22","2000-08-09","1999-03-22"]
[null,197,"1999-06-24",264,null,"23 juni 1999","Jeanne Panne",46,null,"V 197",null,"V236",null,null,236,"De Standaard","Eerste druk met extra pagina voor S&W in Bokrijk en als optie met bijlage Verassings-rom 2.","1999-06-23","1999-06-24","2000-05-08","1999-06-24"]
[null,198,"1999-10-12",266,null,"11 oktober 1999","De kernmonsters",46,null,"V 199",null,"V237",null,null,237,"De Standaard",null,"1999-10-11","1999-10-12","2000-10-18","1999-10-12"]
[null,199,"2000-02-02",267,null,"1 februari 2000","Lilli Natal",46,null,"V 200",null,"V238",null,null,238,"De Standaard","Eerste druk met extra pagina voor S&W Feest CD en als optie met bijlage Verassings-rom 3.","2000-02-01","2000-02-02","2000-11-29","2000-02-02"]
[null,200,"2000-02-07",269,null,"februari 2000","De stugge Stuyvesant",46,null,"V 202",null,"V239",null,null,239,"TV Ekspres","Eerste druk met als optie met bijlage CD-rom De dappere duinduikers.","-","2000-02-07","2001-05-09","2000-02-07"]
[null,201,"2000-05-23",268,null,"22 mei 2000","De koeiencommissie",46,null,"V 201",null,"V240",null,null,240,"De Standaard","Eerste album met op achterzijde de prijs ook in Euro (3.60 Eur).","2000-05-22","2000-05-23","2001-02-14","2000-05-23"]
[null,202,"2000-09-13",270,null,"2000-09-12","De ongelooflijke Thomas",46,null,"V 203",null,"V241",null,null,241,"De Standaard",null,"2000-09-12","2000-09-13","2001-08-08","2000-09-13"]
[null,203,"2001-01-04",271,null,"3 januari 2001","Big Mother",46,null,"V 204",null,"V242",null,null,242,"De Standaard",null,"2001-01-03","2001-01-04","2001-10-17","2001-01-04"]
[null,204,"2001-01-03",273,null,"3 januari 2001","De Europummel",46,null,"V 205",null,"V243",null,null,243,"TV Ekspres",null,"-","2001-01-03","2002-02-13","2001-01-03"]
[null,205,"2001-04-10",272,null,"2001-04-09","De blote Belg",46,null,"V 206",null,"V244",null,null,244,"De Standaard",null,"2001-04-09","2001-04-10","2001-12-10","2001-04-10"]
[null,206,"2001-08-03",274,null,"2 augustus 2001","De fleurige Floriade",46,null,"V 207",null,"V246",null,null,247,"De Standaard","Eerste druk met bijlage SW weekblad 14/2002. Eerste album met prijs alleen in Euro. Trilogie.","2001-08-02","2001-08-03","2002-04-24","2001-08-03"]
[null,207,"2001-11-22",275,null,"2001-11-21","Heilig Bloed",46,null,"V 208",null,"V248",null,null,249,"De Standaard","De fleurige Floriade, Heilig Bloed en In de ban van de Milt: Trilogie. 1e vermelding Verhaegen.","2001-11-21","2001-11-22","2002-07-10","2001-11-22"]
[null,208,"2002-02-14",278,null,"2002-02-14","De kunstkraker",46,null,"V 209",null,"V247",null,null,248,"Story (TV Ekspres, gestopt na 3 afl.)",null,"2001-11-19","2002-02-14","2003-02-17","2002-02-14"]
[null,209,"2002-03-13",276,null,"12 maart 2002","In de ban van de Milt",46,null,"V 210",null,"V249",null,null,250,"De Standaard","Eerste druk met als optie met bijlage CD-rom De snoezige Snowijt. Trilogie.","2002-03-12","2002-03-13","2002-10-14","2002-03-13"]
[null,210,"2002-07-04",277,null,"3 juli 2002","De verdwenen verteller",46,null,"V 211",null,"V250",null,null,251,"De Standaard",null,"2002-07-03","2002-07-04","2002-12-09","2002-07-04"]
[null,211,"2002-10-22",279,null,"21 oktober 2002","De laatste vloek",46,null,"V 212",null,"V252",null,null,253,"De Standaard","De laatste vloek, De kus van Odfella en De gevangene van Prisonov: Trilogie.","2002-10-21","2002-10-22","2003-05-14","2002-10-22"]
[null,212,"2003-02-12",280,null,"11 februari 2003","De kus van Odfella",46,null,"V 213",null,"V253",null,null,254,"De Standaard","Trilogie. Schanulleke als eindplaatje.","2003-02-11","2003-02-12","2003-08-13","2003-02-12"]
[null,213,"2003-06-04",281,null,"3 juni 2003","De gevangene van Prisonov",46,null,"V 214",null,"V254",null,null,255,"De Standaard","De laatste vloek, De kus van Odfella en De gevangene van Prisonov: Trilogie.","2003-06-03","2003-06-04","2003-11-19","2003-06-04"]
[null,214,"2003-09-24",282,null,"2003-09-23","De breinbrekers",46,null,"V 215",null,"V255",null,null,256,"De Standaard",null,"2003-09-23","2003-09-24","2004-02-18","2003-09-24"]
[null,215,"2004-01-15",283,null,"14 januari 2004","Paniek in Palermo",46,null,"V 216",null,"V256",null,null,257,"De Standaard",null,"2004-01-14","2004-01-15","2004-06-16","2004-01-15"]
[null,216,"2004-05-05",284,null,"4 mei 2004","Kaapse kaalkoppen",46,null,"V 217",null,"V258",null,null,259,"De Standaard","Eerste druk met als optie met bijlage mini-album klein Suske en Wiske en 9 schooletiketten.","2004-05-04","2004-05-05","2004-09-01","2004-05-05"]
[null,217,"2004-08-25",285,null,"24 augustus 2004","Verraad op de Veluwe",46,null,"V 218",null,"V260",null,null,261,"De Standaard","Eerste druk in België met flyer S&W show Antwerpen 2005.","2004-08-24","2004-08-25","2004-12-08","2004-08-25"]
[null,218,"2004-12-14",286,null,"2004-12-13","De flierende fluiter",46,null,"V 219",null,"V262",null,null,263,"De Standaard","Eerste druk met vignet Suske en Wiske 60 jaar.","2004-12-13","2004-12-14","2005-02-16","2004-12-14"]
[null,219,"2005-04-05",287,null,"2005-04-04","De formidabele fantast",46,null,"V 220",null,"V263",null,null,264,"De Standaard","Eerste druk met vignet Suske en Wiske 60 jaar.","2005-04-04","2005-04-05","2005-05-11","2005-04-05"]
[null,220,"2005-07-26",288,null,"25 juli 2005","Het slapende goud",46,null,"V 221",null,"V265",null,null,266,"De Standaard","Eerste druk met vignet Suske en Wiske 60 jaar.","2005-07-25","2005-07-26","2005-09-14","2005-07-26"]
[null,221,"2005-11-15",289,null,"2005-11-14","De kaduke klonen",46,null,"V 222",null,"V269",null,null,270,"De Standaard","Eerste druk met als bijlage Suske en Wiske agenda 2006 en met vignet Suske en Wiske 60 jaar.","2005-11-14","2005-11-15","2005-12-07","2005-11-15"]
[null,222,"2006-03-02",291,null,"2 maart 2006","De bangeschieters",46,null,"V 223",null,"V271",null,null,272,"De Standaard","De aankondiging kwam te laat voor de krant, wel in album.","-","2006-03-02","2006-05-10","2006-03-02"]
[null,223,"2006-06-23",292,null,"22 juni 2006","De nachtwachtbrigade",46,null,"V 224",null,"V274",null,null,275,"De Standaard",null,"2006-06-22","2006-06-23","2006-09-13","2006-06-23"]
[null,224,"2006-10-12",293,null,"11 oktober 2006","De kaperkoters",46,null,"V 225",null,"V279",null,null,280,"De Standaard","Ook tijdelijk aangeboden met als optie een Suske en Wiske zonnescherm van De Texasrakkers.","2006-10-11","2006-10-12","2006-12-06","2006-10-12"]
[null,225,"2007-02-02",294,null,"1 februari 2007","De tikkende tinkan",46,null,"V 226",null,"V282",null,null,283,"De Standaard",null,"2007-02-01","2007-02-02","2007-02-28","2007-02-02"]
[null,226,"2007-05-02",295,null,"2 mei 2007","De krasse kroko",46,null,"V 227",null,"V283",null,null,284,"Album","Paul Geerts 70 jaar. Oorspronkelijke titel aangekondigd als De krasse Krokoman. 1e gladdere kaft.","-","-","2007-05-02","2007-05-02"]
[null,227,"2007-05-25",296,null,"24 mei 2007","De curieuze neuzen",46,null,"V 228",null,"V284",null,null,285,"De Standaard","Overgang naar nieuwe cover via schuifhoes getiteld 'De magnifieke metamorfose'.","2007-05-24","2007-05-25","2007-07-04","2007-05-25"]
[null,228,"2007-09-14",297,null,"2007-09-13","De joviale Gille",46,null,"V 229",null,"V286",null,null,287,"De Standaard",null,"2007-09-13","2007-09-14","2007-10-10","2007-09-14"]
[null,229,"2007-12-12",298,null,"2007-12-12","De elfstedenstunt",46,null,"V 230",null,"V288",null,null,289,"De Standaard","De eerste albumuitgave dateert van voor de publicatie in de krant.","2008-01-03","2008-01-04","2007-12-12","2007-12-12"]
[null,230,"2008-03-12",299,null,"12 maart 2008","Het babbelende bad",46,null,"V 231",null,"V289",null,null,290,"Album",null,"-","-","2008-03-12","2008-03-12"]
[null,231,"2008-04-23",300,null,"2008-04-22","Het machtige monument",46,null,"V 232",null,"V291",null,null,292,"De Standaard","Met vignet '300' op de cover. In Lekturama foutief 'Het machtige document'.","2008-04-22","2008-04-23","2008-06-23","2008-04-23",""]
[null,232,"2008-08-13",301,null,"12 augustus 2008","De dartele draak",46,null,"V 233",null,"V293",null,null,294,"De Standaard","In Lekturama foutief 'De dartelende draak'.","2008-08-12","2008-08-13","2008-09-10","2008-08-13"]
[null,233,"2008-12-03",303,null,"2008-12-02","De knikkende knoken",46,null,"V 235",null,"V295",null,null,296,"De Standaard","","2008-12-02","2008-12-03","2009-02-18","2008-12-03"]
[null,234,"2008-12-10",302,null,"2008-12-12","De sterrensteen",46,null,"V 234",null,"V296",null,null,297,"Album",null,"-","-","2008-12-10","2008-12-10"]
[null,235,"2009-03-24",304,null,"20 mei 2009","De jokkende joker",46,null,"V 236",null,"V298",null,null,299,"De Standaard","Naar een idee van de winnaar van de wedstrijd 'De lachende lezer'.","2009-03-23","2009-03-24","2009-05-20","2009-03-24"]
[null,236,"2009-07-15",305,null,"14 juli 2009","De tijdbobijn",46,null,"V 237",null,"V299",null,null,300,"De Standaard",null,"2009-07-14","2009-07-15","2009-08-12","2009-07-15"]
[null,237,"2009-11-03",307,null,"2009-11-02","De rillende rots",46,null,"V 239",null,"V301",null,null,302,"De Standaard","Met vignet 'Suske en Wiske 65 jaar' op de cover.","2009-11-02","2009-11-03","2010-02-17","2009-11-03"]
[null,238,"2009-11-18",306,null,"2009-11-18","De stralende staf",46,null,"V 238",null,"V302",null,null,303,"Album",null,"-","-","2009-11-18","2009-11-18"]
[null,239,"2010-02-23",308,null,"22 februari 2010","De gamegoeroe",46,null,"V 240",null,"V304",null,null,305,"De Standaard","Met vignet 'Suske en Wiske 65 jaar'  en wedstrijd 'Win levenslang S&W' op de cover.","2010-02-22","2010-02-23","2010-05-12","2010-02-23"]
[null,240,"2010-06-16",310,null,"15 juni 2010","De halve Havelaar",46,null,"V 242",null,"V306",null,null,307,"De Standaard","Met vignet 'Suske en Wiske 65 jaar'  en wedstrijd 'Win levenslang S&W' op de cover.","2010-06-15","2010-06-16","2010-10-06","2010-06-16"]
[null,241,"2010-07-14",309,null,"14 juli 2010","De watersater",46,null,"V 241",null,"V308",null,null,309,"Album","Met vignet 'Suske en Wiske 65 jaar'  en wedstrijd 'Win levenslang S&W' op de cover.","-","-","2010-07-14","2010-07-14"]
[null,242,"2010-10-04",311,null,"2 oktober 2010","De stuivende stad",46,null,"V 243",null,"V310",null,null,311,"De Standaard","Eerste druk met vignet '65 jaar' en als optie met bijlage luisterstrip op CD-rom De stuivende stad.","2010-10-02","2010-10-04","2010-12-15","2010-10-04"]
[null,243,"2011-01-25",313,null,"24 januari 2011","De kwakende queen",46,null,"V 245",null,"V312",null,null,313,"De Standaard","Eerste druk met sticker: \"Win een gezinstrip naar Londen\" op de cover.","2011-01-24","2011-01-25","2011-06-22","2011-01-25"]
[null,244,"2011-03-09",312,null,"9 maart 2011","De zappende ziel",46,null,"V 244",null,"V313",null,null,314,"Album",null,"-","-","2011-03-09","2011-03-09"]
[null,245,"2011-05-14",314,null,"13 mei 2011","Het lijdende Leiden",46,null,null,null,"V315",null,null,316,"De Standaard",null,"2011-05-13","2011-05-14","2011-09-14","2011-05-14"]
[null,246,"2011-09-04",315,null,"2011-09-03","De bananenzangers",46,null,null,null,"V317",null,null,318,"De Standaard",null,"2011-09-03","2011-09-04","2011-11-27","2011-09-04"]
[null,247,"2011-12-24",316,null,"2011-12-23","Krimsonia",46,null,null,null,"V318",null,null,319,"De Standaard",null,"2011-12-23","2011-12-24","2012-02-18","2011-12-24"]
[null,248,"2012-04-12",317,null,"2012-04-11","Het bizarre blok",46,null,null,null,"V321",null,null,322,"De Standaard",null,"2012-04-11","2012-04-12","2012-05-09","2012-04-12"]
[null,249,"2012-08-03",319,null,"2012-08-02","Suske de Rat",46,null,null,null,"V323",null,null,324,"De Standaard",null,"2012-08-02","2012-08-03","2012-10-10","2012-08-03"]
[null,250,"2012-08-08",318,null,"2012-08-08","De suikerslaven",46,null,null,null,"V324",null,null,325,"Album",null,"-","-","2012-08-08","2012-08-08"]
[null,251,"2012-11-13",320,null,"2012-11-13","De tirannieke tor",46,null,null,null,"V325",null,null,326,"Album",null,"-","-","2012-11-13","2012-11-13"]
[null,252,"2012-11-22",321,null,"2012-11-21","Het ijzeren duel",46,null,null,null,"V326",null,null,327,"De Standaard",null,"2012-11-21","2012-11-22","2013-03-20","2012-11-22"]
[null,253,"2013-03-13",322,null,"19 juni 2013","De vliegende rivier",46,null,null,null,"V328",null,null,329,"De Standaard","Eerste druk met vermelding van donatie aan het goede doel.","2013-03-12","2013-03-13","2013-06-19","2013-03-13"]
[null,254,"2013-07-04",323,null,"2013-09-11","Barabas de balorige",46,null,null,null,"V330",null,null,331,"De Standaard",null,"2013-07-03","2013-07-04","2013-09-11","2013-07-04"]
[null,255,"2013-10-22",324,null,"2013-12-11","De royale ruiter",46,null,null,null,"V334",null,null,335,"De Standaard",null,"2013-10-21","2013-10-22","2013-12-11","2013-10-22"]
[null,256,"2014-02-12",325,null,"12 februari 2014","Het schrikkelspook",46,null,null,null,"V335",null,null,336,"De Standaard",null,"2014-02-11","2014-02-12","2014-02-12","2014-02-12"]
[null,257,{"$f":"+U267","v":"2014-06-17"},326,null,"17 juni 2014","De zwarte tulp",46,null,null,null,"V338",null,null,339,"Album","Eerste uitgave met flyer S&W avonturendagen Plopsa Coo.","-","-","2014-06-17","2014-06-17"]
[null,{"$f":"+B267+1","v":258},"2014-06-04",327,null,"2014-09-09","Het gebroken dorp",46,null,null,null,"V339",null,null,340,"De Standaard",null,"2014-06-03","2014-06-04","2014-09-10","2014-06-04"]
[null,259,"2014-09-24",328,null,"2014-12-19","Sterrenrood",46,null,null,null,"V341",null,null,342,"De Standaard",null,"2014-09-23","2014-09-24","2014-12-09","2014-09-24"]
[null,260,"2015-01-15",329,null,"18 maart 2015","Suskewiet",46,null,null,null,"V343",null,null,344,"De Standaard",null,"2015-01-14","2015-01-15","2015-03-18","2015-01-15"]
[null,261,"2015-05-06",330,null,"16 juni 2015","De fabuleuze freak",46,null,null,null,"V344",null,null,345,"De Standaard",null,"2015-05-05","2015-05-06","2015-06-16","2015-05-06"]
[null,262,"2015-08-27",331,null,"2015-09-09","Sooi en Sientje",46,null,null,null,"V345",null,null,346,"De Standaard",null,"2015-08-26","2015-08-27","2015-09-09","2015-08-27"]
[null,263,"2015-12-02",332,null,"2015-12-02","Het verloren verleden",46,null,null,null,"V352",null,null,353,"De Standaard","De eerste albumuitgave dateert van voor de publicatie in de krant.","2015-12-14","2015-12-15","2015-12-02","2015-12-02"]
[null,264,"2016-02-09",333,null,"9 februari 2016","De bibberende Bosch",46,null,null,null,"V353",null,null,354,"Album","Oorspronkelijke titel 'De bangelijke Bosch', maar gewijzigd omdat 'bangelijk' te Vlaams was.","-","-","2016-02-09","2016-02-09"]
[null,265,"2016-06-07",335,null,"7 juni 2016","Het lederen monster",46,null,null,null,"V354",null,null,355,"De Standaard","De eerste albumuitgave dateert van voor de publicatie in de krant.","2016-07-18","2016-07-19","2016-06-07","2016-06-07"]
[null,266,"2016-09-06",336,null,"2016-09-06","Het omgekeerde land",46,null,null,null,"V361",null,null,362,"Album","Suske als eindplaatje.","-","-","2016-09-06","2016-09-06"]
[null,267,"2016-11-08",337,null,"2016-12-06","Game of drones",46,null,null,null,"V362",null,null,363,"De Standaard",null,"2016-11-07","2016-11-08","2016-12-06","2016-11-08"]
[null,268,"2017-02-15",338,null,"14 februari 2017","De heldenmaker",46,null,null,null,"V363",null,null,364,"De Standaard","De eerste albumuitgave dateert van voor de publicatie in de krant.","2017-02-24","2017-02-25","2017-02-15","2017-02-15"]
[null,269,"2017-05-17",339,null,"17 mei 2017","De planeetvreter",46,null,null,null,"V365",null,null,366,"Album","Eerste album dat in het nieuwe grotere formaat is uitgegeven, en S&W in nieuwe stijl.","-","-","2017-05-17","2017-05-17"]
[null,270,"2017-06-14",340,null,"17 juni 2017","Mami Wata",46,null,null,null,"V366",null,null,367,"De Standaard","De eerste albumuitgave dateert van voor de publicatie in de krant.","2017-06-17","2017-06-19","2017-06-14","2017-06-14"]
[null,271,"2017-09-12",341,null,"2017-09-12","Het Monamysterie",46,null,null,null,"V367",null,null,368,"Album",null,"-","-","2017-09-12","2017-09-12"]
[null,272,"2017-10-07",342,null,"2017-10-06","De zwarte zwevers",46,null,null,null,"V368",null,null,369,"De Standaard",null,"2017-10-06","2017-10-07","2017-11-08","2017-10-07"]
[null,273,"2018-01-27",343,null,"13 maart 2018","SOS Snowbell",46,null,null,null,"V370",null,null,371,"De Standaard","Eerste verhaal zonder aankondiging.","-","2018-01-27","2018-03-14","2018-01-27"]
[null,274,"2018-05-18",344,null,"12 juni 2018","BRBS 2.0",46,null,null,null,"V371",null,null,372,"De Standaard",null,"-","2018-05-18","2018-06-13","2018-05-18"]
[null,275,"2018-09-06",345,null,"2018-09-12","Operatie Siggy",46,null,null,null,"V372",null,null,373,"De Standaard",null,"-","2018-09-06","2018-09-12","2018-09-06"]
[null,276,"2018-12-05",346,null,"2018-12-05","Chronos en Chaos",46,null,null,null,"V374",null,null,375,"De Standaard","De eerste albumuitgave dateert van voor de publicatie in de krant.","-","2018-12-24","2018-12-05",{"$f":"MIN(S286:T286)","v":"2018-12-05"}]
[null,277,"2019-03-02",348,null,"12 juni 2019","De wrede wensput",46,null,null,null,"V377",null,null,378,"De Telegraaf","Ook in De Standaard.","-","2019-03-02","2019-06-12","2019-03-02"]
[null,278,"2019-03-13",347,null,"13 maart 2019","Lambik Plastiek",46,null,null,null,"V376",null,null,377,"De Standaard","1e druk met 'Sea Life' op cover en dossier plastic soep; 1e albumuitgave voor publicatie in de krant.","-","2019-04-12","2019-03-13","2019-03-13",""]
[null,279,"2019-06-21",349,null,"2019-09-03","Het lekkere lab",46,null,null,null,"V378",null,null,379,"De Telegraaf","Ook in De Standaard.","-","2019-06-21","2019-09-03","2019-06-21"]
[null,280,"2019-10-07",350,null,"2019-12-03","De nacht van de narwal",46,null,null,null,"V380",null,null,381,"De Telegraaf",null,"-","2019-10-07","2019-12-03","2019-10-07"]
[null,281,"2020-02-11",351,null,"11 februari 2020","De verloren Van Eyck",46,null,null,null,"V381",null,null,382,"De Standaard","De eerste albumuitgave dateert van voor de publicatie in de krant.","-","2020-03-10","2020-02-11","2020-02-11"]
[null,282,"2020-05-12",353,null,"2020-08-12","Het gewiste Wiske",46,null,null,null,"V384",null,null,385,"De Telegraaf","Met op binnenkaft vermelding S&W 75 jaar. Verscheen na nr 352 ivm Blankenberge 750 jaar.","-","2020-05-12","2020-08-11","2020-05-12"]
[null,283,"2020-06-16",352,null,"16 juni 2020","Team Krimson",46,null,null,null,"V383",null,null,384,"De Standaard","Oorspronkelijke titel 'De blanke bergen'; Eerste albumuitgave voor de publicatie in de krant.","-","2020-06-29","2020-06-16","2020-06-16"]
[null,284,"2020-10-06",354,null,"2020-10-06","De zwijgende Zwollem",46,null,null,null,{"$f":"\"V\"&O294","v":"V387"},null,null,387,"Album","Met op binnenkaft vermelding S&W 75 jaar.","-",null,"2020-10-06","2020-10-06"]
[null,285,"2020-12-01",355,null,"2020-12-01","De scheve Schot",46,null,null,null,"V388",null,null,388,"Album","Met op binnenkaft vermelding S&W 75 jaar.","-",null,"2020-12-01","2020-12-01"]
[null,286,"2021-01-06",357,null,"2021-04-06","De zalige ziener",{"$f":"184/4","v":46},null,null,null,"V390",null,null,390,"De Telegraaf","Ook in De Standaard.","-","2021-01-06","2021-04-07","2021-01-06"]
[null,287,"2021-02-09",356,null,"2021-02-09","De fluitende olifant",46,null,null,null,"V389",null,null,389,"Album","Eerder in album ivm expo op Trainworld (B).","-",null,"2021-02-09","2021-02-09"]
[null,288,"2021-04-24",358,null,"2021-06-01","De drakenprinter",46,null,null,null,"V391",null,null,391,"De Telegraaf","Met optreden van Peter van Gucht en 'Einde bord dragers' Thijs Wessels (links) en Tom Wilequet (rechts)","-","2021-04-24","2021-06-01","2021-04-24"]
[null,289,"2021-09-01",359,null,null,"De naamloze 9",46,null,null,null,"V394",null,null,394,"Album",null,null,null,"2021-09-01","2021-09-01"]
[null,290,"2021-11-23",360,null,null,"De drijvende dokters",46,null,null,null,"V395",null,null,395,"Album",null,null,"2021-11-29","2021-11-23","2021-11-23"]
[null,291,"2022-01-22",361,null,null,"De grot van Gregorius",{"$f":"184/4","v":46},null,null,null,"V396",null,null,396,"De Standaard",null,null,"2022-01-22","2022-02-01","2022-01-22"]
[null,292,"2022-03-18",362,null,null,"De kale kroon",46,null,null,null,"V397",null,null,397,"De Telegraaf",null,null,"2022-03-18","2022-04-05","2022-03-18"]
[null,293,"2022-05-11",363,null,null,"De maffe markies",46,null,null,null,"V399",null,null,399,"De Standaard",null,null,"2022-05-11","2022-05-31","2022-05-11"]
[null,294,"2022-07-07",364,null,null,"De gulden krijger",46,null,null,null,"V400",null,null,400,"De Telegraaf",null,null,"2022-07-07","2022-09-07","2022-07-07"]
[null,{"$f":"+B304+1","v":295},"2022-08-31",365,null,null,"De boze boleet",46,null,null,null,"V401",null,null,401,"De Standaard","Laatste verhaal in De Standaard in gedrukte vorm.",null,"2022-08-31","2022-10-26","2022-08-31"]
[null,296,"2022-10-22",366,null,null,"De geplaagde Plantijn",46,null,null,null,"V402",null,null,402,"De Telegraaf","Hoort bij tv-serie 'Het verhaal van Vlanderen', VRT 2023. Oorspronkelijke titel 'De geplaagde Plantin'. ",null,"2022-10-22","2023-01-11","2022-10-22"]
[null,297,{"$f":"+U307","v":"2023-01-30"},367,null,null,"De harteloze Hein",46,null,null,null,"V404",null,null,404,"De Standaard online","In De Standaard Online vanaf 30/01/2023, laatste online verhaal in De Standaard.",null,"2023-01-30","2023-03-08",{"$f":"MIN(S307:T307)","v":"2023-01-30"}]
[null,298,{"$f":"+U308","v":"2023-02-08"},368,null,null,"De Rookburgh Rookies",46,null,null,null,"V405",null,null,405,"De Telegraaf",null,null,"2023-02-08","2023-05-03","2023-02-08"]
[null,299,{"$f":"+U309","v":"2023-06-21"},369,null,null,"De Boterhammenman",46,null,null,null,"V406",null,null,406,"Album",null,null,null,"2023-06-21","2023-06-21"]
[null,300,"2023-05-31",370,null,null,"De krijtkampioen",46,null,null,null,"V407",null,null,407,"De Telegraaf","Laatste verhaal met Luc Morjeau als hoofdtekenaar. Eerder aangekondigd dan de Boterhammenman.",null,"2023-05-31","2023-09-06","2023-05-31"]
[null,301,"2023-09-15",371,null,null,"De zoevende zusters",46,null,null,null,"V408",null,null,408,"De Telegraaf","Eerste verhaal met Wout Schoonis als hoofdtekenaar. Vanaf hier geen titelblad met plaatje meer.",null,"2023-09-15","2023-11-22","2023-09-15"]
[null,302,"2024-01-31",372,null,null,"Bolhoed Bik",46,null,null,null,{"$f":"\"V\"&O312","v":"V408"},null,null,408,null,null,null,null,"2024-01-31","2024-01-31"]
[null,303,"2024-01-04",373,null,null,"Klaartje wakker",{"$f":"40-2","v":38},null,null,null,null,null,null,null,"De Telegraaf","Aanta pagina's gereduceerd, frequentie naar 5 albums per jaar.",null,"2024-01-04","2024-04-17","2024-01-04"]
[null,304,{"$f":"+U314","v":"2024-04-03"},374,null,null,"De keizerkop",{"$f":"40-2","v":38},null,null,null,null,null,null,null,"De Telegraaf",null,null,"2024-04-03","2024-08-07",{"$f":"MIN(S314:T314)","v":"2024-04-03"}]
[null,305,{"$f":"+U315","v":"2024-10-19"},375,null,null,"De schakende schim",{"$f":"40-2","v":38},null,null,null,null,null,null,null,"De Telegraaf",null,null,null,{"$f":"+T314+365/5","v":"2024-10-19"},{"$f":"MIN(S315:T315)","v":"2024-10-19"}]
[]
[]
[null,null,null,null,null,null," hommages"]
[null,"Nr","Datum","Album Nummer",null,null,"Titel","Pagina's","Heb ik","Opmerkingen",null,null,null,null,null,null,null,"Krant","1e strook","Album","Eerste Datum"]
[null,null,null,null,null,"Datum"]
[null,{"$f":"+B320+1","v":1},{"$f":"+U321","v":"2017-12-06"},1,null,null,"Cromimi",46,null,"Hommage Reeks 1, door Yann (scenario) en Gerben Valkema (tekeningen).",null,null,null,null,null,null,null,null,null,"2017-12-06",{"$f":"MIN(S321:T321)","v":"2017-12-06"}]
[null,2,"2018-11-07",{"$f":"+D321+1","v":2},null,null,"Boemerang",46,null,"Hommage Reeks 2, door Conz (scenario) en Steven Dupré (tekeningen).",null,null,null,null,null,null,null,null,null,"2018-11-07","2018-11-07"]
[null,3,"2019-11-06",{"$f":"+D322+1","v":3},null,null,"De kwakkelende kwakzalver",46,null,"Hommage Reeks 3, door Zidrou (scenario) en Jean-Marc Krings (tekeningen).",null,null,null,null,null,null,null,null,null,"2019-11-06","2019-11-06"]
[null,4,"2020-01-25",{"$f":"+D323+1","v":4},null,null,"De preutse prinses",46,null,"Hommage Reeks 4, door Paul Geerts (scenario en tekeningen) en Eric de Rop (Inkting).",null,null,null,null,null,null,null,"De Telegraaf","2020-01-25","2020-01-25","2020-01-25"]
[null,5,"2020-08-29","-",null,null,"De Sonometer",54,null,"Verhaal voor de Blauwe Reeks (enkel 10 stroken) afgemaakt door François Corteggiani (scenario) en Dirk Stallaert (tekeningen).",null,null,null,null,null,null,null,"De Telegraaf","2020-08-29","2020-11-04","2020-08-29"]
[null,6,"2021-08-12",{"$f":"+D324+1","v":5},null,null,"De Vroemvroem-club",46,null,"Hommage Reeks 5, door Yann (scenario) en Gerben Valkema (tekeningen).",null,null,null,null,null,null,null,"De Telegraaf","2021-08-12","2021-11-03","2021-08-12"]
[null,7,"2022-05-04",{"$f":"+D326+1","v":6},null,null,"Geduvel op de heide",46,null,"Hommage Reeks 6, door Marc Legendre (scenario) en Jan Bosschaert (tekeningen).",null,null,null,null,null,null,null,null,null,"2022-05-04","2022-05-04"]
[null,{"$f":"+B327+1","v":8},{"$f":"+U328","v":"2022-11-23"},"-",null,null,"De verdwenen joker",54,null,"Hommage voor Blauwe Reeks , door Ronald Grossey (scenario) en Dirk Stallaert (tekeningen).",null,null,null,null,null,null,null,null,null,"2022-11-23",{"$f":"MIN(S328:T328)","v":"2022-11-23"}]
[null,{"$f":"+B328+1","v":9},{"$f":"+T329","v":"2024-06-19"},7,null,null,"Vincent Van Grroaâargh",{"$f":"48-2","v":46},null,"Hommage Reeks 7, door Luc Cromheecke (scenario) en Charel Cambré (tekeningen).",null,null,null,null,null,null,null,null,null,"2024-06-19",{"$f":"MIN(S329:T329)","v":"2024-06-19"}]
[]
[null,"gelegenheids uitgaven"]
[]
[null,"Album nr","Jaar","Kleur","Titel",null,null,"Uitgave",null,null,null,null,null,null,null,"Opmerkingen"]
[]
[null,154,"1970-01-01","blauw","Rikki en Wiske in Chocowakije",null,null,"Stripschrift",null,null,null,null,null,null,null,"Bijlage Stripschrift 13. Eerste uitgave van het verhaal na 1946."]
[null,"154/150","1973-01-01","zilver","Rikki en Wiske in Chocowakije/Het Spaanse spook",null,null,"Standaard uitgeverij",null,null,null,null,null,null,null,"25 jaar jubileum uitgave"]
[null,197,"1984-04-01","rood","Het Delta duel",null,null,"Stormvloedkering Delta werken",null,null,null,null,null,null,null,"Met speciale Stormvloedkering achter cover. Uitgave met en zonder speciale herdenkingspagina."]
[null,201,"1985-02-01","rood","Het dredigende dinges",null,null,"Standaard uitgeverij, persuitgave",null,null,null,null,null,null,null,"Reguliere 1e druk album voorzien van omslag, getiteld \"Een hond van Vlaanderen - Nello en Patrasche - Het dreigende dinges\" met persinformatie en reclame label voor Japanse Sake."]
[null,214,"1987-01-19","goud","De parel in de Lotusbloem",null,null,"Standaard uitgeverij",null,null,null,null,null,null,null,"Na uitzending 'In de hoofdrol' waarin Geerts het als geschenk aan Vandersteen gaf."]
[null,111,"1988-04-04","rood","De schat van Beersel","Met voorin een exclusief stripje van 4 pagina's (getekend door Marc Verhaegen).",null,"KredietBank",null,null,null,null,null,null,null,"Met voorin het korte verhaal 'KaaBee en K-bit' van 4 pagina's (getekend door Marc Verhaegen)."]
[null,216,"1988-10-01","rood","De wervelende waterzak",null,null,"Scouting Nederland en Vlaanderen",null,null,null,null,null,null,null,"Met aangepaste Scouting achter cover en met notitie voorin over een deel van de opbrengst voor de Scouting Nederland en de Vlaamse scoutsbeweging."]
[null,224,"1990-05-01","rood","De kleine postruiter",null,null,"Standaard uitgeverij / Bpost",null,null,null,null,null,null,null,"Bij de Belgische Post kon een speciale editie besteld worden van de reguliere 1e druk, waarin een postzegel met speciale afstempeling toegevoegd zijn op de titel pagina. Ter gelegenheid van 500 jaar postverkeer tussen Mechelen en Innsbruck."]
[null,234,"1993-05-01","groen","Het kristallen kasteel","Heruitgave 1996 (vignet opdruk '100 jaar stripverhaal') en 2000 (gewijzigde achter cover: Expothema ipv Speleothema).",null,"Grotten van Han",null,null,null,null,null,null,null,"Heruitgave 1996 (vignet opdruk '100 jaar stripverhaal') en 2000 (gewijzigde achter cover: Expothema ipv Speleothema)."]
[null,240,"1994-05-05","blauw","De pottenproever","1000 jaar gemeente Olen.",null,"Gemeente Olen",null,null,null,null,null,null,null,"1000 jaar gemeente Olen (B). Met logo op voorcover, Olen achter cover en 8 extra pagina's over Karel V en Olen."]
[null,241,"1994-12-14","blauw","Het Aruba-dossier",null,null,"KLM cargo",null,null,null,null,null,null,null,"Met KLM cargo logo op voorcover en speciale KLM achter cover."]
[null,68,"1995-03-12","rood","Het eiland Amoras","Met Rode Kruis logo op voor cover. Met Rode Kuis boekje: \"de 14-daagse\". ",null,"Rode Kruis Vlaanderen",null,null,null,null,null,null,null,"Met Rode Kruis logo op voor cover. Met Rode Kuis boekje: \"de 14-daagse\". "]
[null,246,"1995-12-09","blauw","De vonkende vuurman","Stripbeurs in de Warande, Turnhout 9-10 December 1995 (V.V.V. Turnhout). Met 8 extra pagina`s en met speciale achter cover.",null,"Touristische uitgaven Turnhout",null,null,null,null,null,null,null,"Stripbeurs in de Warande, Turnhout 9-10 December 1995 (V.V.V. Turnhout). Met 8 extra pagina`s en met speciale achter cover."]
[null,251,"1997-02-02","blauw","De verraderlijke Vinson",null,null,"UCB Chemical",null,null,null,null,null,null,null,"Met UCB Chemicals logo op voor cover en UCB tekst op achter cover."]
[null,251,"1997-02-02","blauw","De verraderlijke Vinson",null,null,"UCB Pharma",null,null,null,null,null,null,null,"Met UCB Pharma logo op voor cover en '25 years young' afbeelding op achter cover."]
[null,99,"1997-03-18","blauw","De kwakstralen","45 jaar Madurodam. 2 versies: met en zonder opdruk 1952-1997 op de cover.",null,"Madurodam",null,null,null,null,null,null,null,"45 jaar Madurodam. 2 versies: met en zonder opdruk 1952-1997 op de cover. Was te koop in de museumwinkel. Ook in persmap."]
[null,252,"1997-04-18","groen","Volle maan","Verscheen een week eerder dan het reguliere album.",null,"Suske en Wiske weekblad",null,null,null,null,null,null,null,"Bijlage SW weekblad 15 1997. Verscheen een week eerder dan het reguliere album."]
[null,214,"1997-09-03","lichtblauw","De parel in de Lotusbloem",null,null,"Leprastichting",null,null,null,null,null,null,null,"30 jaar Nederlandse Leprastichting. Met aparte voor cover tekening en Lepra achter cover met Willem van Oranje."]
[null,225,"1998-05-15","rood","De goalgetter","Bijlage SW weekblad.",null,"Standaard uitgeverij",null,null,null,null,null,null,null,"Herdruk met ronde 'met extra stickers' opdruk en sticker inlegvel, n.a.v. WK98 in Frankrijk."]
[null,239,"1998-05-22","rood","De stervende ster","Met speciale filatelie achter cover en in collectors-box met illustratie en CD-Rom De roekeloze ruimtereis. Binnenwerk bruin/blauw, met ruimtevaart-postzegelmet 1e dag stempel op de eerste pagina. Ter gelegendheid van het 14e wereldcongres van de Association of Space Exploreres dat van 19 tot 23 oktober plaatsvond in Brussel.",null,"De Post (Phila-post)",null,null,null,null,null,null,null,"Met speciale filatelie achter cover en in collectors-box met illustratie en CD-Rom De roekeloze ruimtereis. Binnenwerk bruin/blauw, met ruimtevaart-postzegelmet 1e dag stempel op de eerste pagina. Ter gelegendheid van het 14e wereldcongres van de Association of Space Exploreres dat van 19 tot 23 oktober plaatsvond in Brussel."]
[null,8,"1998-07-30","rood","Bibbergoud","Met speciale filatelie achter cover en in collectors-box met illustratie en CD-Rom De roekeloze ruimtereis. Binnenwerk bruin/blauw, met ruimtevaart-postzegelmet 1e dag stempel op de eerste pagina. Ter gelegendheid van het 14e wereldcongres van de Association of Space Exploreres dat van 19 tot 23 oktober plaatsvond in Brussel.",null,"Stripfestival Middelkerke",null,null,null,null,null,null,null,"Als Strip Klassiek reeks, met aangepaste Danone Milky Way Middelkerke achter cover."]
[null,251,"1999-01-21","wit","De verraderlijke Vinson","Bijlage SW weekblad.",null,"Suske en Wiske weekblad",null,null,null,null,null,null,null,"Bijlage SW weekblad 3 1999. Met foto op voor cover van Mt Vinson beklimmers met SW logo, en uitleg op achter cover."]
[null,168,"1999-04-01","rood","De Efteling-elfjes","Efteling foto op achter cover.",null,"Efteling",null,null,null,null,null,null,null,"Met Efteling logo op voor cover en foto van de Efteling op de achter cover. Hertekende versie zie onder."]
[null,131,"1999-04-21","rood","Het zingende nijlpaard","Met 'Phila Strips' logo en speciale Stampilou (filatelie jeugdclub) achter cover. Met CD-Rom \"Het geheim van de Farao\".",null,"De Post (Phila strips)",null,null,null,null,null,null,null,"Met 'Phila Strips' logo en speciale Stampilou (filatelie jeugdclub) achter cover. Binnenwerk bruin/blauw. Met CD-Rom \"Het geheim van de Farao\"."]
[null,176,"1999-07-06","rood","De pompenplanters","Met Unicef logo op voorcover en aangepaste 'Samen helpen we de kinderen in de wereld' achter cover.",null,"voor Unicef door Winkel Fashions ",null,null,null,null,null,null,null,"Met Unicef logo op voorcover, 'Samen helpen we de kinderen in de wereld' achter cover en 2 extra pagina's over Unicef."]
[null,85,"1999-07-06","rood","De pompenplanters / De Efteling-elfjes","Met Unicef logo op voorcover en aangepaste 'Samen helpen we de kinderen in de wereld' achter cover.",null,"voor Unicef door Winkel Fashions ",null,null,null,null,null,null,null,"Dubbelnummer met Winkel Fashions en Unicef op voorcover, 'Samen .. wereld' achter cover en 6 extra pagina's over Unicef."]
[null,16,"1999-07-17","rood","De sterrenplukkers","Met speciale filatelie achter cover en in collectors-box met illustratie en CD-Rom De roekeloze ruimtereis. Binnenwerk bruin/blauw, met ruimtevaart-postzegelmet 1e dag stempel op de eerste pagina. Ter gelegendheid van het 14e wereldcongres van de Association of Space Exploreres dat van 19 tot 23 oktober plaatsvond in Brussel.",null,"Stripfestival Middelkerke",null,null,null,null,null,null,null,"Als Strip Klassiek reeks, met aangepaste Milky Way Middelkerke achter cover."]
[null,85,"2000-04-12","blauw","De schone slaper",null,null,"De Fameuze Fanclub",null,null,null,null,null,null,null,"Met De Fameuze Fanclub vermelding op voor cover en speciale acter cover ter gelegenheid van 12.5 jaar bestaan."]
[null,240,"2000-05-02","geel","De pottenproever",null,null,"Sale 2000",null,null,null,null,null,null,null,"Sale 2000 in de RAI Amsterdam. Met logo op voor cover, Standaard Special Products achter cover en meegelijmde folder."]
[null,240,"2000-05-02","geel","De pottenproever","Met nieuwe cover tekening, achter cover 'Olen keizerstreek' in geel en extra dossier 'Keizer Karel en Olen'. Zie ook uitgave 2017.",null,"Gelegenheidsuitgaven Olen",null,null,null,null,null,null,null,"Met nieuwe cover tekening, achter cover 'Olen keizerstreek' in geel en extra dossier 'Keizer Karel en Olen'. Zie ook uitgave 2017."]
[null,264,"2000-05-08","blauw","Jeanne Panne","Met logo op front cover en aangepaste gele Nieuwpoort achter cover. Met 16 extra pagina's over Nieuwpoort en foto`s.",null,"Gemeente Nieuwpoort",null,null,null,null,null,null,null,"Met logo op front cover en aangepaste gele Nieuwpoort achter cover. Met 16 extra pagina's over Nieuwpoort en foto`s."]
[null,250,"2000-07-15","blauw","Het Grote Gat","Binnenwerk zwart/wit.",null,"Stripfestival Middelkerke",null,null,null,null,null,null,null,"Binnenwerk zwart/wit."]
[null,78,"2000-08-14","rood","De Dulle Griet","Met 'provincie Limburg' logo en aangepaste 'Bokrijk' achter cover. Uitgave door de Provincie Limburg, voor de Gemeente Bokrijk, t.g.v. 55ste verjaardag van Suske en Wiske. Met 8 pagina's info over Suske en Wiske in Bokrijk. Op 06/08/2000 verkrijgbaar tijdens 'Suske en Wiske vieren feest ! ' te Bokrijk. Er werd toen een folder uitgegeven van 4 pagina's.",null,"Gelegeneidsuitgaven Limburg",null,null,null,null,null,null,null,"Met 'provincie Limburg' logo en aangepaste 'Bokrijk' achter cover. Uitgave door de Provincie Limburg, voor de Gemeente Bokrijk, t.g.v. 55ste verjaardag van Suske en Wiske. Met 8 pagina's info over Suske en Wiske in Bokrijk. Op 06/08/2000 verkrijgbaar tijdens 'Suske en Wiske vieren feest ! ' te Bokrijk. Er werd toen een folder uitgegeven van 4 pagina's."]
[null,101,"2000-08-26","blauw","De kaartendans",null,null,"Maastricht bridge olympiad",null,null,null,null,null,null,null,"Bridge Olympiade 2000 Maastricht. Met logo op voor cover, NL Bridge Bond achter cover en 4 extra pagina's."]
[null,111,"2001-07-14","groen","De schat van Beersel","Met Paul Geerts foto op achter cover. t.g.v. strip 3-daagse Middelkerke 2001. 'Binnenwerk zwart/wit. Met ex-libris, genummerd en (gedrukte) handtekening van Paul Geerts.",null,"Stripfestival Middelkerke",null,null,null,null,null,null,null,"Met Paul Geerts foto op achter cover. t.g.v. strip 3-daagse Middelkerke 2001. 'Binnenwerk zwart/wit. Met ex-libris, genummerd en (gedrukte) handtekening van Paul Geerts."]
[null,113,"2001-07-14","groen","Goud voor Rome","Binnenwerk zwart/wit.",null,"Milky Way, Stripfestival Middelkerke",null,null,null,null,null,null,null,"Binnenwerk zwart/wit, met bladwijzer. Eerst samen verkocht met ‘De schat van Beersel’ grote luxe uitgave 2001. Later ook los."]
[null,139,"2001-09-01","groen","De boze boomzalver","Brabants stripspektakel.",null,"Bomenstichting",null,null,null,null,null,null,null,"Brabants stripspektakel."]
[null,223,"2002-04-21","groen","De kleurenkladder","Binnenwerk zwart/wit.",null,"De Fameuze Fanclub",null,null,null,null,null,null,null,"Binnenwerk zwart/wit. Gratis aangeboden op de fanclubdag op 21 april 2002. Met oranje bijlage (A5) van De Fameuze Fanclub."]
[null,70,"2002-06-19","rood","De spokenjagers","Met op frontover ronde gele musical vermelding; op achter cover \"Het verhaal van de musical\" en 15 pagina`s extra over de musical.",null,"Musical",null,null,null,null,null,null,null,"Met op frontover ronde gele musical vermelding; op achter cover \"Het verhaal van de musical\" en 15 pagina`s extra over de musical."]
[null,275,"2002-07-07","rood","Heilig Bloed","Met logo's op front cover en aangepaste 'Brugge' achter cover. Gezamelijke uitgave Toerisme Brugge en Stripspeciaalzaak De Striep. Bij De Striep kon men een flesje 'heilig bloed' kopen(300, gesigneerd door Verhaegen). Met 8 extra pagina's over De Heilig-Bloedprocessie, Suske en Wiske wandeling 1&2 en foto's.",null,"Toerisme Brugge, De Striep",null,null,null,null,null,null,null,"Met logo's op front cover en aangepaste 'Brugge' achter cover. Gezamelijke uitgave Toerisme Brugge en Stripspeciaalzaak De Striep. Bij De Striep kon men een flesje 'Heilig Bloed' kopen(300, gesigneerd door Verhaegen). Met 8 extra pagina's over De Heilig-Bloedprocessie, Suske en Wiske wandeling 1&2 en foto's."]
[null,70,"2002-07-13","zilver","De spokenjagers","Met 15 extra pagina`s over de musical - tgv Stripfestival Middelkerke.",null,"Musical, Stripfestival Middelkerke",null,null,null,null,null,null,null,"Met 15 extra pagina`s over de musical - tgv Stripfestival Middelkerke."]
[null,245,"2002-07-13","zilver","De zeven schaken","Met op achter cover tekening Vandersteen, Geerts, Verhaegen. Binnenwerk zwart/wit. Titel voor het eerst met zeven geschreven (in tegenstelling tot de eerste uitgave De 7 schaken)",null,"Stripfestival Middelkerke",null,null,null,null,null,null,null,"Met op achter cover tekening Vandersteen, Geerts, Verhaegen. Binnenwerk zwart/wit. Titel voor het eerst met zeven geschreven (in tegenstelling tot de eerste uitgave De 7 schaken)."]
[null,236,"2003-04-13","paars","De gulden harpoen","Aangepaste achter cover 'ode aan band met Sudio Vandersteen'. 15 jaar Fameuze Fanclub; met boekje Vereniging in vogelvlucht",null,"Fameuze fanclub",null,null,null,null,null,null,null,"Aangepaste achter cover 'ode aan band met Sudio Vandersteen'. 15 jaar Fameuze Fanclub; met boekje Vereniging in vogelvlucht."]
[null,168,"2003-05-16","rood","De Efteling-elfjes","Aangepaste achter cover 'ode aan band met Sudio Vandersteen'. 15 jaar Fameuze Fanclub; met boekje Vereniging in vogelvlucht",null,"Gazet van Antwerpen",null,null,null,null,null,null,null,"Krant bijlage Gazet van Antwerpen van 16 mei 2003. Iets hoger formaat dan normaal."]
[null,168,"2003-05-16","rood","De Efteling-elfjes","Aangepaste achter cover 'ode aan band met Sudio Vandersteen'. 15 jaar Fameuze Fanclub; met boekje Vereniging in vogelvlucht",null,"Het Belang van Limburg",null,null,null,null,null,null,null,"Krant bijlage Het belang van Limburg van 16 mei 2003. Iets hoger formaat dan normaal."]
[null,96,"2003-06-15","groen","Het rijmende paard",null,null,"Gelegeneidsuitgaven Kalmthout",null,null,null,null,null,null,null,"Zesde stripdag in Kalmthout; met nieuwe voorplaat door Marc Verhaegen en 8 extra pagina's over de Gemeente Kalmthout"]
[null,121,"2004-02-21","rood","De duistere diamant","Voor cover met ronde 'extra pagina's' opdruk. Achter cover met film cover in keerdruk, dus vanaf twee kanten leesbaar. Uitgave n.a.v de speelfilm 'De duistere diamant'. Met 16 extra pagina's fotokatern van de filmopnames; Dag-van-de-Klant-geschenk 2008 bij de Slegte Gent.",null,"Speelfilm uitgave",null,null,null,null,null,null,null,"Voor cover met ronde 'extra pagina's' opdruk. Achter cover met film cover in keerdruk, dus vanaf twee kanten leesbaar. Uitgave n.a.v de speelfilm 'De duistere diamant'. Met 16 extra pagina's fotokatern van de filmopnames; Dag-van-de-Klant-geschenk 2008 bij de Slegte Gent."]
[null,277,"2004-04-14","rood","De verdwenen verteller","Aangepaste achter cover 'ode aan band met Sudio Vandersteen'. 15 jaar Fameuze Fanclub; met boekje Vereniging in vogelvlucht",null,"Gazet van Antwerpen",null,null,null,null,null,null,null,"Deel 4 van De unieke stripreeks van Gazet van Antwerpen."]
[null,277,"2004-04-14","rood","De verdwenen verteller","Aangepaste achter cover 'ode aan band met Sudio Vandersteen'. 15 jaar Fameuze Fanclub; met boekje Vereniging in vogelvlucht",null,"Het Belang van Limburg",null,null,null,null,null,null,null,"Deel 4 van De unieke stripreeks van Het Belang van Limburg."]
[null,189,"2004-06-20","groen","De Belhamel-bende",null,null,"Gelegeneidsuitgaven Kalmthout",null,null,null,null,null,null,null,"Zesde stripdag in Kalmthout; met nieuwe voorplaat door Marc Verhaegen en 4 extra pagina's over de Gemeente Kalmthout"]
[null,98,"2004-06-28","rood","Het hondenparadijs","Aangepaste achter cover 'ode aan band met Sudio Vandersteen'. 15 jaar Fameuze Fanclub; met boekje Vereniging in vogelvlucht",null,"Purina Dog Chow",null,null,null,null,null,null,null,"Gratis bij zak Dog Chow hondenvoer bij Welkoop en Boerenbond winkels. Banner op voorcover en aangepaste achter cover."]
[null,267,"2004-11-24","rood","Lilli Natal","Aangepaste achter cover 'ode aan band met Sudio Vandersteen'. 15 jaar Fameuze Fanclub; met boekje Vereniging in vogelvlucht",null,"Gazet van Antwerpen",null,null,null,null,null,null,null,"Deel 36 van De unieke stripreeks van Gazet van Antwerpen."]
[null,267,"2004-11-24","rood","Lilli Natal","Aangepaste achter cover 'ode aan band met Sudio Vandersteen'. 15 jaar Fameuze Fanclub; met boekje Vereniging in vogelvlucht",null,"Het Belang van Limburg",null,null,null,null,null,null,null,"Deel 36 van De unieke stripreeks van Het Belang van Limburg."]
[null,287,"2005-06-08","groen","De formidabele fantast",null,null,"Gelegeneidsuitgaven Kalmthout",null,null,null,null,null,null,null,"Achtste stripdag in Kalmthout; met nieuwe voorplaat door Marc Verhaegen en 8 extra pagina's over de Gemeente Kalmthout"]
[null,185,"2006-06-06","groen","De botte botaknol",null,null,"Gelegeneidsuitgaven Kalmthout",null,null,null,null,null,null,null,"Negende stripdag 150 jaar Arboretum in Kalmthout; met nieuwe voorplaat (Verhaegen) en 8 extra pagina's over Arboretum."]
[null,247,"2006-06-30","rood","Het kostbare kader","Met aangepaste achter cover over promotie van fietsen in Vlaanderen en met 8 extra pagina's over Suske en Wiske in Vlaanderen, actief genieten met zicht op zee, West-Vlaanderen Antwerpen, Vlaams-Brabant, Limburg, Oost-Vlaanderen en een paar schetsen en foto's.",null,"Toerisme Vlaanderen en Brussel",null,null,null,null,null,null,null,"Met aangepaste achter cover over promotie van fietsen in Vlaanderen en met 8 extra pagina's over Suske en Wiske in Vlaanderen, actief genieten met zicht op zee, West-Vlaanderen Antwerpen, Vlaams-Brabant, Limburg, Oost-Vlaanderen en een paar schetsen en foto's."]
[null,292,"2006-09-01","rood","De nachtwachtbrigade",null,null,"Standaard uitgeverij, persuitgave",null,null,null,null,null,null,null,"Reguliere eerste druk in Rode persmap met speciale front cover."]
[null,261,"2007-04-29","bruin","Het berenbeklag",null,null,"De Fameuze Fanclub",null,null,null,null,null,null,null,"Ter gelegenheid van de Twintigste Fanclubdag te Rhenen op 29 April 2007. Met Ouwehands Dierenpark achter cover."]
[null,236,"2007-06-01","rood","De gulden harpoen",null,null,"Zuiderzeemuseum",null,null,null,null,null,null,null,"Met op de titelblad onder de aankondiging een vermelding van 'Zuiderzeemuseum Enkhuizen'."]
[null,300,"2008-06-26","kleur","Het machtige monument",null,null,"Atomium",null,null,null,null,null,null,null,"Ter gelegenheid van 50 jaar Atomium. Met Atomium achter cover."]
[null,302,"2008-12-10","kleur","De sterrensteen","Met aangepaste achter cover over de International Polar Foundation en onderzoeksstation Princess Elisabeth Antarctica.",null,"International Polar Foundation",null,null,null,null,null,null,null,"Met aangepaste achter cover over de International Polar Foundation en onderzoeksstation Princess Elisabeth Antarctica."]
[null,125,"2009-07-04","kleur","De Texas rakkers","Uitgave n.a.v. de Suske en Wiske-animatiefilm \"De Texas Rakkers\" met de film poster als basis voor de voor cover, en de poster in het midden van het album. Tijdelijk verkrijgbaar in bioscopen en bij Colruyt.",null,"Animatiefilm uitgave, Colruyt",null,null,null,null,null,null,null,"Uitgave n.a.v. de Suske en Wiske-animatiefilm \"De Texas Rakkers\" met de film poster als basis voor de voor cover, en de poster in het midden van het album. Tijdelijk verkrijgbaar in bioscopen en bij Colruyt."]
[null,168,"2010-04-20","kleur","De Efteling-elfjes","Hertekende cover.",null,"Efteling",null,null,null,null,null,null,null,"Hertekende cover. Diverse herdrukken (2013,2014 met/zonder barcode,2017)"]
[null,309,"2011-02-01","kleur","De watersater","Met blauwe 'beurseditie' hoekbanner op front cover. Werd tijdens de Grafische Vakbeurs 2011 in Evenementenhal Gorinchem 01-03/02/11 voor bezoekers on demand geprint en afgewerkt op de apparatuur van Canon/Océ, geniet.",null,"Grafische Vakbeurs editie",null,null,null,null,null,null,null,"Met blauwe 'beurs editie' hoekbanner op front cover. Werd tijdens de Grafische Vakbeurs 2011 in Evenementenhal Gorinchem van 1-3 Feb 2011 voor bezoekers on demand geprint en afgewerkt op de apparatuur van Canon/Océ, geniet."]
[null,311,"2011-02-22","kleur","De stuivende stad","Met logo op front cover en aangepaste fanclub achter cover. Wervingsactie, leden ontvingen het album bij aanbrengen van een nieuw lid.",null,"De Fameuze Fanclub",null,null,null,null,null,null,null,"Met logo op front cover en aangepaste fanclub achter cover. Wervingsactie, leden ontvingen het album bij aanbrengen van een nieuw lid."]
[null,119,"2011-06-19","bruin","Het sprekende testament",null,null,"Kalmthout 2011 100 jaar station Heide",null,null,null,null,null,null,null,"100-jarig bestaan van station Heide.  nieuwe cover in retrostijl en 8 extra pagina's over station Heide. Ook met zegelvel."]
[null,314,"2011-09-27","kleur","Het lijdende Leiden","Met op de front cover geen albumnummer, en links in het rode blok de toevoeging 031011, nav 125 jaar 3 Oktober vereniging. Met 8 extra pagina's Geen nummervermelding, met extra info",null,"3 Oktober Vereniging Leiden",null,null,null,null,null,null,null,"Met op de front cover geen albumnummer, en links in het rode blok de toevoeging 031011, nav 125 jaar 3 Oktober vereniging. Met 8 extra pagina's Geen nummervermelding, met extra info."]
[null,162,"2012-03-17","kleur","De gouden locomotief","In samenwerking met Het Spoorwegmuseum in Utrecht.",null,"De Fameuze Fanclub",null,null,null,null,null,null,null,"In samenwerking met Het Spoorwegmuseum in Utrecht."]
[null,247,"2012-06-17","kleur","Het kostbare kader","Met gele ronde 'Veldrijders Kalmthout' opdruk op front cover, en met op de achter cover een afwijkende front cover (Eugeen Goosens) in keerdruk. Speciale uitgave veldrijders Kalmthout 2012. In keerdruk 16 extra pagina's over de veldrijders. Keerzijde frontcover en ook eindplaatje in album getekend door Eugeen Goossens.",null,"Gelegeneidsuitgaven Kalmthout",null,null,null,null,null,null,null,"Met gele ronde 'Veldrijders Kalmthout' opdruk op front cover, en met op de achter cover een afwijkende front cover (Eugeen Goosens) in keerdruk. Speciale uitgave veldrijders Kalmthout 2012. In keerdruk 16 extra pagina's over de veldrijders. Keerzijde frontcover en ook eindplaatje in album getekend door Eugeen Goossens."]
[null,68,"2013-05-11","rood","Op het eiland Amoras","Met klassieke front cover en afwijkende rode achtercover; gratis bijlage bij de krant De Standaard op zaterdag 11 mei 2013 n.a.v. de start van de reeks Amoras. Binnenwerk bruin/blauw (anders dan origineel met steurnkleur). ",null,"De Standaard",null,null,null,null,null,null,null,"Met klassieke front cover en afwijkende rode achtercover; gratis bijlage bij de krant De Standaard op zaterdag 11 mei 2013 n.a.v. de start van de reeks Amoras. Binnenwerk bruin/blauw (anders dan origineel met steunkleur). "]
[null,285,"2013-07-28","kleur","Verraad op de Veluwe",null,null,"De Hoge Veluwe",null,null,null,null,null,null,null,"Met afwijkende rode achtercover, in opdracht van en te verkrijgen in De Hoge Veluwe (Stichting het nationale park). Diverse herdrukken (2014, 2017, 2019, 2021)"]
[null,264,"2014-08-12","rood","Jeanne Panne","Met normale front cover en rode Nieuwpoort achtercover. Met 8 extra pagina's over de historie van Nieuwpoort. Verkrijgbaar geweest in het stadhuis te Nieuwpoort(B).",null,"Gemeente Nieuwpoort",null,null,null,null,null,null,null,"Met normale front cover en rode Nieuwpoort achtercover. Met 8 extra pagina's over de historie van Nieuwpoort. Verkrijgbaar geweest in het stadhuis te Nieuwpoort (B)."]
[null,71,"2014-10-16","kleur","Wattman","Met aangepaste cover, onderaan in wit 'aangeboden door De Lijn' en aangepaste rode achter cover.",null,"De Lijn",null,null,null,null,null,null,null,"Met aangepaste cover, onderaan in wit 'aangeboden door De Lijn' en aangepaste rode achter cover."]
[null,333,"2016-02-04","kleur","De bibberende Bosch","Rode banner op front cover met \"Speciale jHEROnimux editie\". In het kader van de 500ste sterfdag van Jheronimus Bosch, met 8 extra pagina’s. ISBN in colofon is gelijk aan normale editie.",null,"500ste sterfdag Jheronimus Bosch",null,null,null,null,null,null,null,"Rode banner op front cover met \"Speciale jHEROnimus editie\". In het kader van de 500ste sterfdag van Jheronimus Bosch, met 8 extra pagina’s. ISBN in colofon is gelijk aan normale editie."]
[null,197,"2016-04-01","kleur","Het Delta duel","Verkrijgbaar in winkel Deltapark Neeltje Jans. Rode achter cover.",null,"Stormvloedkering Delta werken",null,null,null,null,null,null,null,"Verkrijgbaar in winkel Deltapark Neeltje Jans. Rode achter cover."]
[null,240,"2017-05-05","kleur","De pottenproever","Uitgave met nieuwe cover (tov 2000) en nu achter cover 'Olen keizerstreek' in goud.",null,"Gelegenheidsuitgaven Olen",null,null,null,null,null,null,null,"Uitgave met nieuwe cover (tov 2000) en nu achter cover 'Olen keizerstreek' in goud."]
[null,78,"2019-12-20","kleur","De Dulle Griet",null,null,"Museum Mayer van den Berg",null,null,null,null,null,null,null,"Zonder reeks nummer, met Museum Mayer van den Berg achter cover en 8 extra pagina's."]
[null,"-","2020-01-25","rood","De preutse prinses",null,null,"Pers uitgave",null,null,null,null,null,null,null,"Met op de voor cover gele ronde opdruk 'Speciale uitgave persvoorstelling' en speciale 'Paul Geerts' achter cover. Met gesigneerde ex-libris prent."]
[null,351,"2020-02-11","kleur","De verloren van Eyck","Op de achter cover OMG van Eyck was here, geen nummer op front cover.",null,"Stad Gent",null,null,null,null,null,null,null,"Op de achter cover OMG van Eyck was here, geen nummer op front cover."]
[null,352,"2020-06-16","kleur","De blanke bergen","Team Krimson, met originele titel; 750 jaar bestaan. Voorzien van extra pagina's over de Stad Blankenberge.",null,"Stad Blankenberge",null,null,null,null,null,null,null,"Team Krimson, met originele titel; 750 jaar bestaan. Voorzien van extra pagina's over de Stad Blankenberge."]
[null,"-","2020-11-04","rood","De sonometer",null,null,"Fujitsu",null,null,null,null,null,null,null,"85-jarig bestaan van het bedrijf Fujitsu, met extra 8 blz informatie over dit bedrijf."]
[null,328,"2020-12-01","kleur","Sterrenrood","Met afwijkende achter cover.",null,"Redstar line museum",null,null,null,null,null,null,null,"Zonder reeks nummer, met Red Star Line Museum achter cover tekst (geen extra pagina's)."]
[null,356,"2021-02-05","kleur","De fluitende olifant","Met afwijkende achter cover.",null,"Trainworld expo",null,null,null,null,null,null,null,"Zonder reeks nummer, met witte Trainworld achter cover en 8 extra pagina's over de trein geschiedenis in België."]
[null,156,"2021-06-23","kleur","Beminde Barabas","Nieuwe front cover.",null,"15 jaar Stripwinkel Barabas",null,null,null,null,null,null,null,"Met nieuwe cover (Morjeau), Barabas achter cover en extra stripwinkel pagina's. Eerste 500 uitgaven met wikkel en prent."]
[null,360,"2021-11-23","kleur","De drijvende dokters","Met afwijkende achter cover en 8 extra informatiepagina's.",null,"Mercy ships",null,null,null,null,null,null,null,"Zonder reeks nummer, met Mercy Ships achter cover en 8 extra pagina's over Mercy Ships."]
[null,216,"2022-11-11","kleur","De wervelende waterzak","Jamboree Belgie 2023 in Korea. Extra 6 Eur als bijdrage voor de Jamboree.",null,"Jamboree",null,null,null,null,null,null,null,"Jamboree Belgie 2023 in Korea. Extra 6 Eur als bijdrage voor de Jamboree."]
[null,366,"2023-01-11","kleur","De geplaagde Plantijn","met extra pagina's voor het Museum Plantin-Moretus in Antwerpen.",null,"Plantin-Moretus",null,null,null,null,null,null,null,"Met afwijkende museum achter cover en 8 extra pagina's informatie over Christoffel Plantijn en het museum zelf."]
[null,368,"2023-05-03","kleur","De Rookburgh Rookies","met extra pagina's voor het Museum Plantin-Moretus in Antwerpen.",null,"Phantasialand",null,null,null,null,null,null,null,"Zonder reeks nummer, met Phantasia achter cover, te koop in de souvenirwinkels in het park."]
[null,111,"2023-12-01","kleur","De schat van Beersel","met extra pagina's voor het Museum Plantin-Moretus in Antwerpen.",null,"Kiwanis",null,null,null,null,null,null,null,"Voor Kiwanis Beersel, liefdadigheids-organisatie voor kinderen. Met sponsor pagina's, rode rand en aangepaste achtercover."]
[]
[null,"streektalen"]
[]
[null,"Nr","Jaar","Kleur","Titel",null,null,"Taal",null,null,"Oorspronkelijke titel",null,null,null,null,null,"Opmerkingen"]
[]
[null,1,1979,"rood","De pompesetters",null,null,"Fries",null,"NL","De pompenplanters"]
[null,2,1997,"blauw","It woelige waad",null,null,"Fries",null,"NL","De woelige wadden"]
[null,"3a",1999,"blauw","De goalgetter",null,null,"Fries",null,"NL","De goalgetter",null,null,null,null,null,"Genummerd: 225A, S.C. Heerenveen edysje."]
[null,"3b",1999,"geel","De goalgetter",null,null,"Fries",null,"NL","De goalgetter",null,null,null,null,null,"Naar aanleiding van de wedstrijd Heerenveen-Cambuur op 26-11-1999.\nGenummerd: 225B, Cambuur-Leeuwarden edysje."]
[null,"4a",2007,"kleur","De alvestêdestunt",null,null,"Fries",null,"NL","De elfstedenstunt",null,null,null,null,null,"Welkomstgeschenk voor (nieuwe) inwoners van de provincie Friesland. \nTweede druk 2008 met op binnenkant van het schutblad: TWADDE PRINTINGE 2008."]
[null,"4b",2007,"kleur","De alvestêdestunt (pers uitgave)",null,null,"Fries",null,"NL","De elfstedenstunt",null,null,null,null,null,"Pers uitgave met 4 extra pagina's persinformatie (1 in Fries)."]
[null,"5a",2008,"kleur","De boartlike boarre",null,null,"Fries",null,"NL","De Koddige Kater",null,null,null,null,null,"SW titelblok in blauw."]
[null,"5b",2008,"kleur","De boartlike boarre (pers uitgave)",null,null,"Fries",null,"NL","De Koddige Kater",null,null,null,null,null,"Pers uitgave met 4 extra pagina's persinformatie (2 in Fries)."]
[null,6,1997,"geel","De bokkeriejersj",null,null,"Limburgs",null,"NL","De bokkerijders",null,null,null,null,null,"Gelegenheidsuitgave Dagblad, de krant van Limburg."]
[null,7,1999,"geel","De joker aafgetroef",null,null,"Limburgs",null,"NL","De kaartendans",null,null,null,null,null,"Gelegenheidsuitgave Limburgs Dagblad."]
[null,8,2005,"geel","De waerwouf van Leëtselder",null,null,"Limburgs",null,"NL","Volle maan",null,null,null,null,null,"Gelegenheidsuitgave Dagblad de Limburger"]
[null,9,2000,"geel","'t zulveren heurnke",null,null,"Twents",null,"NL","De ringelingschat",null,null,null,null,null,"Gelegenheidsuitgave Tubantia, Twentsche Courant."]
[null,10,2001,"geel","t Witte Wief",null,null,"Twents",null,"NL","Het Witte Wief",null,null,null,null,null,"Gelegenheidsuitgave Tubantia."]
[null,11,1998,"geel","Het hondeparadies",null,null,"Drents",null,"NL","Het hondenparadijs",null,null,null,null,null,"Gelegenheidsuitgave Nieuwsblad van het Noorden"]
[null,12,1998,"geel","'t hondenparredies",null,null,"Gronings",null,"NL","Het hondenparadijs",null,null,null,null,null,"Gelegenheidsuitgave Nieuwsblad van het Noorden"]
[null,13,2004,"groen","De Éfteling-èlfkes",null,null,"Brabants",null,"NL","De Efteling-elfjes",null,null,null,null,null,"Ter gelegenheid van het 19e Brabants Stripspektakel."]
[null,14,2006,"geel","Nen diere velo",null,null,"Loois",null,"B","Het kostbare kader",null,null,null,null,null,"Ter gelegenheid van het Looikes Stripfestival. \nLoois komt van Tessenderlo, Belgisch Limburg."]
[null,15,2009,"groen","Het gheim van de Kalmthoutse Haai",null,null,"Kalmthouts              B",null,null,"Het geheim van de Kalmthoutse Heide",null,null,null,null,null,"Kort verhaal. Ter gelegenheid van Stripdag in Kalmthout"]
[null,16,2016,"rood","De roaap van Rubbes",null,null,"Antwerps",null,"B","De raap van Rubens",null,null,null,null,null,"Uitgave voor Stripwinkel Beo (Antwerpen).\nInclusief missende 4 stroken op binnenzijde achter cover."]
[]
[null,"speciale talen"]
[]
[null,"Nr","Jaar","Kleur","Titel",null,null,"Taal",null,null,"Oorspronkelijke titel",null,null,null,null,null,"Opmerkingen"]
[]
[null,1,1990,"rood","Lucius et Lucia - De secreto gladiatorum",null,null,"Latijn",null,null,"Het gehein van de gladiatoren",null,null,null,null,null,"Hard cover, uitgegeven door De Standaard. Pagina's Romeins genummerd.\nAchterin het boek staat een woordenlijst met vertalingen in het Duits, Engels, Spaans, Frans, Italiaans en Nederlands."]
[null,2,1997,"rood","Lucius et Lucia - De larva Hispania",null,null,"Latijn",null,null,"Het spaanse spook",null,null,null,null,null,"Hard cover, uitgegeven door De Standaard. "]
[null,3,2002,"groen","Cisko kaj Vinjo - La Brusela bubo",null,null,"Esperanto",null,null,"Het kregelige Ketje",null,null,null,null,null,"Gelegenheids uitgaven Esperantovereniging La Hirundo  en Esperanto 3000 ter gelegenheid van het tienjarige bestaan op 19 oktober 2002.\n "]
[]
[]
[null,"Uitgebreidere definitie Kort Verhaal en Lang Verhaal:"]
[]
[null,"Een kort verhaal moet een strip zijn. Dat wil zeggen een serie afbeeldingen van minimaal 3 omkaderde plaatjes met tekst, waarbij de tekst al dan niet (deels) in de plaatjes staat,"]
[null,"meestal in tekstballonnetjes. Of niet omkaderde plaatjes maar wel voorzien van tekstballonnetjes."]
[null,"Dus een voorleesboek met illustraties van Suske en Wiske, of de Tom Stone muziekboeken, zijn daarmee geen kort verhaal."]
[null,"Een verhaal is een regulier verhaal (VER) en geen kort verhaal als het als apart album in de reguliere rode of blauwe reeks of klassiek reeks (met uitzondering van Het vliegende hart) opgenomen is. "]
[null,"Dat betekent dat reguliere verhalen vroeger 55 of meer pagina's waren (t/m nummer 217,1990), daarna 47 of 46  en tegenwoordig slechts 38 pagina's tellen."]
[null,"De gekalibreerde kwibus (44 pag, 1948) is om deze reden niet als kort verhaal maar als regulier verhaal geclassificeerd. Het vliegende hart (25 pag, 1952) is als kort verhaal geclassificeerd ivm de korte lengte en het verschijnen in de 'SW In het kort' reeks in 2023. "]
[null,"(beide zijn als apart album uitgegeven in de klassiek reeks)."]
[null,"Het vliegende hart uit 1952 met 25 pagina's is daarmee het oudste korte verhaal met meer dan 2 pagina's. Het is wel in de bovenstaande lijst vermeld als KVH 1wegens de verwijzing naar de Stripkatalogus en de kanten publicatie."]
[null,"De lange reclame verhalen Witte zwanen zwarte zwanen uit 1987 (voor Albert Hein, 47 pagina's) en Fata Morgana (voor De Efteling, 1988, 45 pagina's) zijn, net als in de stripkatalogus, daarmee korte verhalen omdat ze niet in de gewone reeks zijn opgenomen."]
[]
[null,"De korte verhalen zijn verder onderverdeeld op basis van pagina lengte:"]
[null,"KVH","Korte Verhalen, 20-38 pagina's."]
[null,"MKV","Mini Korte Verhalen, Langer dan 1 pagina en korter dan 20 pagina's."]
[null,"GAG","Gag, 1 pagina. 3 of 4 stroken."]
[null,"SNP","Snip, enkele plaatjes die een samenhangend verhaal vertellen. Minder dan 1 pagina en 3 plaatjes of meer."]
[null,"KHO","Korte Hommage. SW verhalen in opdracht van Standaard Uitgeverij, maar getekend door andere tekenaars. "]
[null,"LAM","Grappen van Lambik."]
[null,"INF","Info strip. Combinatie van tekstblokken en plaatjes, met tekst(balonnetjes) in de plaatjes. Meestal met extra informatie over een bepaald onderwerp of doel."]
[]
[null,"Verder zijn de volgende overige categorieën toegevoegd, om aan te geven dat dit geen korte verhalen zijn:"]
[null,"FRG","Fragment. Overgenomen uit andere verhalen. Geen apart kort verhaal."]
[null,"PAR","Parodie."]
[null,"OTH","Albums die niet in de bovenstaande categorieën vallen."]
[]
[null,"en ten slotte de gewone verhalen:"]
[null,"VER","Regulier verhaal, opgenomen in de reguliere rode of blauwe reeks, of als apart verhaal in de Klassiek reeks."]
[]
[]
[null,"Gelegenheids uitgaven"]
[null,null,"Als gelegenheids uitgaven zijn opgenomen: Soft cover uitgaven ter gelegenheid van een speciale gelegenheid. Uitgesloten zijn (commerciele) reeksen (zoals bijvoorbeeld voor Shell/Kruidvat) en uitgaven in zeer kleine oplage."]
[null,null,"Dit is een eerste aanzet die nog niet volledig zal zijn. Opmerkingen en aanvullingen zijn van harte welkom via het email adres onderaan."]
[]
[]
[]
[null,null,null,null,"bronnen"]
["Deze lijst is zo zogvuldig mogelijk samengestend met behulp van onderstaande lijsten en bronnen:",null,null,null,null,null,null,null,null,null,null,null,null,null,null,"Door:"]
["-",null,"De Stripkatalogus, Hans Matla (5e, 7e en 9e editie)",null,null,null,null,null,null,null,null,null,null,null,null," - Arjen Leine & Mark Ormel"]
["-",null,"Suske en Wiske op het www"]
["-",null,"Michael van Hartskamp Overzicht 1998",null,null,null,null,null,null,null,null,null,null,null,null,null,"pwd: detammetumi"]
["-",null,"Lastdodo"]
["-",null,"De Fameuze Fanclub"]
["-",null,"De totale tabel"]
["-",null,"Weetje van de Week, Kartoen Suske en Wiske Shop"]
["-",null,"Wikipedia"]
["-",null,"Wikiwand"]
["-",null,"4kleuren"]
["-",null,"Comicweb"]
["-",null,"Suske en Wiske Overzichtscatalogus"]
["-",null,"Catawiki"]
["-",null,"Vandersteen Catalogus, Silhouet 2004"]
["-",null,"Officiele Nederlandse Stripcatalogus, Silhouet 2006"]
["-",null,"Versus",null,null,null,null,null,null,null,null,null,null,null,null,"Voor correcties, vragen of opmerkingen:"]
["-",null,"Bibliografie Willy Vandersteen - Van Kitty Inno tot De Geuzen, Rolf de Ryck 1994",null,null,null,null,null,null,null,null,null,null,null,null,"Graag contact opnemen met "]
["-",null,"Aangevuld met eigen observaties en ervaringen",null,null,null,null,null,null,null,null,null,null,null,null,"detammetumi@gmail.com"]
[null,null,"...en iedereen die of alles wat ik nog vergeten ben."]

{"sheet":"Blauwe reeks","index":4,"n_rows":139,"n_cols":14,"rows_kept":139,"cut":false,"hidden":false,"merged":[[12,4,13,4],[10,1,11,1],[12,1,13,1],[12,7,13,7],[0,0,3,9],[8,1,9,1],[8,2,9,2],[8,7,9,7],[8,5,9,5],[8,3,9,3],[8,4,9,4],[10,9,11,9],[12,8,13,8],[133,1,133,4],[48,10,48,13],[4,0,5,7],[55,1,56,1],[55,2,56,2],[55,4,56,4],[55,3,56,3],[55,5,56,5],[55,6,56,6],[55,7,56,7],[55,8,56,8],[55,9,56,9],[8,8,9,8],[8,9,9,9],[8,6,9,6],[8,13,9,13],[8,12,9,12],[12,9,13,9],[10,7,11,7],[10,8,11,8],[10,10,11,10],[10,11,11,11],[10,13,11,13],[10,4,11,4],[12,10,13,10],[12,11,13,11],[12,13,13,13],[18,7,22,7],[18,8,22,8],[23,7,25,7],[23,8,25,8],[8,10,8,11],[14,1,17,1],[14,13,17,13],[14,4,17,4],[18,4,22,4],[23,4,25,4],[14,9,17,9],[18,9,22,9],[23,9,25,9],[14,10,17,10],[14,11,17,11],[18,10,22,10],[18,11,22,11],[18,13,22,13],[23,10,25,10],[23,11,25,11],[23,1,25,1],[18,1,22,1],[14,7,17,7],[14,8,17,8],[26,1,29,1],[35,1,36,1],[35,2,36,2],[23,13,25,13],[26,13,29,13],[26,9,29,9],[26,7,29,7],[26,8,29,8],[26,10,29,10],[26,11,29,11],[26,4,29,4],[46,10,47,13],[35,10,36,13],[35,8,36,8],[35,9,36,9],[35,4,36,4],[35,3,36,3],[35,5,36,5],[35,6,36,6],[35,7,36,7],[37,10,37,13],[38,10,38,13],[39,10,39,13],[40,10,40,13],[42,10,42,13],[41,10,41,13],[46,1,47,1],[46,2,47,2],[46,4,47,4],[46,3,47,3],[46,5,47,5],[46,6,47,6],[46,7,47,7],[46,8,47,8],[46,9,47,9],[81,10,82,13],[68,1,69,1],[68,2,69,2],[68,4,69,4],[68,3,69,3],[68,5,69,5],[68,6,69,6],[68,7,69,7],[68,8,69,8],[68,9,69,9],[68,10,69,13],[70,10,70,13],[71,10,71,13],[81,1,82,1],[81,2,82,2],[81,4,82,4],[81,3,82,3],[81,5,82,5],[81,6,82,6],[81,7,82,7],[81,8,82,8],[81,9,82,9],[72,10,72,13],[73,10,73,13],[94,10,95,13],[96,10,96,13],[97,10,97,13],[98,10,98,13],[99,10,99,13],[100,10,100,13],[101,10,101,13],[102,10,102,13],[103,10,103,13],[94,1,95,1],[94,2,95,2],[94,4,95,4],[94,3,95,3],[94,5,95,5],[94,6,95,6],[94,7,95,7],[94,8,95,8],[94,9,95,9],[87,10,90,13],[83,2,86,2],[83,3,86,3],[83,5,86,5],[83,6,86,6],[87,3,90,3],[87,5,90,5],[87,6,90,6],[87,2,90,2],[83,10,86,11],[83,12,83,13],[84,12,84,13],[85,12,85,13],[86,12,86,13],[74,10,74,13],[75,10,75,13],[76,10,76,13],[77,10,77,13],[49,10,49,13],[51,10,51,13],[50,10,50,13],[55,10,56,13],[57,10,57,13],[58,10,58,13],[59,10,59,13],[60,10,60,13],[61,10,61,13],[62,10,62,13],[63,10,63,13],[64,10,64,13]]}
["Suske en Wiske"]
[null,null,null,null,null,null,null,null,null,null,null,null,"De blauwe reeks verhalen zijn getekend voor het weekblad Kuifje in de jaren '50."]
[null,null,null,null,null,null,null,null,null,null,null,null,"De daarop volgende album uitgaven waren de eerste Suske en Wiske albums die in kleur verschenen."]
[null,null,null,null,null,null,null,null,null,null,null,null,"De uitgaven in de onderstaande tabellen hebben allen een blauwe cover, met uitzondering "]
["de blauwe reeks",null,null,null,null,null,null,null,null,null,null,null," van de cover vullende versies van Het Spaanse spook."]
[null,null,null,null,null,null,null,null,null,null,null,null,"Alleen reguliere uitgaven zijn vermeld (geen luxe uitgaven, of uitgaven in zeer kleine oplage)."]
[]
[]
[null,"Nr","Album\njaar","Druk","Titel","Lastdodo nr","Kaft","Rode reeks nr","Pagina's","Kleur","Weekblad Kuifje",null,"Laatst vermelde titel Rode reeks op achtercover","Opmerking"]
[null,null,null,null,null,null,null,null,null,null,"Aankondiging","1e strook"]
[null,"B1","1952-01-01","1e druk","Het Spaanse spook",2,"Mat",150,{"$f":"69+1","v":70},"2 kleuren","1948-09-09","1948-09-16","De sterrenplukkers","In weekblad Kuifje en Ons Vokske 69 pagina's, in album eerste 4 pagina's hertekend tot 1 pagina extra."]
[null,null,"1953-01-01","2e druk",null,2,"Mat",null,null,null,null,null,"De tamtamklopper"]
[null,"B2","1952-01-01","1e druk","De bronzen sleutel","1a","Mat",116,62,"4 kleuren","1950-03-02","1950-03-02","Het bevroren vuur (in voorbereiding), Snoek in den hoek ","In Rode reeks 7 pagina's verkort tot 55 pagina's."]
[null,null,"1952-01-01","2e druk","De bronzen sleutel","1b","Mat",null,null,null,null,null,"Het bevroren vuur, Snoek 9 - Snoek heeft ambras"]
[null,"B3","1953-01-01","1e druk","De Tartaarse helm",3,"Mat",114,62,"4 kleuren","1951-05-09","1951-05-16","De dolle musketiers (in voorbereiding)","In Rode reeks 7 pagina's verkort tot 55 pagina's. \nDe uitgaven uit de jaren '50 hebben de oorspronkelijke tekeningen van voor de toevoeging van de anachronismen (zie onder)."]
[null,null,"1954-01-01","2e druk",null,3,"Mat",null,null,null,null,null,"De ijzeren schelvis (in voorbereiding)"]
[null,null,"1957-01-01","3e druk",null,3,"Geplastificeerd",null,null,null,null,null,"De stemmenrover (in voorbereiding)"]
[null,null,"1958-01-01","4e druk",null,3,"Geplastificeerd",null,null,null,null,null,"De Zwarte Zwaan (in voorbereiding)"]
[null,"B4","1954-01-01","1e druk","De schat van Beersel",4,"Mat",111,64,"4 kleuren","1952-07-16","1952-07-23","De circusbaron (in voorbereiding)","In Rode reeks 9 pagina's verkort tot 55 pagina's. Een pagina is hergemonteerd en is er door Paul Geerts een los plaatje bijgetekend, pagina 43-44."]
[null,null,"1955-01-01","2e druk",null,4,"Mat",null,null,null,null,null,"De straatridder (in voorbereiding)"]
[null,null,"1956-01-01","3e druk",null,"4a","Mat",null,null,null,null,null,"De spokenjagers (in voorbereiding)"]
[null,null,"1956-01-01","3e druk",null,"4b","Geplastificeerd",null,null,null,null,null,"De spokenjagers (in voorbereiding)"]
[null,null,"1957-01-01","4e druk",null,4,"Geplastificeerd",null,null,null,null,null,"De mottenvanger (in voorbereiding)"]
[null,"B5","1955-01-01","1e druk","Het geheim der gladiatoren",5,"Mat",113,61,"4 kleuren","1953-10-14","1953-10-14","De straatridder (in voorbereiding)","Titel in Kuifje: 'Goud voor Rome'. Album titel is een vertaling van Franse titel 'Le gladiateur mystère. In Rode reeks 6 pagina's verkort tot 55 pagina's. Hierbij zijn 12 stroken volledig hertekend door Paul Geerts, pagina 52 t/m 55 . Vermoedelijk ivm te slechte kwaliteit. "]
[null,null,"1956-01-01","2e druk",null,5,"Mat",null,null,null,null,null,"De spokenjagers"]
[null,null,"1958-01-01","3e druk",null,5,"Mat",null,null,null,null,null,"De geverniste zeerovers (in voorbereiding)"]
[null,"B6","1956-01-01","1e druk","De gezanten van Mars","6a","Geplastificeerd",115,62,"4 kleuren","geen aankondiging","1955-02-02","De spokenjagers","In Rode reeks 7 pagina's verkort tot 55 pagina's."]
[null,null,"1956-01-01","2e druk",null,"6b","Mat",null,null,null,null,null,"De spokenjagers"]
[null,null,"1956-01-01","3e druk",null,"6c","Geplastificeerd",null,null,null,null,null,"De snorrende Snor (in voorbereiding)"]
[null,null,"1957-01-01","4e druk",null,6,"Geplastificeerd",null,null,null,null,null,"De stemmenrover (in voorbereiding)"]
[null,"B7","1957-01-01","1e druk","De groene splinter",7,"Geplastificeerd",112,62,"4 kleuren","1956-06-27","1956-07-04","Het sprekende testament (in voorbereiding)","In Rode reeks 7 pagina's verkort tot 55 pagina's."]
[null,"B8","1997-10-01","1e druk","Het gouden paard","-","HC",100,61,"4 kleuren","geen aankondiging","1958-02-26","-","Niet verschenen als album in de jaren '50. Voor het eerst in grote oplage compleet verschenen in de Klassiek reeks (1997). In Rode reeks (1969) 6 pagina's verkort tot 55 pagina's."]
[]
[]
[null,"bibliofile uitgave",null,null,null,"hard cover met linnen rug; De pagina's zijn een kopie en daardor zijn de kleuren niet altijd volledig uitgelijnd"]
[null,"Nr","Album\ndatum","Druk","Titel","Lastdodo nr","Kaft","Rode reeks nr","Pagina's","Kleur","Opmerking"]
[]
[null,"B1","1983-10-01","1e druk","Het Spaanse spook",1,"HC",150,70,"2 kleuren"]
[null,"B2","1983-10-01","1e druk","De bronzen sleutel",2,"HC",116,62,"4 kleuren"]
[null,"B3","1983-10-01","1e druk","De Tartaarse helm",3,"HC",114,62,"4 kleuren","Oorspronkelijke tekeningen van voor de toevoeging van de anachronismen (zie onder)."]
[null,"B4","1983-10-01","1e druk","De schat van Beersel",4,"HC",111,64,"4 kleuren"]
[null,"B5","1984-01-01","1e druk","Het geheim der Gladiatoren",5,"HC",113,61,"4 kleuren"]
[null,"B6","1984-01-01","1e druk","De gezanten van Mars",6,"HC",115,62,"4 kleuren"]
[]
[]
[null,"blauwe reeks pockets",null,null,null,null,null,null,"soft cover mini album, gratis bijlage bij aankoop van een Suske en Wiske, zomeractie 2003"]
[null,"Nr","Album\njaar","Druk","Titel","Lastdodo nr","Kaft","Rode reeks nr","Pagina's","Kleur","Opmerking"]
[]
[null,"B4","2003-01-01","1e druk","De schat van Beersel",1,"HC",111,64,"ongekleurd"]
[null,"B1","2003-01-01","1e druk","Het Spaanse spook",2,"HC",150,69,"ongekleurd","Oorspronkelijke eerste 4 pagina's van voor hertekening en daardoor 69 pagina's. Ongekleurd."]
[null,"B3","2003-01-01","1e druk","De Tartaarse helm",3,"HC",114,62,"ongekleurd","Met toegevoegde anachronismen (zie onder)."]
[null,"B2","2003-01-01","1e druk","De bronzen sleutel",4,"HC",116,62,"ongekleurd"]
[]
[]
[null,"klassiek blauwe reeks",null,null,null,null,null,null,"hard cover met linnen rug en losse infokaart"]
[null,"Nr","Album\ndatum","Druk","Titel","Lastdodo nr","Kaft","Rode reeks nr","Pagina's","Kleur","Opmerking"]
[]
[null,"B1","1993-11-01","1e druk","Het Spaanse spook",1,"HC",150,69,"4 kleuren","Oorspronkelijke eerste 4 pagina's van voor hertekening en daardoor 69 pagina's. Ongekleurd."]
[null,"B2","1994-11-01","1e druk","De bronzen sleutel",2,"HC",116,62,"4 kleuren"]
[null,"B3","1995-05-01","1e druk","De Tartaarse helm",3,"HC",114,62,"4 kleuren"]
[null,"B4","1995-10-01","1e druk","De schat van Beersel",4,"HC",111,64,"4 kleuren"]
[null,"B5","1996-05-01","1e druk","Goud voor Rome",5,"HC",113,61,"4 kleuren"]
[null,"B6","1996-10-01","1e druk","De gezanten van Mars",6,"HC",115,62,"4 kleuren"]
[null,"B7","1997-04-01","1e druk","De groene splinter",7,"HC",112,62,"4 kleuren"]
[null,"B8","1997-10-01","1e druk","Het gouden paard",8,"HC",100,61,"4 kleuren"]
[]
[]
[null,"het laatste nieuws",null,null,null,null,null,null,"hard cover met brede linnen rug"]
[null,"Nr","Album\ndatum","Druk","Titel","Lastdodo nr","Kaft","Rode reeks nr","Pagina's","Kleur","Opmerking"]
[]
[null,"B1","2010-05-01","1e druk","Het Spaanse spook",1,"HC",150,69,"4 kleuren","Oorspronkelijke eerste 4 pagina's van voor hertekening en daardoor 69 pagina's. Ongekleurd."]
[null,"B2","2010-05-01","1e druk","De bronzen sleutel",2,"HC",116,62,"4 kleuren"]
[null,"B3","2010-05-01","1e druk","De Tartaarse helm",3,"HC",114,62,"4 kleuren","Met toegevoegde anachronismen (zie onder)."]
[null,"B4","2010-05-01","1e druk","De schat van Beersel",4,"HC",111,64,"4 kleuren"]
[null,"B5","2010-05-01","1e druk","Goud voor Rome",5,"HC",113,61,"4 kleuren"]
[null,"B6","2010-05-01","1e druk","De gezanten van Mars",6,"HC",115,62,"4 kleuren"]
[null,"B7","2010-05-01","1e druk","De groene splinter",7,"HC",112,62,"4 kleuren"]
[null,"B8","2010-05-01","1e druk","Het gouden paard",8,"HC",100,61,"4 kleuren"]
[]
[]
[null,"standaard bundelingen",null,null,null,null,null,null,"hard cover bundeling"]
[null,"Nr","Album\ndatum","Druk","Titel","Lastdodo nr","Kaft","Rode reeks nr","Pagina's","Kleur","Opmerking"]
[]
[null,"B1","2020-07-01","1e druk","Het Spaanse spook",1,"HC",150,69,"4 kleuren","De blauwe reeks - Deel 1",null,"Oorspronkelijke eerste 4 pagina's van voor hertekening en daardoor 69 pagina's. In 4 kleuren."]
[null,"B2",null,null,"De bronzen sleutel",null,null,116,62,"4 kleuren"]
[null,"B3",null,null,"De Tartaarse helm",null,null,114,62,"4 kleuren",null,null,"Met toegevoegde anachronismen (zie onder)."]
[null,"B4",null,null,"De schat van Beersel",null,null,111,64,"4 kleuren"]
[null,"B5","2020-09-01","1e druk","Goud voor Rome",2,"HC",113,61,"4 kleuren","De blauwe reeks - Deel 2"]
[null,"B6",null,null,"De gezanten van Mars",null,null,115,62,"4 kleuren"]
[null,"B7",null,null,"De groene splinter",null,null,112,62,"4 kleuren"]
[null,"B8",null,null,"Het gouden paard",null,null,100,61,"4 kleuren"]
[]
[]
[null,"Humo"]
[null,"Nr","Album\ndatum","Druk","Titel","Lastdodo nr","Kaft","Rode reeks nr","Pagina's","Kleur","Opmerking"]
[]
[null,"B1","2020-10-27","1e druk","Het Spaanse spook",1,"HC",150,69,"4 kleuren","Oorspronkelijke eerste 4 pagina's van voor hertekening en daardoor 69 pagina's. Ongekleurd."]
[null,"B2","2020-11-03","1e druk","De bronzen sleutel",2,"HC",116,62,"4 kleuren"]
[null,"B3","2020-11-10","1e druk","De Tartaarse helm",3,"HC",114,62,"4 kleuren"]
[null,"B4","2020-11-17","1e druk","De schat van Beersel",4,"HC",111,64,"4 kleuren"]
[null,"B5","2020-11-24","1e druk","Goud voor Rome",5,"HC",113,61,"4 kleuren"]
[null,"B6","2020-12-01","1e druk","De gezanten van Mars",6,"HC",115,62,"4 kleuren"]
[null,"B7","2020-12-08","1e druk","De groene splinter",7,"HC",112,62,"4 kleuren"]
[null,"B8","2020-12-14","1e druk","Het gouden paard",8,"HC",100,61,"4 kleuren"]
[]
[null,"Aantal pagina's Spaanse Spook:"]
[null,"- Voor Het Spaanse spook is voor de huidige meeste versies de niet hertekende versie van 69 pagina's gebruikt, zoals in het weekblad Kuifje. "]
[null,"  De niet hertekende versie met 69 pagina's is ook te vinden in het kennismakingsdeel van Lekturama Suske en Wiske Collectie (1997), Blauwe reeks Pocket deel 2 (2003)  en Classics reeks deel 21 (2019)."]
[null,"- De hertekende versie met 70 pagina's is te vinden in de oorspronkelijke blauwe reeks albums uit de jaren '50, Rode Reeks nummer 150, 25 jaar Jubileumeditie (1972), Bibliofiele uitgave (1983),"]
[null,"  De Gouden Collectie deel 3 (AD, 2013) en De Strafste Strips deel 7 (Het Laatste Nieuws, 2015)."]
[]
[null,"Anachronismen in De Tartaarse helm"]
[null,"- In diverse herdrukken van De Tartaarse helm zijn de onderstaande anachronismen toegevoegd. Het meest bekende is de toevoeging van het fietsertje. "]
[null,"- De toevoegingen waren voor het eerst al in de uitgaven van het blad De Nieuwe Revue (in de Jeugd Revue) dat werd gepubliceerd van 27 april 1957 tot 8 maart 1958. "]
[null,"- De toevoegingen staan onder andere in de Rode reeks nr 114 en in de boven vermelde uitgaven. De toevoegingen staan niet in de oorspronkelijke blauwe reeks album uit de jaren '50 en de bibliofiele uitgave van 1983."]
[null," Lijst met anachronismen:"]
[null,null,"Blz 9 voorlaatste plaatje",null,"Rechter rabauw draagt polshorloge"]
[null,null,"Blz 14 plaatje 7",null,"Meeuw draagt hoedje"]
[null,null,"Blz 16 plaatje 5",null,"Linker toehoorder heeft barjonet"]
[null,null,"Blz 16 voorlaatste plaatje",null,"Vier meeuwen rond de mast en de staart van een walvis toegevoegd"]
[null,null,"Blz 17 plaatje 7",null,"20e eeuws pistool in hand van boogschutter"]
[null,null,"Blz 22 eerste plaatje",null,"Fietsje met pastoor toegevoegd. Wambuis en de arm van de roeier zijn niet wit maar rood (nr 114) of groen (2010)"]
[null,null,"Blz 23 plaatje 8",null,"Rechtsonder silhouet van een muisje toegevoegd"]
[null,null,"Blz 24 plaatje 7",null,"Bovenste rol heeft de titel van de krant 'Parool', overige rollen getiteld 'Lide','Marg..t', 'Re..' "]
[]
[null,"Hertekening voor Rode reeks door Paul Geerts"]
[null,"Vanwege het inkorten voor de Rode reeks is men in 1971 op wat problemen gestuit."]
[null,"- De schat van Beersel: een pagina hergemonteerd en is er door Paul Geerts een los plaatje bijgetekend. Pagina 43-44."]
[null,"- Het geheim van de gladiatoren: twaalf opeenvolgende stroken volledig hertekend door Paul Geerts, pagina 52-55. Vermoedelijk waren ze van dermate slechte kwaliteit dat ze niet meer te reproduceren waren. "]
[null,"In diverse blauwe reeks heruitgaven zijn wel de originele stroken te zien, omdat daarvoor Kuifje-pagina's zijn gescand. Het geheim van de gladiatoren uit de Classics-reeks bevat overigens net als het rode reeks-album gewoon de hertekende stroken van Paul Geerts. "]
[]
[null,"Bronnen:"]
[null,"- Lastdodo"]
[null,"- Weetje van de Week, Kartoen Suske en Wiske Shop"]
[]
[null,"Vragen / hulp:"]
[null,{"$f":"\"De onderstaande onderwerpen zijn mij nog niet duidelijk. Hulp is zeer welkom, graag contact opnemen met:\"","v":"De onderstaande onderwerpen zijn mij nog niet duidelijk. Hulp is zeer welkom, graag contact opnemen met:"},null,null,null,null,null,null,null,"detammetumi@gmail.com"]
[null,null,"- De Tartaarse helm - Klassiek Blauwe reeks - Bevat deze uitgave de bovengenoemde anachronismen?"]
[null,null,"- De Tartaarse helm - Humo- Bevat deze uitgave de bovengenoemde anachronismen?"]

{"sheet":"Rode Reeks Ongekleurd","index":5,"n_rows":624,"n_cols":12,"rows_kept":624,"cut":false,"hidden":false,"merged":[[465,11,466,15],[458,1,459,1],[458,7,459,7],[458,8,459,8],[458,2,459,2],[458,3,459,3],[569,1,570,1],[569,2,570,2],[569,3,570,3],[569,4,570,4],[569,5,570,5],[569,6,570,6],[542,1,544,1],[537,1,541,1],[525,1,528,1],[525,2,528,2],[525,3,528,3],[525,4,528,4],[525,5,528,5],[525,6,528,6],[529,1,532,1],[462,3,464,3],[462,4,464,4],[462,5,464,5],[485,4,486,4],[479,2,481,2],[482,4,484,4],[492,1,495,1],[492,2,495,2],[492,3,495,3],[492,4,495,4],[485,1,486,1],[485,2,486,2],[485,3,486,3],[436,11,436,15],[443,4,444,4],[431,6,432,6],[433,1,435,1],[433,2,435,2],[433,3,435,3],[433,4,435,4],[433,5,435,5],[433,6,435,6],[432,11,432,15],[468,1,470,1],[475,1,478,1],[482,1,484,1],[468,5,470,5],[468,6,470,6],[471,5,474,5],[471,6,474,6],[471,11,472,15],[476,11,476,15],[477,11,478,15],[460,5,461,5],[461,11,461,15],[465,6,467,6],[467,11,467,15],[475,5,478,5],[475,6,478,6],[479,5,481,5],[479,6,481,6],[482,6,484,6],[483,11,484,15],[492,5,495,5],[492,6,495,6],[492,11,493,15],[494,11,495,15],[485,5,486,5],[458,9,459,9],[458,4,459,4],[460,1,461,1],[460,2,461,2],[460,3,461,3],[460,4,461,4],[465,1,467,1],[465,2,467,2],[465,3,467,3],[465,4,467,4],[482,5,484,5],[471,1,474,1],[471,2,474,2],[471,3,474,3],[460,6,461,6],[487,1,491,1],[487,2,491,2],[487,3,491,3],[465,5,467,5],[479,1,481,1],[479,3,481,3],[468,4,470,4],[475,2,478,2],[475,3,478,3],[475,4,478,4],[479,4,481,4],[482,2,484,2],[446,1,447,1],[446,2,447,2],[446,3,447,3],[446,4,447,4],[446,5,447,5],[446,6,447,6],[458,5,459,5],[458,6,459,6],[458,11,459,15],[450,11,450,15],[446,11,446,15],[447,11,447,15],[449,11,449,15],[448,11,448,15],[464,11,464,15],[462,6,464,6],[462,11,463,15],[460,11,460,15],[453,1,456,1],[462,1,464,1],[462,2,464,2],[453,2,456,6],[426,1,427,1],[426,2,427,2],[426,3,427,3],[426,4,427,4],[426,5,427,5],[426,11,426,15],[427,11,427,15],[426,6,427,6],[437,1,438,1],[437,2,438,2],[437,3,438,3],[437,4,438,4],[437,5,438,5],[437,6,438,6],[439,1,440,1],[439,2,440,2],[439,3,440,3],[439,4,440,4],[439,5,440,5],[439,6,440,6],[439,11,440,15],[431,11,431,15],[430,11,430,15],[428,6,429,6],[428,5,429,5],[428,4,429,4],[428,3,429,3],[428,2,429,2],[428,1,429,1],[428,11,429,15],[431,2,432,2],[443,1,444,1],[443,2,444,2],[443,3,444,3],[443,5,444,5],[443,6,444,6],[431,1,432,1],[433,11,434,15],[437,11,437,15],[401,1,404,1],[401,2,404,2],[401,3,404,3],[401,4,404,4],[401,5,404,5],[401,6,404,6],[402,11,402,15],[403,11,403,15],[404,11,404,15],[410,3,411,3],[405,1,407,1],[405,2,407,2],[405,3,407,3],[405,4,407,4],[405,5,407,5],[405,6,407,6],[406,11,406,15],[411,11,411,15],[408,1,409,1],[408,3,409,3],[408,2,409,2],[408,4,409,4],[408,5,409,5],[408,6,409,6],[366,11,367,15],[362,11,365,15],[357,11,357,15],[359,1,361,1],[359,2,361,2],[359,3,361,3],[359,4,361,4],[359,5,361,5],[398,1,400,1],[398,2,400,2],[398,3,400,3],[398,4,400,4],[398,5,400,5],[398,6,400,6],[399,11,399,15],[400,11,400,15],[378,11,378,15],[376,11,377,15],[372,3,377,3],[372,2,377,2],[378,3,383,3],[378,4,383,4],[378,5,383,5],[378,6,383,6],[379,11,379,15],[383,11,383,15],[380,11,382,15],[362,1,367,1],[362,2,367,2],[362,3,367,3],[362,4,367,4],[391,1,393,1],[345,9,346,9],[285,11,285,15],[276,11,276,15],[277,11,277,15],[278,11,278,15],[347,1,349,1],[347,2,349,2],[347,3,349,3],[347,4,349,4],[347,5,349,5],[349,11,349,15],[347,6,349,6],[308,11,308,15],[316,11,316,15],[288,11,288,15],[289,11,289,15],[290,11,290,15],[291,11,291,15],[292,11,292,15],[293,11,293,15],[293,2,300,2],[293,1,300,1],[341,2,343,6],[338,11,338,15],[331,11,331,15],[308,4,316,4],[308,5,316,5],[308,6,316,6],[312,11,312,15],[335,4,337,4],[335,5,337,5],[326,11,326,15],[351,11,351,15],[282,11,282,15],[283,11,283,15],[275,1,283,1],[275,2,283,2],[275,3,283,3],[275,4,283,4],[275,5,283,5],[59,11,59,15],[248,11,248,15],[249,11,249,15],[250,11,250,15],[251,11,251,15],[252,11,252,15],[237,11,237,15],[238,11,238,15],[239,11,239,15],[240,11,240,15],[266,1,274,1],[266,2,274,2],[266,3,274,3],[266,4,274,4],[266,5,274,5],[266,6,274,6],[246,1,255,1],[246,2,255,2],[270,11,270,15],[256,11,256,15],[246,11,246,15],[256,3,265,3],[345,2,346,2],[345,8,346,8],[18,11,18,15],[19,11,19,15],[21,11,21,15],[22,11,22,15],[23,11,23,15],[24,11,24,15],[36,1,43,1],[36,2,43,2],[36,3,43,3],[36,4,43,4],[36,5,43,5],[36,6,43,6],[40,11,40,15],[27,1,35,1],[27,2,35,2],[27,3,35,3],[27,4,35,4],[27,5,35,5],[27,6,35,6],[27,11,27,15],[36,11,36,15],[38,11,38,15],[37,11,37,15],[39,11,39,15],[41,11,41,15],[42,11,42,15],[43,11,43,15],[35,11,35,15],[28,11,28,15],[29,11,29,15],[169,11,169,15],[170,11,170,15],[171,11,171,15],[172,11,172,15],[184,11,184,15],[161,11,161,15],[17,5,26,5],[17,4,26,4],[17,2,26,2],[14,3,15,3],[0,0,3,6],[9,0,10,3],[11,1,12,1],[11,2,12,5],[14,1,15,1],[14,7,15,7],[14,2,15,2],[14,8,15,8],[14,9,15,9],[4,0,7,3],[17,3,26,3],[17,1,26,1],[14,4,15,4],[14,5,15,5],[14,6,15,6],[17,6,26,6],[11,7,12,15],[25,11,25,15],[26,11,26,15],[16,11,16,15],[17,11,17,15],[14,11,15,15],[186,11,186,15],[187,11,187,15],[30,11,30,15],[34,11,34,15],[33,11,33,15],[32,11,32,15],[31,11,31,15],[57,11,57,15],[77,11,77,15],[78,11,78,15],[79,11,79,15],[80,11,80,15],[81,11,81,15],[82,11,82,15],[83,11,83,15],[84,11,84,15],[71,11,71,15],[105,11,105,15],[106,11,106,15],[96,11,96,15],[73,11,73,15],[72,11,72,15],[74,11,74,15],[75,11,75,15],[89,11,89,15],[92,11,92,15],[93,11,93,15],[130,11,130,15],[132,11,132,15],[133,11,133,15],[134,11,134,15],[135,11,135,15],[274,11,274,15],[262,11,262,15],[263,11,263,15],[264,11,264,15],[257,11,257,15],[258,11,258,15],[273,11,273,15],[256,4,265,4],[256,5,265,5],[256,6,265,6],[260,11,260,15],[261,11,261,15],[259,11,259,15],[265,11,265,15],[272,11,272,15],[293,4,300,4],[275,6,283,6],[298,11,298,15],[284,11,284,15],[275,11,275,15],[266,11,266,15],[296,11,296,15],[297,11,297,15],[280,11,280,15],[281,11,281,15],[279,11,279,15],[194,11,194,15],[195,11,195,15],[196,11,196,15],[144,11,144,15],[146,11,146,15],[191,11,191,15],[215,11,215,15],[216,11,216,15],[345,4,346,4],[345,5,346,5],[345,6,346,6],[345,11,346,15],[302,11,302,15],[303,11,303,15],[304,11,304,15],[305,11,305,15],[306,11,306,15],[307,11,307,15],[337,11,337,15],[185,11,185,15],[214,11,214,15],[202,11,202,15],[217,11,217,15],[220,11,220,15],[221,11,221,15],[208,11,208,15],[209,11,209,15],[210,11,210,15],[211,11,211,15],[212,11,212,15],[233,11,233,15],[271,11,271,15],[86,5,95,5],[147,11,147,15],[173,11,173,15],[76,11,76,15],[86,6,95,6],[88,11,88,15],[87,11,87,15],[90,11,90,15],[311,11,311,15],[313,11,313,15],[314,11,314,15],[315,11,315,15],[247,11,247,15],[222,6,232,6],[242,11,242,15],[231,11,231,15],[232,11,232,15],[267,11,267,15],[268,11,268,15],[269,11,269,15],[118,11,118,15],[131,11,131,15],[143,11,143,15],[153,11,153,15],[253,11,253,15],[255,11,255,15],[254,11,254,15],[188,11,188,15],[189,11,189,15],[190,11,190,15],[91,11,91,15],[193,11,193,15],[44,1,56,1],[44,2,56,2],[44,3,56,3],[44,4,56,4],[44,5,56,5],[44,6,56,6],[44,11,44,15],[45,11,45,15],[46,11,46,15],[47,11,47,15],[48,11,48,15],[49,11,49,15],[55,11,55,15],[56,11,56,15],[54,11,54,15],[53,11,53,15],[52,11,52,15],[51,11,51,15],[50,11,50,15],[94,11,94,15],[95,11,95,15],[86,11,86,15],[57,1,70,1],[57,2,70,2],[57,3,70,3],[57,4,70,4],[70,11,70,15],[57,5,70,5],[57,6,70,6],[60,11,60,15],[58,11,58,15],[62,11,62,15],[61,11,61,15],[63,11,63,15],[67,11,67,15],[68,11,68,15],[69,11,69,15],[66,11,66,15],[65,11,65,15],[64,11,64,15],[71,5,85,5],[71,6,85,6],[85,11,85,15],[71,1,85,1],[71,2,85,2],[71,3,85,3],[71,4,85,4],[86,1,95,1],[86,2,95,2],[86,3,95,3],[86,4,95,4],[96,1,108,1],[96,2,108,2],[96,3,108,3],[96,4,108,4],[96,5,108,5],[96,6,108,6],[100,11,100,15],[107,11,107,15],[108,11,108,15],[97,11,97,15],[98,11,98,15],[99,11,99,15],[101,11,101,15],[102,11,102,15],[103,11,103,15],[104,11,104,15],[153,1,161,1],[153,2,161,2],[148,11,148,15],[149,11,149,15],[150,11,150,15],[151,11,151,15],[113,11,113,15],[118,1,130,1],[118,2,130,2],[118,3,130,3],[118,4,130,4],[118,5,130,5],[118,6,130,6],[114,11,114,15],[115,11,115,15],[116,11,116,15],[109,1,117,1],[109,2,117,2],[131,1,142,1],[131,2,142,2],[143,1,152,1],[143,2,152,2],[143,3,152,3],[143,4,152,4],[143,5,152,5],[143,6,152,6],[152,11,152,15],[145,11,145,15],[117,11,117,15],[119,11,119,15],[120,11,120,15],[121,11,121,15],[109,3,117,3],[109,4,117,4],[109,5,117,5],[109,6,117,6],[112,11,112,15],[131,5,142,5],[109,11,111,15],[122,11,122,15],[153,3,161,3],[153,4,161,4],[153,5,161,5],[153,6,161,6],[154,11,154,15],[155,11,155,15],[156,11,156,15],[157,11,157,15],[158,11,158,15],[159,11,159,15],[160,11,160,15],[129,11,129,15],[123,11,128,15],[131,3,142,3],[131,4,142,4],[131,6,142,6],[136,11,136,15],[137,11,137,15],[138,11,138,15],[139,11,139,15],[140,11,140,15],[141,11,141,15],[142,11,142,15],[173,1,181,1],[173,2,181,2],[173,3,181,3],[173,4,181,4],[173,5,181,5],[173,6,181,6],[165,11,168,15],[183,11,183,15],[174,11,174,15],[175,11,175,15],[176,11,176,15],[177,11,177,15],[178,11,178,15],[179,11,179,15],[180,11,180,15],[181,11,181,15],[162,1,172,1],[162,2,172,2],[162,3,172,3],[162,4,172,4],[162,5,172,5],[162,6,172,6],[182,11,182,15],[162,11,162,15],[182,1,190,1],[182,2,190,2],[182,3,190,3],[182,4,190,4],[182,5,190,5],[182,6,190,6],[163,11,163,15],[164,11,164,15],[214,3,221,3],[191,1,201,1],[191,2,201,2],[191,3,201,3],[191,4,201,4],[191,5,201,5],[191,6,201,6],[197,11,197,15],[198,11,198,15],[199,11,199,15],[200,11,200,15],[201,11,201,15],[192,11,192,15],[202,1,213,1],[202,2,213,2],[202,3,213,3],[202,4,213,4],[202,5,213,5],[202,6,213,6],[203,11,203,15],[204,11,204,15],[205,11,205,15],[206,11,206,15],[207,11,207,15],[214,2,221,2],[214,4,221,4],[214,5,221,5],[214,6,221,6],[214,1,221,1],[213,11,213,15],[218,11,218,15],[219,11,219,15],[233,1,245,1],[243,2,245,2],[233,2,242,2],[233,3,245,3],[233,4,245,4],[233,5,245,5],[233,6,245,6],[222,3,232,3],[222,4,232,4],[222,5,232,5],[222,1,232,1],[222,2,232,2],[309,11,309,15],[310,11,310,15],[308,1,316,1],[308,2,316,2],[241,11,241,15],[234,11,234,15],[235,11,235,15],[236,11,236,15],[223,11,230,15],[245,11,245,15],[244,11,244,15],[243,11,243,15],[222,11,222,15],[293,5,300,5],[293,6,300,6],[285,6,292,6],[286,11,286,15],[287,11,287,15],[294,11,294,15],[295,11,295,15],[246,3,255,3],[246,4,255,4],[246,5,255,5],[246,6,255,6],[293,3,300,3],[308,3,316,3],[256,2,265,2],[256,1,265,1],[335,11,335,15],[335,1,337,1],[335,2,337,2],[335,3,337,3],[285,1,292,1],[285,2,292,2],[285,3,292,3],[285,4,292,4],[285,5,292,5],[317,1,326,1],[317,2,326,2],[317,3,326,3],[317,4,326,4],[317,5,326,5],[317,6,326,6],[325,11,325,15],[324,11,324,15],[323,11,323,15],[322,11,322,15],[321,11,321,15],[319,11,319,15],[317,11,317,15],[320,11,320,15],[318,11,318,15],[301,1,307,1],[301,2,307,2],[301,3,307,3],[301,4,307,4],[301,5,307,5],[301,6,307,6],[301,11,301,15],[327,1,330,1],[327,2,330,2],[327,3,330,3],[327,4,330,4],[327,5,330,5],[327,6,330,6],[328,11,328,15],[330,11,330,15],[329,11,329,15],[327,11,327,15],[331,1,334,1],[331,2,334,2],[331,3,334,3],[331,4,334,4],[331,5,334,5],[331,6,334,6],[332,11,332,15],[333,11,333,15],[334,11,334,15],[359,6,361,6],[359,11,361,15],[372,5,377,5],[372,6,377,6],[378,2,383,2],[341,1,343,1],[352,1,353,1],[352,2,353,2],[352,3,353,3],[352,4,353,4],[352,5,353,5],[352,6,353,6],[355,1,358,1],[355,2,358,2],[355,3,358,3],[355,4,358,4],[355,5,358,5],[355,6,358,6],[362,5,367,5],[362,6,367,6],[354,11,354,15],[355,11,355,15],[372,1,377,1],[378,1,383,1],[372,11,375,15],[371,11,371,15],[368,11,370,15],[341,7,343,18],[348,11,348,15],[345,1,346,1],[345,7,346,7],[410,2,411,2],[335,6,337,6],[336,11,336,15],[384,1,387,1],[388,1,390,1],[384,3,387,3],[384,4,387,4],[384,5,387,5],[384,6,387,6],[391,2,393,2],[391,4,393,4],[391,5,393,5],[391,6,393,6],[391,3,393,3],[393,11,393,15],[391,11,392,15],[352,11,352,15],[353,11,353,15],[388,2,390,2],[388,3,390,3],[388,4,390,4],[388,5,390,5],[388,6,390,6],[390,11,390,15],[347,11,347,15],[350,11,350,15],[345,3,346,3],[387,11,387,15],[384,11,386,15],[358,11,358,15],[356,11,356,15],[384,2,387,2],[410,11,410,15],[424,1,425,1],[424,7,425,7],[424,8,425,8],[368,1,371,1],[414,1,417,1],[414,2,417,2],[414,3,417,3],[414,4,417,4],[414,5,417,5],[414,6,417,6],[394,1,397,1],[394,2,397,2],[394,3,397,3],[394,4,397,4],[412,2,413,2],[412,1,413,1],[412,4,413,4],[424,4,425,4],[424,5,425,5],[372,4,377,4],[420,1,422,1],[420,2,422,5],[424,6,425,6],[424,2,425,2],[424,9,425,9],[394,5,397,5],[394,6,397,6],[412,3,413,3],[412,5,413,5],[412,6,413,6],[410,1,411,1],[499,11,499,15],[482,3,484,3],[496,11,496,15],[475,11,475,15],[479,11,479,15],[497,11,497,15],[468,11,469,15],[470,11,470,15],[395,11,395,15],[397,11,397,15],[424,3,425,3],[424,11,425,15],[414,11,414,15],[415,11,415,15],[416,11,416,15],[396,11,396,15],[398,11,398,15],[401,11,401,15],[407,11,407,15],[405,11,405,15],[435,11,435,15],[431,3,432,3],[431,4,432,4],[480,11,480,15],[481,11,481,15],[445,11,445,15],[420,7,422,18],[410,6,411,6],[410,5,411,5],[410,4,411,4],[413,11,413,15],[417,11,417,15],[537,2,541,2],[412,11,412,15],[388,11,389,15],[500,11,500,15],[505,11,505,15],[394,11,394,15],[368,2,371,2],[368,3,371,3],[368,4,371,4],[368,5,371,5],[368,6,371,6],[431,5,432,5],[438,11,438,15],[443,11,443,15],[444,11,444,15],[441,11,441,15],[442,11,442,15],[409,11,409,15],[408,11,408,15],[468,2,470,2],[468,3,470,3],[485,6,486,6],[486,11,486,15],[487,4,491,4],[487,5,491,5],[487,6,491,6],[487,11,488,15],[489,11,491,15],[482,11,482,15],[485,11,485,15],[471,4,474,4],[498,11,498,15],[496,6,499,6],[505,1,508,1],[509,1,513,1],[514,1,519,1],[500,2,504,2],[500,1,504,1],[500,3,504,3],[500,4,504,4],[500,5,504,5],[500,6,504,6],[505,6,508,6],[509,6,513,6],[514,6,519,6],[509,5,513,5],[514,5,519,5],[509,4,513,4],[514,3,519,3],[505,4,508,4],[505,5,508,5],[505,2,508,2],[509,2,513,2],[514,2,519,2],[496,1,499,1],[496,2,499,2],[511,11,513,15],[534,11,536,15],[538,11,541,15],[529,3,532,3],[529,4,532,4],[529,5,532,5],[529,6,532,6],[530,11,531,15],[532,11,532,15],[523,11,523,15],[524,11,524,15],[521,11,522,15],[537,3,541,3],[533,3,536,3],[496,3,499,3],[496,4,499,4],[496,5,499,5],[502,11,504,15],[501,11,501,15],[506,11,506,15],[510,11,510,15],[516,11,516,15],[517,11,517,15],[505,3,508,3],[509,3,513,3],[514,11,514,15],[515,11,515,15],[514,4,519,4],[537,5,541,5],[537,4,541,4],[509,11,509,15],[520,6,524,6],[520,2,524,2],[529,2,532,2],[533,4,536,4],[542,2,544,2],[520,1,524,1],[533,5,536,5],[542,4,544,4],[542,5,544,5],[542,6,544,6],[543,11,544,15],[520,11,520,15],[525,11,525,15],[529,11,529,15],[533,11,533,15],[542,3,544,3],[520,3,524,3],[520,4,524,4],[520,5,524,5],[526,11,528,15],[533,1,536,1],[533,2,536,2],[542,11,542,15],[533,6,536,6],[537,6,541,6],[537,11,537,15],[552,11,552,15],[553,11,553,15],[572,2,574,2],[572,1,574,1],[572,3,574,3],[572,4,574,4],[572,5,574,5],[572,6,574,6],[575,1,578,1],[583,11,583,15],[555,11,555,15],[556,11,556,15],[545,1,546,1],[545,2,546,2],[545,3,546,3]],"merged_total":1132,"flags":["merged_cut"]}
["Suske en Wiske"]
[null,null,null,null,null,null,null,null,null,null,"De albums van de rode reeks zijn onderverdeeld in 6 groepen:"]
[null,null,null,null,null,null,null,null,null,null,"1. Vlaams ongekleurd"]
[null,null,null,null,null,null,null,null,null,null,"2. Vlaams twee kleuren"]
["de rode reeks",null,null,null,null,null,null,null,null,null,"3. Gelijkvormige reeks"]
[null,null,null,null,null,null,null,null,null,null,"4. Nederlands ongekleurd"]
[null,null,null,null,null,null,null,null,null,null,"5. Nederlands twee kleuren"]
[null,null,null,null,null,null,null,null,null,null,"6. Vier kleuren reeks (≥67)"]
[]
[]
[]
[null,"1.","vlaams ongekleurd",null,null,null,null,"Soft cover, afwisselend 2 pagina's blauw, 2 pagina's rood-bruin, geniet."]
[]
[]
[null,"Nr","Titel","Verhaal","Rode reeks nr","Pagina's","Kleur","Album\njaar","Druk","Lastdodo nr","Laatst vermelde titel op achtercover","Opmerking"]
[null,null,null,null,null,null,null,null,null,null,"iv= in voorbereiding"]
[null,0,"Rikki en Wiske",1,154,55,"blauw/steunkleur","1946-01-01","1e druk",1,"Op het eiland Amoras (enkel plaatjes)","Oude spelling. Ten opzichte van de krantuitgave zijn enkele plaatjes hertekend en 20 stroken weggelaten zodat er 220 stroken overbleven. Enkel in eerste druk."]
[null,1,"Op het eiland Amoras",2,68,54,"steunkleur","1947-01-01","1e druk","1a","De sprietatoom iv","Oude spelling. Ten opzichte van de krantuitgave met 1 pagina ingekort. Inkeuringsfouten: Als Wiske Suske onder water ontmoet is haar jurkje roze (laatste plaatje op pagina 15);op pagina 34 stroken 3 en 4: het linkerbeen van Suske is wit in plaats van roze."]
[null,null,null,null,null,null,null,"1947-01-01","1e druk","1b","De sprietatoom iv","Oude spelling. Met op voorcover \"Uitgave DE STEM\". "]
[null,null,null,null,null,null,null,"1948-01-01","2e druk",1,"De sprietatoom","Oude spelling. Inkleuringsfout op pagina 34 stroken 3 en 4: het linkerbeen van Suske is wit in plaats van roze. Volgens de stripkatalogus ook in nieuwe spelling."]
[null,null,null,null,null,null,null,"1948-01-01","2e druk","-","-","Volgens de stripkatalogus is er ook een heruitgave van De Stem uit 1948 in de vernieuwde spelling. Niet in Lastdodo."]
[null,null,null,null,null,null,null,"1949-01-01","3e druk",1,"De mottenvanger iv","Eerste uitgave met Vlaamse vernieuwde spelling. Vanaf 1949 hebben de achtercovers niet meer de plaatjes per album maar ons 4tal bij de bloempot zuil."]
[null,null,null,null,null,null,null,"1950-01-01","4e druk",1,"Lambiorix iv","Vlaamse vernieuwde spelling."]
[null,null,null,null,null,null,null,"1951-01-01","5e druk",1,"De ringelingschat","Vlaamse vernieuwde spelling."]
[null,null,null,null,null,null,null,"1953-01-01","6e druk",1,"De dolle musketiers iv","Op achtercover 14 van de 16 titels;  \nLaatste vermelding De Tartaarse helm volledig in kleuren."]
[null,null,null,null,null,null,null,"1954-01-01","7e druk",1,"De cirkusbaron","Op achtercover 19 van de 21 titels;  \nVermelding 'Met Suske en Wiske kleuren en uitknippen'"]
[null,null,null,null,null,null,null,"1956-01-01","8e druk",1,"De spokenjagers iv","Op achtercover genummerde titels;  \nVermelding 'De grappen van Lambik, Reeds twee albums verschenen'"]
[null,2,"De vliegende aap",4,87,55,"ongekleurd","1948-01-01","1e druk","2a","De sprietatoom","Met drukkers imprint op pagina 56 onderaan."]
[null,null,null,null,null,null,null,"1948-01-01","1e druk","2b","De sprietatoom","Zonder drukkers imprint. Verder identiek."]
[null,null,null,null,null,null,null,"1948-01-01","1e druk","2c","De sprietatoom","Misdruk van 2a: Op achtercover Rikki en Wiski (met i). Met drukkers imprint."]
[null,null,null,null,null,null,null,"1948-01-01","1e druk","2d","De sprietatoom","Misdruk van 2b: Op achtercover Rikki en Wiski (met i). Zonder drukkers imprint. \nDe binnenzijden van front- en backcover zijn wit."]
[null,null,null,null,null,null,null,"1949-01-01","2e druk",2,"Bibbergoud iv","Achtercovers niet meer de plaatjes per album maar ons 4tal bij de bloempot zuil."]
[null,null,null,null,null,null,null,"1950-01-01","3e druk",2,"De stalen bloempot iv"]
[null,null,null,null,null,null,null,"1951-01-01","4e druk",2,"De ringelingschat iv"]
[null,null,null,null,null,null,null,"1952-01-01","5e druk",2,"De Tuftuf-club","Vermelding 'Ter perse: 15. De bronzen sleutel (buiten reeks, volledig in 4 kleuren)'."]
[null,null,null,null,null,null,null,"1953-01-01","6e druk",2,"De tamtamklopper iv"]
[null,3,"De sprietatoom",3,107,55,"ongekleurd","1948-01-01","1e druk","3a","De vliegende aap","Album is 6 stroken ingekort tov de krantuitgave. Zonder drukkers imprint. "]
[null,null,null,null,null,null,null,"1948-01-01","1e druk","3b","De vliegende aap","Met drukkers imprint. "]
[null,null,null,null,null,null,null,"1949-01-01","2e druk",3,"Bibbergoud iv","Achtercovers niet meer de plaatjes per album maar ons 4tal bij de bloempot zuil."]
[null,null,null,null,null,null,null,"1950-01-01","3e druk",3,"Lambiorix iv"]
[null,null,null,null,null,null,null,"1951-01-01","4e druk",3,"De ringelingschat iv"]
[null,null,null,null,null,null,null,"1952-01-01","5e druk",3,"De lachende wolf iv","Vermelding De bronzen sleutel en Het Spaanse spook, volledig in kleuren."]
[null,null,null,null,null,null,null,"1953-01-01","6e druk",3,"De knokkersburcht iv","Op achtercover 18 van de 20 titels.  "]
[null,null,null,null,null,null,null,"1954-01-01","7e druk",3,"De ijzeren schelvis iv","Op achtercover 21 van de 23 titels.  Vermelding van Tijl Uilenspiegel."]
[null,4,"De koning drinkt",6,105,55,"ongekleurd","1949-01-01","1e druk",4,"De mottenvanger iv","De albumuitgave kreeg twee extra stroken om het verhaal een beter einde te geven dan in de krant, en komt daarmee op 55 pagina's. Actercover eerste druk: Nr 7. De mottenvanger is niet als 7e album uitgegeven (was toen nog niet bekend)."]
[null,null,null,null,null,null,null,"1950-01-01","2e druk",4,"De stalen bloempot iv","Bij 10. Lambiorix en 11. De stierentemmer: 'verschijnt October 1950'."]
[null,null,null,null,null,null,null,"1951-01-01","3e druk",4,"De stalen bloempot"]
[null,null,null,null,null,null,null,"1952-01-01","4e druk",4,"De lachende wolf iv","Vermelding De bronzen sleutel en Het Spaanse spook, volledig in kleuren."]
[null,null,null,null,null,null,null,"1953-01-01","5e druk",4,"De tamtamklopper iv"]
[null,null,null,null,null,null,null,"1954-01-01","6e druk","4a","De circusbaron iv","Eerste herdruk in 1954. Circusbaron opvallend al met 'c' geschreven."]
[null,null,null,null,null,null,null,"1954-01-01","7e druk","4b","De ijzeren schelvis iv","Tweede herdruk in 1954."]
[null,null,null,null,null,null,null,"1955-01-01","8e druk",4,"De straatridder iv"]
[null,null,null,null,null,null,null,"1956-01-01","9e druk",4,"De spokenjagers iv"]
[null,null,null,null,null,null,null,"1957-01-01","10e druk",4,"De stemmenrover iv"]
[null,null,null,null,null,null,null,"1958-01-01","11e druk",4,"De geverniste zeerovers iv","Laatste druk met witte titel letters. Boven de titel: 'verschijnt driemaandelijks'."]
[null,null,null,null,null,null,null,"1959-01-01","12e druk",4,"Het vliegende bed iv","Gele titel letters. \nGeen Uitgevermij N.V. Standaard-Boekhandel meer op frontcover.\nOp achtercover 29 van de 36 titels."]
[null,null,null,null,null,null,null,"1960-01-01","13e druk",4,"De wolkeneters iv","Gele titel letters. Op achtercover nieuwe plaatje met Jerom, 33 van de 41 titels."]
[null,5,"Prinses Zagemeel",7,129,55,"ongekleurd","1949-01-01","1e druk",5,"De mottenvanger iv","Nr 7. De mottenvanger is niet als 7e album uitgegeven (was toen nog niet bekend)."]
[null,null,null,null,null,null,null,"1950-01-01","2e druk",5,"De stalen bloempot iv","Bij 9. Lambiorix en 10. De stierentemmer: 'verschijnt October 1950'."]
[null,null,null,null,null,null,null,"1951-01-01","3e druk",5,"De ringelingschat iv"]
[null,null,null,null,null,null,null,"1952-01-01","4e druk",5,"De Tuftuf-club","Vermelding 15. De bronzen sleutel (buiten reeks, volledig in 4 kleuren)."]
[null,null,null,null,null,null,null,"1953-01-01","5e druk","5a","De tamtamklopper iv","Op achtercover 17 van de 19 titels.  Eerste herdruk in 1953."]
[null,null,null,null,null,null,null,"1953-01-01","6e druk","5b","De knokkersburcht iv","Tweede herdruk in 1953."]
[null,null,null,null,null,null,null,"1954-01-01","7e druk","5a","De circusbaron iv"]
[null,null,null,null,null,null,null,"1954-01-01","8e druk","5b","De ijzeren schelvis iv"]
[null,null,null,null,null,null,null,"1955-01-01","9e druk",5,"De straatridder iv"]
[null,null,null,null,null,null,null,"1956-01-01","10e druk",5,"De spokenjagers iv"]
[null,null,null,null,null,null,null,"1957-01-01","11e druk","5a","De stemmenrover iv","Foutief reeksnummer 19 op frontcover. Eerste herdruk 1957."]
[null,null,null,null,null,null,null,"1957-01-01","12e druk","5b","Het sprekende testament","Tweede herdruk in 1957.  Boven de titel: 'verschijnt driemaandelijks'."]
[null,null,null,null,null,null,null,"1958-01-01","13e druk",5,"De Zwarte Zwaan iv","Op achtercover 29 van de 35 titels."]
[null,null,null,null,null,null,null,"1960-01-01","14e druk",5,"De zingende zwammen iv","Gele titel letters. Op achtercover nieuwe plaatje met Jerom."]
[null,6,"De Zwarte Madam",5,140,54.5,"ongekleurd","1949-01-01","1e druk",6,"Bibbergoud iv","Ook De witte uil in voorbereiding."]
[null,null,null,null,null,null,null,"1950-01-01","2e druk",6,"Lambiorix iv"]
[null,null,null,null,null,null,null,"1951-01-01","3e druk","6a","De ringelingschat iv","Eerste herdruk in 1951."]
[null,null,null,null,null,null,null,"1951-01-01","4e druk","6b","De Tuftuf-club iv","Tweede herdruk in 1951."]
[null,null,null,null,null,null,null,"1952-01-01","5e druk",6,"De lachende wolf iv","Vermelding De bronzen sleutel en Het Spaanse spook, volledig in kleuren."]
[null,null,null,null,null,null,null,"1953-01-01","6e druk",6,"De knokkersburcht iv"]
[null,null,null,null,null,null,null,"1954-01-01","7e druk","6a","De circusbaron iv"]
[null,null,null,null,null,null,null,"1954-01-01","8e druk","6b","De ijzeren schelvis iv"]
[null,null,null,null,null,null,null,"1955-01-01","9e druk",6,"De straatridder iv"]
[null,null,null,null,null,null,null,"1956-01-01","10e druk","6a","De brullende berg iv"]
[null,null,null,null,null,null,null,"1957-01-01","11e druk","6a","De stemmenrover iv","Met normaal reeksnummer 6 op frontcover."]
[null,null,null,null,null,null,null,"1957-01-01","11e druk","6b","De stemmenrover iv","Foutief reeksnummer 19 op frontcover. Verder identiek."]
[null,null,null,null,null,null,null,"1957-01-01","12e druk","6c","Het sprekende testament","Boven de titel: 'verschijnt driemaandelijks'."]
[null,null,null,null,null,null,null,"1958-01-01","13e druk",6,"De Zwarte Zwaan iv"]
[null,null,null,null,null,null,null,"1959-01-01","14e druk",6,"De windmakers iv","Gele titel letters. Op achtercover nieuwe plaatje met Jerom, 31 van de 38 titels."]
[null,7,"De witte uil",9,134,55,"ongekleurd","1950-01-01","1e druk",7,"Bibbergoud iv"]
[null,null,null,null,null,null,null,"1951-01-01","2e druk","7a","De stalen bloempot iv","Eerste herdruk in 1951."]
[null,null,null,null,null,null,null,"1951-01-01","3e druk","7b","De Tuftuf-club iv","Tweede herdruk in 1951."]
[null,null,null,null,null,null,null,"1952-01-01","4e druk","7a","onbekend, zie opmerking","Eerste herdruk in 1952."]
[null,null,null,null,null,null,null,"1952-01-01","5e druk","7b","De lachende wolf iv","Tweede herdruk in 1952. Vermelding De bronzen sleutel en Het Spaanse spook."]
[null,null,null,null,null,null,null,"1953-01-01","6e druk",7,"De knokkersburcht iv"]
[null,null,null,null,null,null,null,"1954-01-01","7e druk","7a","De circusbaron iv","Eerste herdruk in 1954."]
[null,null,null,null,null,null,null,"1954-01-01","8e druk","7b","De speelgoedzaaier iv","Tweede herdruk in 1954."]
[null,null,null,null,null,null,null,"1954-01-01","9e druk","7c","De ijzeren schelvis iv"]
[null,null,null,null,null,null,null,"1955-01-01","10e druk",7,"De bokkerijders iv"]
[null,8,"Bibbergoud",13,138,55,"ongekleurd","1950-01-01","1e druk","8a","Lambiorix iv"]
[null,null,null,null,null,null,null,"1950-01-01","2e druk","8b","De stalen bloempot iv"]
[null,null,null,null,null,null,null,"1951-01-01","3e druk","8a","De ringelingschat iv"]
[null,null,null,null,null,null,null,"1951-01-01","4e druk","8b","Het zingende nijlpaard iv"]
[null,null,null,null,null,null,null,"1952-01-01","5e druk",8,"De Tuftuf-club","Vermelding 15. De bronzen sleutel (buiten reeks, volledig in 4 kleuren)."]
[null,null,null,null,null,null,null,"1953-01-01","6e druk",8,"De tamtamklopper iv"]
[null,null,null,null,null,null,null,"1954-01-01","7e druk","8a","De circusbaron iv"]
[null,null,null,null,null,null,null,"1954-01-01","8e druk","8b","De ijzeren schelvis iv"]
[null,null,null,null,null,null,null,"1955-01-01","9e druk","8a","De Kleppende Klipper iv"]
[null,null,null,null,null,null,null,"1955-01-01","10e druk","8b","De bokkerijders iv"]
[null,null,null,null,null,null,null,"1957-01-01","11e druk","8a","De snorrende Snor iv"]
[null,null,null,null,null,null,null,"1957-01-01","12e druk","8b","Het sprekende testament","Boven de titel: 'verschijnt driemaandelijks'."]
[null,null,null,null,null,null,null,"1958-01-01","13e druk",8,"De Zwarte Zwaan iv","Gele titel letters. Originele achterplaatje zonder Jerom."]
[null,9,"Lambiorix",14,144,{"$f":"55-0.25","v":54.75},"ongekleurd","1950-01-01","1e druk",9,"De stierentemmer iv","Alle albumuitgaven: Laatste 2 stroken verkort tot 1 strook, grap over de koningskwestie verwijderd."]
[null,null,null,null,null,null,null,"1951-01-01","2e druk","9a","De stalen bloempot"]
[null,null,null,null,null,null,null,"1951-01-01","3e druk","9b","De ringelingschat iv"]
[null,null,null,null,null,null,null,"1952-01-01","4e druk","9a","De Tuftuf-club","Vermelding 15. De bronzen sleutel (buiten reeks, volledig in 4 kleuren)."]
[null,null,null,null,null,null,null,"1952-01-01","5e druk","9b","De lachende wolf iv","Vermelding De bronzen sleutel en Het Spaanse spook (volledig in kleuren)."]
[null,null,null,null,null,null,null,"1953-01-01","6e druk","9a","De knokkersburcht iv"]
[null,null,null,null,null,null,null,"1954-01-01","7e druk","9b","De speelgoedzaaier iv"]
[null,null,null,null,null,null,null,"1955-01-01","8e druk",9,"De Kleppende Klipper iv"]
[null,null,null,null,null,null,null,"1956-01-01","9e druk",9,"De spokenjagers iv"]
[null,10,"De stierentemmer",15,132,54.75,"ongekleurd","1950-01-01","1e druk",10,"De stalen bloempot iv","De familie Snoek laatste albumtitel: nr 6. Snoek ten aanval (1e reeks)."]
[null,null,null,null,null,null,null,"1951-01-01","2e druk","10a","De stalen bloempot iv","De familie Snoek laatste albumtitel: nr 7. Snoek geeft katoen (1e reeks)."]
[null,null,null,null,null,null,null,"1951-01-01","3e druk","10b","De stalen bloempot","Nr 11 niet iv. Snoek laatste nr 7. Snoek geeft katoen (1951)."]
[null,null,null,null,null,null,null,"1951-01-01","4e druk","10c","De ringelingschat iv"]
[null,null,null,null,null,null,null,"1952-01-01","5e druk",10,"De Tuftuf-club","Vermelding 15. De bronzen sleutel (buiten reeks, volledig in 4 kleuren)."]
[null,null,null,null,null,null,null,"1953-01-01","6e druk",10,"De tamtamklopper iv","Alle albumuitgaven: Ten opzichte van de krant uitgave zijn de laatste 2 stroken verkort tot 1 strook. De verwijzing naar de koningskwestie (als Lambik een spandoek met daarop levensgroot JA en de aankondiging voor de Stalen Bloempot uit het vliegtuig hangt) is in het album verwijderd."]
[null,null,null,null,null,null,null,"1954-01-01","7e druk","10a","De circusbaron iv"]
[null,null,null,null,null,null,null,"1954-01-01","8e druk","10b","De ijzeren schelvis iv"]
[null,null,null,null,null,null,null,"1955-01-01","9e druk",10,"De straatridder iv"]
[null,null,null,null,null,null,null,"1956-01-01","10e druk",10,"De snorrende Snor iv"]
[null,null,null,null,null,null,null,"1957-01-01","11e druk",10,"De mottenvanger iv"]
[null,null,null,null,null,null,null,"1958-01-01","12e druk","10a","De zwarte diamant iv","In de krant hernoemd in De duistere diamant."]
[null,null,null,null,null,null,null,"1958-01-01","13e druk","10b","De Zwarte Zwaan iv"]
[null,11,"De stalen bloempot",17,145,55,"ongekleurd","1951-01-01","1e druk","11a","Het zingende nijlpaard iv"]
[null,null,null,null,null,null,null,"1951-01-01","2e druk","11b","De ringelingschat iv","Door het succes in Vlaanderen kwam er in het eerste jaar direct een herdruk."]
[null,null,null,null,null,null,null,"1952-01-01","3e druk",11,"De lachende wolf iv","Vermelding De bronzen sleutel en Het Spaanse spook (volledig in kleuren)."]
[null,null,null,null,null,null,null,"1953-01-01","4e druk",11,"De tamtamklopper iv"]
[null,null,null,null,null,null,null,"1954-01-01","5e druk",11,"De circusbaron iv"]
[null,null,null,null,null,null,null,"1955-01-01","6e druk",11,"De straatridder iv"]
[null,null,null,null,null,null,null,"1956-01-01","7e druk",11,"De snorrende Snor iv"]
[null,null,null,null,null,null,null,"1957-01-01","8e druk",11,"De stemmenrover iv"]
[null,null,null,null,null,null,null,"1958-01-01","9e druk","11a","De geverniste zeerovers iv","Boven de titel: 'verschijnt driemaandelijks'."]
[null,null,null,null,null,null,null,"1958-01-01","10e druk","11b","De zwarte diamant iv","In de krant hernoemd in De duistere diamant."]
[null,null,null,null,null,null,null,"1960-01-01","11e druk",11,"De zingende zwammen iv","Gele titel letters. Op achtercover nieuwe plaatje met Jerom."]
[null,null,null,null,null,null,null,"1961-01-01","12e druk",11,"De wilde weldoener iv","Gele titel letters. Op achtercover nieuwe plaatje met Jerom."]
[null,12,"Het zingende nijlpaard",18,131,55,"ongekleurd","1951-01-01","1e druk","12a","De ringelingschat iv"]
[null,null,null,null,null,null,null,"1951-01-01","2e druk","12b","De Tuftuf-club iv"]
[null,null,null,null,null,null,null,"1952-01-01","3e druk",12,"De lachende wolf iv","De bronzen sleutel en Het Spaanse spook (volledig in kleuren)."]
[null,null,null,null,null,null,null,"1953-01-01","4e druk",12,"De knokkersburcht iv"]
[null,null,null,null,null,null,null,"1954-01-01","5e druk",12,"De ijzeren schelvis iv"]
[null,null,null,null,null,null,null,"1955-01-01","6e druk",12,"De straatridder iv"]
[null,null,null,null,null,null,null,"1956-01-01","7e druk",12,"De snorrende Snor iv"]
[null,null,null,null,null,null,null,"1957-01-01","8e druk","12a","De stemmenrover iv"]
[null,null,null,null,null,null,null,"1957-01-01","9e druk","12b","De mottenvanger iv"]
[null,null,null,null,null,null,null,"1958-01-01","10e druk",12,"De zwarte diamant iv","In de krant hernoemd in De duistere diamant."]
[null,13,"De ringelingschat",19,137,55,"ongekleurd","1951-01-01","1e druk",13,"De Tuftuf-club iv"]
[null,null,null,null,null,null,null,"1952-01-01","2e druk","13a","De Tuftuf-club","Vermelding 15. De bronzen sleutel (buiten reeks, volledig in 4 kleuren)."]
[null,null,null,null,null,null,null,"1952-01-01","3e druk","13b","De lachende wolf iv","Vermelding De bronzen sleutel en Het Spaanse spook (volledig in kleuren)."]
[null,null,null,null,null,null,null,"1953-01-01","4e druk",13,"De knokkersburcht iv"]
[null,null,null,null,null,null,null,"1954-01-01","5e druk","13a","De circusbaron iv"]
[null,null,null,null,null,null,null,"1954-01-01","6e druk","13b","De ijzeren schelvis iv"]
[null,null,null,null,null,null,null,"1955-01-01","7e druk",13,"De bokkerijders iv"]
[null,null,null,null,null,null,null,"1956-01-01","8e druk",13,"De snorrende Snor iv"]
[null,null,null,null,null,null,null,"1957-01-01","9e druk",13,"De mottenvanger iv"]
[null,14,"De Tuftuf-club",21,133,55,"ongekleurd","1952-01-01","1e druk","14a","De Tuftuf-club","Vermelding 15. De bronzen sleutel (buiten reeks, volledig in 4 kleuren)."]
[null,null,null,null,null,null,null,"1952-01-01","2e druk","14b","De lachende wolf iv","Vermelding De bronzen sleutel en Het Spaanse spook (volledig in kleuren)."]
[null,null,null,null,null,null,null,"1953-01-01","3e druk","14a","De dolle musketiers iv"]
[null,null,null,null,null,null,null,"1953-01-01","4e druk","14b","De knokkersburcht iv","Op de laatste pagina van het album (en in de krant) worden de jaartallen 1851 en 1950 genoemd. Dit is aangepast in de 4 kleuren reeks (nr 133). In de krant getiteld De Tuftuf klub."]
[null,null,null,null,null,null,null,"1954-01-01","5e druk","14a","De circusbaron iv"]
[null,null,null,null,null,null,null,"1954-01-01","6e druk","14b","De ijzeren schelvis iv"]
[null,null,null,null,null,null,null,"1955-01-01","7e druk",14,"De bokkerijders iv"]
[null,null,null,null,null,null,null,"1956-01-01","8e druk",14,"De snorrende Snor iv","Snoek 1e serie."]
[null,null,null,null,null,null,null,"1957-01-01","9e druk",14,"Het sprekende testament iv","Boven de titel: 'verschijnt vier maal per jaar'."]
[null,null,null,null,null,null,null,"1958-01-01","10e druk",14,"De zwarte diamant iv","In de krant hernoemd in De duistere diamant."]
[null,null,null,null,null,null,null,"1960-01-01","11e druk",14,"De zingende zwammen iv","Gele titel letters. Op achtercover nieuwe plaatje met Jerom."]
[null,15,"Het bevroren vuur",22,141,55,"ongekleurd","1952-01-01","1e druk",15,"De sterrenplukkers iv","Vermelding 17. De bronzen sleutel (buiten reeks, volledig in 4 kleuren)."]
[null,null,null,null,null,null,null,"1953-01-01","2e druk","15a","De dolle musketiers iv"]
[null,null,null,null,null,null,null,"1953-01-01","3e druk","15b","De knokkersburcht iv"]
[null,null,null,null,null,null,null,"1954-01-01","4e druk","15a","De circusbaron iv"]
[null,null,null,null,null,null,null,"1954-01-01","5e druk","15b","De speelgoedzaaier iv"]
[null,null,null,null,null,null,null,"1955-01-01","6e druk",15,"De Kleppende Klipper iv"]
[null,null,null,null,null,null,null,"1957-01-01","7e druk","15a","De snorrende Snor iv"]
[null,null,null,null,null,null,null,"1957-01-01","8e druk","15b","Het sprekende testament ","Boven de titel: 'verschijnt driemaandelijks'."]
[null,null,null,null,null,null,null,"1958-01-01","9e druk",15,"De Zwarte Zwaan iv","Gele titel letters. Originele achterplaatje zonder Jerom."]
[null,16,"De sterrenplukkers",23,146,55,"ongekleurd","1952-01-01","1e druk",16,"De lachende wolf iv","Vermelding De bronzen sleutel en Het Spaanse spook (volledig in kleuren)."]
[null,null,null,null,null,null,null,"1953-01-01","2e druk","16a","De dolle musketiers iv"]
[null,null,null,null,null,null,null,"1953-01-01","3e druk","16b","De knokkersburcht iv"]
[null,null,null,null,null,null,null,"1954-01-01","4e druk",16,"De speelgoedzaaier iv"]
[null,null,null,null,null,null,null,"1955-01-01","5e druk","16a","De Kleppende Klipper iv"]
[null,null,null,null,null,null,null,"1955-01-01","6e druk","16b","De bokkerijders iv"]
[null,null,null,null,null,null,null,"1957-01-01","7e druk","16a","De snorrende Snor iv"]
[null,null,null,null,null,null,null,"1957-01-01","8e druk","16b","Het sprekende testament ","Boven de titel: 'verschijnt driemaandelijks'."]
[null,null,null,null,null,null,null,"1959-01-01","9e druk",16,"Het vliegende bed iv","Gele titel letters. Originele achterplaatje zonder Jerom."]
[null,17,"De lachende wolf",24,148,54.75,"ongekleurd","1953-01-01","1e druk","17a","De dolle musketiers iv","Het album is 1 strook korter dan de krant door verwijdering van de ijzertoren grap."]
[null,null,null,null,null,null,null,"1953-01-01","2e druk","17b","De knokkersburcht iv"]
[null,null,null,null,null,null,null,"1954-01-01","3e druk","17a","De circusbaron iv"]
[null,null,null,null,null,null,null,"1954-01-01","4e druk","17b","De ijzeren schelvis iv","Vermelding Tijl Uijlenspiegel: Verschijnt October 1954."]
[null,null,null,null,null,null,null,"1955-01-01","5e druk","17a","De Kleppende Klipper iv"]
[null,null,null,null,null,null,null,"1955-01-01","6e druk","17b","De bokkerijders iv"]
[null,null,null,null,null,null,null,"1957-01-01","7e druk","17a","De snorrende Snor iv"]
[null,null,null,null,null,null,null,"1957-01-01","8e druk","17b","De mottenvanger iv"]
[null,null,null,null,null,null,null,"1958-01-01","9e druk",17,"De zwarte diamant iv","Op het titelblad Standaard boekhandel Amsterdam."]
[null,null,null,null,null,null,null,"1959-01-01","10e druk",17,"De windmakers iv","Gele titel letters. Op achtercover nieuwe plaatje met Jerom."]
[null,null,null,null,null,null,null,"1961-01-01","11e druk",17,"De sprietatoom iv","Gele titel letters."]
[null,18,"De dolle musketiers",26,89,55,"ongekleurd","1953-06-26","1e druk","18a","De tamtamklopper iv"]
[null,null,null,null,null,null,null,"1953-01-01","2e druk","18b","De knokkersburcht iv"]
[null,null,null,null,null,null,null,"1954-01-01","3e druk","18a","De circusbaron iv"]
[null,null,null,null,null,null,null,"1954-01-01","4e druk","18b","De ijzeren schelvis iv"]
[null,null,null,null,null,null,null,"1955-01-01","5e druk","18a","De Kleppende Klipper iv"]
[null,null,null,null,null,null,null,"1955-01-01","6e druk","18b","De bokkerijders iv"]
[null,null,null,null,null,null,null,"1956-01-01","7e druk",18,"De snorrende Snor iv"]
[null,null,null,null,null,null,null,"1957-01-01","8e druk",18,"Het sprekende testament  iv","Boven de titel: 'verschijnt vier maal per jaar'."]
[null,null,null,null,null,null,null,"1958-01-01","9e druk",18,"De zwarte diamant iv"]
[null,null,null,null,null,null,null,"1959-01-01","10e druk",18,"De windmakers iv","Gele titel letters. Op achtercover nieuwe plaatje met Jerom."]
[null,null,null,null,null,null,null,"1961-01-01","11e druk",18,"De wilde weldoener iv","Gele titel letters."]
[null,null,null,null,null,null,null,"1963-01-01","12e druk",18,"De sissende sampam","Gele titel letters."]
[null,19,"De tamtamklopper",28,88,55,"ongekleurd","1953-01-01","1e druk",19,"De knokkersburcht iv","In de krant getiteld De tamtamklopper."]
[null,null,null,null,null,null,null,"1954-01-01","2e druk","19a","De circusbaron iv"]
[null,null,null,null,null,null,null,"1954-01-01","3e druk","19b","De ijzeren schelvis iv"]
[null,null,null,null,null,null,null,"1955-01-01","4e druk","19a","De straatridder iv"]
[null,null,null,null,null,null,null,"1955-01-01","5e druk","19b","De bokkerijders iv"]
[null,null,null,null,null,null,null,"1957-01-01","6e druk",19,"De stemmenrover iv"]
[null,null,null,null,null,null,null,"1957-01-01","7e druk",19,"Het sprekende testament ","Boven de titel: 'verschijnt driemaandelijks'."]
[null,null,null,null,null,null,null,"1958-01-01","8e druk",19,"De Zwarte Zwaan iv","Gele titel letters. Originele achterplaatje zonder Jerom."]
[null,20,"De knokkersburcht",29,127,55,"ongekleurd","1954-01-01","1e druk","20a","De knokkersburcht","De schat van Beersel in voorbereiding"]
[null,null,null,null,null,null,null,"1954-01-01","2e druk","20b","De circusbaron iv","Alle drukken: In album 2 stroken ingekort tot 55 pagina's. \n\nOp pagina 25 dreigt Wiske de vechters met een boek om de oren te slaan. De titel van het boek on de ongekleurde reeks is How to be a lady, maar in de latere gekleurde reeks is het boek naamloos."]
[null,null,null,null,null,null,null,"1954-01-01","3e druk","20c","De ijzeren schelvis iv"]
[null,null,null,null,null,null,null,"1955-01-01","4e druk","20a","De Kleppende Klipper iv"]
[null,null,null,null,null,null,null,"1955-01-01","5e druk","20b","De straatridder iv"]
[null,null,null,null,null,null,null,"1956-01-01","6e druk","20a","De spokenjagers iv"]
[null,null,null,null,null,null,null,"1956-01-01","7e druk","20b","De snorrende Snor iv"]
[null,null,null,null,null,null,null,"1957-01-01","8e druk",20,"De mottenvanger iv"]
[null,null,null,null,null,null,null,"1958-01-01","9e druk",20,"De zwarte diamant iv"]
[null,null,null,null,null,null,null,"1959-01-01","10e druk",20,"De windmakers iv","Gele titel letters. Op achtercover nieuwe plaatje met Jerom."]
[null,null,null,null,null,null,null,"1961-01-01","11e druk",20,"De wilde weldoener iv","Gele titel letters."]
[null,21,"De cirkusbaron",31,81,55,"ongekleurd","1954-01-01","1e druk","21a","De speelgoedzaaier iv","Op achtercover links geen vermelding van Tijl Uijlenspiegel."]
[null,null,null,null,null,null,null,"1954-01-01","2e druk","21b","De speelgoedzaaier iv","Op achtercover links kader met vermelding Tijl Uilenspiegel (verschijnt Oct 1954)."]
[null,null,null,null,null,null,null,"1954-01-01","3e druk","21c","De ijzeren schelvis iv","Op achtercover links kader met vermelding Tijl Uilenspiegel (verschijnt Oct 1954)."]
[null,null,null,null,null,null,null,"1955-01-01","4e druk","21a","De Kleppende Klipper iv"]
[null,null,null,null,null,null,null,"1955-01-01","5e druk","21c(b)","De straatridder iv","Nummer in Lastdodo had 21b moeten zijn."]
[null,null,null,null,null,null,null,"1955-01-01","6e druk","21c","De bokkerijders iv"]
[null,null,null,null,null,null,null,"1956-01-01","7e druk",21,"De spokenjagers iv"]
[null,null,null,null,null,null,null,"1957-01-01","8e druk","21a","De snorrende Snor iv"]
[null,null,null,null,null,null,null,"1957-01-01","9e druk","21b","Het sprekende testament ","Boven de titel: 'verschijnt driemaandelijks'."]
[null,null,null,null,null,null,null,"1958-01-01","10e druk",21,"De Zwarte Zwaan iv","Tot hier titel gelijk als in de krant: 'De cirkusbaron' met letter k."]
[null,null,"De circusbaron",null,null,null,null,"1960-01-01","11e druk",21,"De zingende zwammen iv","Gele titel letters. Op achtercover nieuwe plaatje met Jerom. Titel met letter c."]
[null,null,null,null,null,null,null,"1961-01-01","12e druk",21,"De wilde weldoener iv","Gele titel letters."]
[null,null,null,null,null,null,null,"1963-01-01","13e druk",21,"De sissende sampam","Gele titel letters."]
[null,22,"De speelgoedzaaier",32,91,55,"ongekleurd","1954-01-01","1e druk",22,"De ijzeren schelvis iv"]
[null,null,null,null,null,null,null,"1955-01-01","2e druk","22a","De Kleppende Klipper iv"]
[null,null,null,null,null,null,null,"1955-01-01","3e druk","22b","De bokkerijders iv"]
[null,null,null,null,null,null,null,"1956-01-01","4e druk",22,"De snorrende Snor iv"]
[null,null,null,null,null,null,null,"1957-01-01","5e druk",22,"De mottenvanger iv"]
[null,null,null,null,null,null,null,"1958-01-01","6e druk","22a","De geverniste zeerovers iv"]
[null,null,null,null,null,null,null,"1958-01-01","7e druk","22b","De zwarte diamant iv"]
[null,null,null,null,null,null,null,"1959-01-01","8e druk",22,"De Texas-rakkers iv","Gele titel letters. Op achtercover nieuwe plaatje met Jerom."]
[null,null,null,null,null,null,null,"1960-01-01","9e druk",22,"De zingende zwammen iv","Gele titel letters."]
[null,null,null,null,null,null,null,"1961-01-01","10e druk",22,"De sprietatoom iv","Gele titel letters."]
[null,23,"De ijzeren schelvis",33,76,55,"ongekleurd","1955-01-01","1e druk","23a","De Kleppende Klipper iv"]
[null,null,null,null,null,null,null,"1955-01-01","2e druk","23b","De straatridder iv"]
[null,null,null,null,null,null,null,"1955-01-01","3e druk",23,"De bokkerijders iv"]
[null,null,null,null,null,null,null,"1957-01-01","4e druk",23,"De snorrende Snor iv"]
[null,null,null,null,null,null,null,"1958-01-01","5e druk","23a","Het sprekende testament  iv","Boven de titel: 'verschijnt vier maal per jaar'."]
[null,null,null,null,null,null,null,"1958-01-01","6e druk","23b","De geverniste zeerovers iv","Gele titel letters. Op achtercover nieuwe plaatje met Jerom."]
[null,null,null,null,null,null,null,"1958-01-01","7e druk","23c","De zwarte diamant iv","Witte ipv gele titel letters! Achtercover weer het 4tal bij de bloempot zuil."]
[null,null,null,null,null,null,null,"1960-01-01","8e druk",23,"De zingende zwammen iv","Gele titel letters."]
[null,null,null,null,null,null,null,"1961-01-01","9e druk",23,"De wilde weldoener iv","Gele titel letters."]
[null,null,null,null,null,null,null,"1963-01-01","10e druk",23,"De sissende sampam","Gele titel letters."]
[null,24,"De Kleppende Klipper",35,95,55,"ongekleurd","1955-07-25","1e druk","24a","De straatridder iv"]
[null,null,null,null,null,null,null,"1955-01-01","2e druk","24b","De bokkerijders iv"]
[null,null,null,null,null,null,null,"1956-01-01","3e druk",24,"De snorrende Snor iv","Er is mogelijk nog een druk in 1956 maar afbeelding onbekend."]
[null,null,null,null,null,null,null,"1957-01-01","4e druk",24,"De stemmenrover iv"]
[null,null,null,null,null,null,null,"1958-01-01","5e druk",24,"De geverniste zeerovers iv","Boven de titel: 'verschijnt driemaandelijks'."]
[null,null,null,null,null,null,null,"1959-01-01","6e druk",24,"De Texas-rakkers iv","Gele titel letters. Op achtercover nieuwe plaatje met Jerom."]
[null,null,null,null,null,null,null,"1961-01-01","7e druk",24,"De sprietatoom iv","Gele titel letters."]
[null,null,null,null,null,null,null,"1962-01-01","8e druk",24,"De kwakstralen iv","Gele titel letters."]
[null,null,null,null,null,null,null,"1963-01-01","9e druk",24,"De sissende sampam","Gele titel letters."]
[null,25,"De straatridder",36,83,55,"ongekleurd","1955-12-21","1e druk",25,"De bokkerijders iv","De eerste albumuitgave was op 21 december 1955, niet 1956."]
[null,null,null,null,null,null,null,"1956-01-01","2e druk",25,"De brullende berg iv"]
[null,null,null,null,null,null,null,"1957-01-01","3e druk","25a","De snorrende Snor iv"]
[null,null,null,null,null,null,null,"1957-01-01","4e druk","25b","Het sprekende testament  iv","Boven de titel: 'verschijnt vier maal per jaar'."]
[null,null,null,null,null,null,null,"1958-01-01","5e druk",25,"De zwarte diamant iv"]
[null,null,null,null,null,null,null,"1959-01-01","6e druk",25,"De windmakers iv","Gele titel letters. Op achtercover nieuwe plaatje met Jerom."]
[null,null,null,null,null,null,null,"1961-01-01","7e druk",25,"De wilde weldoener iv","Gele titel letters."]
[null,null,null,null,null,null,null,"1963-01-01","8e druk",25,"Het rijmende paard","Gele titel letters."]
[null,null,null,null,null,null,null,"1964-01-01","9e druk",25,"Het zoemende ei","Gele titel letters. Het zoemende ei hier als nr 52, maar nr 53 in gelijkvormige reeks."]
[null,26,"De bokkerijders",8,136,55,"ongekleurd","1956-01-01","1e druk",26,"De brullende berg iv","Enkel in eerste druk. Op de titelpagina uitleg plaatje waarom Jerom niet meedoet. \nIn de krant getiteld De bokkerijder."]
[null,27,"De brullende berg",37,80,55,"ongekleurd","1956-01-01","1e druk","27a","De spokenjagers iv"]
[null,null,null,null,null,null,null,"1956-01-01","2e druk","27b","De snorrende Snor iv"]
[null,null,null,null,null,null,null,"1957-01-01","3e druk",27,"De stemmenrover iv"]
[null,null,null,null,null,null,null,"1958-01-01","4e druk",27,"De geverniste zeerovers iv","Boven de titel: 'verschijnt driemaandelijks'."]
[null,null,null,null,null,null,null,"1959-01-01","5e druk",27,"Het vliegende bed iv","Gele titel letters. Originele achterplaatje zonder Jerom."]
[null,null,null,null,null,null,null,"1960-01-01","6e druk",27,"De wolkeneters iv","Gele titel letters. Op achtercover nieuwe plaatje met Jerom."]
[null,null,null,null,null,null,null,"1961-01-01","7e druk",27,"De wilde weldoener iv","Gele titel letters."]
[null,null,null,null,null,null,null,"1964-01-01","8e druk",27,"Het zoemende ei","Gele titel letters. Het zoemende ei hier als nr 52, maar nr 53 in gelijkvormige reeks."]
[null,28,"De spokenjagers",38,70,55,"ongekleurd","1956-01-01","1e druk",28,"De snorrende Snor iv","Op achtercover incl nr 7, Grappen van Lambik 2 albums, Snoek 11 albums 1e reeks."]
[null,null,null,null,null,null,null,"1957-01-01","2e druk","28a","De snorrende Snor iv","Nr 7 ontbreekt, Grappen van Lambik 3 albums, Snoek nieuwe uitgave 1957."]
[null,null,null,null,null,null,null,"1957-01-01","3e druk","28b","De stemmenrover iv"]
[null,null,null,null,null,null,null,"1957-01-01","4e druk","28c","Het sprekende testament","Boven de titel: 'verschijnt driemaandelijks'."]
[null,null,null,null,null,null,null,"1958-01-01","5e druk",28,"De Zwarte Zwaan iv"]
[null,null,null,null,null,null,null,"1960-01-01","6e druk",28,"De zingende zwammen iv","Gele titel letters. Op achtercover nieuwe plaatje met Jerom."]
[null,null,null,null,null,null,null,"1961-01-01","7e druk","28a","De sprietatoom iv","Gele titel letters. Drukkerij N.V. Periodica Em."]
[null,null,null,null,null,null,null,"1961-01-01","8e druk","28b","De wilde weldoener iv"]
[null,29,"De snorrende Snor",40,93,55,"ongekleurd","1957-01-01","1e druk","29a","De stemmenrover iv","Vanaf pagina 15 heeft Jerom geen berenvel meer maar een broek aan."]
[null,null,null,null,null,null,null,"1957-01-01","2e druk","29b","De mottenvanger iv"]
[null,null,null,null,null,null,null,"1958-01-01","3e druk",29,"De zwarte diamant iv"]
[null,null,null,null,null,null,null,"1959-01-01","4e druk",29,"De Texas-rakkers iv","Gele titel letters. Op achtercover nieuwe plaatje met Jerom."]
[null,null,null,null,null,null,null,"1960-01-01","5e druk",29,"De wolkeneters iv","Gele titel letters."]
[null,null,null,null,null,null,null,"1962-01-01","6e druk",29,"De kwakstralen iv","Gele titel letters."]
[null,null,null,null,null,null,null,"1963-01-01","7e druk",29,"De sissende sampam","Gele titel letters."]
[null,30,"De stemmenrover",41,84,55,"ongekleurd","1957-01-01","1e druk","30a","De mottenvanger iv","1e pagina Standaard Boekhandel Antwerpen-Brussel-Gent-Leuven"]
[null,null,null,null,null,null,null,"1957-01-01","1e druk","30b","De mottenvanger iv","1e pagina Standaard Boekhandel Antwerpen. Verder identiek"]
[null,null,null,null,null,null,null,"1957-01-01","2e druk","30c","Het sprekende testament iv","Boven de titel: 'verschijnt vier maal per jaar'."]
[null,null,null,null,null,null,null,"1958-01-01","3e druk",30,"De geverniste zeerovers iv","Boven de titel: 'verschijnt driemaandelijks'."]
[null,null,null,null,null,null,null,"1958?","4e druk","-","De zwarte diamant iv?","Er is waarschijnlijk een extra druk in 1958 maar geen afbeelding bekend."]
[null,null,null,null,null,null,null,"1959-01-01","5e druk",30,"De Texas-rakkers iv","Gele titel letters. Op achtercover nieuwe plaatje met Jerom."]
[null,null,null,null,null,null,null,"1960-01-01","6e druk",30,"De wolkeneters iv","Gele titel letters."]
[null,null,null,null,null,null,null,"1961-01-01","7e druk",30,"De wilde weldoener iv","Gele titel letters."]
[null,null,null,null,null,null,null,"1963-01-01","8e druk",30,"De sissende sampam","Gele titel letters."]
[null,31,"De mottenvanger",12,142,55,"ongekleurd","1957-01-01","1e druk","31a","Het sprekende testament  iv","Voorcover met nummer \"3I\" i.p.v. \"31\" . De hoofdletter \"I\" werd gebruikt in plaats van het cijfer 1. Boven de titel: 'verschijnt vier maal per jaar'."]
[null,null,null,null,null,null,null,"1957-01-01","1e druk","31b","Het sprekende testament  iv","Identiek maar met nummer '31'. Boven de titel: 'verschijnt vier maal per jaar'."]
[null,null,null,null,null,null,null,"1957-01-01","2e druk","31c","Het sprekende testament","Alle albums: Ten opzichte van de krant uitgave is op het laatste plaatje een verwijzing toegevoegd naar Jerom, omdat deze tijdens de krant uitgave nog niet bestond."]
[null,null,null,null,null,null,null,"1958-01-01","3e druk","31a","De geverniste zeerovers iv","Boven de titel: 'verschijnt driemaandelijks'."]
[null,null,null,null,null,null,null,"1958-01-01","4e druk","31b","De zwarte diamant iv","Deze of mogelijk 3e druk: Op titelblad Standaard boekhandel Amsterdam."]
[null,null,null,null,null,null,null,"1959-01-01","5e druk",31,"Het vliegende bed iv","Gele titel letters. Originele achterplaatje zonder Jerom."]
[null,null,null,null,null,null,null,"1960-01-01","6e druk","31a","De gouden cirkel iv","Gele titel letters. Op achtercover nieuwe plaatje met Jerom."]
[null,null,null,null,null,null,null,"1960-01-01","7e druk","31b","De wolkeneters iv","Gele titel letters."]
[null,null,null,null,null,null,null,"1962-01-01","8e druk",31,"De kwakstralen iv","Gele titel letters."]
[null,null,null,null,null,null,null,"1963-01-01","9e druk",31,"De sissende sampam","Gele titel letters."]
[null,32,"Het sprekende testament",42,119,55,"ongekleurd","1958-01-01","1e druk","32a","De geverniste zeerovers iv","Boven de titel: 'verschijnt driemaandelijks'. In de krant 'Het taterende testament'."]
[null,null,null,null,null,null,null,"1958-01-01","2e druk","32b","De Zwarte Zwaan iv","Gele titel letters. Originele achterplaatje zonder Jerom."]
[null,null,null,null,null,null,null,"1959-01-01","3e druk",32,"De windmakers iv","Gele titel letters. Op achtercover nieuwe plaatje met Jerom."]
[null,null,null,null,null,null,null,"1961-01-01","4e druk",32,"De sprietatoom iv","Gele titel letters."]
[null,33,"De geverniste zeerovers",43,120,55,"ongekleurd","1958-01-01","1e druk",33,"De zwarte diamant iv","In de krant getiteld: 'De zonnige zageman'."]
[null,null,null,null,null,null,null,"1959-01-01","2e druk",33,"Het vliegende bed iv","Gele titel letters. Originele achterplaatje zonder Jerom."]
[null,null,null,null,null,null,null,"1960-01-01","3e druk",33,"De gouden cirkel iv","Gele titel letters. Op achtercover nieuwe plaatje met Jerom."]
[null,null,null,null,null,null,null,"1961-01-01","4e druk",33,"De sprietatoom iv","Gele titel letters."]
[null,34,"De duistere diamant",45,121,55,"ongekleurd","1958-01-01","1e druk",34,"De Zwarte Zwaan iv","Gele titel letters. Front cover boven titel: geen vermelding \"De avonturen van\"."]
[null,null,null,null,null,null,null,"1959-01-01","2e druk","34a","Het vliegende bed iv","Gele titel letters. Originele achterplaatje zonder Jerom."]
[null,null,null,null,null,null,null,"1959-01-01","3e druk","34b","De Texas-rakkers iv","Gele titel letters. Op achtercover nieuwe plaatje met Jerom."]
[null,35,"De Zwarte Zwaan",46,123,55,"ongekleurd","1959-01-01","1e druk",35,"Het vliegende bed iv","Gele titel letters. Enkel in eerste druk. Op achtercover nieuwe plaatje met Jerom."]
[]
[]
[null,"2.","vlaams twee kleuren",null,null,null,null,"Matte softcover,  gele titel letters, gelijmd, zwart wit met steunkleur rood.\nVlaams (latere drukken soms 'Hollands' Nederlands). Van alle heruitgaven is de cover hertekend."]
[]
[]
[]
[null,"Nr","Titel","Verhaal","Rode reeks nr","Pagina's","Kleur","Album\ndatum","Druk","Lastdodo nr","Laatst vermelde titel op achtercover","Opmerking"]
[null,null,null,null,null,null,null,null,null,null,"iv= in voorbereiding"]
[null,7,"De ringelingschat",19,137,55,"2 kleuren","1962-01-01","1e druk",7,"De kaartendans","Heruitgave van nummer 13 uit de ongekleurde reeks, met foutieve nummer uit de Franse reeks. Deels hertekend: Suske, Wiske, Lambik en Sidonia regelmatig geheel hertekend, soms alleen de hoofden, inkting verdikt."]
[null,null,null,null,null,null,null,"1963-10-02","2e druk",7,"De nerveuze Nerviers iv","Hollandse tekst."]
[null,null,null,null,null,null,null,"1966-10-02","3e druk",7,"De vliegende aap","Vlaamse tekst. Op de achtercover Antwerpen, 2-10-1966."]
[null,19,"De tamtamklopper",28,88,55,"2 kleuren","1964-01-01","1e druk",19,"De nerveuze Nerviers iv","Enkel 1e druk. Deels hertekend: Jerom hertekend, haren Sidonia bijgewerkt, inkting verdikt."]
[null,20,"knokkersburcht",29,127,55,"2 kleuren","1963-01-01","1e druk",20,"Het rijmende paard","Enkel 1e druk. Titel is zonder 'De'. Deels hertekend:  in het begin van het verhaal Suske, Wiske, Lambik, Sidonia en Jerom hertekend, verderop alleen Jerom hertekend, inkting verdikt. "]
[null,32,"Het sprekende testament",42,119,55,"2 kleuren","1963-01-01","1e druk",32,"Het rijmende paard iv","Deels hertekend: haren Jerom bijgewerkt, inkting verdikt"]
[null,null,null,null,null,null,null,"1965-01-01","2e druk",32,"Het zoemende ei","Mogelijk Hollandse tekst in Vlaamse uitgave."]
[null,33,"De geverniste zeerovers",43,120,55,"2 kleuren","1962-01-01","1e druk",33,"De kaartendans","Enkel 1e druk. Deels hertekend: haren Jerom bijgewerkt, inkting verdikt."]
[null,34,"De duistere diamant",45,121,55,"2 kleuren","1960-01-01","1e druk","34a","De zingende zwammen iv","Niet hertekend."]
[null,null,null,null,null,null,null,"1960-01-01","2e druk","34b","De zingende zwammen","Enkel De zingende zwammen niet in voorbereiding, verder identiek aan 1e druk."]
[null,null,null,null,null,null,null,"1962-01-01","3e druk",34,"De kaartendans"]
[null,null,null,null,null,null,null,"1965-01-01","4e druk",34,"Het zoemende ei","Hollandse tekst in Vlaamse uitgave. Op voorblad: Standaard boekhandel Antwerpen."]
[null,35,"De Zwarte Zwaan",46,123,55,"2 kleuren","1960-01-01","1e druk",35,"De windmakers iv","Niet hertekend."]
[null,null,null,null,null,null,null,"1961-01-01","2e druk",35,"De wolkeneters"]
[null,null,null,null,null,null,null,"1962-01-01","3e druk",35,"Het hondenparadijs"]
[null,36,"Het vliegende bed",47,124,55,"2 kleuren","1959-01-01","1e druk",36,"De Texas-rakkers iv","Vlaamse tekst in Vlaamse uitgave: Schalulleke op pagina 1.\nOp voorblad: Standaard boekhandel Antwerpen-Brussel-Gent-Leuven. \nVolgens de stripkatalogus is er ook een eerste druk uit 1959 met Hollandse tekst."]
[null,null,null,null,null,null,null,"1960-01-01","2e druk",36,"De zingende zwammen iv"]
[null,null,null,null,null,null,null,"1961-01-01","3e druk","36a","De wolkeneters"]
[null,null,null,null,null,null,null,"1961-01-01","4e druk","36b","Het hondenparadijs"]
[null,null,null,null,null,null,null,"1965-01-01","5e druk",36,"Het zoemende ei","Hollandse tekst in Vlaamse uitgave: Schabolleke en tante Sidonia. \nOp voorblad: Standaard boekhandel Antwerpen."]
[null,null,null,null,null,null,null,"1966-01-01","6e druk",36,"De snorrende Snor"]
[null,37,"De Texas-rakkers",48,125,55,"2 kleuren","1959-01-01","1e druk",37,"De windmakers iv","Vlaamse tekst: Sidonieke. In de krant getiteld: 'De Texas rakkers'."]
[null,null,null,null,null,null,null,"1960-01-01","2e druk",37,"De zingende zwammen iv"]
[null,null,null,null,null,null,null,"1961-01-01","3e druk",37,"De wolkeneters"]
[null,null,null,null,null,null,null,"1967-01-01","4e druk",37,"De Dulle Griet","Met jaartal 1967 op achterzijde. Vlaamse tekst."]
[null,38,"De windmakers",49,126,55,"2 kleuren","1960-01-01","1e druk",38,"De gouden cirkel iv","Vlaamse tekst in Vlaamse uitgave.\nOp voorblad: Standaard boekhandel Antwerpen=Brussel-Gent-Leuven.\n1963: Jaartal gecorrigeerd."]
[null,null,null,null,null,null,null,"1962-01-01","2e druk","38a","Het hondenparadijs iv"]
[null,null,null,null,null,null,null,"1962-01-01","3e druk","38b","De kwakstralen iv"]
[null,null,null,null,null,null,null,"1963-01-01","4e druk",38,"Het rijmende paard iv"]
[null,null,null,null,null,null,null,"1965-01-01","5e druk",38,"Het zoemende ei","Hollandse tekst in Vlaamse uitgave: Sidonia. Op voorblad: Standaard boekhandel Antwerpen. Druk 1967 bovendien: Het Karveel NV, Utrecht en 5/1/67 op achtercover."]
[null,null,null,null,null,null,null,"1967-01-05","6e druk",38,"De Dulle Griet"]
[null,39,"De gouden cirkel",50,118,55,"2 kleuren","1960-01-01","1e druk","39a","De zingende zwammen iv","Vlaamse tekst. Blauwe reeks op achtercover inclusief De groene splinter."]
[null,null,null,null,null,null,null,"1960-01-01","2e druk","39b","De zingende zwammen iv","Vlaamse tekst. Blauwe reeks op achtercover zonder uitverkochte De groene splinter."]
[null,null,null,null,null,null,null,"1961-01-01","3e druk",39,"De wilde weldoener iv","Vlaamse tekst."]
[null,null,null,null,null,null,null,"1962-01-01","4e druk","39a","De wilde weldoener"]
[null,null,null,null,null,null,null,"1962-01-01","5e druk","39b","Het hondenparadijs"]
[null,null,null,null,null,null,null,"1967-01-01","6e druk",39,"De Dulle Griet","Met jaartal op achterzijde. Vlaamse tekst Sidonie. SU Antwerpen-Utrecht."]
[null,40,"De zingende zwammen",51,110,55,"2 kleuren","1960-01-01","1e druk",40,"De wolkeneters iv","Vlaamse tekst in Vlaamse uitgave.\n Op voorblad: Standaard boekhandel Antwerpen=Brussel-Gent-Leuven."]
[null,null,null,null,null,null,null,"1962-01-01","2e druk","40a","Het hondenparadijs"]
[null,null,null,null,null,null,null,"1962-01-01","3e druk","40b","De kaartendans"]
[null,null,null,null,null,null,null,"1966-01-01","4e druk",40,"De schone slaper","Hollandse tekst in Vlaamse uitgave: tante Sidonia. Op voorblad: Standaard boekhandel Antwerpen, Het Karveel NV, Utrecht. "]
[null,41,"De wolkeneters",52,109,55,"2 kleuren","1961-01-01","1e druk",41,"De sprietatoom iv","Vlaamse tekst in Vlaamse uitgave.\n Op voorblad: Standaard boekhandel Antwerpen=Brussel-Gent-Leuven."]
[null,null,null,null,null,null,null,"1962-01-01","2e druk",41,"De kaartendans"]
[null,null,null,null,null,null,null,"1966-01-01","3e druk",41,"De schone slaper","Hollandse tekst in Vlaamse uitgave: tante Sidonia. Op voorblad: Standaard boekhandel Antwerpen, Het Karveel NV, Utrecht."]
[null,42,"De sprietatoom",3,107,55,"2 kleuren","1961-01-01","1e druk","42a","De klankentapper iv","Volledig hertekende versie van nr 3.  2e druk alleen De klankentapper niet in voorbereiding, verder identiek."]
[null,null,null,null,null,null,null,"1961-01-01","2e druk","42b","De klankentapper"]
[null,null,null,null,null,null,null,"1967-01-05","3e druk",42,"De Dulle Griet","Vlaamse tekst: Sidonie. Op voorblad: Standaard boekhandel Antwerpen, \nHet Karveel NV Utrecht. Op de achtercover Antwerpen 5/1/67."]
[null,43,"De klankentapper",53,103,55,"2 kleuren","1961-01-01","1e druk",43,"De wilde weldoener iv","Ook De sprietatoom in voorbereiding. Vlaamse tekst: Sidonie."]
[null,null,null,null,null,null,null,"1962-01-01","2e druk",43,"Het hondenparadijs","Vlaamse tekst: Sidonie."]
[null,null,null,null,null,null,null,"1965-01-01","3e druk",43,"Het zoemende ei","Hollandse tekst in Vlaamse uitgave: Sidonia. Standaaard Boekhandel Antwerpen."]
[null,null,null,null,null,null,null,"1967-01-01","4e druk",43,"De Dulle Griet","Hollandse tekst in Vlaamse uitgave: Sidonia. SU Antwerpen, Het Karveel NV, Utrecht. Op de achtercover Antwerpen 5/1/67."]
[null,44,"De wilde weldoener",54,104,55,"2 kleuren","1962-01-01","1e druk",44,"Het hondenparadijs iv","Vlaamse tekst."]
[null,null,null,null,null,null,null,"1964-01-01","2e druk",44,"De nerveuze Nerviers iv"]
[null,null,null,null,null,null,null,"1967-01-03","3e druk",44,"De Dulle Griet","Op de achtercover Antwerpen 5/1/67."]
[null,45,"Het hondenparadijs",55,98,55,"2 kleuren","1962-01-01","1e druk","45a","De kaartendans iv","Vlaamse tekst."]
[null,null,null,null,null,null,null,"1962-01-01","2e druk","45b","De kaartendans","Enkel De kaartendans niet in voorbereiding, verder identiek aan 1e druk."]
[null,null,null,null,null,null,null,"1965-01-01","3e druk",45,"Het zoemende ei","Hollandse tekst in Vlaamse uitgave: Sidonia. Standaaard Boekhandel Antwerpen."]
[null,null,null,null,null,null,null,"1967-01-01","4e druk",45,"De Dulle Griet","Hollandse tekst in Vlaamse uitgave: Sidonia. SU Antwerpen, Het Karveel NV, Utrecht. Op de achtercover Antwerpen 4/1/67."]
[null,46,"De kaartendans",56,101,55,"2 kleuren","1962-01-01","1e druk","46a","De kwakstralen iv","Vlaamse tekst:  Schalulleke, Sidonie. SB Antwerpen-Brussel-Gent-Leuven."]
[null,null,null,null,null,null,null,"1962-01-01","2e druk","46b","De kwakstralen iv","Hollandse tekst in vroege Vlaamse uitgave: Sidonia. Standaaard Boekhandel Antwerpen. Achtercover identiek aan 1e druk."]
[null,null,null,null,null,null,null,"1966-12-02","3e druk",46,"De snorrende Snor","Hollandse tekst in Vlaamse uitgave: Sidonia. SB Antwerpen. Achtercover Antwerpen 2/12/66."]
[null,47,"De kwakstralen",57,99,55,"2 kleuren","1963-01-01","1e druk",47,"Het rijmende paard iv","Vlaamse tekst:  Sidonie. "]
[null,null,null,null,null,null,null,"1966-11-03","2e druk",47,"De snorrende Snor","Op de achtercover Antwerpen 3/11/66. SB A-B-G-L. Vlaamse tekst."]
[null,48,"Het rijmende paard",58,96,55,"2 kleuren","1963-01-01","1e druk",48,"De sissende sampam iv","Vlaamse tekst: Sidonie. SB Antwerpen-Brussel-Gent-Leuven."]
[null,null,null,null,null,null,null,"1966-11-03","2e druk",48,"De snorrende Snor","Op de achtercover Antwerpen 3/11/66. Vlaamse tekst:  Sidonie. SB A-B-G-L."]
[null,49,"De sissende sampam",59,94,55,"2 kleuren","1963-01-01","1e druk",49,"Sjeik ElRo-jenbiet","Vlaamse tekst. In album 4 stroken weggelaten tov Vlaamse kranten om op normale lengte te komen. Verder geen tekst aangepast. Nederlandse kranten ook ingekort."]
[null,null,null,null,null,null,null,"1966-11-03","2e druk",49,"De snorrende Snor","Hollandse tekst in Vlaamse uitgave: Sidonia. SB A-B-G-L, Het Karveel NV Utrecht. Op de achtercover Antwerpen 3/11/66. "]
[null,50,"Sjeik El Ro-jenbiet",60,90,55,"2 kleuren","1964-01-01","1e druk","50a","De nerveuze Nerviers iv","Vlaamse tekst: Sidonie, Sidonieke. SB Antwerpen-Brussel-Gent-Leuven."]
[null,null,null,null,null,null,null,"1964-01-01","2e druk","50b","De nerveuze Nerviers iv","Hollandse tekst in Vlaamse uitgave: Sidonia, Sidoniatje. SB Antwerpen.\nAchtercover identiek aan 1e druk."]
[null,null,null,null,null,null,null,"1966-10-03","3e druk","50a","De snorrende Snor","Hollandse tekst in Vlaamse uitgave. SB Antwerpen. Achtercover Antwerpen 3/10/66. "]
[null,null,null,null,null,null,null,"1966-12-04","4e druk","50b","De snorrende Snor","Hollandse tekst in Vlaamse uitgave. SB Antwerpen. Achtercover Antwerpen 4/12/66. "]
[]
[]
[null,"3.","gelijkvormige reeks",null,null,null,null,"Matte softcover,  gele titel letters, gelijmd, zwart wit met steunkleur rood.\nGeen Vlaams maar ABN. Van alle heruitgaven is de cover hertekend."]
[]
[]
[]
[null,"Nr","Titel","Verhaal","Rode reeks nr","Pagina's","Kleur","Album\ndatum","Druk","Lastdodo nr","Laatst vermelde titel op achtercover","Opmerking"]
[null,null,null,null,null,null,null,null,null,null,"iv= in voorbereiding"]
[null,51,"De nerveuze Nerviers",61,{"$f":"INDEX('Lange verhalen'!D:D,MATCH(C427,'Lange verhalen'!G:G,0))","v":69},55,"2 kleuren","1964-01-01","1e druk",51,"Het zoemende ei","Eerste album in ABN, gelijkvormig voor zowel de Vlaanderen als Nederlands. SB Antwerpen-Amsterdam."]
[null,null,null,null,null,null,null,"1966-10-02","2e druk",51,"De snorrende Snor","Achtercover Antwerpen 3/10/66. "]
[null,52,"De spokenjagers",38,{"$f":"INDEX('Lange verhalen'!D:D,MATCH(C429,'Lange verhalen'!G:G,0))","v":70},55,"2 kleuren","1964-01-01","1e druk",52,"Het zoemende ei","Deels hertekend: Jerom en haren Sidonia bijgewerkt, inkting verdikt. Gemengde tekst Vlaams/Nederlands met met Sidonia, maar ook met Schalulleke. SB Antwerpen."]
[null,null,null,null,null,null,null,"1965-01-01","2e druk",52,"De schone slaper"]
[null,53,"Het zoemende ei",62,{"$f":"INDEX('Lange verhalen'!D:D,MATCH(C431,'Lange verhalen'!G:G,0))","v":73},55,"2 kleuren","1964-01-01","1e druk",53,"Het zoemende ei","Enkel in eerste druk. SB Antwerpen-Amsterdam."]
[null,54,"De koddige kater",63,{"$f":"INDEX('Lange verhalen'!D:D,MATCH(C432,'Lange verhalen'!G:G,0))","v":74},55,"2 kleuren","1965-01-01","1e druk",54,"Het zoemende ei","SB Antwerpen-Amsterdam."]
[null,null,null,null,null,null,null,"1966-10-02","2e druk",54,"De snorrende Snor","Achtercover Antwerpen 2/10/66. "]
[null,55,"De speelgoedzaaier",32,{"$f":"INDEX('Lange verhalen'!D:D,MATCH(C434,'Lange verhalen'!G:G,0))","v":91},55,"2 kleuren","1965-01-01","1e druk",55,"Het zoemende ei","Alle drukken: Deels hertekend: Jerom maar nog steeds in berenvel (in gekeurde reeks is Jerom opnieuw hertekend), en haren Sidonia bijgewerkt, inkting verdikt. \nOp pagina 1, strook 1, prent 1 staat foutief Sidonie ipv Sidonia gespeld. 1e druk SB Antwerpen. 2e druk SB Antwerpen, Karveel NV Utrecht."]
[null,null,null,null,null,null,null,"1966-01-01","2e druk",55,"De schone slaper"]
[null,null,null,null,null,null,null,"1967-01-03","3e druk",55,"De Dulle Griet","Achtercover Antwerpen 3/1/67. Titelblad SB Antwerpen, Karveel NV Utrecht."]
[null,56,"De circusbaron",31,{"$f":"INDEX('Lange verhalen'!D:D,MATCH(C437,'Lange verhalen'!G:G,0))","v":81},55,"2 kleuren","1965-01-01","1e druk",56,"Het zoemende ei","Enkel in eerste druk. Deels hertekend: Jerom maar nog steeds in berenvel (niet opnieuw hertekend in de gekleurde reeks) en haar Sidonia, inkting verdikt."]
[null,57,"De schone slaper",64,{"$f":"INDEX('Lange verhalen'!D:D,MATCH(C438,'Lange verhalen'!G:G,0))","v":85},55,"2 kleuren","1965-01-01","1e druk",57,"De koddige kater","Vanaf dit album worden de stroken genummerd."]
[null,null,null,null,null,null,null,"1966-11-03","2e druk",57,"De snorrende Snor","Achtercover Antwerpen 3/11/66. SB Antwerpen."]
[null,58,"De brullende berg",37,{"$f":"INDEX('Lange verhalen'!D:D,MATCH(C440,'Lange verhalen'!G:G,0))","v":80},55,"2 kleuren","1965-01-01","1e druk",58,"Het zoemende ei","Deels hertekend: Jerom maar nog steeds in berenvel (niet opnieuw hertekend in de gekleurde reeks), inkting verdikt."]
[null,null,null,null,null,null,null,"1966-01-01","2e druk",58,"De schone slaper"]
[null,59,"De dolle musketiers",26,{"$f":"INDEX('Lange verhalen'!D:D,MATCH(C442,'Lange verhalen'!G:G,0))","v":89},55,"2 kleuren","1965-01-01","1e druk",59,"De koddige kater","Enkel in eerste druk. Deels hertekend: Jerom (berenvel) en hoofd Sidonia, inkting verdikt."]
[null,60,"De ijzeren schelvis",33,{"$f":"INDEX('Lange verhalen'!D:D,MATCH(C443,'Lange verhalen'!G:G,0))","v":76},55,"2 kleuren","1965-01-01","1e druk",60,"Het zoemende ei","Enkel in eerste druk. Deels hertekend: Jerom (voor het eerst met broek) en hoofd Sidonia, inkting verdikt."]
[null,61,"De apekermis",65,{"$f":"INDEX('Lange verhalen'!D:D,MATCH(C444,'Lange verhalen'!G:G,0))","v":77},55,"2 kleuren","1965-12-01","1e druk",61,"De schone slaper","Onderaan laatste pagina: 1-12-'65."]
[null,null,null,null,null,null,null,"1966-10-02","2e druk",61,"De vliegende aap","Achtercover Antwerpen 2/10/66. Titelpagina met SB logo."]
[null,62,"De stemmenrover",41,{"$f":"INDEX('Lange verhalen'!D:D,MATCH(C446,'Lange verhalen'!G:G,0))","v":84},55,"2 kleuren","1965-11-01","1e druk",62,"De schone slaper","Enkel in eerste druk. Alleen hoofd Jerom hertekend (hij had al een pak aan in de ongekleurde reeks, voor het eerst), inkting verdikt. Onderaan laatste pagina: 1-11-65."]
[null,63,"Jeromba de Griek",66,{"$f":"INDEX('Lange verhalen'!D:D,MATCH(C447,'Lange verhalen'!G:G,0))","v":72},55,"2 kleuren","1966-05-01","1e druk","63a","De schone slaper","Onderaan laatste pagina: 1/5/66."]
[null,null,null,null,null,null,null,"1966-10-02","2e druk","63b","De vliegende aap","Achtercover Antwerpen 2/10/66. "]
[null,64,"De snorrende Snor",40,{"$f":"INDEX('Lange verhalen'!D:D,MATCH(C449,'Lange verhalen'!G:G,0))","v":93},55,"2 kleuren","1966-03-01","1e druk",64,"De schone slaper","Enkel in eerste druk. Deels hertekend: hoofd Jerom en inkting verdikt.\nOp laaste pagina: 1/3/66."]
[null,65,"De vliegende aap",4,{"$f":"INDEX('Lange verhalen'!D:D,MATCH(C450,'Lange verhalen'!G:G,0))","v":87},55,"2 kleuren","1966-07-01","1e druk",65,"De snorrende Snor","Enkel in eerste druk. Volledig hertekende versie van nr 2.\nSB symbool op titelpagina. Op laaste pagina: 1/7/66. \nEr is ook een reclame uitgave uit 1966 met de vermelding 'Aangeboden door de Koffie VeDeKa Avelgem' op de binnenkaft."]
[null,66,"De Dulle Griet",67,{"$f":"INDEX('Lange verhalen'!D:D,MATCH(C451,'Lange verhalen'!G:G,0))","v":78},55,"2 kleuren","1966-09-01","1e druk",66,"De snorrende Snor","Enkel in eerste druk. SB symbool op titelpagina. Op laaste pagina: 1/9/66."]
[]
[]
[null,"4.","nederlands ongekleurd",null,null,null,null,"Soft cover, geniet. Ongekleurd: afwisselend 2 pagina's blauw, 2 pagina's rood-bruin. "]
[null,null,null,null,null,null,null,"Vaak te herkennen aan nummer 1a op achtercover en Standaard Boekhandel-Amsterdam op de titelpagina."]
[null,null,null,null,null,null,null,"Naast diverse andere taal aanpassingen zijn ook de namen aangepast: "]
[null,null,null,null,null,null,null,"Sidonia ipv Sidonie, Lambiek ipv Lambik, Jeroen ipv Jerom, Schabolleke/Schanulleke ipv Schalulleke."]
[]
[null,"Nr","Titel","Verhaal","Rode reeks nr","Pagina's","Kleur","Album\ndatum","Druk","Lastdodo nr","Laatst vermelde titel op achtercover","Opmerking"]
[null,null,null,null,null,null,null,null,null,null,"tp = ter perse"]
[null,"1a","Op het eiland Amoras",2,68,54,"ongekleurd","1959-01-01","1e druk","1a","De geverniste zeerovers iv","Genummerd 1a, ivm latere uitgave dan nr 1. Gele titel letters. Op achtercover nieuwe plaatje met Jerom. Titelblad: Standaard Boekhandel-Amsterdam. \nJaartal mogelijk 1958, zie Note."]
[null,null,null,null,null,null,null,"1961-01-01","2e druk","1a","De wolkeneters","Gele titel letters. Op achtercover nieuwe plaatje met Jerom. Jaartal gecorrigeerd."]
[null,1,"Bibbergoud",13,138,55,"ongekleurd","1953-01-01","1e druk",1,"Het zingende nijlpaard tp","Eerste uitgegeven album in Nederlandse reeks. Witte titel letters. Titels achtercover in wit toelopend kader boven ons viertal bij de bloempot zuil. SB Amsterdam."]
[null,null,null,null,null,null,null,"1957-01-01","2e druk",1,"De snorrende Snor tp"]
[null,null,null,null,null,null,null,"1959-01-01","3e druk",1,"De duistere diamant iv","Gele titel letters. Op achtercover nieuwe plaatje met Jerom."]
[null,2,"Het bevroren vuur",22,141,55,"ongekleurd","1953-01-01","1e druk",2,"Het zingende nijlpaard tp","Witte titel letters. Titels achtercover in wit kader en bloempot zuil."]
[null,null,null,null,null,null,null,"1957-01-01","2e druk",2,"De spokenjagers tp"]
[null,null,null,null,null,null,null,"1959-01-01","3e druk",2,"De duistere diamant iv","Gele titel letters. Op achtercover nieuwe plaatje met Jerom."]
[null,3,"Lambiorix",14,144,54.75,"ongekleurd","1953-01-01","1e druk",3,"De Tuftuf-club tp","Witte titel letters. Titels achtercover in wit kader en bloempot zuil."]
[null,null,null,null,null,null,null,"1958-01-01","2e druk",3,"De stemmenrover tp"]
[null,null,null,null,null,null,null,"1960-01-01","3e druk",3,"De Zwarte Zwaan iv","Gele titel letters. Op achtercover nieuwe plaatje met Jerom. "]
[null,4,"Het zingende nijlpaard",18,131,55,"ongekleurd","1953-01-01","1e druk",4,"De Tuftuf-club tp","Witte titel letters. Titels achtercover in wit kader en bloempot zuil."]
[null,null,null,null,null,null,null,"1958-01-01","2e druk",4,"De stemmenrover tp"]
[null,null,null,null,null,null,null,"1960-01-01","3e druk","4a","De windmakers iv","Gele titel letters. Op achtercover nieuwe plaatje met Jerom."]
[null,null,null,null,null,null,null,"1960-01-01","4e druk","4b","De wolkeneters iv"]
[null,5,"De Tuftuf-club",21,133,55,"ongekleurd","1954-01-01","1e druk",5,"De knokkersburcht tp","Witte titel letters. Titels achtercover in wit kader en bloempot zuil."]
[null,null,null,null,null,null,null,"1958-01-01","2e druk",5,"Het sprekende testament iv","Witte titel letters. Op achtercover nieuwe plaatje met Jerom."]
[null,null,null,null,null,null,null,"1960-01-01","3e druk",5,"De windmakers iv","Gele titel letters. Op achtercover nieuwe plaatje met Jerom."]
[null,null,null,null,null,null,null,"1961-01-01","4e druk",5,"De wilde weldoener iv"]
[null,6,"De sterrenplukkers",23,146,55,"ongekleurd","1955-01-01","1e druk",6,"De Kleppende Klipper tp","Witte titel letters. Titels achtercover in wit kader en bloempot zuil."]
[null,null,null,null,null,null,null,"1958-01-01","2e druk",6,"Het sprekende testament iv","Witte titel letters. Op achtercover nieuwe plaatje met Jerom."]
[null,null,null,null,null,null,null,"1960-01-01","3e druk",6,"De zingende zwammen iv","Gele titel letters. Op achtercover nieuwe plaatje met Jerom."]
[null,7,"De stierentemmer",15,132,54.75,"ongekleurd","1956-01-01","1e druk",7,"De straatridder tp","In de Nederlandse krant De Stem getiteld De stierenvechter. Witte letters, kader."]
[null,null,null,null,null,null,null,"1958-01-01","2e druk",7,"De geverniste zeerovers iv","Gele titel letters. Op achtercover nieuwe plaatje met Jerom."]
[null,null,null,null,null,null,null,"1961-01-01","3e druk",7,"De wolkeneters"]
[null,8,"De ringelingschat",19,137,55,"ongekleurd","1957-01-01","1e druk",8,"De ringelingschat tp","Witte titel letters. Titels achtercover in wit kader en bloempot zuil. Achtercover is identiek aan 1e druk van De spokenjagers uit hetzelfde jaar. Vandaar de foutieve toevoeging dat De ringelingschat ter perse zou zijn."]
[null,null,null,null,null,null,null,"1960-01-01","2e druk",8,"De Zwarte Zwaan iv","Witte titel letters. Op achtercover nieuwe plaatje met Jerom."]
[null,9,"De dolle musketiers",26,89,55,"ongekleurd","1954-01-01","1e druk",9,"De sterrenplukkers tp","Witte titel letters. Titels achtercover in wit kader en bloempot zuil."]
[null,null,null,null,null,null,null,"1958-01-01","2e druk",9,"De stemmenrover tp"]
[null,null,null,null,null,null,null,"1960-01-01","3e druk",9,"De Zwarte Zwaan iv","Gele titel letters. Op achtercover nieuwe plaatje met Jerom."]
[null,null,null,null,null,null,null,"1962-01-01","4e druk",9,"De wilde weldoener iv"]
[null,null,null,null,null,null,null,"1963-01-01","5e druk",9,"Het rijmende paard"]
[null,10,"De tamtamklopper",28,88,55,"ongekleurd","1954-01-01","1e druk",10,"De knokkersburcht tp","In de Nederlandse krant De Stem getiteld De tomtomklopper. Witte titel letters. \nTitels achtercover in wit kader en bloempot zuil."]
[null,null,null,null,null,null,null,"1958-01-01","2e druk",10,"De stemmenrover tp"]
[null,null,null,null,null,null,null,"1959-01-01","3e druk",10,"De Texas-rakkers iv","Gele titel letters. Op achtercover nieuwe plaatje met Jerom."]
[null,null,null,null,null,null,null,"1961-01-01","4e druk",10,"De wilde weldoener iv"]
[null,11,"De knokkersburcht",29,127,55,"ongekleurd","1955-01-01","1e druk",11,"De circusbaron tp","Voor Nederland werd het album aangepast: Lambik komt met de veerboot uit Harwich aan in Hoek van Holland, de Britse legerbasis is verplaatst van de Kempen naar De Peel. Witte titel letters. Titels achtercover in wit kader en bloempot zuil."]
[null,null,null,null,null,null,null,"1958-01-01","2e druk",11,"Het sprekende testament iv","Witte titel letters. Op achtercover nieuwe plaatje met Jerom."]
[null,null,null,null,null,null,null,"1960-01-01","3e druk",11,"De Zwarte Zwaan iv","Gele titel letters. Op achtercover nieuwe plaatje met Jerom."]
[null,null,null,null,null,null,null,"1962-01-01","4e druk",11,"De wilde weldoener iv","Gele titel letters. Op achtercover nieuwe plaatje met Jerom. Jaartal gecorrigeerd."]
[null,12,"De circusbaron",31,81,55,"ongekleurd","1955-01-01","1e druk",12,"De speelgoedzaaier tp","Witte titel letters. Titels achtercover in wit kader en bloempot zuil."]
[null,null,null,null,null,null,null,"1958-01-01","2e druk",12,"Het sprekende testament iv","Witte titel letters. Op achtercover nieuwe plaatje met Jerom."]
[null,null,null,null,null,null,null,"1959-01-01","3e druk",12,"De Texas-rakkers iv","Gele titel letters. Op achtercover nieuwe plaatje met Jerom."]
[null,null,null,null,null,null,null,"1961-01-01","4e druk",12,"De wilde weldoener iv"]
[null,null,null,null,null,null,null,"1963-01-01","5e druk",12,"Het rijmende paard"]
[null,13,"De speelgoedzaaier",32,91,55,"ongekleurd","1955-01-01","1e druk",13,"De ijzeren schelvis tp","Witte titel letters. Titels achtercover in wit kader en bloempot zuil."]
[null,null,null,null,null,null,null,"1958-01-01","2e druk",13,"Het sprekende testament iv","Witte titel letters. Op achtercover nieuwe plaatje met Jerom."]
[null,null,null,null,null,null,null,"1959-01-01","3e druk",13,"De Texas-rakkers iv","Gele titel letters. Op achtercover nieuwe plaatje met Jerom."]
[null,null,null,null,null,null,null,"1962-01-01","4e druk",13,"De wilde weldoener iv"]
[null,14,"De ijzeren schelvis",33,76,55,"ongekleurd","1955-01-01","1e druk",14,"De sterrenplukkers tp","Witte titel letters. Titels achtercover in wit kader en bloempot zuil."]
[null,null,null,null,null,null,null,"1958-01-01","2e druk",14,"Het sprekende testament iv","Witte titel letters. Op achtercover nieuwe plaatje met Jerom."]
[null,null,null,null,null,null,null,"1960-01-01","3e druk",14,"De Zwarte Zwaan iv","Gele titel letters. Op achtercover nieuwe plaatje met Jerom."]
[null,null,null,null,null,null,null,"1962-01-01","4e druk",14,"De wilde weldoener"]
[null,null,null,null,null,null,null,"1963-01-01","5e druk",14,"Het rijmende paard"]
[null,15,"De Kleppende Klipper",35,95,55,"ongekleurd","1956-01-01","1e druk","15a","De stierentemmer tp","Witte titel letters. Titels achtercover in wit kader en bloempot zuil."]
[null,null,null,null,null,null,null,"1956-01-01","2e druk","15b","De knokkersburcht tp","Witte titel letters. Titels achtercover in wit kader en bloempot zuil. De achtercover is opvallend want suggereert een oudere druk, na De tamtamklopper uit 1954, maar voor de Kleppende Klipper uit 1956. Toch gaat het hier om de 2e druk."]
[null,null,null,null,null,null,null,"1958-01-01","3e druk",15,"De geverniste zeerovers iv","Witte titel letters. Op achtercover nieuwe plaatje met Jerom."]
[null,null,null,null,null,null,null,"1960-01-01","4e druk",15,"De zingende zwammen iv","Gele titel letters. Op achtercover nieuwe plaatje met Jerom."]
[null,null,null,null,null,null,null,"1962-01-01","5e druk",15,"De wilde weldoener","Gele titel letters. Op achtercover nieuwe plaatje met Jerom."]
[null,null,null,null,null,null,null,"1963-01-01","6e druk",15,"Het rijmende paard","Gele titel letters. Op achtercover nieuwe plaatje met Jerom."]
[null,16,"De straatridder",36,83,55,"ongekleurd","1956-01-01","1e druk",16,"De brullende berg tp","Witte titel letters. Titels achtercover in wit kader en zuil."]
[null,null,null,null,null,null,null,"1958-01-01","2e druk",16,"De geverniste zeerovers iv","Gele titel letters. Op achtercover nieuwe plaatje met Jerom."]
[null,null,null,null,null,null,null,"1960-01-01","3e druk",16,"De wolkeneters iv"]
[null,null,null,null,null,null,null,"1962-01-01","4e druk",16,"De wilde weldoener","Gele titel letters. Op achtercover nieuwe plaatje met Jerom."]
[null,null,null,null,null,null,null,"1963-01-01","5e druk",16,"De sissende sampam","Gele titel letters. Op achtercover nieuwe plaatje met Jerom."]
[null,17,"De brullende berg",37,80,55,"ongekleurd","1957-01-01","1e druk",17,"De spokenjagers tp","Witte titel letters. Titels achtercover in wit kader en bloempot zuil."]
[null,null,null,null,null,null,null,"1959-01-01","2e druk",17,"De duistere diamant iv","Gele titel letters. Op achtercover nieuwe plaatje met Jerom."]
[null,null,null,null,null,null,null,"1960-01-01","3e druk",17,"De wolkeneters iv"]
[null,null,null,null,null,null,null,"1962-01-01","4e druk",17,"De kwakstralen iv"]
[null,18,"De spokenjagers",38,70,55,"ongekleurd","1957-01-01","1e druk",18,"De ringelingschat tp","Witte titel letters. Titels achtercover in wit kader en bloempot zuil."]
[null,null,null,null,null,null,null,"1959-01-01","2e druk",18,"De Texas-rakkers iv","Gele titel letters. Op achtercover nieuwe plaatje met Jerom."]
[null,null,null,null,null,null,null,"1960-01-01","3e druk",18,"De wolkeneters iv"]
[null,null,null,null,null,null,null,"1962-01-01","4e druk",18,"De wilde weldoener","Gele titel letters. Op achtercover nieuwe plaatje met Jerom."]
[null,19,"De snorrende Snor",40,93,55,"ongekleurd","1958-01-01","1e druk",19,"De stemmenrover tp","Witte titel letters. Titels achtercover in wit kader en bloempot zuil."]
[null,null,null,null,null,null,null,"1959-01-01","2e druk",19,"De Texas-rakkers iv","Gele titel letters. Op achtercover nieuwe plaatje met Jerom."]
[null,null,null,null,null,null,null,"1961-01-01","3e druk",19,"De klankentapper"]
[null,null,null,null,null,null,null,"1963-01-01","4e druk",19,"Het rijmende paard"]
[null,20,"De stemmenrover",41,84,55,"ongekleurd","1958-01-01","1e druk",20,"Het sprekende testament tp","Witte titel letters. Titels achtercover in wit kader en bloempot zuil."]
[null,null,null,null,null,null,null,"1960-01-01","2e druk",20,"De Zwarte Zwaan iv","Gele titel letters. Op achtercover nieuwe plaatje met Jerom."]
[null,null,null,null,null,null,null,"1961-01-01","3e druk",20,"De wilde weldoener iv"]
[null,null,null,null,null,null,null,"1962-01-01","4e druk",20,"De kwakstralen iv"]
[null,null,null,null,null,null,null,"1963-01-01","5e druk",20,"De sissende sampam"]
[null,21,"Het sprekende testament",42,119,55,"ongekleurd","1958-01-01","1e druk",21,"De geverniste zeerovers iv","Witte titel letters. Op achtercover nieuwe plaatje met Jerom."]
[null,null,null,null,null,null,null,"1960-01-01","2e druk",21,"De Zwarte Zwaan iv","Gele titel letters. Op achtercover nieuwe plaatje met Jerom."]
[null,null,null,null,null,null,null,"1961-01-01","3e druk",21,"De klankentapper"]
[null,22,"De geverniste zeerovers",43,120,55,"ongekleurd","1959-01-01","1e druk",22,"De duistere diamant iv","In de krant De Stem  getiteld De zonnige zeurpiet. Gele titel letters. Op achtercover nieuwe plaatje met Jerom."]
[null,null,null,null,null,null,null,"1960-01-01","2e druk",22,"De wolkeneters iv","Gele titel letters. Op achtercover nieuwe plaatje met Jerom. Jaartal gecorrigeerd."]
[null,23,"De duistere diamant",45,121,55,"ongekleurd","1959-01-01","1e druk",23,"Het vliegende bed iv","Gele titel letters. Enkel in eerste druk. Op achtercover nieuwe plaatje met Jerom."]
[null,"-","De sprietatoom",3,107,55,"ongekleurd z/w","1946-11-29","Krant","-","-","In de krant De stem. Niet in album, net als de volgende verhalen."]
[null,"-","De zwarte dame",5,140,54.5,"ongekleurd z/w","1947-04-17","Krant","-","-","In de krant De stem. De Zwarte Madam, Kortrijk hertekend in Bergen op Zoom."]
[null,"-","De koning drinkt",6,105,54.5,"ongekleurd z/w","1947-08-28","Krant","-","-","In de krant De stem."]
[null,"-","De zaagselprinses",7,129,55,"ongekleurd z/w","1948-09-22","Krant","-","-","In de krant De stem. Prinses Zagemeel. Tekst is aangepast, inclusief additionele ondertekst en advertenties/artikels waarin o.a. het terugvinden van Isodoruske (Schalulleke) niet door Lambik maar door een lezer is vervangen."]
[null,"-","De witte uil",9,134,55,"ongekleurd z/w","1949-06-14","Krant","-","-","In de krant De stem."]
[null,"-","De mottenvanger",12,142,55,"ongekleurd z/w","1950-03-02","Krant","-","-","In de krant De stem."]
[null,"-","De stalen bloempot",17,145,55,"ongekleurd z/w","1950-11-20","Krant","-","-","In de krant De stem."]
[null,"-","De expeditie van Prof. Barabas naar het eiland Amoras",2,68,54,"ongekleurd z/w","1950-11-20","Krant","-","-","In de krant Gazet van Limburg. Op het eiland Amoras. Met additionele ondertekst."]
[null,"-","Het vliegende hart","KVH 1",188,25,"ongekleurd z/w","1955-08-24","Krant","-","-","In de krant De stem."]
[]
[]
[null,"5.","nederlands twee kleuren",null,null,null,null,null,"Matte softcover,  gele titel letters, gelijmd, zwart wit met steunkleur rood. "]
[null,null,null,null,null,null,null,null,"Vaak te herkennen aan nummer 1a op achtercover en Standaard Boekhandel-Amsterdam op de titelpagina."]
[null,null,null,null,null,null,null,null,"Naast diverse andere taal aanpassingen zijn ook de namen aangepast: "]
[null,null,null,null,null,null,null,null,"Sidonia ipv Sidonie, Lambiek ipv Lambik, Jeroen ipv Jerom, Schabolleke/Schanulleke ipv Schalulleke."]
[]
[null,"Nr","Titel","Verhaal","Rode reeks nr","Pagina's","Kleur","Album\ndatum","Druk","Lastdodo nr","Laatst vermelde titel op achtercover","Opmerking"]
[null,null,null,null,null,null,null,null,null,null,"iv= in voorbereiding"]
[null,8,"De ringelingschat",19,137,55,"2 kleuren","1962-01-01","1e druk",8,"De kaartendans","Enkel in eerste druk. Heruitgave van nummer 8 uit de Nederlandse ongekleurde reeks. Voor opmerkingen zie Vlaamse twee kleurenreeks."]
[null,10,"De tamtamklopper",28,88,55,"2 kleuren","1964-01-01","1e druk",10,"De nerveuze Nerviers iv","Enkel in eerste druk. Achtercover vermeldt De nerveuze Nerviers met nr 51 (gelijkvormige reeks) maar de overige albums hebben de nummering uit de Nederlandse reeks."]
[null,11,"knokkersburcht",29,127,55,"2 kleuren","1963-01-01","1e druk",11,"Het rijmende paard","Enkel in eerste druk. "]
[null,21,"Het sprekende testament",42,119,55,"2 kleuren","1962-01-01","1e druk",21,"De kaartendans","Strip katalogus / Wikipedia vermelden ten onrechte 1963."]
[null,null,null,null,null,null,null,"1963-01-01","2e druk",21,"Het rijmende paard iv"]
[null,22,"De geverniste zeerovers",43,120,55,"2 kleuren","1962-01-01","1e druk",22,"De kaartendans","Enkel in eerste druk. "]
[null,23,"De duistere diamant",45,121,55,"2 kleuren","1960-01-01","1e druk","23a","De zingende zwammen iv"]
[null,null,null,null,null,null,null,"1960-01-01","2e druk","23b","De zingende zwammen","Vroege herdruk. De zingende zwammen niet in voorbereiding, verder identiek."]
[null,null,null,null,null,null,null,"1964-01-01","3e druk",23,"De nerveuze Nerviers iv"]
[null,24,"Het vliegende bed",47,124,55,"2 kleuren","1959-01-01","1e druk","24a","De Texas-rakkers iv","Op het titelblad gewoon Standaard Boekhandel - Amsterdam."]
[null,null,null,null,null,null,null,"1959-01-01","1e druk","24b","De Texas-rakkers iv","Bijzondere variant: Op het titelblad Standaard Boekhandel - Antwerpen - Brussel - Gent - Leuven. Verder identiek, dus achtercover van Nederlandse reeks."]
[null,null,null,null,null,null,null,"1960-01-01","2e druk",24,"De zingende zwammen iv"]
[null,null,null,null,null,null,null,"1962-01-01","3e druk",24,"De kwakstralen iv"]
[null,25,"De Texas-rakkers",48,125,55,"2 kleuren","1960-01-01","1e druk",25,"De Zwarte Zwaan iv"]
[null,null,null,null,null,null,null,"1961-01-01","2e druk",25,"De wolkeneters"]
[null,null,null,null,null,null,null,"1962-01-01","3e druk",25,"Het hondenparadijs"]
[null,26,"De Zwarte Zwaan",46,123,55,"2 kleuren","1960-01-01","1e druk","26a","De windmakers iv"]
[null,null,null,null,null,null,null,"1960-01-01","2e druk","26b","De windmakers","Vroege herdruk. De windmakers niet in voorbereiding, verder identiek."]
[null,null,null,null,null,null,null,"1961-01-01","3e druk",26,"De wolkeneters","Binnenwerk Vlaams: Vlaamse tekst met op het titelblad Standaard Boekhandel - Antwerpen - Brussel - Gent - Leuven. Achtercover volgens Nederlandse reeks."]
[null,null,null,null,null,null,null,"1962-01-01","4e druk",26,"Het hondenparadijs"]
[null,27,"De windmakers",49,126,55,"2 kleuren","1960-01-01","1e druk",27,"De gouden cirkel iv"]
[null,null,null,null,null,null,null,"1961-01-01","2e druk",27,"De wolkeneters"]
[null,null,null,null,null,null,null,"1962-01-01","3e druk",27,"Het hondenparadijs iv"]
[null,28,"De gouden cirkel",50,118,55,"2 kleuren","1960-01-01","1e druk","28a","De zingende zwammen iv","Laatste in kleur: De gezanten van Mars."]
[null,null,null,null,null,null,null,"1960-01-01","2e druk","28b","De zingende zwammen iv","Laatste in kleur: De groene splinter. Verder identiek."]
[null,null,null,null,null,null,null,"1962-01-01","3e druk",28,"Het hondenparadijs"]
[null,29,"De zingende zwammen",51,110,55,"2 kleuren","1960-01-01","1e druk","29a","De wolkeneters iv"]
[null,null,null,null,null,null,null,"1960-01-01","2e druk","29b","De wolkeneters","Vroege herdruk. De wolkeneters niet in voorbereiding, verder identiek."]
[null,null,null,null,null,null,null,"1962-01-01","3e druk",29,"De kaartendans"]
[null,30,"De wolkeneters",52,109,55,"2 kleuren","1961-01-01","1e druk","30a","De spriet atoom iv","De spriet atoom is los geschreven op de achtercover."]
[null,null,null,null,null,null,null,"1961-01-01","2e druk","30b","De spriet atoom","Vroege herdruk. De spriet atoom niet in voorbereiding, verder identiek."]
[null,null,null,null,null,null,null,"1962-01-01","3e druk",30,"De kaartendans"]
[null,31,"De sprietatoom",3,107,55,"2 kleuren","1961-01-01","1e druk",31,"De klankentapper","Enkel in eerste druk. "]
[null,32,"De klankentapper",53,103,55,"2 kleuren","1961-01-01","1e druk",32,"De wilde weldoener iv"]
[null,null,null,null,null,null,null,"1962-01-01","2e druk",32,"Het hondenparadijs"]
[null,33,"De wilde weldoener",54,104,55,"2 kleuren","1962-01-01","1e druk",33,"Het hondenparadijs iv"]
[null,null,null,null,null,null,null,"1964-01-01","2e druk",33,"De nerveuze Nerviers iv"]
[null,34,"Het hondenparadijs",55,98,55,"2 kleuren","1962-01-01","1e druk",34,"De kaartendans iv","Enkel in eerste druk. "]
[null,35,"De kaartendans",56,101,55,"2 kleuren","1962-01-01","1e druk",35,"De kwakstralen iv","Enkel in eerste druk. "]
[null,36,"De kwakstralen",57,99,55,"2 kleuren","1963-01-01","1e druk",36,"Het rijmende paard iv","Enkel in eerste druk. "]
[null,37,"Het rijmende paard",58,96,55,"2 kleuren","1963-01-01","1e druk",37,"De sissende sampam iv","Enkel in eerste druk. "]
[null,38,"De sissende sampam",59,94,55,"2 kleuren","1963-01-01","1e druk",38,"Sjeik El Ro-jenbiet iv","Enkel in eerste druk. De 1966 uitgave is de Hollandse tekst in de Vlaamse reeks."]
[null,39,"Sjeik El Ro-jenbiet",60,90,55,"2 kleuren","1964-01-01","1e druk",39,"De nerveuze Nerviers iv"]
[null,null,null,null,null,null,null,"1967-01-01","2e druk",39,"De Dulle Griet","Op achtercover vermelding 1967 by Scriptoria N.V. Antwerpen, met als additionele tekst nog eens verantwoordelijke uitgever N.V. Scriptoria."]
[]
[]
[null,"bronnen"]
[]
[]
["Deze lijst is zo zogvuldig mogelijk samengestend met behulp van onderstaande lijsten en bronnen:",null,null,null,null,null,null,null,null,null,"Door:"]
["-",null,"Lastdodo",null,null,null,null,null,null,null," - Arjen Leine"]
["-",null,"De Stripkatalogus, Hans Matla (9e editie)"]
["-",null,"Suske en Wiske op het www"]
["-",null,"De Fameuze Fanclub"]
["-",null,"De totale tabel",null,null,null,null,null,null,null,"Voor correcties, vragen of opmerkingen:"]
["-",null,"Wikipedia",null,null,null,null,null,null,null,"Graag contact opnemen met "]
["-",null,"Wikiwand",null,null,null,null,null,null,null,"detammetumi@gmail.com"]
["-",null,"Weetje van de Week, Kartoen Suske en Wiske Shop"]

{"sheet":"Rode Reeks 4kleuren","index":6,"n_rows":969,"n_cols":26,"rows_kept":969,"cut":false,"hidden":false,"merged":[[502,10,502,17],[603,10,603,17],[604,10,604,17],[606,10,606,17],[499,10,499,17],[500,10,500,17],[457,10,457,17],[345,10,345,17],[888,10,888,17],[863,1,864,1],[863,2,864,2],[863,3,864,3],[863,4,864,4],[766,10,766,17],[764,1,766,1],[419,10,419,17],[506,10,506,17],[199,10,199,17],[204,10,204,17],[240,10,240,17],[591,10,591,17],[595,10,595,17],[612,10,612,17],[628,10,628,17],[659,10,659,17],[230,10,230,17],[251,10,251,17],[266,10,266,17],[271,10,271,17],[352,10,352,17],[395,10,395,17],[376,10,376,17],[404,10,404,17],[441,10,441,17],[464,10,464,17],[477,10,477,17],[547,10,547,17],[630,10,630,17],[503,10,503,17],[957,1,959,5],[926,1,928,20],[889,10,889,17],[890,10,890,17],[891,10,891,17],[895,10,895,17],[892,10,892,17],[893,10,893,17],[894,10,894,17],[896,10,896,17],[897,10,897,17],[898,10,898,17],[899,10,899,17],[900,10,900,17],[887,10,887,17],[840,10,840,17],[842,10,842,17],[841,10,841,17],[860,10,860,17],[861,10,861,17],[771,10,771,17],[851,5,852,5],[843,10,843,17],[845,10,845,17],[844,10,844,17],[844,5,845,5],[844,1,845,1],[844,2,845,2],[844,3,845,3],[844,4,845,4],[846,10,846,17],[847,10,847,17],[848,10,848,17],[764,10,764,17],[765,10,765,17],[773,10,773,17],[796,10,796,17],[797,10,797,17],[776,10,776,17],[792,3,793,3],[792,4,793,4],[792,5,793,5],[778,10,778,17],[779,10,779,17],[776,5,779,5],[776,4,779,4],[776,3,779,3],[770,3,772,3],[770,4,772,4],[770,5,772,5],[767,3,769,3],[774,10,774,17],[862,10,862,17],[864,10,864,17],[881,10,881,17],[851,1,852,1],[851,2,852,2],[851,3,852,3],[851,4,852,4],[788,5,789,5],[788,10,788,17],[777,10,777,17],[832,10,832,17],[820,5,821,5],[820,4,821,4],[820,3,821,3],[820,2,821,2],[820,1,821,1],[820,10,820,17],[821,10,821,17],[822,10,822,17],[824,10,824,17],[823,10,823,17],[822,1,824,1],[822,2,824,2],[822,3,824,3],[822,4,824,4],[822,5,824,5],[780,3,782,3],[780,4,782,4],[805,4,806,4],[805,5,806,5],[806,10,806,17],[804,10,804,17],[760,5,763,5],[833,10,833,17],[832,5,833,5],[832,4,833,4],[832,3,833,3],[832,2,833,2],[832,1,833,1],[825,10,825,17],[826,10,826,17],[825,1,826,1],[825,2,826,2],[825,3,826,3],[825,4,826,4],[825,5,826,5],[827,10,827,17],[828,10,828,17],[829,10,829,17],[827,5,829,5],[827,4,829,4],[827,3,829,3],[827,2,829,2],[827,1,829,1],[831,10,831,17],[830,10,830,17],[830,1,831,1],[830,2,831,2],[830,3,831,3],[830,4,831,4],[830,5,831,5],[767,4,769,4],[770,2,772,2],[767,2,769,2],[415,10,415,17],[442,10,442,17],[633,10,633,17],[762,10,762,17],[763,10,763,17],[705,1,707,1],[764,2,766,2],[764,3,766,3],[764,4,766,4],[764,5,766,5],[767,10,767,17],[792,2,793,2],[758,1,759,1],[758,2,759,2],[758,3,759,3],[758,4,759,4],[736,5,739,5],[746,10,746,17],[747,10,747,17],[745,1,747,1],[745,2,747,2],[745,3,747,3],[745,4,747,4],[745,5,747,5],[740,10,740,17],[751,4,753,4],[751,5,753,5],[780,10,780,17],[781,10,781,17],[782,10,782,17],[780,1,782,1],[780,2,782,2],[653,10,653,17],[705,3,707,3],[709,10,709,17],[677,5,678,5],[679,1,682,1],[679,2,682,2],[630,1,634,1],[671,10,671,17],[695,1,697,1],[695,2,697,2],[695,3,697,3],[695,4,697,4],[695,5,697,5],[695,10,695,17],[733,10,733,17],[721,10,721,17],[720,1,721,1],[720,2,721,2],[720,3,721,3],[720,4,721,4],[720,5,721,5],[730,1,732,1],[730,2,732,2],[730,3,732,3],[730,4,732,4],[702,5,704,5],[703,2,704,2],[703,10,703,17],[706,10,706,17],[707,10,707,17],[705,10,705,17],[724,4,726,4],[755,3,757,3],[755,4,757,4],[724,1,726,1],[724,2,726,2],[733,1,735,1],[733,2,735,2],[735,10,735,17],[727,3,729,3],[727,4,729,4],[727,5,729,5],[730,10,730,17],[731,10,731,17],[732,10,732,17],[734,10,734,17],[739,10,739,17],[750,10,750,17],[749,10,749,17],[749,5,750,5],[749,4,750,4],[749,3,750,3],[743,10,743,17],[740,2,742,2],[751,10,751,17],[753,10,753,17],[751,1,753,1],[749,1,750,1],[756,10,756,17],[757,10,757,17],[736,1,739,1],[755,10,755,17],[755,5,757,5],[755,1,757,1],[751,3,753,3],[751,2,753,2],[724,3,726,3],[752,10,752,17],[748,10,748,17],[749,2,750,2],[736,10,736,17],[737,10,737,17],[738,10,738,17],[705,2,707,2],[717,10,717,17],[724,10,724,17],[736,2,739,2],[722,10,722,17],[722,5,723,5],[722,4,723,4],[722,3,723,3],[722,2,723,2],[733,3,735,3],[736,3,739,3],[736,4,739,4],[722,1,723,1],[728,10,728,17],[740,4,743,4],[741,10,741,17],[742,10,742,17],[740,5,743,5],[744,10,744,17],[745,10,745,17],[713,10,713,17],[713,1,715,1],[713,2,715,2],[713,3,715,3],[713,4,715,4],[733,4,735,4],[733,5,735,5],[729,10,729,17],[713,5,715,5],[716,10,716,17],[740,1,743,1],[740,3,743,3],[730,5,732,5],[725,10,725,17],[727,10,727,17],[727,1,729,1],[727,2,729,2],[723,10,723,17],[726,10,726,17],[724,5,726,5],[698,10,698,17],[699,10,699,17],[698,1,701,1],[643,1,646,1],[643,2,646,2],[643,3,646,3],[643,4,646,4],[705,4,707,4],[705,5,707,5],[698,5,701,5],[698,4,701,4],[698,3,701,3],[698,2,701,2],[673,4,676,4],[704,10,704,17],[702,1,704,1],[700,10,700,17],[673,1,676,1],[673,2,676,2],[673,3,676,3],[666,10,666,17],[667,10,667,17],[668,10,668,17],[649,10,649,17],[648,10,648,17],[652,10,652,17],[655,10,655,17],[655,5,657,5],[657,10,657,17],[654,10,654,17],[650,10,650,17],[656,10,656,17],[670,1,672,1],[672,10,672,17],[652,4,654,4],[652,5,654,5],[645,10,645,17],[646,10,646,17],[643,10,643,17],[651,10,651,17],[679,10,679,17],[680,10,680,17],[635,2,638,2],[630,2,634,2],[670,5,672,5],[677,2,678,2],[677,3,678,3],[677,4,678,4],[674,10,674,17],[675,10,675,17],[662,2,663,2],[662,3,663,3],[662,4,663,4],[662,5,663,5],[660,10,660,17],[652,1,654,1],[652,2,654,2],[652,3,654,3],[647,10,647,17],[666,3,669,3],[666,4,669,4],[666,5,669,5],[637,10,637,17],[635,3,638,3],[502,1,503,1],[502,2,503,2],[502,3,503,3],[502,4,503,4],[502,5,503,5],[563,10,563,17],[617,10,617,17],[610,2,614,2],[613,10,613,17],[615,10,615,17],[616,10,616,17],[618,10,618,17],[615,1,618,1],[615,2,618,2],[615,3,618,3],[676,10,676,17],[673,10,673,17],[673,5,676,5],[580,2,581,2],[580,3,581,3],[619,10,619,17],[615,4,618,4],[615,5,618,5],[626,5,629,5],[630,5,634,5],[632,10,632,17],[670,4,672,4],[664,3,665,3],[664,2,665,2],[658,2,661,2],[639,2,642,2],[585,2,586,2],[545,1,548,1],[545,2,548,2],[545,3,548,3],[619,2,621,2],[619,1,621,1],[587,2,588,2],[589,2,592,2],[585,3,586,3],[585,4,586,4],[585,5,586,5],[587,5,588,5],[589,5,592,5],[610,1,614,1],[601,1,606,1],[601,2,606,2],[601,3,606,3],[607,10,607,17],[608,10,608,17],[607,5,609,5],[609,10,609,17],[607,1,609,1],[592,10,592,17],[586,10,586,17],[587,4,588,4],[589,4,592,4],[621,10,621,17],[597,3,600,3],[597,4,600,4],[597,5,600,5],[593,10,593,17],[601,4,606,4],[601,5,606,5],[488,2,489,2],[487,10,487,17],[485,10,485,17],[508,5,509,5],[513,10,513,17],[507,10,507,17],[505,10,505,17],[504,5,507,5],[504,1,507,1],[582,1,584,1],[582,2,584,2],[582,3,584,3],[582,4,584,4],[582,5,584,5],[585,10,585,17],[585,1,586,1],[587,1,588,1],[504,2,507,2],[504,3,507,3],[520,1,523,1],[520,2,523,2],[520,3,523,3],[520,4,523,4],[520,5,523,5],[523,10,523,17],[510,10,510,17],[510,1,511,1],[510,2,511,2],[510,3,511,3],[510,4,511,4],[538,1,540,1],[538,2,540,2],[466,1,470,1],[480,1,482,1],[480,2,482,2],[497,10,497,17],[485,5,486,5],[486,10,486,17],[488,3,489,3],[488,4,489,4],[488,5,489,5],[490,1,492,1],[490,2,492,2],[490,3,492,3],[490,4,492,4],[490,5,492,5],[491,10,491,17],[492,10,492,17],[490,10,490,17],[484,10,484,17],[483,10,483,17],[488,10,488,17],[485,1,486,1],[493,1,494,1],[493,2,494,2],[493,3,494,3],[493,4,494,4],[493,5,494,5],[495,1,501,1],[495,2,501,2],[495,3,501,3],[495,4,501,4],[495,5,501,5],[488,1,489,1],[373,10,373,17],[372,10,372,17],[367,10,367,17],[385,3,389,3],[458,4,462,4],[458,5,462,5],[466,5,470,5],[471,1,472,1],[471,3,472,3],[471,4,472,4],[480,3,482,3],[480,4,482,4],[483,1,484,1],[483,2,484,2],[483,3,484,3],[483,4,484,4],[483,5,484,5],[471,5,472,5],[476,1,479,1],[476,2,479,2],[473,1,475,1],[473,2,475,2],[473,3,475,3],[473,4,475,4],[473,5,475,5],[463,1,465,1],[458,1,462,1],[476,5,479,5],[463,5,465,5],[458,2,462,2],[458,3,462,3],[476,4,479,4],[426,3,430,3],[426,4,430,4],[426,5,430,5],[392,10,392,17],[26,10,26,17],[20,10,20,17],[34,10,34,17],[435,10,435,17],[435,5,438,5],[436,10,436,17],[438,10,438,17],[437,10,437,17],[417,1,420,1],[431,10,431,17],[431,1,434,1],[431,2,434,2],[431,3,434,3],[431,4,434,4],[431,5,434,5],[432,10,432,17],[433,10,433,17],[409,1,412,1],[409,2,412,2],[409,3,412,3],[385,1,389,1],[390,1,392,1],[386,10,386,17],[388,10,388,17],[389,10,389,17],[387,10,387,17],[385,10,385,17],[390,10,390,17],[378,10,378,17],[360,3,362,3],[360,4,362,4],[360,5,362,5],[452,1,457,1],[452,2,457,2],[452,3,457,3],[452,4,457,4],[452,5,457,5],[452,10,452,17],[453,10,453,17],[454,10,454,17],[455,10,455,17],[390,2,392,2],[390,3,392,3],[390,4,392,4],[390,5,392,5],[393,1,397,1],[409,10,409,17],[409,5,412,5],[410,10,410,17],[402,5,405,5],[408,10,408,17],[421,4,425,4],[421,5,425,5],[417,2,420,2],[417,3,420,3],[417,4,420,4],[417,5,420,5],[417,10,417,17],[418,10,418,17],[440,10,440,17],[355,1,359,1],[360,1,362,1],[342,5,346,5],[321,10,321,17],[385,4,389,4],[385,5,389,5],[360,10,360,17],[362,10,362,17],[361,10,361,17],[385,2,389,2],[379,10,379,17],[379,2,384,2],[379,3,384,3],[379,4,384,4],[353,10,353,17],[406,5,408,5],[406,4,408,4],[406,3,408,3],[401,10,401,17],[393,2,396,2],[393,3,397,3],[393,4,397,4],[393,5,397,5],[396,10,396,17],[400,10,400,17],[383,10,383,17],[391,10,391,17],[393,10,393,17],[379,5,384,5],[397,10,397,17],[380,10,380,17],[394,10,394,17],[336,3,341,3],[336,4,341,4],[336,5,341,5],[342,2,346,2],[342,3,346,3],[342,4,346,4],[328,3,331,3],[328,4,331,4],[328,5,331,5],[365,10,365,17],[340,10,340,17],[323,10,323,17],[317,10,317,17],[318,10,318,17],[317,1,322,1],[317,2,322,2],[317,3,322,3],[317,4,322,4],[317,5,322,5],[323,1,327,1],[363,5,366,5],[363,4,366,4],[363,3,366,3],[360,2,362,2],[347,2,348,2],[347,3,349,3],[355,10,355,17],[356,10,356,17],[319,10,319,17],[322,10,322,17],[324,10,324,17],[350,3,354,3],[212,1,217,1],[226,10,226,17],[227,10,227,17],[225,10,225,17],[218,10,218,17],[218,4,225,4],[212,10,212,17],[221,10,221,17],[222,10,222,17],[367,2,370,2],[367,3,370,3],[367,4,370,4],[369,10,369,17],[326,10,326,17],[259,10,259,17],[260,10,260,17],[285,5,288,5],[285,4,288,4],[285,3,288,3],[363,1,366,1],[363,2,366,2],[363,10,363,17],[366,10,366,17],[364,10,364,17],[357,10,357,17],[328,2,331,2],[323,2,327,2],[323,3,327,3],[323,4,327,4],[323,5,327,5],[336,1,341,1],[336,2,341,2],[312,3,316,3],[312,4,316,4],[312,5,316,5],[332,10,332,17],[332,5,335,5],[332,1,335,1],[332,2,335,2],[254,10,254,17],[255,10,255,17],[256,10,256,17],[262,10,262,17],[253,1,256,1],[253,2,256,2],[253,3,256,3],[270,10,270,17],[268,10,268,17],[269,10,269,17],[268,5,272,5],[268,4,272,4],[268,3,272,3],[268,2,272,2],[268,1,272,1],[320,10,320,17],[311,10,311,17],[308,10,308,17],[309,10,309,17],[181,1,188,1],[181,3,188,3],[198,10,198,17],[195,10,195,17],[195,1,200,1],[195,2,200,2],[195,3,200,3],[195,4,200,4],[195,5,200,5],[196,10,196,17],[197,10,197,17],[201,1,205,1],[201,2,205,2],[201,3,205,3],[201,4,205,4],[201,5,205,5],[201,10,201,17],[188,10,188,17],[182,10,182,17],[187,10,187,17],[206,1,211,1],[206,2,211,2],[206,3,211,3],[206,4,211,4],[193,10,193,17],[189,10,189,17],[190,10,190,17],[165,1,169,1],[165,2,169,2],[165,3,169,3],[159,2,164,2],[159,3,164,3],[165,5,169,5],[206,5,211,5],[189,1,194,1],[181,4,188,4],[181,5,188,5],[182,2,188,2],[170,1,174,1],[175,1,180,1],[175,2,180,2],[175,3,180,3],[175,4,180,4],[175,5,180,5],[170,2,174,2],[170,3,174,3],[170,4,174,4],[170,5,174,5],[192,10,192,17],[189,2,194,2],[189,3,194,3],[189,4,194,4],[85,10,85,17],[86,10,86,17],[73,10,73,17],[74,10,74,17],[75,10,75,17],[124,3,128,3],[124,4,128,4],[124,5,128,5],[124,10,124,17],[125,10,125,17],[127,10,127,17],[153,1,158,1],[153,2,158,2],[153,3,158,3],[153,4,158,4],[153,5,158,5],[163,10,163,17],[161,10,161,17],[156,10,156,17],[162,10,162,17],[155,10,155,17],[160,10,160,17],[159,10,159,17],[159,1,164,1],[85,2,88,2],[76,10,76,17],[102,10,102,17],[122,10,122,17],[117,10,117,17],[113,10,113,17],[88,10,88,17],[100,10,100,17],[110,10,110,17],[105,10,105,17],[104,10,104,17],[106,10,106,17],[107,10,107,17],[95,10,95,17],[109,10,109,17],[89,10,89,17],[96,10,96,17],[103,10,103,17],[91,10,91,17],[92,10,92,17],[178,10,178,17],[184,10,184,17],[177,10,177,17],[30,10,30,17],[31,10,31,17],[51,10,51,17],[64,10,64,17],[65,10,65,17],[72,10,72,17],[71,10,71,17],[90,10,90,17],[126,10,126,17],[93,10,93,17],[94,10,94,17],[98,10,98,17],[97,10,97,17],[99,10,99,17],[152,10,152,17],[108,10,108,17],[183,10,183,17],[28,5,35,5],[28,4,35,4],[35,10,35,17],[33,10,33,17],[32,10,32,17],[36,2,41,2],[78,5,84,5],[80,10,80,17],[81,10,81,17],[83,10,83,17],[82,10,82,17],[71,4,77,4],[64,3,70,3],[64,4,70,4],[64,5,70,5],[68,10,68,17],[40,10,40,17],[47,10,47,17],[66,10,66,17],[67,10,67,17],[69,10,69,17],[52,10,52,17],[42,10,42,17],[43,10,43,17],[44,10,44,17],[45,10,45,17],[70,10,70,17],[77,10,77,17],[39,10,39,17],[54,10,54,17],[46,10,46,17],[61,10,61,17],[16,10,16,17],[16,4,21,4],[21,10,21,17],[16,5,21,5],[49,1,55,1],[49,2,55,2],[49,3,55,3],[49,4,55,4],[49,5,55,5],[55,10,55,17],[59,10,59,17],[56,3,63,3],[56,2,63,2],[56,1,63,1],[58,10,58,17],[60,10,60,17],[63,10,63,17],[62,10,62,17],[57,10,57,17],[56,10,56,17],[56,5,63,5],[28,10,28,17],[28,3,35,3],[28,2,30,2],[31,2,35,2],[28,1,35,1],[29,10,29,17],[42,1,48,1],[42,2,48,2],[42,3,48,3],[42,4,48,4],[42,5,48,5],[36,1,41,1],[37,10,37,17],[36,10,36,17],[38,10,38,17],[41,10,41,17],[36,5,41,5],[48,10,48,17],[36,4,41,4],[36,3,41,3],[0,0,3,6],[9,0,10,6],[11,1,12,1],[11,7,12,15],[11,2,12,5],[9,7,10,15],[14,10,15,17],[17,10,17,17],[14,4,15,4],[14,5,15,5],[4,0,7,9],[14,1,15,1],[14,7,15,7],[14,2,15,2],[14,8,15,8],[14,3,15,3],[22,3,27,3],[22,2,27,2],[22,1,27,1],[16,1,21,1],[27,10,27,17],[22,10,22,17],[23,10,23,17],[24,10,24,17],[25,10,25,17],[18,10,18,17],[19,10,19,17],[22,5,27,5],[22,4,27,4],[14,6,15,6],[16,2,21,2],[16,3,21,3],[104,4,111,4],[104,5,111,5],[90,1,96,1],[90,2,96,2],[90,3,96,3],[90,4,96,4],[90,5,96,5],[97,1,103,1],[49,10,49,17],[50,10,50,17],[85,1,89,1],[97,5,103,5],[78,1,84,1],[78,2,84,2],[78,3,84,3],[64,1,70,1],[64,2,70,2],[85,3,89,3],[85,4,89,4],[78,4,84,4],[85,5,89,5],[71,1,77,1],[56,4,63,4],[71,5,77,5],[173,10,173,17],[170,10,170,17],[134,1,136,1],[134,2,136,2],[147,2,152,2],[144,10,144,17],[147,3,152,3],[148,10,148,17],[147,4,152,4],[147,5,152,5],[142,4,146,4],[137,3,141,3],[137,4,141,4],[137,5,141,5],[142,2,146,2],[142,3,146,3],[150,10,150,17],[137,1,141,1],[137,2,141,2],[142,1,146,1],[142,5,146,5],[87,10,87,17],[78,10,78,17],[112,1,118,1],[104,1,111,1],[104,2,111,2],[112,2,118,2],[112,3,118,3],[112,4,118,4],[112,5,118,5],[104,3,111,3],[71,2,77,2],[71,3,77,3],[79,10,79,17],[84,10,84,17],[97,2,103,2],[97,3,103,3],[97,4,103,4],[111,10,111,17],[114,10,114,17],[123,10,123,17],[119,4,123,4],[119,5,123,5],[115,10,115,17],[116,10,116,17]],"merged_total":1960,"flags":["merged_cut"]}
["Suske en Wiske"]
[null,null,null,null,null,null,null,null,null,null,"De albums van de rode reeks zijn onderverdeeld in 6 groepen:"]
[null,null,null,null,null,null,null,null,null,null,"1. Vlaams ongekleurd"]
[null,null,null,null,null,null,null,null,null,null,"2. Vlaams twee kleuren"]
["de rode reeks",null,null,null,null,null,null,null,null,null,"3. Gelijkvormige reeks"]
[null,null,null,null,null,null,null,null,null,null,"4. Nederlands ongekleurd"]
[null,null,null,null,null,null,null,null,null,null,"5. Nederlands twee kleuren"]
[null,null,null,null,null,null,null,null,null,null,"6. Vier kleuren reeks (≥67)"]
[]
[]
[]
[null,"6.","vier kleuren reeks",null,null,null,null,"soft cover, volledig in kleur, gelijmd "]
[]
[]
[null,"Nr","Titel","Verhaal","Pagina's","Formaat","Kaft","Album\njaar","Druk","Laatst vermelde titel","Opmerking"]
[null,null,null,null,null,null,null,null,null,"op achtercover"]
[null,67,"De poenschepper",{"$f":"INDEX('Lange verhalen'!B:B,MATCH(B17,'Lange verhalen'!D:D,0))","v":67},55,"20*26cm\n=\noude\nformaat","Mat, rood","1967-03-01","1e druk","De spokenjagers","Titel onderaan; in de eerste druk zit soms een Pats folder. Albumnummers 67 t/m 85 linksboven.\nDe nummers 67 tot en met 81 verschenen in een matte en geplastificeerde uitgave. Algemeen wordt aangenomen dat de matte uitvoering de eerste druk is. 1e drukken zonder ISBN nummer."]
[null,null,null,null,null,null,"Geplastificeerd, rood","1968-07-02","2e druk","De straatridder","Titel onderaan. Er zijn herdrukken van de geplastificeerde (2e) druk, deze latere drukken hebben wat gladder papier en soms al een ISBN nummer."]
[null,null,null,null,null,null,"Geplastificeerd, rood","1972-10-07","7e druk","De ringelingschat","Titel bovenaan. \"Standaard Uitgeverij\" onder de titel op de cover."]
[null,null,null,null,null,null,"Rood","1975-11-11","herdruk","De mollige meivis","Ongeplastificeerd."]
[null,null,null,null,null,null,"Rood","1996-02-01","herdruk","Het kostbare kader","Ook verspreid met kartonnen Sidonia opzetfiguur als bijlage."]
[null,null,null,null,null,null,"Gekleurd","2010-10-01","herdruk","De halve havelaar","Nieuwe cover, volledig gekleurd zonder rode achtergrond. Zonder rode rand links. Achtercover met ons vijftal in Vitamitje , beschrijving van het verhaal en plaatjes van de laatste uitgaven."]
[null,68,"Het eiland Amoras",{"$f":"INDEX('Lange verhalen'!B:B,MATCH(B23,'Lange verhalen'!D:D,0))","v":2},54,"oude\nformaat","Mat, rood","1967-04-01","1e druk","De spokenjagers","Geheel hertekend ten opzichte van de ongekleurde reeks. Titel onderaan. 1 bladzijde ontbreekt, net als in ongekleurde reeks."]
[null,null,null,null,null,null,"Geplastificeerd, rood","1968-07-02","2e druk","De schone slaper","Titel onderaan. Uitgave zowel zonder als met \"Standaard Uitgeverij\" onder de titel op de cover."]
[null,null,null,null,null,null,"Geplastificeerd, rood","1971-12-03","3e druk","Het brommende brons","Titel bovenaan. \"Standaard Uitgeverij\" onder de titel op de cover."]
[null,null,null,null,null,null,"Rood","1976-04-10","herdruk","De minilotten van Kokonera","Ongeplastificeerd."]
[null,null,null,null,null,null,"Rood","2003-10-01","herdruk","De gevangene van Prisonov","Ook verkrijgbaar met ingesealde Suske en Wiske sjaal (rood/blauw/geel)."]
[null,null,null,null,null,null,"Gekleurd","2010-06-01","herdruk","De rillende rots","Nieuwe cover. Achtercover met vijftal in Vitamitje, synopsis en plaatjes van laatste uitgaven."]
[null,69,"De nerveuze Nerviers",{"$f":"INDEX('Lange verhalen'!B:B,MATCH(B29,'Lange verhalen'!D:D,0))","v":60},55,"oude\nformaat","Mat, rood","1967-03-01","1e druk","De spokenjagers","Titel onderaan. Titel zonder trema op de letter e."]
[null,null,null,null,null,null,"Geplastificeerd, rood","1968-09-01","2e druk","De schone slaper","Titel onderaan. Eerste geplastificeerde druk: minder glad papier en geen ISBN nummer."]
[null,null,null,null,null,null,"Geplastificeerd, rood","1972-03-06","6e druk","Het brommende brons","Titel bovenaan. Uitgave met \"Standaard Uitgeverij\" onder de titel op de cover."]
[null,null,"De nerveuze Nerviërs",null,null,null,"Geplastificeerd, rood","1974-01-09","9e druk","De poppenpakker","Titel bovenaan. Eerste uitgave met trema 'ë' in de titel."]
[null,null,null,null,null,null,"Rood","1975-11-11","10e druk","De mollige meivis","Ongeplastificeerd."]
[null,null,null,null,null,null,"Rood","1984-04-22","22e druk","Het Delta duel","Geseald met Sidonia poster achterin, die samen met andere posters een treintje vormen."]
[null,null,null,null,null,null,"Rood","1996-02-01","herdruk","Het kostbare kader","Ook verspreid met kartonnen Sidonia opzetfiguur als bijlage."]
[null,null,null,null,null,null,"Gekleurd","2009-05-01","herdruk","De knikkende knoken","Nieuwe cover. Achtercover met vijftal in Vitamitje, synopsis en plaatjes van laatste uitgaven."]
[null,70,"De spokenjagers",{"$f":"INDEX('Lange verhalen'!B:B,MATCH(B37,'Lange verhalen'!D:D,0))","v":37},55,"oude\nformaat","Mat, rood","1967-04-01","1e druk","De spokenjagers","Titel onderaan. Net als in 2 kleurenreeks deels hertekend ten opzichte van de ongekleurde reeks: Jerom en haren Sidonia bijgewerkt, inkting verdikt."]
[null,null,null,null,null,null,"Geplastificeerd, rood","1968-07-02","2e druk","De straatridder","Titel onderaan. Eerste geplastificeerde druk. \"Standaard Uitgeverij\" onder de titel op de cover."]
[null,null,null,null,null,null,"Rood","1975-11-10","10e druk","De mollige meivis","Titel bovenaan. Ongeplastificeerd."]
[null,null,null,null,null,null,"Rood","2003-10-01","herdruk","De gevangene van Prisonov","Ook verkrijgbaar met ingesealde Suske en Wiske sjaal (rood/blauw/geel)."]
[null,null,null,null,null,null,"Gekleurd","2010-10-01","herdruk","De halve havelaar","Nieuwe cover. Achtercover met vijftal en Vitamitje. Ook verkrijgbaar met fietszadelhoes."]
[null,null,null,null,null,null,"Gekleurd, rode rand","2022-05-01","herdruk","De maffe markies","Oudste album met n\\ieuwe cover met links rode rand. Afwijkend lettertype voor Suske en Wiske, en album nummer rechts boven. Achtercover rood met 5 rijen titels in witte letters."]
[null,71,"Wattman",{"$f":"INDEX('Lange verhalen'!B:B,MATCH(B43,'Lange verhalen'!D:D,0))","v":68},55,"oude\nformaat","Mat, rood","1967-06-01","1e druk","De koddige kater","Titel onderaan. "]
[null,null,null,null,null,null,"Geplastificeerd, rood","1968-10-01","2e druk","De schone slaper","Titel onderaan. Eerste geplastificeerde druk. "]
[null,null,null,null,null,null,"Geplastificeerd, rood","1972-03-06","6e druk","Het brommende brons","Titel bovenaan. 'Standaard Uitgeverij' onder de titel op de cover."]
[null,null,null,null,null,null,"Rood","1975-11-10","10e druk","De mollige meivis","Ongeplastificeerd."]
[null,null,null,null,null,null,"Rood","1986-06-22","22e druk","De bonkige baarden","Ook verspreid met sticker met strik van De Famibank op de cover."]
[null,null,null,null,null,null,"Gekleurd","2009-10-01","herdruk","De tijdbobijn","Nieuwe cover. Achtercover met vijftal in Vitamitje, synopsis en plaatjes van laatste uitgaven."]
[null,null,null,null,null,null,"Gekleurd, rode rand","2022-05-01","herdruk","De maffe markies","Nieuwe cover met links rode rand. Achtercover rood met 5 rijen titels in witte letters."]
[null,72,"Jeromba de Griek",{"$f":"INDEX('Lange verhalen'!B:B,MATCH(B50,'Lange verhalen'!D:D,0))","v":65},55,"oude\nformaat","Mat, rood","1967-06-01","1e druk","De koddige kater","Titel onderaan. "]
[null,null,null,null,null,null,"Geplastificeerd, rood","1968-01-01","2e druk","De koddige kater","Titel onderaan. Eerste geplastificeerde druk. Voor het drukken is de drukfilm uit 1967 gebruikt, maar het album is van 1968. Er zijn pas geplastificeerde albums verschenen vanaf het jaar 1968."]
[null,null,null,null,null,null,"Geplastificeerd, rood","1971-12-03","3e druk","Het brommende brons","Titel bovenaan. 'Standaard Uitgeverij' onder de titel op de cover."]
[null,null,null,null,null,null,"Rood","1975-11-09","9e druk","De mollige meivis","Ongeplastificeerd."]
[null,null,null,null,null,null,"Rood","1995-06-01","herdruk","De begeerde berg","Ook verspreid met kartonnen Sidonia opzetfiguur als bijlage."]
[null,null,null,null,null,null,"Rood","2002-10-01","herdruk","In de ban van de Milt","Ook uitgegeven met ingesealde CD single van de S&W band van de theatershow De schimmige schurken."]
[null,null,null,null,null,null,"Gekleurd","2010-10-01","herdruk","De halve havelaar","Nieuwe cover. Achtercover met vijftal in Vitamitje, synopsis en plaatjes van laatste uitgaven."]
[null,73,"Het zoemende ei",{"$f":"INDEX('Lange verhalen'!B:B,MATCH(B57,'Lange verhalen'!D:D,0))","v":61},55,"oude\nformaat","Mat, rood","1967-06-01","1e druk","De koddige kater","Titel onderaan. "]
[null,null,null,null,null,null,"Geplastificeerd, rood","1968-07-02","2e druk","De straatridder","Titel onderaan. Eerste geplastificeerde druk. 'Standaard Uitgeverij' onder de titel op de cover."]
[null,null,null,null,null,null,"Geplastificeerd, rood","1972-10-06","6e druk","De ringelingschat","Titel bovenaan. 'Standaard Uitgeverij' onder op de cover."]
[null,null,null,null,null,null,"Rood","1975-11-09","9e druk","De mollige meivis","Ongeplastificeerd."]
[null,null,null,null,null,null,"Rood","1984-08-19","19e druk","De tamme Tumi","Met achterin extra blad (2/6): \"Tot ziens in het volgende verhaal!\", Jerom met hengel en Suske in laars."]
[null,null,null,null,null,null,"Rood","2002-10-01","herdruk","In de band van de Milt","Spelfout in titel 'In de ban van de Milt'."]
[null,null,null,null,null,null,"Rood","2007-03-01","herdruk","De tikkende tinkan","Ook uitgegeven met ingesealde CD single van de S&W band van de theatershow De schimmige schurken."]
[null,null,null,null,null,null,"Gekleurd","2009-10-01","herdruk","De tijdbobijn","Nieuwe cover. Achtercover met vijftal in Vitamitje, synopsis en plaatjes van laatste uitgaven."]
[null,74,"De koddige kater",{"$f":"INDEX('Lange verhalen'!B:B,MATCH(B65,'Lange verhalen'!D:D,0))","v":62},55,"oude\nformaat","Mat, rood","1967-06-01","1e druk","De koddige kater","Titel onderaan. "]
[null,null,null,null,null,null,"Geplastificeerd, rood","1968-07-02","2e druk","De straatridder","Titel onderaan. Eerste geplastificeerde druk. 'Standaard Uitgeverij' onder de titel op de cover."]
[null,null,null,null,null,null,"Geplastificeerd, rood","1971-12-03","3e druk","Het brommende brons","Titel bovenaan. 'Standaard Uitgeverij' onder de titel op de cover."]
[null,null,null,null,null,null,"Rood","1975-11-09","9e druk","De koddige kater","Ongeplastificeerd."]
[null,null,null,null,null,null,"Rood","1984-04-19","19e druk","Het Delta duel","Geseald met dieren poster achterin, die samen met andere posters een treintje vormen."]
[null,null,null,null,null,null,"Rood","2002-10-01","herdruk","In de ban van de Milt","Ook verkrijgbaar met ingesealde Suske en Wiske sjaal (rood/blauw/geel)."]
[null,null,null,null,null,null,"Gekleurd","2010-10-01","herdruk","De halve havelaar","Nieuwe cover. Achtercover met vijftal in Vitamitje, synopsis en plaatjes van laatste uitgaven."]
[null,75,"Het mini mierennest",{"$f":"INDEX('Lange verhalen'!B:B,MATCH(B72,'Lange verhalen'!D:D,0))","v":69},55,"oude\nformaat","Mat, rood","1967-11-01","1e druk","De koddige kater","Vanaf dit album titel altijd bovenaan. Matte uitgave."]
[null,null,null,null,null,null,"Geplastificeerd, rood","1968-10-01","2e druk","De schone slaper","Geplastificeerd."]
[null,null,null,null,null,null,"Geplastificeerd, rood","1971-06-03","3e druk","De duistere diamant","'Standaard Uitgeverij' onder de titel op de cover."]
[null,null,null,null,null,null,"Rood","1975-11-01","herdruk","De mollige meivis","Ongeplastificeerd."]
[null,null,null,null,null,null,"Rood","1996-02-01","herdruk","Het kostbare kader","Ook verspreid met kartonnen Sidonia opzetfiguur als bijlage."]
[null,null,null,null,null,null,"Rood","2004-10-01","herdruk","Kaapse kaalkoppen","Ook verkrijgbaar geweest, geseald met Suske of Wiske sleutelhanger. Zomeractie 2007"]
[null,null,null,null,null,null,"Gekleurd","2010-10-01","herdruk","De halve havelaar","Nieuwe cover. Achtercover met vijftal in Vitamitje, synopsis en plaatjes van laatste uitgaven."]
[null,76,"De ijzeren schelvis",{"$f":"INDEX('Lange verhalen'!B:B,MATCH(B79,'Lange verhalen'!D:D,0))","v":32},55,"oude\nformaat","Mat, rood","1967-11-01","1e druk","De koddige kater","Matte uitgave. Net als in 2 kleurenreeks deels hertekend ten opzichte van ongekleurde reeks: Jerom (voor het eerst met broek) en hoofd Sidonia, inkting verdikt."]
[null,null,null,null,null,null,"Geplastificeerd, rood","1967-11-01","2e druk","De koddige kater","Geplastificeerd. Verder identiek aan 1e druk. Uit 1968 (geplastificeerde drukken pas vanaf '68)."]
[null,null,null,null,null,null,"Geplastificeerd, rood","1972-03-05","5e druk","Het brommende brons","'Standaard Uitgeverij' onder de titel op de cover."]
[null,null,null,null,null,null,"Rood","1975-11-09","9e druk","De mollige meivis","Ongeplastificeerd."]
[null,null,null,null,null,null,"Rood","1984-04-19","19e druk","Het Delta duel","Geseald met Boemerang poster achterin, die samen met andere posters een treintje vormen."]
[null,null,null,null,null,null,"Rood","1996-02-01","herdruk","Het kostbare kader","Ook verspreid met kartonnen Sidonia opzetfiguur als bijlage."]
[null,null,null,null,null,null,"Gekleurd","2010-10-01","herdruk","De halve havelaar","Nieuwe cover. Achtercover met vijftal in Vitamitje, synopsis en plaatjes van laatste uitgaven."]
[null,77,"De apekermis",{"$f":"INDEX('Lange verhalen'!B:B,MATCH(B86,'Lange verhalen'!D:D,0))","v":64},55,"oude\nformaat","Mat, rood","1967-11-01","1e druk","De koddige kater","Matte uitgave."]
[null,null,null,null,null,null,"Geplastificeerd, rood","1967-11-01","2e druk","De koddige kater","Geplastificeerd. Verder identiek aan 1e druk. Uit 1968 (geplastificeerde drukken pas vanaf '68)."]
[null,null,null,null,null,null,"Geplastificeerd, rood","1971-12-03","3e druk","Het brommende brons","'Standaard Uitgeverij' onder de titel op de cover."]
[null,null,null,null,null,null,"Rood","1976-02-09","9e druk","De vinnige Viking","Ongeplastificeerd."]
[null,null,"De apenkermis",null,null,null,"Gekleurd","2010-10-01","herdruk","De halve havelaar","Nieuwe cover. Titel in moderne spelling. \nAchtercover met vijftal in Vitamitje, synopsis en plaatjes van laatste uitgaven."]
[null,78,"De Dulle Griet",{"$f":"INDEX('Lange verhalen'!B:B,MATCH(B91,'Lange verhalen'!D:D,0))","v":66},55,"oude\nformaat","Mat, rood","1967-11-01","1e druk","De koddige kater","Matte uitgave. Achtergrond cover zonder omlijning ten opzichte van 2 kelurenreeks."]
[null,null,null,null,null,null,"Geplastificeerd, rood","1967-11-01","2e druk","De koddige kater","Geplastificeerd. Verder identiek aan 1e druk. Uit 1968 (geplastificeerde drukken pas vanaf '68)."]
[null,null,null,null,null,null,"Geplastificeerd, rood","1967-11-01","herdruk","De koddige kater","Identiek aan 2e druk maar met ISBN nummer links op de achtercover."]
[null,null,null,null,null,null,"Geplastificeerd, rood","1972-10-05","5e druk","De ringelingschat","'Standaard Uitgeverij' onder de titel op de cover."]
[null,null,null,null,null,null,"Rood","1975-11-01","9e druk","de mollige meivis","Ongeplastificeerd."]
[null,null,null,null,null,null,"Rood","1984-04-19","19e druk","Het Delta duel","Geseald met Krimson/Texasrakkers poster achterin, die samen met andere posters een treintje vormen."]
[null,null,null,null,null,null,"Gekleurd","2010-10-01","herdruk","De halve havelaar","Nieuwe cover. Achtercover met vijftal in Vitamitje, synopsis en plaatjes van laatste uitgaven."]
[null,79,"De zeven snaren",{"$f":"INDEX('Lange verhalen'!B:B,MATCH(B98,'Lange verhalen'!D:D,0))","v":70},55,"oude\nformaat","Mat, rood","1968-04-01","1e druk","De circusbaron","Matte uitgave."]
[null,null,null,null,null,null,"Geplastificeerd, rood","1968-04-01","2e druk","De circusbaron","Geplastificeerd. Verder identiek aan 1e druk."]
[null,null,null,null,null,null,"Geplastificeerd, rood","1971-12-03","4e druk","Het brommende brons","'Standaard Uitgeverij' onder de titel op de cover."]
[null,null,null,null,null,null,"Rood","1976-02-08","9e druk","De vinnige Viking","Ongeplastificeerd."]
[null,null,null,null,null,null,"Rood","1996-02-01","herdruk","Het kostbare kader","Ook verspreid met kartonnen Sidonia opzetfiguur als bijlage."]
[null,null,null,null,null,null,"Rood","2006-05-01","herdruk","De bangeschieters","Ook verkrijgbaar geweest, geseald met Suske of Wiske sleutelhanger. Zomeractie 2007"]
[null,null,null,null,null,null,"Gekleurd","2010-10-01","herdruk","De halve havelaar","Nieuwe cover. Achtercover met vijftal in Vitamitje, synopsis en plaatjes van laatste uitgaven."]
[null,80,"De brullende berg",{"$f":"INDEX('Lange verhalen'!B:B,MATCH(B105,'Lange verhalen'!D:D,0))","v":36},55,"oude\nformaat","Mat, rood","1968-02-01","1e druk","De circusbaron","Matte uitgave. Net als in 2 kleurenreeks deels hertekend ten opzichte van ongekleurde reeks: Jerom (maar nog steeds in berenvel), inkting verdikt. Ook hertekende cover ten opzichte van de twee kleuren reeks."]
[null,null,null,null,null,null,"Geplastificeerd, rood","1968-02-01","2e druk","De circusbaron","Geplastificeerd. Verder identiek aan 1e druk."]
[null,null,null,null,null,null,"Geplastificeerd, rood","1971-12-03","herdruk","Het brommende brons","'Standaard Uitgeverij' onder de titel op de cover."]
[null,null,null,null,null,null,"Rood","1976-02-10","herdruk","De vikkige Viking","Ongeplastificeerd."]
[null,null,null,null,null,null,"Rood","1980-04-15","herdruk","Dag en Heidi","Met op achtercover reclame voor Dag en Heidi in plaats van titel lijst."]
[null,null,null,null,null,null,"Rood","1984-05-19","herdruk","Het Delta duel","Geseald met Barabas poster achterin, die samen met andere posters een treintje vormen."]
[null,null,null,null,null,null,"Rood","1996-02-01","herdruk","Het kostbare kader","Ook verspreid met kartonnen Jerom opzetfiguur als bijlage."]
[null,null,null,null,null,null,"Gekleurd","2008-10-01","herdruk","De dartele draak","Nieuwe cover. Achtercover met vijftal in Vitamitje, synopsis en plaatjes van laatste uitgaven."]
[null,81,"De circusbaron",{"$f":"INDEX('Lange verhalen'!B:B,MATCH(B113,'Lange verhalen'!D:D,0))","v":30},55,"oude\nformaat","Mat, rood","1968-03-09","1e druk","De circusbaron","Net als in 2 kleurenreeks deels hertekend ten opzichte van ongekleurde reeks: Jerom (maar nog steeds in berenvel), haar Sidonia en inkting verdikt. Ook volledig hertekende cover ten opzichte van de twee kleuren reeks. Laatste album in matte uitgave."]
[null,null,null,null,null,null,"Geplastificeerd, rood","1968-03-09","2e druk","De circusbaron","Geplastificeerd. Verder identiek aan 1e druk."]
[null,null,null,null,null,null,"Geplastificeerd, rood","1972-01-03","herdruk","Het brommende brons","'Standaard Uitgeverij' onder de titel op de cover."]
[null,null,null,null,null,null,"Rood","1976-04-10","herdruk","De minilotten van Kokonera","Ongeplastificeerd."]
[null,null,null,null,null,null,"Rood","1986-06-21","herdruk","De bonkige baarden","Ook verspreid met sticker met strik van De Famibank op de cover."]
[null,null,null,null,null,null,"Rood","2002-04-01","herdruk","De Europummel","Ook verspreid met sticker met EK feesttoeter."]
[null,null,null,null,null,null,"Gekleurd","2008-10-01","herdruk","De dartele draak","Nieuwe cover. Achtercover met vijftal in Vitamitje, synopsis en plaatjes van laatste uitgaven."]
[null,82,"De gramme huurling",{"$f":"INDEX('Lange verhalen'!B:B,MATCH(B120,'Lange verhalen'!D:D,0))","v":71},55,"oude\nformaat","Geplastificeerd, rood","1968-08-01","1e druk","De gramme huurling","Vanaf nummer 82 is er geen matte uitgave meer. De nummers 82 tot en met 104 verschenen in geplastificeerde uitgave. Eerste drukken hebben geen ISBN vermelding. "]
[null,null,null,null,null,null,"Rood","1976-02-10","herdruk","De vinnige Viking","Ongeplastificeerd."]
[null,null,null,null,null,null,"Rood","1984-11-19","herdruk","Amoris van Amoras","Met achterin extra blad (4/6): \"Tot ziens in het volgende verhaal!\", Lambik als clown uit kanon."]
[null,null,null,null,null,null,"Rood","2005-09-01","herdruk","Het slapende goud","Ook verkrijgbaar geweest, geseald met Suske of Wiske sleutelhanger. Zomeractie 2007"]
[null,null,null,null,null,null,"Gekleurd","2010-10-01","herdruk","De halve havelaar","Nieuwe cover. Achtercover met vijftal in Vitamitje, synopsis en plaatjes van laatste uitgaven."]
[null,83,"De straatridder",{"$f":"INDEX('Lange verhalen'!B:B,MATCH(B125,'Lange verhalen'!D:D,0))","v":35},55,"oude\nformaat","Geplastificeerd, rood","1968-06-01","1e druk","De straatridder","Geplastificeerd zonder ISBN. Deels hertekend: Suske, Wiske, Lambik, Jerom en Sidonia regelmatig volledig hertekend."]
[null,null,null,null,null,null,"Rood","1976-02-10","herdruk","De vinnige Viking","Ongeplastificeerd."]
[null,null,null,null,null,null,"Rood","1980-04-16","herdruk","Dag en Heidi","Met op achtercover reclame voor Dag en Heidi in plaats van titel lijst."]
[null,null,null,null,null,null,"Gekleurd","2010-10-01","herdruk","De halve havelaar","Nieuwe cover. Achtercover met vijftal in Vitamitje, synopsis en plaatjes van laatste uitgaven."]
[null,null,null,null,null,null,"Gekleurd, rode rand","2022-05-01","herdruk","De maffe markies","Nieuwe cover met links rode rand. Achtercover rood met 5 rijen titels in witte letters."]
[null,84,"De stemmenrover",{"$f":"INDEX('Lange verhalen'!B:B,MATCH(B130,'Lange verhalen'!D:D,0))","v":40},55,"oude\nformaat","Geplastificeerd, rood","1968-09-01","1e druk","De schone slaper","Geplastificeerd zonder ISBN. Net als in 2 kleurenreeks deels hertekend ten opzichte van ongekleurde reeks: Alleen hoofd Jerom hertekend (hij had al een pak aan in de ongekleurde reeks, voor het eerst), inkting verdikt. Ook hertekende cover ten opzichte van de twee kleuren reeks."]
[null,null,null,null,null,null,"Rood","1975-11-07","herdruk","De mollige meivis","Ongeplastificeerd."]
[null,null,null,null,null,null,"Rood","1980-04-13","herdruk","Dag en Heidi","Met op achtercover reclame voor Dag en Heidi in plaats van titel lijst."]
[null,null,null,null,null,null,"Rood","1996-05-01","herdruk","Robotkop","Ook verspreid met kartonnen Jerom opzetfiguur als bijlage."]
[null,null,null,null,null,null,"Gekleurd","2010-04-01","herdruk","De rillende rots","Nieuwe cover. Achtercover met vijftal in Vitamitje, synopsis en plaatjes van laatste uitgaven."]
[null,85,"De schone slaper",{"$f":"INDEX('Lange verhalen'!B:B,MATCH(B135,'Lange verhalen'!D:D,0))","v":63},55,"oude\nformaat","Geplastificeerd, rood","1968-09-01","1e druk","De schone slaper","Geplastificeerd zonder ISBN. Hertekende cover ten opzichte van de twee kleuren reeks."]
[null,null,null,null,null,null,"Rood","1976-02-09","herdruk","De vinnige Viking","Ongeplastificeerd."]
[null,null,null,null,null,null,"Gekleurd","2009-05-01","herdruk","De knikkende knoken","Nieuwe cover. Achtercover met vijftal in Vitamitje, synopsis en plaatjes van laatste uitgaven."]
[null,86,"Tedere Tronica",{"$f":"INDEX('Lange verhalen'!B:B,MATCH(B138,'Lange verhalen'!D:D,0))","v":72},55,"oude\nformaat","Geplastificeerd, rood","1968-11-01","1e druk","Tedere Tronica","Geplastificeerd zonder ISBN nummer. \nVan nummer 86 t/m 124 wordt het nummerrondje bij de oudere drukken rechts op de cover geplaatst."]
[null,null,null,null,null,null,"Geplastificeerd, rood","1971-12-03","3e druk","Het brommende brons","Nummerrondje weer linksboven op de cover. Met ISBN."]
[null,null,null,null,null,null,"Rood","1976-02-09","herdruk","De vinnige Viking","Ongeplastificeerd."]
[null,null,null,null,null,null,"Rood","1995-06-01","herdruk","De begeerde berg","Ook verspreid met kartonnen Jerom opzetfiguur als bijlage."]
[null,null,null,null,null,null,"Gekleurd","2009-05-01","herdruk","De knikkende knoken","Nieuwe cover. Achtercover met vijftal in Vitamitje, synopsis en plaatjes van laatste uitgaven."]
[null,87,"De vliegende aap",{"$f":"INDEX('Lange verhalen'!B:B,MATCH(B143,'Lange verhalen'!D:D,0))","v":4},55,"oude\nformaat","Geplastificeerd, rood","1968-12-01","1e druk","De vliegende aap","Geplastificeerd met nummerrondje rechts, zonder ISBN nummer. Net als in 2 kleurenreeks geheel hertekend ten opzichte van de ongekleurde reeks."]
[null,null,null,null,null,null,"Geplastificeerd, rood","1971-12-03","3e druk","Het brommende brons","Nummerrondje weer linksboven op de cover. Met ISBN."]
[null,null,null,null,null,null,"Rood","1976-02-09","herdruk","De vinnige Viking","Ongeplastificeerd."]
[null,null,null,null,null,null,"Rood","1996-02-01","herdruk","Het kostbare kader","Ook verspreid met kartonnen Jerom opzetfiguur als bijlage."]
[null,null,null,null,null,null,"Gekleurd","2010-10-01","herdruk","De halve havelaar","Nieuwe cover. Achtercover met vijftal in Vitamitje, synopsis en plaatjes van laatste uitgaven."]
[null,88,"De tamtamkloppers",{"$f":"INDEX('Lange verhalen'!B:B,MATCH(B148,'Lange verhalen'!D:D,0))","v":27},55,"oude\nformaat","Geplastificeerd, rood","1969-01-01","1e druk","De speelgoedzaaier","Geplastificeerd met nummerrondje rechts, zonder ISBN nummer. Titel aangepast met letter s. Net als in 2 kleurenreeks deels hertekend ten opzichte van ongekleurde reeks: Jerom hertekend, haren Sidonia bijgewerkt, inkting verdikt. Ook hertekende cover ten opzichte van de twee kleuren reeks."]
[null,null,null,null,null,null,"Geplastificeerd, rood","1972-10-04","4e druk","De ringelingschat","Nummerrondje weer linksboven op de cover. Met ISBN."]
[null,null,null,null,null,null,"Rood","1975-11-07","herdruk","De mollige meivis","Ongeplastificeerd."]
[null,null,null,null,null,null,"Rood","1980-04-13","herdruk","Dag en Heidi","Met op achtercover reclame voor Dag en Heidi in plaats van titel lijst."]
[null,null,null,null,null,null,"Rood","1995-05-01","herdruk","De averechts aap","Geseald met wedstrijdfolder voor grote zomerwedstrijd 50 jaar Suske en Wiske. Ook verspreid met kartonnen Jerom opzetfiguur als bijlage."]
[null,null,null,null,null,null,"Gekleurd","2010-10-01","herdruk","De halve havelaar","Nieuwe cover. Achtercover met vijftal in Vitamitje, synopsis en plaatjes van laatste uitgaven."]
[null,89,"De dolle musketiers",{"$f":"INDEX('Lange verhalen'!B:B,MATCH(B154,'Lange verhalen'!D:D,0))","v":26},55,"oude\nformaat","Geplastificeerd, rood","1969-01-01","1e druk","De speelgoedzaaier","Geplastificeerd met nummerrondje rechts, zonder ISBN nummer. Net als in 2 kleurenreeks deels hertekend ten opzichte van ongekleurde reeks: Jerom hertekend (nog met berenvel), hoofd Sidonia bijgewerkt, inkting verdikt. Ook volledig hertekende cover ten opzichte van de twee kleuren reeks."]
[null,null,null,null,null,null,"Geplastificeerd, rood","1973-06-05","herdruk","De malle mergpijp","Nummerrondje weer linksboven op de cover. Met ISBN."]
[null,null,null,null,null,null,"Rood","1975-10-07","herdruk","De bevende Baobab","Ongeplastificeerd."]
[null,null,null,null,null,null,"Rood","1980-04-14","herdruk","Dag en Heidi","Met op achtercover reclame voor Dag en Heidi in plaats van titel lijst."]
[null,null,null,null,null,null,"Gekleurd","2010-10-01","herdruk","De rillende rots","Nieuwe cover. Achtercover met vijftal en Vitamitje. Ook verkrijgbaar met fietszadelhoes."]
[null,null,null,null,null,null,"Gekleurd, rode rand","2021-05-03","herdruk","De zalige ziener","Eerste album met nieuwe cover met links rode rand. Afwijkend lettertype voor Suske en Wiske, en album nummer rechts boven. Achtercover rood met 5 rijen titels in witte letters."]
[null,90,"Sjeik El Rojenbiet",{"$f":"INDEX('Lange verhalen'!B:B,MATCH(B160,'Lange verhalen'!D:D,0))","v":59},55,"oude\nformaat","Geplastificeerd, rood","1969-02-01","1e druk","De speelgoedzaaier","Geplastificeerd met nummerrondje rechts, zonder ISBN nummer. Streepje in titel weggelaten tov nr 50. Cover hertekend ten opzichte van de twee kleuren reeks."]
[null,null,null,null,null,null,"Geplastificeerd, rood","1973-06-05","herdruk","De malle mergpijp","Nummerrondje weer linksboven op de cover. Met ISBN."]
[null,null,null,null,null,null,"Rood","1975-11-07","herdruk","De mollige meivis","Ongeplastificeerd."]
[null,null,null,null,null,null,"Rood","1980-04-13","herdruk","Dag en Heidi","Met op achtercover reclame voor Dag en Heidi in plaats van titel lijst."]
[null,null,null,null,null,null,"Rood","1996-02-01","herdruk","Het kostbare kader","Ook verspreid met kartonnen Jerom opzetfiguur als bijlage."]
[null,null,null,null,null,null,"Gekleurd","2010-10-01","herdruk","De halve havelaar","Nieuwe cover. Achtercover met vijftal in Vitamitje, synopsis en plaatjes van laatste uitgaven."]
[null,91,"De speelgoedzaaier",{"$f":"INDEX('Lange verhalen'!B:B,MATCH(B166,'Lange verhalen'!D:D,0))","v":31},55,"oude\nformaat","Geplastificeerd, rood","1969-02-01","1e druk","De speelgoedzaaier","Geplastificeerd met nummerrondje rechts, zonder ISBN nummer. Net als in 2 kleurenreeks deels hertekend ten opzichte van ongekleurde reeks: haren Sidonia bijgewerkt en inkting verdikt. Jerom is echter voor de 3e keer hertekend, nu niet meer met berenvel  zoals in 2 kleurenreeks maar met broek en overhemd, dit keer door Edward de Rop. Ook volledig hertekende cover ten opzichte van de twee kleuren reeks."]
[null,null,null,null,null,null,"Geplastificeerd, rood","1973-06-05","herdruk","De malle mergpijp","Nummerrondje weer linksboven op de cover. Met ISBN."]
[null,null,null,null,null,null,"Rood","1975-11-07","herdruk","De mollige meivis","Ongeplastificeerd."]
[null,null,null,null,null,null,"Rood","1980-04-14","herdruk","Dag en Heidi","Met op achtercover reclame voor Dag en Heidi in plaats van titel lijst."]
[null,null,null,null,null,null,"Gekleurd","2010-10-01","herdruk","De halve havelaar","Nieuwe cover. Achtercover met vijftal in Vitamitje, synopsis en plaatjes van laatste uitgaven."]
[null,92,"De briesende bruid",{"$f":"INDEX('Lange verhalen'!B:B,MATCH(B171,'Lange verhalen'!D:D,0))","v":73},55,"oude\nformaat","Geplastificeerd, rood","1969-04-01","1e druk","De speelgoedzaaier","Geplastificeerd met nummerrondje rechts, zonder ISBN nummer."]
[null,null,null,null,null,null,"Geplastificeerd, rood","1972-01-03","3e druk","Het brommende brons","Nummerrondje weer linksboven op de cover. Met ISBN."]
[null,null,null,null,null,null,"Rood","1976-02-09","herdruk","De vinnige Viking","Ongeplastificeerd."]
[null,null,null,null,null,null,"Rood","1984-11-10","herdruk","Amoris van Amoras","Met achterin extra blad (2/6): \"Tot ziens in het volgende verhaal!\", Jerom met hengel en Suske in laars."]
[null,null,null,null,null,null,"Gekleurd","2010-10-01","herdruk","De halve havelaar","Nieuwe cover. Achtercover met vijftal in Vitamitje, synopsis en plaatjes van laatste uitgaven."]
[null,93,"De snorrende Snor",{"$f":"INDEX('Lange verhalen'!B:B,MATCH(B176,'Lange verhalen'!D:D,0))","v":39},55,"oude\nformaat","Geplastificeerd, rood","1969-03-01","1e druk","De speelgoedzaaier","Geplastificeerd met nummerrondje rechts, zonder ISBN nummer. Net als in 2 kleurenreeks deels hertekend ten opzichte van ongekleurde reeks: Jerom en inkting verdikt. Jerom is echter af en toe voor de 3e keer hertekend, door Edward de Rop. Bijvoorbeeld links onder pagina 15. Cover niet hertekend, alleen opnieuw gekleurd ten opzichte van de twee kleuren reeks."]
[null,null,null,null,null,null,"Geplastificeerd, rood","1972-01-03","3e druk","Het brommende brons","Nummerrondje weer linksboven op de cover. Met ISBN."]
[null,null,null,null,null,null,"Rood","1975-11-08","herdruk","De mollige meivis","Ongeplastificeerd."]
[null,null,null,null,null,null,"Rood","1980-04-14","herdruk","Dag en Heidi","Met op achtercover reclame voor Dag en Heidi in plaats van titel lijst."]
[null,null,null,null,null,null,"Rood","1984-05-18","herdruk","Het Delta duel","Geseald met Arthur poster achterin, die samen met andere posters een treintje vormen."]
[null,null,null,null,null,null,"Gekleurd","2011-11-01","herdruk","Het leidende Leiden","Nieuwe cover. Achtercover met vijftal in Vitamitje, synopsis en plaatjes van laatste uitgaven."]
[null,94,"De sissende sampam",{"$f":"INDEX('Lange verhalen'!B:B,MATCH(B182,'Lange verhalen'!D:D,0))","v":58},{"$f":"56-1","v":55},"oude\nformaat","Geplastificeerd, rood","1969-03-01","1e druk","De speelgoedzaaier","Geplastificeerd met nummerrondje rechts, zonder ISBN nummer. 1e druk De sissende sampam met 'm' (t/m 1971). In het album zijn 4 stroken weggelaten tov Vlaamse krant. De strook nummering is per 2 stroken in plaats van per strook en bevat enkele fouten: Na 94 komt 45 en na 96 volgt 191, wat later 98 enz. Cover niet hertekend, alleen opnieuw gekleurd ten opzichte van de twee kleuren reeks."]
[null,null,"De sissende sampan",null,null,null,"Geplastificeerd, rood","1972-01-03","3e druk","Het brommende brons","Titel gecorrigeerd tot sampan en nummerrondje weer linksboven op de cover. Met ISBN."]
[null,null,null,null,null,null,"Rood","1975-11-07","herdruk","De mollige meivis","Ongeplastificeerd."]
[null,null,null,null,null,null,"Rood","1980-04-13","herdruk","Dag en Heidi","Met op achtercover reclame voor Dag en Heidi in plaats van titel lijst."]
[null,null,null,null,null,null,"Rood","1986-08-19","herdruk","De bonkige baarden","Ook verspreid met sticker met strik van De Famibank op de cover."]
[null,null,null,null,null,null,"Rood","1994-05-01","herdruk","De pottenproever","Ook verkrijgbaar geweest, geseald met Suske of Wiske sleutelhanger. Zomeractie 2007"]
[null,null,null,null,null,null,"Rood","1996-02-01","herdruk","Het kostbare kader","Ook verspreid met kartonnen Suske opzetfiguur als bijlage."]
[null,null,null,null,null,null,"Gekleurd","2011-11-01","herdruk","Het leidende Leiden","Nieuwe cover. Achtercover met vijftal in Vitamitje, synopsis en plaatjes van laatste uitgaven."]
[null,95,"De Kleppende Klipper",{"$f":"INDEX('Lange verhalen'!B:B,MATCH(B190,'Lange verhalen'!D:D,0))","v":34},55,"oude\nformaat","Geplastificeerd, rood","1969-06-01","1e druk","De kleppende klipper","Geplastificeerd met nummerrondje rechts, zonder ISBN nummer. Geheel hertekend ten opzichte van de ongekleurde reeks."]
[null,null,null,null,null,null,"Geplastificeerd, rood","1972-01-03","3e druk","Het brommende brons","Nummerrondje weer linksboven op de cover. Met ISBN."]
[null,null,null,null,null,null,"Rood","1975-11-07","herdruk","De mollige meivis","Ongeplastificeerd."]
[null,null,null,null,null,null,"Rood","1980-04-13","herdruk","Dag en Heidi","Met op achtercover reclame voor Dag en Heidi in plaats van titel lijst."]
[null,null,null,null,null,null,"Rood","1984-05-17","herdruk","Het Delta duel","Geseald met Sus Antigoon poster achterin, die samen met andere posters een treintje vormen."]
[null,null,null,null,null,null,"Gekleurd","2011-11-01","herdruk","Het leidende Leiden","Nieuwe cover. Achtercover met vijftal in Vitamitje, synopsis en plaatjes van laatste uitgaven."]
[null,96,"Het rijmende paard",{"$f":"INDEX('Lange verhalen'!B:B,MATCH(B196,'Lange verhalen'!D:D,0))","v":57},55,"oude\nformaat","Geplastificeerd, rood","1969-06-01","1e druk","Het rijmende paard","Geplastificeerd met nummerrondje rechts, zonder ISBN nummer. Hertekende cover ten opzichte van de twee kleuren reeks."]
[null,null,null,null,null,null,"Geplastificeerd, rood","1972-12-04","4e druk","De ringelingschat","Nummerrondje weer linksboven op de cover. Met ISBN."]
[null,null,null,null,null,null,"Rood","1975-11-06","herdruk","De mollige meivis","Ongeplastificeerd."]
[null,null,null,null,null,null,"Rood","1980-04-13","herdruk","Dag en Heidi","Met op achtercover reclame voor Dag en Heidi in plaats van titel lijst."]
[null,null,null,null,null,null,"Rood","2005-09-01","herdruk","Het slapende goud","Ook verkrijgbaar geweest, geseald met Suske of Wiske sleutelhanger. Zomeractie 2007"]
[null,null,null,null,null,null,"Gekleurd","2010-10-01","herdruk","De halve havelaar","Nieuwe cover. Achtercover met vijftal en Vitamitje. Ook verkrijgbaar met fietszadelhoes."]
[null,97,"De junglebloem",{"$f":"INDEX('Lange verhalen'!B:B,MATCH(B202,'Lange verhalen'!D:D,0))","v":74},55,"oude\nformaat","Geplastificeerd, rood","1969-08-01","1e druk","De junglebloem","Geplastificeerd met nummerrondje rechts, zonder ISBN nummer."]
[null,null,null,null,null,null,"Geplastificeerd, rood","1972-12-03","3e druk","Het brommende brons","Nummerrondje weer linksboven op de cover. Met ISBN."]
[null,null,null,null,null,null,"Rood","1975-11-08","herdruk","De mollige meivis","Ongeplastificeerd."]
[null,null,null,null,null,null,"Rood","2005-04-01","herdruk","De flierende fluiter","Ook verkrijgbaar geweest, geseald met Suske of Wiske sleutelhanger. Zomeractie 2007"]
[null,null,null,null,null,null,"Gekleurd","2010-10-01","herdruk","De halve havelaar","Nieuwe cover. Achtercover met vijftal in Vitamitje, synopsis en plaatjes van laatste uitgaven."]
[null,98,"Het hondenparadijs",{"$f":"INDEX('Lange verhalen'!B:B,MATCH(B207,'Lange verhalen'!D:D,0))","v":54},55,"oude\nformaat","Geplastificeerd, rood","1969-08-01","1e druk","Het hondenparadijs","Geplastificeerd met nummerrondje rechts, zonder ISBN nummer. Hertekende cover ten opzichte van de twee kleuren reeks."]
[null,null,null,null,null,null,"Geplastificeerd, rood","1972-03-03","3e druk","Het brommende brons","Nummerrondje weer linksboven op de cover. Met ISBN."]
[null,null,null,null,null,null,"Rood","1975-11-07","herdruk","De mollige meivis","Ongeplastificeerd."]
[null,null,null,null,null,null,"Rood","1985-04-17","herdruk","Het dreigende dinges","Met achterin extra blad (5/6): \"Tot ziens in het volgende verhaal!\", Jerom op koord, Lambik fluit."]
[null,null,null,null,null,null,"Rood","1986-05-17","herdruk","De bonkige baarden","Ook verspreid met sticker met strik van De Famibank op de cover."]
[null,null,null,null,null,null,"Gekleurd","2009-05-01","herdruk","De knikkende knoken","Nieuwe cover. Achtercover met vijftal in Vitamitje, synopsis en plaatjes van laatste uitgaven."]
[null,99,"De kwakstralen",{"$f":"INDEX('Lange verhalen'!B:B,MATCH(B213,'Lange verhalen'!D:D,0))","v":56},55,"oude\nformaat","Geplastificeerd, rood","1969-10-01","1e druk","Het gouden paard","Geplastificeerd met nummerrondje rechts, zonder ISBN nummer. Cover niet hertekend, alleen opnieuw gekleurd ten opzichte van de twee kleuren reeks."]
[null,null,null,null,null,null,"Geplastificeerd, rood","1972-03-03","3e druk","Het brommende brons","Nummerrondje weer linksboven op de cover. Met ISBN."]
[null,null,null,null,null,null,"Rood","1975-11-07","herdruk","De mollige meivis","Ongeplastificeerd."]
[null,null,null,null,null,null,"Rood","1980-04-14","herdruk","Dag en Heidi","Met op achtercover reclame voor Dag en Heidi in plaats van titel lijst."]
[null,null,null,null,null,null,"Rood","1984-05-18","herdruk","Het Delta duel","Geseald met Jerom poster achterin, die samen met andere posters een treintje vormen."]
[null,null,null,null,null,null,"Gekleurd","2009-05-01","herdruk","De knikkende knoken","Nieuwe cover. Achtercover met vijftal in Vitamitje, synopsis en plaatjes van laatste uitgaven."]
[null,100,"Het gouden paard",{"$f":"INDEX('Lange verhalen'!B:B,MATCH(B219,'Lange verhalen'!D:D,0))","v":43},{"$f":"61-6","v":55},"oude\nformaat","Geplastificeerd, rood","1969-10-01","1e druk","Het gouden paard","Geplastificeerd met nummerrondje rechts, zonder ISBN nummer. Verhaal uit het weekblad Kuifje maar niet verschenen als album in de jaren '50. Voor Rode reeks 6 pagina's verkort tot 55 pagina's. Met blauw ster vignet nr. 100."]
[null,null,null,null,null,null,"Geplastificeerd, rood","1972-03-05","herdruk","Het brommende brons","Nummerrondje weer linksboven op de cover. Met ISBN. Met blauw ster vignet."]
[null,null,null,null,null,null,"Rood","1975-12-09","herdruk","De mollige meivis","Ongeplastificeerd. Met blauw ster vignet."]
[null,null,null,null,null,null,"Rood","1980-04-16","herdruk","Dag en Heidi","Met op achtercover reclame voor Dag en Heidi in plaats van titel lijst. Met blauw ster vignet."]
[null,null,null,null,null,null,"Rood","1986-10-22","herdruk","De bonkige baarden","Ook verspreid met sticker met strik van De Famibank op de cover. Met blauw ster vignet."]
[null,null,null,null,null,null,"Rood","2003-08-01","herdruk","De kus van Odfella","Kleiner en rond blauw nr 100 vignet op frontcover. Gesealed met Suske en Wiske sjaal (rood/blauw/geel)."]
[null,null,null,null,null,null,"Rood","2003-08-01","herdruk","De kus van Odfella","Gelijk aan vorige versie maar zonder nr 100 vignet (en sjaal)."]
[null,null,null,null,null,null,"Gekleurd","2011-11-01","herdruk","Het leidende Leiden","Nieuwe cover. Achtercover met vijftal in Vitamitje, synopsis en plaatjes van laatste uitgaven."]
[null,101,"De kaartendans",{"$f":"INDEX('Lange verhalen'!B:B,MATCH(B227,'Lange verhalen'!D:D,0))","v":55},55,"oude\nformaat","Geplastificeerd, rood","1972-01-02","1e druk","De dromendiefstal","Geplastificeerd met nummerrondje rechts, zonder ISBN nummer. Cover niet hertekend, alleen opnieuw gekleurd ten opzichte van de twee kleuren reeks."]
[null,null,null,null,null,null,"Geplastificeerd, rood","1972-12-04","herdruk","De ringelingschat","Nummerrondje weer linksboven op de cover. Met ISBN."]
[null,null,null,null,null,null,"Rood","1975-12-07","herdruk","De mollige meivis","Ongeplastificeerd."]
[null,null,null,null,null,null,"Rood","1980-04-13","herdruk","Dag en Heidi","Met op achtercover reclame voor Dag en Heidi in plaats van titel lijst. Met blauw ster vignet."]
[null,null,null,null,null,null,"Rood","1996-05-01","herdruk","Robotkop","Ook verspreid met kartonnen Suske opzetfiguur als bijlage."]
[null,null,null,null,null,null,"Gekleurd","2011-11-01","herdruk","Het leidende Leiden","Nieuwe cover. Achtercover met vijftal in Vitamitje, synopsis en plaatjes van laatste uitgaven."]
[null,null,null,null,null,null,"Gekleurd, rode rand","2021-05-03","herdruk","De zalige ziener","Nieuwe cover met links rode rand. Achtercover rood met 5 rijen titels in witte letters."]
[null,102,"De dromendiefstal",{"$f":"INDEX('Lange verhalen'!B:B,MATCH(B234,'Lange verhalen'!D:D,0))","v":75},55,"oude\nformaat","Geplastificeerd, rood","1970-01-02","1e druk","De dromendiefstal","Geplastificeerd met nummerrondje rechts, zonder ISBN nummer."]
[null,null,null,null,null,null,"Geplastificeerd, rood","1972-03-04","herdruk","Het brommende brons","Nummerrondje weer linksboven op de cover. Met ISBN."]
[null,null,null,null,null,null,"Rood","1975-11-09","herdruk","De mollige meivis","Ongeplastificeerd."]
[null,null,null,null,null,null,"Rood","1980-04-16","herdruk","Dag en Heidi","Met op achtercover reclame voor Dag en Heidi in plaats van titel lijst. Met blauw ster vignet."]
[null,null,null,null,null,null,"Rood","1986-10-22","herdruk","De bonkige baarden","Ook verspreid met sticker met strik van De Famibank op de cover. Met blauw ster vignet."]
[null,null,null,null,null,null,"Rood","1984-05-20","herdruk","Het Delta duel","Geseald met Jef Blaaskop poster achterin, die samen met andere posters een treintje vormen."]
[null,null,null,null,null,null,"Rood","1994-02-01","herdruk","De stervende ster","Ook uitgegeven met op de cover blauwe MULTI PASS sticker"]
[null,null,null,null,null,null,"Rood","2003-10-01","herdruk","De gevangene van Prisonov","Ook verkrijgbaar geweest, geseald met Suske of Wiske sleutelhanger. Zomeractie 2007"]
[null,null,null,null,null,null,"Gekleurd","2011-11-01","herdruk","Het leidende Leiden","Nieuwe cover. Achtercover met vijftal in Vitamitje, synopsis en plaatjes van laatste uitgaven."]
[null,103,"De klankentapper",{"$f":"INDEX('Lange verhalen'!B:B,MATCH(B243,'Lange verhalen'!D:D,0))","v":52},55,"oude\nformaat","Geplastificeerd, rood","1970-03-01","1e druk","De wilde weldoener","Geplastificeerd met nummerrondje rechts, zonder ISBN nummer. Cover niet hertekend, alleen opnieuw gekleurd ten opzichte van de twee kleuren reeks."]
[null,null,null,null,null,null,"Geplastificeerd, rood","1972-01-03","3e druk","Het brommende brons","Nummerrondje weer linksboven op de cover. Met ISBN."]
[null,null,null,null,null,null,"Rood","1975-12-07","herdruk","De mollige meivis","Ongeplastificeerd."]
[null,null,null,null,null,null,"Rood","1980-04-14","herdruk","Dag en Heidi","Met op achtercover reclame voor Dag en Heidi in plaats van titel lijst. Met blauw ster vignet."]
[null,null,null,null,null,null,"Rood","1996-02-01","herdruk","Het kostbare kader","Ook verspreid met kartonnen Suske opzetfiguur als bijlage."]
[null,null,null,null,null,null,"Gekleurd","2010-04-01","herdruk","De rillende rots","Nieuwe cover. Achtercover met vijftal in Vitamitje, synopsis en plaatjes van laatste uitgaven."]
[null,104,"De wilde weldoener",{"$f":"INDEX('Lange verhalen'!B:B,MATCH(B249,'Lange verhalen'!D:D,0))","v":53},55,"oude\nformaat","Geplastificeerd, rood","1970-03-01","1e druk","De wilde weldoener","Geplastificeerd met nummerrondje rechts, zonder ISBN nummer. Cover niet hertekend, alleen opnieuw gekleurd ten opzichte van de twee kleuren reeks."]
[null,null,null,null,null,null,"Geplastificeerd, rood","1972-06-03","3e druk","De tuf-tuf-club","Nummerrondje weer linksboven op de cover. Met ISBN."]
[null,null,null,null,null,null,"Rood","1976-05-08","herdruk","De bokkige bombardon","Ongeplastificeerd."]
[null,null,null,null,null,null,"Rood","1996-05-01","herdruk","De averechtse aap","Ook verspreid met kartonnen Suske opzetfiguur als bijlage."]
[null,null,null,null,null,null,"Gekleurd","2009-05-01","herdruk","De knikkende knoken","Nieuwe cover. Achtercover met vijftal in Vitamitje, synopsis en plaatjes van laatste uitgaven."]
[null,105,"De koning drinkt",{"$f":"INDEX('Lange verhalen'!B:B,MATCH(B254,'Lange verhalen'!D:D,0))","v":6},{"$f":"54.5+0.5","v":55},"oude\nformaat","Geplastificeerd, rood","1970-06-02","1e druk","De charmante koffiepot","Geplastificeerd met nummerrondje rechts, Eerste album (in 1e druk) met ISBN vermelding. Geheel hertekend ten opzichte van de ongekleurde reeks. 2 stroken langer dan originele krant uitgave."]
[null,null,null,null,null,null,"Geplastificeerd, rood","1972-06-03","3e druk","De tuf-tuf-club","Nummerrondje weer linksboven op de cover."]
[null,null,null,null,null,null,"Rood","1976-02-07","herdruk","De vinnige Viking","Ongeplastificeerd."]
[null,null,null,null,null,null,"Gekleurd","2011-11-01","herdruk","Het leidende Leiden","Nieuwe cover. Achtercover met vijftal in Vitamitje, synopsis en plaatjes van laatste uitgaven."]
[null,106,"De charmante koffiepot",{"$f":"INDEX('Lange verhalen'!B:B,MATCH(B258,'Lange verhalen'!D:D,0))","v":76},55,"oude\nformaat","Geplastificeerd, rood","1970-06-02","1e druk","De charmante koffiepot","Geplastificeerd met nummerrondje rechts."]
[null,null,null,null,null,null,"Geplastificeerd, rood","1972-06-04","3e druk","De tuf-tuf-club","Nummerrondje weer linksboven op de cover."]
[null,null,null,null,null,null,"Rood","1976-04-08","herdruk","De minilotten van Kokonera","Ongeplastificeerd."]
[null,null,null,null,null,null,"Rood","1986-10-20","herdruk","De bonkige baarden","Ook verspreid met sticker met strik van De Famibank op de cover. Met blauw ster vignet."]
[null,null,null,null,null,null,"Rood","1995-05-01","herdruk","De averechtse aap","Geseald met wedstrijdfolder voor grote zomerwedstrijd 50 jaar Suske en Wiske. Ook verspreid met kartonnen Suske opzetfiguur als bijlage."]
[null,null,null,null,null,null,"Gekleurd","2011-11-01","herdruk","Het leidende Leiden","Nieuwe cover. Achtercover met vijftal in Vitamitje, synopsis en plaatjes van laatste uitgaven."]
[null,107,"De sprietatoom",{"$f":"INDEX('Lange verhalen'!B:B,MATCH(B264,'Lange verhalen'!D:D,0))","v":3},{"$f":"56.5-1.5","v":55},"oude\nformaat","Geplastificeerd, rood","1970-09-02","1e druk","Twee toffe totems","Geplastificeerd met nummerrondje rechts. Net als 2 kleuren reeks geheel hertekend ten opzichte van de ongekleurde reeks. 6 stroken korter dan originele krant uitgave. Cover niet hertekend, alleen opnieuw gekleurd ten opzichte van de twee kleuren reeks."]
[null,null,null,null,null,null,"Geplastificeerd, rood","1971-10-01","2e druk","De windmakers","Nummerrondje weer linksboven op de cover."]
[null,null,null,null,null,null,"Rood","1976-04-06","herdruk","De minilotten van Kokonera","Ongeplastificeerd."]
[null,null,null,null,null,null,"Rood","1995-06-01","herdruk","De begeerde berg","Ook verspreid met kartonnen Suske opzetfiguur als bijlage."]
[null,null,null,null,null,null,"Gekleurd","2010-04-01","herdruk","De rillende rots","Nieuwe cover. Achtercover met vijftal en Vitamitje. Ook verkrijgbaar met fietszadelhoes."]
[null,108,"Twee toffe totems",{"$f":"INDEX('Lange verhalen'!B:B,MATCH(B269,'Lange verhalen'!D:D,0))","v":77},55,"oude\nformaat","Geplastificeerd, rood","1970-09-02","1e druk","Twee toffe totems","Geplastificeerd met nummerrondje rechts. "]
[null,null,null,null,null,null,"Geplastificeerd, rood","1972-06-01","3e druk","De tuf-tuf-club","Nummerrondje weer linksboven op de cover."]
[null,null,null,null,null,null,"Rood","1976-02-07","herdruk","De vinnige Viking","Ongeplastificeerd."]
[null,null,null,null,null,null,"Rood","1996-02-01","herdruk","Het kostbare kader","Ook verspreid met kartonnen Suske opzetfiguur als bijlage."]
[null,null,null,null,null,null,"Gekleurd","2011-11-01","herdruk","Het leidende Leiden","Nieuwe cover. Achtercover met vijftal in Vitamitje, synopsis en plaatjes van laatste uitgaven."]
[null,109,"De wolkeneters",{"$f":"INDEX('Lange verhalen'!B:B,MATCH(B274,'Lange verhalen'!D:D,0))","v":51},55,"oude\nformaat","Geplastificeerd, rood","1970-11-02","1e druk","De zingende zwammen","Geplastificeerd met nummerrondje rechts. Cover niet hertekend, alleen opnieuw gekleurd ten opzichte van de twee kleuren reeks."]
[null,null,null,null,null,null,"Geplastificeerd, rood","1971-10-01","2e druk","De windmakers","Nummerrondje weer linksboven op de cover."]
[null,null,null,null,null,null,"Rood","1976-04-06","herdruk","De minilotten van Kokonera","Ongeplastificeerd."]
[null,null,null,null,null,null,"Gekleurd","2010-10-01","herdruk","De halve havelaar","Nieuwe cover. Achtercover met vijftal in Vitamitje, synopsis en plaatjes van laatste uitgaven."]
[null,110,"De zingende zwammen",{"$f":"INDEX('Lange verhalen'!B:B,MATCH(B278,'Lange verhalen'!D:D,0))","v":50},55,"oude\nformaat","Geplastificeerd, rood","1970-11-02","1e druk","De zingende zwammen","Geplastificeerd met nummerrondje rechts. Cover niet hertekend, alleen opnieuw gekleurd ten opzichte van de twee kleuren reeks."]
[null,null,null,null,null,null,"Geplastificeerd, rood","1971-10-01","2e druk","De windmakers","Nummerrondje weer linksboven op de cover."]
[null,null,null,null,null,null,"Rood","1976-04-06","herdruk","De minilotten van Kokonera","Ongeplastificeerd."]
[null,null,null,null,null,null,"Gekleurd","2011-11-01","herdruk","Het leidende Leiden","Nieuwe cover. Achtercover met vijftal in Vitamitje, synopsis en plaatjes van laatste uitgaven."]
[null,111,"De schat van Beersel",{"$f":"INDEX('Lange verhalen'!B:B,MATCH(B282,'Lange verhalen'!D:D,0))","v":25},{"$f":"64-9","v":55},"oude\nformaat","Geplastificeerd, rood","1971-01-01","1e druk","De bronzen sleutel","Geplastificeerd met nummerrondje rechts. Album uit de Blauwe reeks, voor Rode reeks 9 pagina's verkort tot 55 pagina's. Een pagina is hergemonteerd en is er door Paul Geerts een los plaatje bijgetekend op pagina 43-44."]
[null,null,null,null,null,null,"Geplastificeerd, rood","1971-10-01","2e druk","De windmakers","Nummerrondje weer linksboven op de cover."]
[null,null,null,null,null,null,"Rood","1975-12-06","herdruk","De mollige meivis","Ongeplastificeerd."]
[null,null,null,null,null,null,"Gekleurd","2009-05-01","herdruk","De knikkende knoken","Nieuwe cover. Achtercover met vijftal in Vitamitje, synopsis en plaatjes van laatste uitgaven."]
[null,112,"De groene splinter",{"$f":"INDEX('Lange verhalen'!B:B,MATCH(B286,'Lange verhalen'!D:D,0))","v":38},{"$f":"62-7","v":55},"oude\nformaat","Geplastificeerd, rood","1971-02-01","1e druk","De bronzen sleutel","Geplastificeerd met nummerrondje rechts. Album uit de Blauwe reeks, voor Rode reeks 7 pagina's verkort tot 55 pagina's."]
[null,null,null,null,null,null,"Geplastificeerd, rood","1971-10-01","2e druk","De windmakers","Nummerrondje weer linksboven op de cover."]
[null,null,null,null,null,null,"Rood","1975-12-06","herdruk","De mollige meivis","Ongeplastificeerd."]
[null,null,null,null,null,null,"Gekleurd","2009-10-01","herdruk","De tijdbobijn","Nieuwe cover. Achtercover met vijftal in Vitamitje, synopsis en plaatjes van laatste uitgaven."]
[null,113,"Het geheim van de gladiatoren",{"$f":"INDEX('Lange verhalen'!B:B,MATCH(B290,'Lange verhalen'!D:D,0))","v":29},{"$f":"61-6","v":55},"oude\nformaat","Geplastificeerd, rood","1971-02-01","1e druk","De bronzen sleutel","Geplastificeerd met nummerrondje rechts. Album uit de Blauwe reeks, voor Rode reeks 6 pagina's verkort tot 55 pagina's. Hierbij zijn 12 stroken volledig hertekend door Paul Geerts, pagina 52 t/m 55 . Vermoedelijk ivm te slechte kwaliteit. Titel in Kuifje: 'Goud voor Rome'. Album titel is een vertaling van Franse titel 'Le gladiateur mystère."]
[null,null,null,null,null,null,"Geplastificeerd, rood","1971-10-01","2e druk","De windmakers","Nummerrondje weer linksboven op de cover."]
[null,null,null,null,null,null,"Rood","1975-12-06","herdruk","De mollige meivis","Ongeplastificeerd."]
[null,null,null,null,null,null,"Gekleurd","2009-05-01","herdruk","De knikkende knoken","Nieuwe cover. Achtercover met vijftal in Vitamitje, synopsis en plaatjes van laatste uitgaven."]
[null,114,"De Tartaarse helm",{"$f":"INDEX('Lange verhalen'!B:B,MATCH(B294,'Lange verhalen'!D:D,0))","v":20},{"$f":"62-7","v":55},"oude\nformaat","Geplastificeerd, rood","1971-01-01","1e druk","De bronzen sleutel","Geplastificeerd met nummerrondje rechts. Album uit de Blauwe reeks, voor Rode reeks 7 pagina's verkort tot 55 pagina's. Naast het bekende fietsertje zijn ook andere aanachronismen toegevoegd (zie onderaan op tab Blauwe reeks)."]
[null,null,null,null,null,null,"Geplastificeerd, rood","1971-10-01","2e druk","De windmakers","Nummerrondje weer linksboven op de cover."]
[null,null,null,null,null,null,"Rood","1975-12-06","herdruk","De mollige meivis","Ongeplastificeerd."]
[null,null,null,null,null,null,"Rood",{"$f":"+$H$514","v":"2006-05-01"},{"$f":"+$I$514","v":"herdruk"},{"$f":"+$J$514","v":"De bangeschieters"},"Ook verschenen met ingesealde S&W zonnescherm van De Texasrakkers (2009)."]
[null,null,null,null,null,null,"Gekleurd","2011-11-01","herdruk","Het leidende Leiden","Nieuwe cover. Achtercover met vijftal in Vitamitje, synopsis en plaatjes van laatste uitgaven."]
[null,115,"De gezanten van Mars",{"$f":"INDEX('Lange verhalen'!B:B,MATCH(B299,'Lange verhalen'!D:D,0))","v":33},{"$f":"62-7","v":55},"oude\nformaat","Geplastificeerd, rood","1971-01-01","1e druk","De bronzen sleutel","Geplastificeerd met nummerrondje rechts. Album uit de Blauwe reeks, voor Rode reeks 7 pagina's verkort tot 55 pagina's."]
[null,null,null,null,null,null,"Geplastificeerd, rood","1971-10-01","2e druk","De windmakers","Nummerrondje weer linksboven op de cover."]
[null,null,null,null,null,null,"Rood","1975-12-06","herdruk","De mollige meivis","Ongeplastificeerd."]
[null,null,null,null,null,null,"Rood",{"$f":"+$H$354","v":"2007-06-01"},{"$f":"+$I$354","v":"herdruk"},{"$f":"+$J$354","v":"De curieuze neuzen"},"Ook verschenen met ingesealde S&W frisbee."]
[null,null,null,null,null,null,"Gekleurd","2009-10-01","herdruk","De tijdbobijn","Nieuwe cover. Achtercover met vijftal in Vitamitje, synopsis en plaatjes van laatste uitgaven."]
[null,116,"De bronzen sleutel",{"$f":"INDEX('Lange verhalen'!B:B,MATCH(B304,'Lange verhalen'!D:D,0))","v":16},{"$f":"62-7","v":55},"oude\nformaat","Geplastificeerd, rood","1971-02-01","1e druk","De bronzen sleutel","Geplastificeerd met nummerrondje rechts. Album uit de Blauwe reeks, voor Rode reeks 7 pagina's verkort tot 55 pagina's. Bevatten ook een aantal hertekende stroken vanwege het inkorten van het verhaal, of het kwijtraken van deze stroken."]
[null,null,null,null,null,null,"Geplastificeerd, rood","1971-10-01","2e druk","De windmakers","Nummerrondje weer linksboven op de cover."]
[null,null,null,null,null,null,"Rood","1976-02-07","herdruk","De vinnige Viking","Ongeplastificeerd."]
[null,null,null,null,null,null,"Gekleurd","2009-10-01","herdruk","De tijdbobijn","Nieuwe cover. Achtercover met vijftal in Vitamitje, synopsis en plaatjes van laatste uitgaven."]
[null,null,null,null,null,null,"Gekleurd","2010-10-01","herdruk","De halve havelaar","Ook verkrijgbaar geweest met ingesealde 'gratis flitsende fietszadelhoes' van Suske en Wiske."]
[null,117,"De toornige tjiftjaf",{"$f":"INDEX('Lange verhalen'!B:B,MATCH(B309,'Lange verhalen'!D:D,0))","v":78},55,"oude\nformaat","Geplastificeerd, rood","1971-03-01","1e druk","Het sprekende testament","Geplastificeerd met nummerrondje rechts. "]
[null,null,null,null,null,null,"Geplastificeerd, rood","1972-03-01","2e druk","Het brommende brons","Nummerrondje weer linksboven op de cover."]
[null,null,null,null,null,null,"Rood","1975-12-06","herdruk","De mollige meivis","Ongeplastificeerd."]
[null,null,null,null,null,null,"Gekleurd","2009-05-01","herdruk","De knikkende knoken","Nieuwe cover. Achtercover met vijftal in Vitamitje, synopsis en plaatjes van laatste uitgaven."]
[null,118,"De gouden cirkel",{"$f":"INDEX('Lange verhalen'!B:B,MATCH(B313,'Lange verhalen'!D:D,0))","v":49},55,"oude\nformaat","Geplastificeerd, rood","1971-03-01","1e druk","Het sprekende testament","Geplastificeerd met nummerrondje rechts. Cover niet hertekend, alleen opnieuw gekleurd ten opzichte van de twee kleuren reeks."]
[null,null,null,null,null,null,"Geplastificeerd, rood","1972-10-02","2e druk","De ringelingschat","Nummerrondje weer linksboven op de cover."]
[null,null,null,null,null,null,"Rood","1976-02-06","herdruk","De vinnige Viking","Ongeplastificeerd."]
[null,null,null,null,null,null,"Gekleurd","2011-11-01","herdruk","Het leidende Leiden","Nieuwe cover. Achtercover met vijftal in Vitamitje, synopsis en plaatjes van laatste uitgaven."]
[null,null,null,null,null,null,"Gekleurd, rode rand","2022-05-01","herdruk","De maffe markies","Nieuwe cover met links rode rand. Achtercover rood met 5 rijen titels in witte letters."]
[null,119,"Het sprekende testament",{"$f":"INDEX('Lange verhalen'!B:B,MATCH(B318,'Lange verhalen'!D:D,0))","v":41},55,"oude\nformaat","Geplastificeerd, rood","1971-03-01","1e druk","Het sprekende testament","Geplastificeerd met nummerrondje rechts. Originele titel Het taterende testament. Net als in 2 kleurenreeks deels hertekend ten opzichte van ongekleurde reeks: haren Jerom bijgewerkt en inkting verdikt. Cover niet hertekend, alleen opnieuw gekleurd ten opzichte van de twee kleuren reeks."]
[null,null,null,null,null,null,"Geplastificeerd, rood","1972-01-02","2e druk","Het brommende brons","Nummerrondje weer linksboven op de cover."]
[null,null,null,null,null,null,"Rood","1976-04-06","herdruk","De minilotten van Kokonera","Ongeplastificeerd."]
[null,null,null,null,null,null,"Rood","1984-05-14","herdruk","Het Delta duel","Geseald met de kaartendans poster achterin, die samen met andere posters een treintje vormen."]
[null,null,null,null,null,null,"Rood","2001-10-01","herdruk","Big mother","Ook uitgegeven met ingesealde CD single van de S&W band van de theatershow De schimmige schurken."]
[null,null,null,null,null,null,"Gekleurd","2010-04-01","herdruk","De rillende rots","Nieuwe cover. Achtercover met vijftal en Vitamitje. Ook verkrijgbaar met fietszadelhoes."]
[null,120,"De geverniste zeerovers",{"$f":"INDEX('Lange verhalen'!B:B,MATCH(B324,'Lange verhalen'!D:D,0))","v":42},55,"oude\nformaat","Geplastificeerd, rood","1971-06-02","1e druk","De duistere diamant","Geplastificeerd met nummerrondje rechts. Originele titel De zonnige zageman. Net als in 2 kleurenreeks deels hertekend ten opzichte van ongekleurde reeks: haren Jerom bijgewerkt en inkting verdikt. Cover niet hertekend, alleen opnieuw gekleurd ten opzichte van de twee kleuren reeks."]
[null,null,null,null,null,null,"Geplastificeerd, rood","1972-10-02","2e druk","De ringelingschat","Nummerrondje weer linksboven op de cover."]
[null,null,null,null,null,null,"Rood","1975-12-06","herdruk","De mollige meivis","Ongeplastificeerd."]
[null,null,null,null,null,null,"Rood","2005-04-01","herdruk","De flierende fluiter","Ook verkrijgbaar geweest, geseald met Suske of Wiske sleutelhanger. Zomeractie 2007"]
[null,null,null,null,null,null,"Gekleurd","2011-11-01","herdruk","Het leidende Leiden","Nieuwe cover. Achtercover met vijftal in Vitamitje, synopsis en plaatjes van laatste uitgaven."]
[null,121,"De duistere diamant",{"$f":"INDEX('Lange verhalen'!B:B,MATCH(B329,'Lange verhalen'!D:D,0))","v":44},55,"oude\nformaat","Geplastificeerd, rood","1971-06-03","1e druk","De duistere diamant","Geplastificeerd met nummerrondje rechts. Niet hertekend ten opzichte van ongekleurde reeks, ook originele inkting. Cover niet hertekend, alleen opnieuw gekleurd ten opzichte van de twee kleuren reeks."]
[null,null,null,null,null,null,"Geplastificeerd, rood","1972-10-02","2e druk","De ringelingschat","Nummerrondje weer linksboven op de cover."]
[null,null,null,null,null,null,"Rood","1976-02-06","herdruk","De vinnige Viking","Ongeplastificeerd."]
[null,null,null,null,null,null,"Gekleurd","2010-10-01","herdruk","De halve havelaar","Nieuwe cover. Achtercover met vijftal in Vitamitje, synopsis en plaatjes van laatste uitgaven."]
[null,122,"De kale kapper",{"$f":"INDEX('Lange verhalen'!B:B,MATCH(B333,'Lange verhalen'!D:D,0))","v":79},55,"oude\nformaat","Geplastificeerd, rood","1971-08-01","1e druk","Het vliegende bed","Geplastificeerd met nummerrondje rechts."]
[null,null,null,null,null,null,"Geplastificeerd, rood","1972-07-02","2e druk","De gekke gokker","Nummerrondje weer linksboven op de cover."]
[null,null,null,null,null,null,"Rood","1976-04-07","herdruk","De minilotten van Kokonera","Ongeplastificeerd."]
[null,null,null,null,null,null,"Gekleurd","2009-10-01","herdruk","De tijdbobijn","Nieuwe cover. Achtercover met vijftal in Vitamitje, synopsis en plaatjes van laatste uitgaven."]
[null,123,"De Zwarte Zwaan",{"$f":"INDEX('Lange verhalen'!B:B,MATCH(B337,'Lange verhalen'!D:D,0))","v":45},55,"oude\nformaat","Geplastificeerd, rood","1971-08-01","1e druk","Het vliegende bed","Geplastificeerd met nummerrondje rechts. Niet hertekend ten opzichte van ongekleurde reeks, ook originele inkting. Cover niet hertekend, alleen opnieuw gekleurd ten opzichte van de twee kleuren reeks. Op blz 2, onderaan in de marge, staat het een foutieve ISBN 90 02 00342 0 (behoort bij de Franstalige versie \"Le cygne noir\"). Het correcte ISBN van \"De zwarte zwaan\" staat op de achterkaft vermeld: 90 02 11525 3. Tevens is het reeksnummer bij de eerste druk in vet font gedrukt, terwijl dit bij de tweede druk een dunner font is."]
[null,null,null,null,null,null,"Geplastificeerd, rood","1971-08-01","2e druk","Het vliegende bed","Nummerrondje weer linksboven op de cover. Het foutieve ISBN onderaan blz 2 is verwijderd. Reeksnummer in dunner font. Daarnaast is de kaft licht geplastificeerd (vergelijkbaar met die van de eerste drukken van deel 130-137). Album is verschenen in 1972."]
[null,null,null,null,null,null,"Rood","1976-02-06","herdruk","De vinnige Viking","Ongeplastificeerd."]
[null,null,null,null,null,null,"Rood","1995-06-01","herdruk","De begeerde berg","Ook verspreid met kartonnen Suske opzetfiguur als bijlage."]
[null,null,null,null,null,null,"Gekleurd","2008-05-01","herdruk","Het babbelende bad","Nieuwe cover. Achtercover met vijftal in Vitamitje, synopsis en plaatjes van laatste uitgaven."]
[null,null,null,null,null,null,"Gekleurd","2010-04-17","herdruk","De rillende rots","Ook verkrijgbaar geweest met ingesealde 'gratis flitsende fietszadelhoes' van Suske en Wiske."]
[null,124,"Het vliegende bed",{"$f":"INDEX('Lange verhalen'!B:B,MATCH(B343,'Lange verhalen'!D:D,0))","v":46},55,"oude\nformaat","Geplastificeerd, rood","1971-08-01","1e druk","Het vliegende bed","Geplastificeerd met nummerrondje rechts. Cover niet hertekend, alleen opnieuw gekleurd ten opzichte van de twee kleuren reeks. De eerste druk verscheen abusievelijk in het Vlaams (Schalulleke). Laatste album met nummerrondje rechts."]
[null,null,null,null,null,null,"Geplastificeerd, rood","1971-08-01","2e druk","Het vliegende bed","Nummerrondje weer linksboven op de cover. Taal gecorrigeerd naar Nederlands."]
[null,null,null,null,null,null,"Rood","1976-04-06","herdruk","De minilotten van Kokonera","Ongeplastificeerd."]
[null,null,null,null,null,null,"Rood","2000-06-01","herdruk","Jeanne Panne","Ook verspreid met sticker met EK feesttoeter."]
[null,null,null,null,null,null,"Gekleurd","2010-04-01","herdruk","De rillende rots","Nieuwe cover. Achtercover met vijftal in Vitamitje, synopsis en plaatjes van laatste uitgaven."]
[null,125,"De Texas-rakkers",{"$f":"INDEX('Lange verhalen'!B:B,MATCH(B348,'Lange verhalen'!D:D,0))","v":47},55,"oude\nformaat","Geplastificeerd, rood","1971-10-01","1e druk","De windmakers","Geplastificeerd. Cover niet hertekend, alleen opnieuw gekleurd ten opzichte van de twee kleuren reeks. Originele titel De Texas rakkers (zonder streepje)."]
[null,null,null,null,null,null,"Rood","1976-02-06","herdruk","De vinnige Viking","Ongeplastificeerd."]
[null,null,"De Texasrakkers",null,null,null,"Gekleurd","2009-05-01","herdruk","De knikkende knoken","Nieuwe cover. Titel zonder streepje. Achtercover met vijftal in Vitamitje, synopsis en plaatjes van laatste uitgaven."]
[null,126,"De windmakers",{"$f":"INDEX('Lange verhalen'!B:B,MATCH(B351,'Lange verhalen'!D:D,0))","v":48},55,"oude\nformaat","Geplastificeerd, rood","1971-10-01","1e druk","De windmakers","Geplastificeerd. Cover niet hertekend, alleen opnieuw gekleurd ten opzichte van de twee kleuren reeks."]
[null,null,null,null,null,null,"Rood","1976-04-06","herdruk","De minilotten van Kokonera","Ongeplastificeerd."]
[null,null,null,null,null,null,"Rood","1994-09-01","herdruk","Het Aruba dossier","Ook verspreid met kartonnen Suske opzetfiguur als bijlage."]
[null,null,null,null,null,null,"Rood","2007-06-01","herdruk","De curieuze neuzen","Ook verschenen met ingesealde S&W frisbee."]
[null,null,null,null,null,null,"Gekleurd","2009-05-01","herdruk","De knikkende knoken","Nieuwe cover. Achtercover met vijftal in Vitamitje, synopsis en plaatjes van laatste uitgaven."]
[null,127,"De knokkersburcht",{"$f":"INDEX('Lange verhalen'!B:B,MATCH(B356,'Lange verhalen'!D:D,0))","v":28},{"$f":"55.5-0.5","v":55},"oude\nformaat","Geplastificeerd, rood","1972-01-01","1e druk","Het brommende brons","Geplastificeerd. Ten opzichte van originele krant uitgave 2 stroken verkort tot 55 pagina's. Net als in 2 kleurenreeks deels hertekend ten opzichte van ongekleurde reeks: in het begin van het verhaal Suske, Wiske, Lambik, Sidonia en Jerom hertekend, verderop alleen Jerom hertekend, inkting verdikt. Cover niet hertekend, alleen opnieuw gekleurd ten opzichte van de twee kleuren reeks."]
[null,null,null,null,null,null,"Rood","1976-04-06","herdruk","De minilotten van Kokonera","Ongeplastificeerd."]
[null,null,null,null,null,null,"Rood",{"$f":"+$H$354","v":"2007-06-01"},{"$f":"+$I$354","v":"herdruk"},{"$f":"+$J$354","v":"De curieuze neuzen"},"Ook verschenen met ingesealde S&W frisbee."]
[null,null,null,null,null,null,"Gekleurd","2010-10-01","herdruk","De halve havelaar","Nieuwe cover. Achtercover met vijftal in Vitamitje, synopsis en plaatjes van laatste uitgaven."]
[null,null,null,null,null,null,"Gekleurd, rode rand","2022-05-01","herdruk","De maffe markies","Nieuwe cover met links rode rand. Achtercover rood met 5 rijen titels in witte letters."]
[null,128,"Het brommende brons",{"$f":"INDEX('Lange verhalen'!B:B,MATCH(B361,'Lange verhalen'!D:D,0))","v":80},55,"oude\nformaat","Geplastificeerd, rood","1972-01-01","1e druk","Het brommende brons","Geplastificeerd."]
[null,null,null,null,null,null,"Rood","1976-04-06","herdruk","De minilotten van Kokonera","Ongeplastificeerd."]
[null,null,null,null,null,null,"Gekleurd","2011-11-01","herdruk","Het leidende Leiden","Nieuwe cover. Achtercover met vijftal in Vitamitje, synopsis en plaatjes van laatste uitgaven."]
[null,129,"Prinses Zagemeel",{"$f":"INDEX('Lange verhalen'!B:B,MATCH(B364,'Lange verhalen'!D:D,0))","v":7},55,"oude\nformaat","Geplastificeerd, rood","1972-03-01","1e druk","Het brommende brons","Geplastificeerd. Niet hertekend, alleen ingekleurd ten opzichte van de ongekleurde reeks."]
[null,null,null,null,null,null,"Rood","1976-04-06","herdruk","De minilotten van Kokonera","Ongeplastificeerd."]
[null,null,null,null,null,null,"Rood","1995-06-01","herdruk","De begeerde berg","Ook verspreid met kartonnen Suske opzetfiguur als bijlage."]
[null,null,null,null,null,null,"Gekleurd","2010-10-01","herdruk","De halve havelaar","Nieuwe cover. Achtercover met vijftal in Vitamitje, synopsis en plaatjes van laatste uitgaven."]
[null,130,"De steensnoepers",{"$f":"INDEX('Lange verhalen'!B:B,MATCH(B368,'Lange verhalen'!D:D,0))","v":81},55,"oude\nformaat","Geplastificeerd, rood","1972-03-01","1e druk","Het brommende brons","Geplastificeerd."]
[null,null,null,null,null,null,"Rood","1975-12-05","herdruk","De mollige meivis","Ongeplastificeerd."]
[null,null,null,null,null,null,"Rood","2000-04-01","herdruk","Het verdronken land","Ook als zomeractie verkrijgbaar geweest, geseald met een pocketuitgave van de Blauwe Reeks (4 delen)."]
[null,null,null,null,null,null,"Gekleurd","2011-11-01","herdruk","Het leidende Leiden","Nieuwe cover. Achtercover met vijftal in Vitamitje, synopsis en plaatjes van laatste uitgaven."]
[null,131,"Het zingende nijlpaard",{"$f":"INDEX('Lange verhalen'!B:B,MATCH(B372,'Lange verhalen'!D:D,0))","v":18},55,"oude\nformaat","Geplastificeerd, rood","1972-03-01","1e druk","Het brommende brons","Geplastificeerd. Niet hertekend, alleen ingekleurd ten opzichte van de ongekleurde reeks."]
[null,null,null,null,null,null,"Rood","1975-12-05","herdruk","De mollige meivis","Ongeplastificeerd."]
[null,null,null,null,null,null,"Gekleurd","2010-10-01","herdruk","De halve havelaar","Nieuwe cover. Achtercover met vijftal in Vitamitje, synopsis en plaatjes van laatste uitgaven."]
[null,132,"De stierentemmer",{"$f":"INDEX('Lange verhalen'!B:B,MATCH(B375,'Lange verhalen'!D:D,0))","v":15},{"$f":"55-0.25","v":54.75},"oude\nformaat","Geplastificeerd, rood","1972-05-01","1e druk","De tuf-tuf-club","Geplastificeerd. Niet hertekend, alleen ingekleurd ten opzichte van de ongekleurde reeks. Net als in de ongekelurde reeks zijn ten opzichte van de krant uitgave de laatste 2 stroken verkort tot 1 strook."]
[null,null,null,null,null,null,"Rood","1975-12-05","herdruk","De mollige meivis","Ongeplastificeerd."]
[null,null,null,null,null,null,"Rood","1996-03-01","herdruk","Het kostbare kader","Ook verspreid met kartonnen Suske opzetfiguur als bijlage."]
[null,null,null,null,null,null,"Rood","2005-04-01","herdruk","De flierende fluiter","Ook verkrijgbaar geweest, geseald met een rugzak. Zomeractie 2005."]
[null,null,null,null,null,null,"Gekleurd","2010-04-01","herdruk","De rillende rots","Nieuwe cover. Achtercover met vijftal in Vitamitje, synopsis en plaatjes van laatste uitgaven."]
[null,133,"De Tuf-Tuf-club",{"$f":"INDEX('Lange verhalen'!B:B,MATCH(B380,'Lange verhalen'!D:D,0))","v":21},55,"oude\nformaat","Geplastificeerd, rood","1972-05-01","1e druk","De tuf-tuf-club","Geplastificeerd. Titel aangepast met extra streepje (ongekleurde reeks: De Tuftuf-club).\nNiet hertekend, alleen ingekleurd ten opzichte van de ongekleurde reeks.\nIn eerdere drukken van nr 133 zijn jaartallen op de laatste pagina aangepast. In latere herdrukken zijn ze weer gelijk aan de ongekleurde versie, zie note. "]
[null,null,null,null,null,null,"Rood","1976-02-06","herdruk","De vinnige Viking","Ongeplastificeerd."]
[null,null,null,null,null,null,"Rood","1984-10-14",1984,"Amoris van Amoras","Met achterin extra blad (1/6): \"Tot ziens in het volgende verhaal!\", Sidonia op stier."]
[null,null,null,null,null,null,"Rood","1995-06-01","herdruk","De begeerde berg","Ook verspreid met kartonnen Suske opzetfiguur als bijlage."]
[null,null,null,null,null,null,"Gekleurd","2010-04-01","herdruk","De rillende rots","Nieuwe cover. Achtercover met vijftal in Vitamitje, synopsis en plaatjes van laatste uitgaven."]
[null,null,null,null,null,null,"Gekleurd, rode rand","2021-05-03","herdruk","De zalige ziener","Nieuwe cover met links rode rand. Achtercover rood met 5 rijen titels in witte letters."]
[null,134,"De witte uil",{"$f":"INDEX('Lange verhalen'!B:B,MATCH(B386,'Lange verhalen'!D:D,0))","v":9},55,"oude\nformaat","Geplastificeerd, rood","1972-08-01","1e druk","De gekke gokker","Geplastificeerd. Geheel hertekend ten opzichte van de ongekleurde reeks."]
[null,null,null,null,null,null,"Rood","1976-04-05","herdruk","De minilotten van Kokonera","Ongeplastificeerd."]
[null,null,null,null,null,null,"Rood","1996-03-01","herdruk","Het kostbare kader","Ook verspreid met kartonnen Barabas opzetfiguur als bijlage."]
[null,null,null,null,null,null,"Gekleurd","2008-05-01","herdruk","Het babbelende bad","Nieuwe cover. Achtercover met vijftal in Vitamitje, synopsis en plaatjes van laatste uitgaven. Standaard uitgeverij vermelding ontbreekt op front cover. Ook verkrijgbaar geweest, geseald met een fietszadelhoes."]
[null,null,null,null,null,null,"Gekleurd",{"$f":"+$H$384","v":"2010-04-01"},"herdruk","De rillende rots","Nieuwe cover. Achtercover met vijftal in Vitamitje, synopsis en plaatjes van laatste uitgaven. Met Standaard uitgeverij vermelding op front cover. Foutieve datum."]
[null,135,"De gekke gokker",{"$f":"INDEX('Lange verhalen'!B:B,MATCH(B391,'Lange verhalen'!D:D,0))","v":82},55,"oude\nformaat","Geplastificeerd, rood","1972-08-01","1e druk","De gekke gokker","Geplastificeerd. Eerste verhaal volledig getekend en geschreven door Paul Geerts."]
[null,null,null,null,null,null,"Rood","1976-04-05","herdruk","De minilotten van Kokonera","Ongeplastificeerd."]
[null,null,null,null,null,null,"Gekleurd","2010-10-01","herdruk","De halve havelaar","Nieuwe cover. Achtercover met vijftal in Vitamitje, synopsis en plaatjes van laatste uitgaven."]
[null,136,"De bokkerijders",{"$f":"INDEX('Lange verhalen'!B:B,MATCH(B394,'Lange verhalen'!D:D,0))","v":8},55,"oude\nformaat","Geplastificeerd, rood","1972-10-01","1e druk","De ringelingschat","Geplastificeerd. Niet hertekend, alleen ingekleurd ten opzichte van de ongekleurde reeks."]
[null,null,null,null,null,null,"Rood","1975-12-05","herdruk","De mollige meivis","Ongeplastificeerd."]
[null,null,null,null,null,null,"Rood","1996-03-01","herdruk","Het kostbare kader","Ook verspreid met kartonnen Barabas opzetfiguur als bijlage."]
[null,null,null,null,null,null,"Rood",{"$f":"+$H$514","v":"2006-05-01"},{"$f":"+$I$514","v":"herdruk"},{"$f":"+$J$514","v":"De bangeschieters"},"Ook verschenen met ingesealde S&W zonnescherm van De Texasrakkers (2009)."]
[null,null,"De bokkenrijders",null,null,null,"Gekleurd","2011-11-01","herdruk","Het leidende Leiden","Nieuwe cover. Titel in moderne spelling. \nAchtercover met vijftal in Vitamitje, synopsis en plaatjes van laatste uitgaven."]
[null,137,"De ringelingschat",{"$f":"INDEX('Lange verhalen'!B:B,MATCH(B399,'Lange verhalen'!D:D,0))","v":19},55,"oude\nformaat","Geplastificeerd, rood","1972-10-01","1e druk","De ringelingschat","Geplastificeerd. Net als in 2 kleurenreeks deels hertekend ten opzichte van de ongekleurde reeks: Suske, Wiske, Lambik en Sidonia regelmatig geheel hertekend, soms alleen de hoofden, inkting verdikt."]
[null,null,null,null,null,null,"Rood","1975-12-05","herdruk","De mollige meivis","Ongeplastificeerd."]
[null,null,null,null,null,null,"Gekleurd","2011-11-01","herdruk","Het leidende Leiden","Nieuwe cover. Achtercover met vijftal in Vitamitje, synopsis en plaatjes van laatste uitgaven."]
[null,null,null,null,null,null,"Gekleurd, rode rand","2021-05-03","herdruk","De zalige ziener","Nieuwe cover met links rode rand. Achtercover rood met 5 rijen titels in witte letters."]
[null,138,"Bibbergoud",{"$f":"INDEX('Lange verhalen'!B:B,MATCH(B403,'Lange verhalen'!D:D,0))","v":13},55,"oude\nformaat","Geplastificeerd, rood","1973-01-01","1e druk","De boze boomzalver","Geplastificeerd. Niet hertekend, alleen ingekleurd ten opzichte van de ongekleurde reeks."]
[null,null,null,null,null,null,"Rood","1975-12-05","herdruk","De mollige meivis","Ongeplastificeerd."]
[null,null,null,null,null,null,"Rood","1996-03-01","herdruk","Het kostbare kader","Ook verspreid met kartonnen Barabas opzetfiguur als bijlage."]
[null,null,null,null,null,null,"Gekleurd","2011-11-01","herdruk","Het leidende Leiden","Nieuwe cover. Achtercover met vijftal in Vitamitje, synopsis en plaatjes van laatste uitgaven. "]
[null,139,"De boze boomzalver",{"$f":"INDEX('Lange verhalen'!B:B,MATCH(B407,'Lange verhalen'!D:D,0))","v":83},55,"oude\nformaat","Geplastificeerd, rood","1973-01-01","1e druk","De boze boomzalver","Geplastificeerd."]
[null,null,null,null,null,null,"Rood","1975-12-05","herdruk","De mollige meivis","Ongeplastificeerd."]
[null,null,null,null,null,null,"Gekleurd","2010-10-01","herdruk","De halve havelaar","Nieuwe cover. Standaard Uitgeverij in zwarte letters. Achtercover met vijftal , synopsis en plaatjes."]
[null,140,"De Zwarte Madam",{"$f":"INDEX('Lange verhalen'!B:B,MATCH(B410,'Lange verhalen'!D:D,0))","v":5},54.5,"oude\nformaat","Geplastificeerd, rood","1973-03-01","1e druk","Het bevroren vuur","Geplastificeerd. Niet hertekend, alleen ingekleurd ten opzichte van de ongekleurde reeks."]
[null,null,null,null,null,null,"Rood","1975-12-05","herdruk","De mollige meivis","Ongeplastificeerd."]
[null,null,null,null,null,null,"Rood","2002-10-01","herdruk","In de ban van de Milt","Ook uitgegeven met meegesealde Suske en Wiske sjaal, of met CD single S&W band."]
[null,null,null,null,null,null,"Gekleurd","2011-11-01","herdruk","Het leidende Leiden","Nieuwe cover. Achtercover met vijftal in Vitamitje, synopsis en plaatjes van laatste uitgaven."]
[null,141,"Het bevroren vuur",{"$f":"INDEX('Lange verhalen'!B:B,MATCH(B414,'Lange verhalen'!D:D,0))","v":22},55,"oude\nformaat","Geplastificeerd, rood","1973-03-01","1e druk","Het bevroren vuur","Geplastificeerd. Niet hertekend, alleen ingekleurd ten opzichte van de ongekleurde reeks."]
[null,null,null,null,null,null,"Rood","1975-12-04","herdruk","De mollige meivis","Ongeplastificeerd."]
[null,null,null,null,null,null,"Rood","2002-04-01","herdruk","De europummel","Ook uitgegeven met ingesealde CD single van de S&W band van de theatershow De schimmige schurken."]
[null,null,null,null,null,null,"Gekleurd","2009-10-01","herdruk","De tijdbobijn","Nieuwe cover. Standaard Uitgeverij in rode letters. Achtercover met vijftal , synopsis en plaatjes."]
[null,142,"De mottenvanger",{"$f":"INDEX('Lange verhalen'!B:B,MATCH(B418,'Lange verhalen'!D:D,0))","v":12},55,"oude\nformaat","Geplastificeerd, rood","1973-06-01","1e druk","De malle mergpijp","Geplastificeerd. Niet hertekend, alleen ingekleurd ten opzichte van de ongekleurde reeks. Ten opzichte van de originele krant uitgave is op het laatste plaatje een verwijzing toegevoegd naar Jerom, omdat deze tijdens de krant uitgave nog niet bestond. Eerste druk met sticker in 8 combinaties, zie note."]
[null,null,null,null,null,null,"Rood","1975-07-03","herdruk","De poezelige poes","Ongeplastificeerd."]
[null,null,null,null,null,null,"Rood","2000-06-01","herdruk","Jeanne Panne","Ook verspreid met sticker met EK feesttoeter."]
[null,null,null,null,null,null,"Gekleurd","2009-10-01","herdruk","De tijdbobijn","Nieuwe cover. Achtercover met vijftal in Vitamitje, synopsis en plaatjes van laatste uitgaven."]
[null,143,"De malle mergpijp",{"$f":"INDEX('Lange verhalen'!B:B,MATCH(B422,'Lange verhalen'!D:D,0))","v":84},55,"oude\nformaat","Geplastificeerd, rood","1973-06-01","1e druk","De malle mergpijp","Geplastificeerd. Eerste druk met sticker in 7 combinaties, zie note."]
[null,null,null,null,null,null,"Rood","1976-04-04","herdruk","De minilotten van Kokonera","Ongeplastificeerd."]
[null,null,null,null,null,null,"Rood","1995-06-01","herdruk","De begeerde berg","Ook verspreid met kartonnen Barabas opzetfiguur als bijlage."]
[null,null,null,null,null,null,"Gekleurd","2010-10-01","herdruk","De halve havelaar","Nieuwe cover. Achtercover met vijftal in Vitamitje, synopsis en plaatjes van laatste uitgaven. "]
[null,null,null,null,null,null,"Gekleurd, rode rand","2022-05-01","herdruk","De maffe markies","Nieuwe cover met links rode rand. Achtercover rood met 5 rijen titels in witte letters."]
[null,144,"Lambiorix",{"$f":"INDEX('Lange verhalen'!B:B,MATCH(B427,'Lange verhalen'!D:D,0))","v":14},{"$f":"55-0.25+0.25","v":55},"oude\nformaat","Geplastificeerd, rood","1973-09-01","1e druk","De stalen bloempot","Geplastificeerd. Geheel hertekend ten opzichte van de ongekleurde reeks voor TV ekspress, zie note. In de ongekleurde reeks waren de laatste 2 stroken verkort tot 1 strook om de grap over de koningskwestie te verwijderen. In deze hertekening zijn de laatste 3 stroken aangepast tot 4 stroken om weer op 55 pagina's te komen. Eerste druk met sticker in 7 combinaties, zie note."]
[null,null,null,null,null,null,"Rood","1975-12-03","herdruk","De mollige meivis","Ongeplastificeerd."]
[null,null,null,null,null,null,"Rood","1984-10-13","herdruk","Amoris van Amoras","Met achterin extra blad (3/6): \"Tot ziens in het volgende verhaal!\", Wiske op stelten."]
[null,null,null,null,null,null,"Rood","1995-06-01","herdruk","De begeerde berg","Ook verspreid met kartonnen Barabas opzetfiguur als bijlage."]
[null,null,null,null,null,null,"Gekleurd","2010-10-01","herdruk","De halve havelaar","Nieuwe cover. Achtercover met vijftal in Vitamitje, synopsis en plaatjes van laatste uitgaven. "]
[null,145,"De stalen bloempot",{"$f":"INDEX('Lange verhalen'!B:B,MATCH(B432,'Lange verhalen'!D:D,0))","v":17},55,"oude\nformaat","Geplastificeerd, rood","1973-09-01","1e druk","De stalen bloempot","Geplastificeerd. Van dit album bestaan twee versies: één met en één zonder blanco blad achter het wedstrijdblad. Bij het herletteren komen in de oudere drukken 4 verschilende spellingen van Schanulleke voor, zie note. Niet hertekend, alleen ingekleurd ten opzichte van de ongekleurde reeks. Eerste druk met sticker in 7 combinaties, zie note."]
[null,null,null,null,null,null,"Rood","1976-02-03","herdruk","De vinnige Viking","Ongeplastificeerd."]
[null,null,null,null,null,null,"Rood","2003-08-01","herdruk","Jeanne Panne","Ook verkrijgbaar geweest, geseald met een Blauwe Reeks pocketuitgave. Najaarsactie 2003"]
[null,null,null,null,null,null,"Gekleurd","2010-10-01","herdruk","De halve havelaar","Nieuwe cover. Achtercover met vijftal in Vitamitje, synopsis en plaatjes van laatste uitgaven. "]
[null,146,"De sterrenplukkers",{"$f":"INDEX('Lange verhalen'!B:B,MATCH(B436,'Lange verhalen'!D:D,0))","v":23},55,"oude\nformaat","Geplastificeerd, rood","1973-11-01","1e druk","De sterrenplukkers","Geplastificeerd. Niet hertekend, alleen ingekleurd ten opzichte van de ongekleurde reeks."]
[null,null,null,null,null,null,"Rood","1976-12-03","herdruk","De gouden locomitief","Ongeplastificeerd. Er zijn ook misdrukken (eigenlijk misbindingen) waar er een katern dubbel in het boek zit."]
[null,null,null,null,null,null,"Rood","2006-05-01","herdruk","De bangeschieters","Ook verkocht met ingeseald gratis kaartenspel met opdruk van onze vrienden. Deze waren onderdeel van de zomeractie (B) en najaarsactie (NL) in 2006."]
[null,null,null,null,null,null,"Gekleurd","2010-10-01","herdruk","De halve havelaar","Nieuwe cover. Achtercover met vijftal en Vitamitje. Ook verkrijgbaar met fietszadelhoes."]
[null,147,"De poppenpakker",{"$f":"INDEX('Lange verhalen'!B:B,MATCH(B440,'Lange verhalen'!D:D,0))","v":85},55,"oude\nformaat","Geplastificeerd, rood","1974-01-01","1e druk","De poppenpakker","Geplastificeerd."]
[null,null,null,null,null,null,"Rood","1976-04-04","herdruk","De minilotten van Kokonera","Ongeplastificeerd."]
[null,null,null,null,null,null,"Rood","1996-03-01","herdruk","Het kostbare kader","Ook verspreid met kartonnen Barabas opzetfiguur als bijlage."]
[null,null,null,null,null,null,"Rood","2002-10-01","herdruk","In de ban van de Milt","Ook uitgegeven met ingesealde CD single van de S&W band van de theatershow De schimmige schurken."]
[null,null,null,null,null,null,"Gekleurd","2011-11-01","herdruk","Het leidende Leiden","Nieuwe cover. Achtercover met vijftal in Vitamitje, synopsis en plaatjes van laatste uitgaven. "]
[null,148,"De lachende wolf",{"$f":"INDEX('Lange verhalen'!B:B,MATCH(B445,'Lange verhalen'!D:D,0))","v":24},54.75,"oude\nformaat","Geplastificeerd, rood","1974-03-01","1e druk","De lachende wolf","Geplastificeerd. Net als in de ongekleurde reeks is het album 1 strook korter dan de originele krant uitgave door verwijdering van de ijzertoren grap. Niet hertekend, alleen ingekleurd ten opzichte van de ongekleurde reeks."]
[null,null,null,null,null,null,"Rood","1976-02-03","herdruk","De vinnige Viking","Ongeplastificeerd."]
[null,null,null,null,null,null,"Gekleurd","2008-05-01","herdruk","Het babbelende bad","Nieuwe cover. Achtercover met vijftal in Vitamitje, synopsis en plaatjes van laatste uitgaven."]
[null,null,null,null,null,null,"Gekleurd",{"$f":"+$H$384","v":"2010-04-01"},"herdruk","De rillende rots","Nieuwe cover. Achtercover met vijftal in Vitamitje, synopsis en plaatjes van laatste uitgaven. Foutieve datum."]
[null,149,"De gladde glipper",{"$f":"INDEX('Lange verhalen'!B:B,MATCH(B449,'Lange verhalen'!D:D,0))","v":87},55,"oude\nformaat","Geplastificeerd, rood","1974-06-01","1e druk","Het Spaanse Spook","Geplastificeerd."]
[null,null,null,null,null,null,"Rood","1975-07-02","2e druk","De poezelige poes","Ongeplastificeerd."]
[null,null,null,null,null,null,"Rood","1995-06-01","herdruk","De begeerde berg","Geseald met wedstrijdfolder voor grote zomerwedstrijd 50 jaar Suske en Wiske.\nOok verspreid met kartonnen Krimson opzetfiguur als bijlage."]
[null,null,null,null,null,null,"Gekleurd","2009-05-01","herdruk","De knikkende knoken","Nieuwe cover. Achtercover met vijftal in Vitamitje, synopsis en plaatjes van laatste uitgaven."]
[null,150,"Het Spaanse spook",{"$f":"INDEX('Lange verhalen'!B:B,MATCH(B453,'Lange verhalen'!D:D,0))","v":10},{"$f":"69+1","v":70},"oude\nformaat","Geplastificeerd, rood","1974-06-01","1e druk","Het Spaanse Spook","Geplastificeerd. Album uit de Blauwe reeks. In weekblad Kuifje en Ons Volske 69 pagina's, in album rode reeks eerste 4 pagina's hertekend tot 1 pagina extra. Met op de frontcover op de eerste druk t/m 1976 een groen stervormig vignet met 'nr. 150'. Let op: 2e druk uit 1975 heeft ook als laatste titel 'Het Spaanse Spook'."]
[null,null,null,null,null,null,"Rood","1976-02-04","herdruk","De vinnige Viking","Ongeplastificeerd."]
[null,null,null,null,null,null,"Rood","1976-12-05","herdruk","De gouden locomitief","Vanaf deze uitgave geen vignet meer met nr. 150."]
[null,null,null,null,null,null,"Rood","1984-11-01","herdruk","Amoris van Amoras","Wellicht ter gelegenheid van Nr 200 een eenmalige uitgave met wederom het stervormige groene vignet met nr. 150, met een iets lichtere kleur groen. Vervolgdrukken zijn weer zonder vignet."]
[null,null,null,null,null,null,"Rood","1995-06-01","herdruk","De begeerde berg","Ook verspreid met kartonnen Krimson opzetfiguur als bijlage."]
[null,null,null,null,null,null,"Gekleurd","2010-04-01","herdruk","De rillende rots","Nieuwe cover. Achtercover met vijftal in Vitamitje, synopsis en plaatjes van laatste uitgaven."]
[null,151,"Het ros Bazhaar",{"$f":"INDEX('Lange verhalen'!B:B,MATCH(B459,'Lange verhalen'!D:D,0))","v":88},55,"oude\nformaat","Geplastificeerd, rood","1974-08-01","1e druk","SW poster","Geplastificeerd. Met op achtercover van 1e druk reclame voor 25 jaar jubileum Suske en Wiske poster. "]
[null,null,null,null,null,null,"Rood","1975-07-02","2e druk","De poezelige poes","Ongeplastificeerd. Met normale achtercover met titellijst."]
[null,null,null,null,null,null,"Gekleurd","2008-05-01","herdruk","Het babbelende bad","Nieuwe cover. Achtercover met vijftal in Vitamitje, synopsis en plaatjes van laatste uitgaven."]
[null,null,null,null,null,null,"Gekleurd","2010-04-17","herdruk","De rillende rots","Ook verkrijgbaar geweest met ingesealde 'gratis flitsende fietszadelhoes' van Suske en Wiske."]
[null,null,null,null,null,null,"Gekleurd, rode rand","2022-05-01","herdruk","De maffe markies","Nieuwe cover met links rode rand. Achtercover rood met 5 rijen titels in witte letters."]
[null,152,"De bevende Baobab",{"$f":"INDEX('Lange verhalen'!B:B,MATCH(B464,'Lange verhalen'!D:D,0))","v":86},55,"oude\nformaat","Geplastificeerd, rood","1974-10-01","1e druk","De bevende baobab","Geplastificeerd. Eerste verhaal speciaal getekend voor TV ekspress, zie note. Extra laatste pagina met reclame standaard boeken voor de jeugd: Zegelvikings."]
[null,null,null,null,null,null,"Rood","1975-11-03","herdruk","De mollige meivis","Ongeplastificeerd. Nog niet verschenen als album met nieuwe gekeurde cover, wel digitaal. "]
[null,null,null,null,null,null,"Rood","1995-06-01","herdruk","De begeerde berg","Ook verspreid met kartonnen Krimson opzetfiguur als bijlage."]
[null,153,"De nare varaan",{"$f":"INDEX('Lange verhalen'!B:B,MATCH(B467,'Lange verhalen'!D:D,0))","v":89},55,"oude\nformaat","Geplastificeerd, rood","1975-01-01","1e druk","SW poster","Geplastificeerd (laatste geplastificeerde album in 1e druk). \nMet op achtercover reclame voor de 25 jaar jubileum Suske en Wiske poster. "]
[null,null,null,null,null,null,"Rood","1976-02-03","herdruk","De vinnige Viking","Ongeplastificeerd. Met normale achtercover met titellijst."]
[null,null,null,null,null,null,"Rood","1995-06-01","herdruk","De begeerde berg","Geseald met wedstrijdfolder voor grote zomerwedstrijd 50 jaar Suske en Wiske.\nOok verspreid met kartonnen Krimson opzetfiguur als bijlage."]
[null,null,null,null,null,null,"Rood","2006-05-01","herdruk","De bangeschieters","Ook verschenen met ingesealde S&W frisbee."]
[null,null,null,null,null,null,"Gekleurd","2014-04-01","herdruk","Het schrikkelspook","Nieuwe cover. Achtercover met vijftal in Vitamitje, synopsis en plaatjes van laatste uitgaven."]
[null,154,"Rikki en Wiske in Chocowakije",{"$f":"INDEX('Lange verhalen'!B:B,MATCH(B472,'Lange verhalen'!D:D,0))","v":1},60,"oude\nformaat","Rood","1975-04-01","1e druk","SW poster","Ongeplastificeerd. Niet hertekend, alleen ingekleurd ten opzichte van de ongekleurde reeks. Laatste heruitgegeven album. Net als in ongekleurde reeks zijn ten opzichte van de originele krant uitgave 20 stroken weggelaten en 12 stroken en 4 plaatjes hertekend omdat deze kwijt waren geraakt. Met op achtercover van de 1e druk reclame voor de 25 jaar jubileum Suske en Wiske poster. "]
[null,null,"Rikki en Wiske in Chokowakije",null,null,null,"Gekleurd","2010-04-17","herdruk","De rillende rots","Nieuwe cover. Titel onjuist gespeld met een 'k'. Het plaatsnaam bordje op de front cover is wel met een 'c' geschreven. Achtercover met vijftal in Vitamitje, synopsis en plaatjes van laatste uitgaven. Ook verkrijgbaar geweest met ingesealde 'gratis flitsende fietszadelhoes' van Suske en Wiske."]
[null,155,"De poezelige poes",{"$f":"INDEX('Lange verhalen'!B:B,MATCH(B474,'Lange verhalen'!D:D,0))","v":91},55,"oude\nformaat","Rood","1975-06-01","1e druk","Pats","Op achtercover van 1e druk reclame voor nieuwe serie Pats. "]
[null,null,null,null,null,null,"Rood","2007-01-01","herdruk","Onbekend","Ook verkrijgbaar geweest, geseald met Suske of Wiske sleutelhanger. Zomeractie 2007"]
[null,null,null,null,null,null,"Gekleurd","2010-10-01","herdruk","De halve havelaar","Nieuwe cover. Achtercover met vijftal in Vitamitje, synopsis en plaatjes van laatste uitgaven. "]
[null,156,"Beminde Barabas",{"$f":"INDEX('Lange verhalen'!B:B,MATCH(B477,'Lange verhalen'!D:D,0))","v":92},55,"oude\nformaat","Rood","1975-08-01","1e druk","Kleurboek","Op achtercover vam 1e druk reclame voor het Suske en Wiske kleurboek. "]
[null,null,null,null,null,null,"Rood","1995-06-01","herdruk","De begeerde berg","Ook verspreid met kartonnen Krimson opzetfiguur als bijlage."]
[null,null,null,null,null,null,"Rood","2007-06-01","herdruk","De curieuze neuzen","Ook verschenen met ingesealde S&W frisbee."]
[null,null,null,null,null,null,"Gekleurd","2014-04-01","herdruk","Het schrikkelspook","Nieuwe cover. Achtercover met vijftal in Vitamitje, synopsis en plaatjes van laatste uitgaven."]
[null,157,"De mollige meivis",{"$f":"INDEX('Lange verhalen'!B:B,MATCH(B481,'Lange verhalen'!D:D,0))","v":90},55,"oude\nformaat","Rood","1975-11-01","1e druk","De mollige meivis","Getekend voor TV ekspress."]
[null,null,null,null,null,null,"Rood","1984-11-10","herdruk","Amoris van Amoras","Met achterin extra blad (3/6): \"Tot ziens in het volgende verhaal!\", Wiske op stelten."]
[null,null,null,null,null,null,"Gekleurd","2014-04-01","herdruk","Het schrikkelspook","Nieuwe cover. Achtercover met vijftal in Vitamitje, synopsis en plaatjes van laatste uitgaven."]
[null,158,"De vinnige Viking",{"$f":"INDEX('Lange verhalen'!B:B,MATCH(B484,'Lange verhalen'!D:D,0))","v":93},55,"oude\nformaat","Rood","1976-01-01","1e druk","De vinnige Viking","-"]
[null,null,null,null,null,null,"Gekleurd","2009-05-01","herdruk","De knikkende knoken","Nieuwe cover. Achtercover met vijftal in Vitamitje, synopsis en plaatjes van laatste uitgaven."]
[null,159,"De minilotten van Kokonera",{"$f":"INDEX('Lange verhalen'!B:B,MATCH(B486,'Lange verhalen'!D:D,0))","v":96},55,"oude\nformaat","Rood","1976-04-01","1e druk","De minilotten van Kokonera","Geschreven voor de TROS/BRT TV poppenserie van Wies Andersen, gestart op 06/10/1975 met titel 'De minilotten'. Daarna in album uitgebracht. Er komen misdrukken met dubbelgedrukte front cover voor."]
[null,null,null,null,null,null,"Gekleurd","2014-04-01","herdruk","Het schrikkelspook","Nieuwe cover. Achtercover met vijftal in Vitamitje, synopsis en plaatjes van laatste uitgaven."]
[null,160,"De bokkige bombardon",{"$f":"INDEX('Lange verhalen'!B:B,MATCH(B488,'Lange verhalen'!D:D,0))","v":95},55,"oude\nformaat","Rood","1976-06-01","1e druk","De bokkige bombardon","Nog niet verschenen als album met nieuwe gekeurde cover."]
[null,161,"De blinkende boemerang",{"$f":"INDEX('Lange verhalen'!B:B,MATCH(B489,'Lange verhalen'!D:D,0))","v":98},55,"oude\nformaat","Rood","1976-08-01","1e druk","De blinkende boemerang","Nog niet verschenen als album met nieuwe gekeurde cover, wel digitaal en als zomeractie 2013. "]
[null,null,null,null,null,null,"Rood","2002-04-01","herdruk","De Europummel","Ook verkrijgbaar geweest, geseald met een Blauwe Reeks pocketuitgave. Zomeractie 2003"]
[null,162,"De gouden locomotief",{"$f":"INDEX('Lange verhalen'!B:B,MATCH(B491,'Lange verhalen'!D:D,0))","v":97},55,"oude\nformaat","Rood","1976-11-01","1e druk","De gouden locomotief","Geschreven voor de TROS/BRT TV poppenserie van Wies Andersen, gestart op 01/12/1975. Daarna in album uitgebracht."]
[null,null,null,null,null,null,"Rood","2004-05-01","herdruk","De breinbrekers, onbekend","Ook verkrijgbaar geweest, geseald met Suske of Wiske sleutelhanger. Zomeractie 2007"]
[null,null,null,null,null,null,"Gekleurd","2014-04-01","herdruk","Het schrikkelspook","Nieuwe cover. Achtercover met vijftal in Vitamitje, synopsis en plaatjes van laatste uitgaven."]
[null,163,"De vlijtige vlinder",{"$f":"INDEX('Lange verhalen'!B:B,MATCH(B494,'Lange verhalen'!D:D,0))","v":94},55,"oude\nformaat","Rood","1977-01-01","1e druk","De vlijtige vlinder","Getekend voor TV ekspress."]
[null,null,null,null,null,null,"Gekleurd","2014-04-01","herdruk","Het schrikkelspook","Nieuwe cover. Achtercover met vijftal in Vitamitje, synopsis en plaatjes van laatste uitgaven."]
[null,164,"De raap van Rubens",{"$f":"INDEX('Lange verhalen'!B:B,MATCH(B496,'Lange verhalen'!D:D,0))","v":101},{"$f":"80-1","v":79},"oude\nformaat","Rood","1977-06-20","1e druk","Petrus Paul Rubens","Extra lang verhaal ter gelegenheid van het internationaal Rubensjaar 1977. Met afwijkende achtercover over Rubens. Het album is 1 pagina korter dan de krantenversie: een scene van Lambik met een koe werd afgekeurd voor de albumpublicatie. Eerste uitgaven met op de cover gele hoektekst 'dubbeldik' en banner met 'internationaal Rubensjaar', zie note."]
[null,null,null,null,null,null,"Rood","1980-01-03","3e druk","Petrus Paul Rubens","Idem met gele hoektekst 'dubbeldik' en banner met 'internationaal Rubensjaar', maar met vanaf deze druk ook de aankondigingsstrook (zie note)."]
[null,null,null,null,null,null,"Rood","1984-11-04","4e druk","Petrus Paul Rubens","Met gele hoektekst 'supervolume' en banner met enkel 'Standaard Uitgeverij', vet gedrukt."]
[null,null,null,null,null,null,"Rood","1989-04-05","5e druk","Petrus Paul Rubens","Met gele hoektekst 'dubbeldik' en banner met enkel 'Standaard Uitgeverij', vet gedrukt."]
[null,null,null,null,null,null,"Rood","1995-01-01","herdruk","Petrus Paul Rubens","Met gele hoektekst 'dubbeldik' en banner met enkel 'Standaard Uitgeverij', dun gedrukt. Ter gelegenheid van 50 jaar S&W. Ook uitgegeven met blauwe Multi Pass sticker. Herdruk van deze versie in 06/2000."]
[null,null,null,null,null,null,"Rood","2000-06-01","herdruk","Petrus Paul Rubens","Zonder gele hoektekst, banner met enkel 'Standaard Uitgeverij', vet gedrukt (met zelfde datum als uitgave met 'dubbeldik', zie vorige versie). Herdruk van deze versie in 04/2005. "]
[null,null,null,null,null,null,"Gekleurd","2010-10-01","herdruk","De halve havelaar","Nieuwe cover. Achtercover met vijftal en Vitamitje. Ook verkrijgbaar met fietszadelhoes."]
[null,165,"De sputterende spuiter",{"$f":"INDEX('Lange verhalen'!B:B,MATCH(B503,'Lange verhalen'!D:D,0))","v":105},55,"oude\nformaat","Rood","1977-08-01","1e druk","De sputterende spuiter","Nog niet verschenen als album met nieuwe gekeurde cover, wel digitaal."]
[null,null,null,null,null,null,"Rood","1994-09-01","herdruk","Het Aruba-dossier","Ook uitgegeven met op de cover blauwe MULTI PASS sticker"]
[null,166,"De maffe maniak",{"$f":"INDEX('Lange verhalen'!B:B,MATCH(B505,'Lange verhalen'!D:D,0))","v":102},55,"oude\nformaat","Rood","1977-11-01","1e druk","De maffe maniak","Getekend voor TV ekspress. Tussenaankondiging door Vandersteen voor Zie Magazine 7-1-1977."]
[null,null,null,null,null,null,"Rood","1984-10-03","herdruk","Amoris van Amoras","Met achterin extra blad (3/6): \"Tot ziens in het volgende verhaal!\", Wiske op stelten."]
[null,null,null,null,null,null,"Rood","2001-10-01","herdruk","Big Mother","Ook verspreid met sticker met EK feesttoeter."]
[null,null,null,null,null,null,"Gekleurd","2014-04-01","herdruk","Het schrikkelspook","Nieuwe cover. Achtercover met vijftal in Vitamitje, synopsis en plaatjes van laatste uitgaven."]
[null,167,"De zingende kaars",{"$f":"INDEX('Lange verhalen'!B:B,MATCH(B509,'Lange verhalen'!D:D,0))","v":99},55,"oude\nformaat","Rood","1978-01-01","1e druk","De zingende kaars","Geschreven voor de TROS/BRT TV poppenserie van Wies Andersen, gestart op 09/02/1976. Daarna in album uitgebracht."]
[null,null,null,null,null,null,"Gekleurd","2010-10-01","herdruk","De halve havelaar","Nieuwe cover. Achtercover met vijftal in Vitamitje, synopsis en plaatjes van laatste uitgaven. "]
[null,168,"De Efteling-elfjes",{"$f":"INDEX('Lange verhalen'!B:B,MATCH(B511,'Lange verhalen'!D:D,0))","v":106},55,"oude\nformaat","Rood","1978-04-01","1e druk","De Efteling-elfjes","Met Franse titelpagina met 'De avonture van Suske en Wiske' (een Franse titelpagina bevindt zich voor het vel van de titelpagina (schutblad) en bevat enkel de titel, verder geen info."]
[null,null,null,null,null,null,"Gekleurd","2009-05-01","herdruk","De knikkende knoken","Nieuwe cover. Achtercover met vijftal in Vitamitje, synopsis en plaatjes van laatste uitgaven."]
[null,169,"De amoureuze amazone",{"$f":"INDEX('Lange verhalen'!B:B,MATCH(B513,'Lange verhalen'!D:D,0))","v":108},55,"oude\nformaat","Rood","1978-06-01","1e druk","De amoureuze amazone","Originele titel De amoureuse amazone (met s). Nog niet verschenen als album met nieuwe gekeurde cover, wel in De Strafste Strips, Het Laatste Nieuws 70 jaar en digitaal."]
[null,null,null,null,null,null,"Rood","2006-05-01","herdruk","De bangeschieters","Ook verschenen met ingesealde S&W zonnescherm van De Texasrakkers (2009)."]
[null,170,"De olijke olifant",{"$f":"INDEX('Lange verhalen'!B:B,MATCH(B515,'Lange verhalen'!D:D,0))","v":107},55,"oude\nformaat","Rood","1978-11-01","1e druk","De olijke olifant","Getekend voor TV ekspress. Achterin extra pagina met reclame voor het boek 'Willy Vandersteen 65 - Ik vier het elke dag…', zie note."]
[null,null,null,null,null,null,"Rood","1989-01-08","herdruk","De speelgoedspiegel","Op de achtercover foutieve datum 08/01/1988 en juiste jaar 1989 voor copyright."]
[null,null,null,null,null,null,"Rood","2005-04-01","herdruk","De flierende fluiter","Ook verkrijgbaar geweest, geseald met een rugzak. Zomeractie 2005."]
[null,null,null,null,null,null,"Gekleurd","2010-10-01","herdruk","De halve havelaar","Nieuwe cover. Achtercover met vijftal in Vitamitje, synopsis en plaatjes van laatste uitgaven. "]
[null,171,"Walli de walvis",{"$f":"INDEX('Lange verhalen'!B:B,MATCH(B519,'Lange verhalen'!D:D,0))","v":109},55,"oude\nformaat","Rood","1979-01-01","1e druk","Walli de walvis","Met Franse titelpagina met 'De avonture van Suske en Wiske'. Nog niet verschenen als album met nieuwe gekeurde cover, wel in De Strafste Strips en Het Laatste Nieuws 70 jaar. In deze titel zijn uitzonderlijk de oneven bladzijden links en de even bladzijden rechts."]
[null,null,null,null,null,null,"Rood","1989-01-09","herdruk","De speelgoedspiegel","Op de achtercover foutieve datum 09/01/1988 en juiste jaar 1989 voor copyright."]
[null,172,"Het laatste dwaallicht",{"$f":"INDEX('Lange verhalen'!B:B,MATCH(B521,'Lange verhalen'!D:D,0))","v":100},55,"oude\nformaat","Rood","1979-03-01","1e druk","Wallie de walvis","Geschreven voor de TROS/BRT TV poppenserie van Wies Andersen, gestart op 14/04/1976. Daarna in album uitgebracht. Met Franse titelpagina. Achterin extra pagina met reclame voor het boek 'Willy Vandersteen 65 - Ik vier het elke dag…'. Laatste albumtitel: 171. Wallie de walvis, met extra 'e' (in plaats van Walli de walvis)."]
[null,null,null,null,null,null,"Rood","1989-01-07","herdruk","De speelgoedspiegel","Op de achtercover foutieve datum 07/01/1988 en juiste jaar 1989 voor copyright."]
[null,null,null,null,null,null,"Rood",{"$f":"+$H$514","v":"2006-05-01"},"herdruk",{"$f":"+$J$514","v":"De bangeschieters"},"Ook verschenen met ingesealde S&W zonnescherm van De Texasrakkers (2009)."]
[null,null,null,null,null,null,"Gekleurd","2010-10-01","herdruk","De halve havelaar","Nieuwe cover. Achtercover met vijftal in Vitamitje, synopsis en plaatjes van laatste uitgaven. "]
[null,173,"Het drijvende dorp",{"$f":"INDEX('Lange verhalen'!B:B,MATCH(B525,'Lange verhalen'!D:D,0))","v":110},55,"oude\nformaat","Rood","1979-05-01","1e druk","Het drijvende dorp","Met Franse titelpagina met 'De avonture van Suske en Wiske'."]
[null,null,null,null,null,null,"Gekleurd","2010-04-01","herdruk","De rillende rots","Nieuwe cover. Achtercover met vijftal in Vitamitje, synopsis en plaatjes van laatste uitgaven. "]
[null,174,"Het statige standbeeld",{"$f":"INDEX('Lange verhalen'!B:B,MATCH(B527,'Lange verhalen'!D:D,0))","v":112},55,"oude\nformaat","Rood","1979-06-01","1e druk","Het statige standbeeld","Nog niet verschenen als album met nieuwe gekeurde cover, wel als zomeractie 2013 en digitaal. \nDe laatste twee pagina's bevatten titellijsten van de series ‘Jerom’ en ‘Robert en Bertrand’."]
[null,175,"De kadulle Cupido",{"$f":"INDEX('Lange verhalen'!B:B,MATCH(B528,'Lange verhalen'!D:D,0))","v":111},55,"oude\nformaat","Rood","1979-09-01","1e druk","De kadulle Cupido","Getekend voor TV ekspress."]
[null,null,null,null,null,null,"Rood","1980-04-02","2e druk","Dag en Heidi","Met Franse titelpagina. Op achtercover aankondiging van nieuwe reeks Dag en Heidi."]
[null,null,null,null,null,null,"Gekleurd","2014-04-01","herdruk","Het schrikkelspook","Nieuwe cover. Achtercover met vijftal in Vitamitje, synopsis en plaatjes van laatste uitgaven."]
[null,176,"De pompenplanters",{"$f":"INDEX('Lange verhalen'!B:B,MATCH(B531,'Lange verhalen'!D:D,0))","v":113},55,"oude\nformaat","Rood","1979-11-01","1e druk","De pompenplanters","Met Franse titelpagina."]
[null,null,null,null,null,null,"Gekleurd","2009-10-01","herdruk","De tijdbobijn","Nieuwe cover. Achtercover met vijftal in Vitamitje, synopsis en plaatjes van laatste uitgaven."]
[null,177,"De adellijke ark",{"$f":"INDEX('Lange verhalen'!B:B,MATCH(B533,'Lange verhalen'!D:D,0))","v":114},55,"oude\nformaat","Rood","1980-02-01","1e druk","De adellijke ark","Met Franse titelpagina. "]
[null,null,null,null,null,null,"Gekleurd","2011-06-01","herdruk","De zappende ziel","Nieuwe cover. Achtercover met vijftal in Vitamitje, synopsis en plaatjes van laatste uitgaven."]
[null,178,"De stoute steenezel",{"$f":"INDEX('Lange verhalen'!B:B,MATCH(B535,'Lange verhalen'!D:D,0))","v":116},55,"oude\nformaat","Rood","1980-06-01","1e druk","De stoute steenezel","Met Franse titelpagina."]
[null,null,null,null,null,null,"Rood","2000-06-01","herdruk","Jeanne Panne","Ook verkrijgbaar geweest, geseald met een Blauwe Reeks pocketuitgave. Najaarrsactie 2003"]
[null,null,null,null,null,null,"Rood","2004-05-01","herdruk","De breinbrekers","Ook uitgegeven met ingesealde CD single van de S&W band van de theatershow De schimmige schurken."]
[null,null,null,null,null,null,"Gekleurd","2010-04-01","herdruk","De rillende rots","Nieuwe cover. Achtercover met vijftal in Vitamitje, synopsis en plaatjes van laatste uitgaven."]
[null,179,"De windbrekers",{"$f":"INDEX('Lange verhalen'!B:B,MATCH(B539,'Lange verhalen'!D:D,0))","v":104},55,"oude\nformaat","Rood","1980-09-01","1e druk","De windbrekers","Geschreven voor de TROS/BRT TV poppenserie van Wies Andersen, gestart op 06/10/1976. Daarna in album uitgebracht."]
[null,null,null,null,null,null,"Rood","1996-03-01","herdruk","Het kostbare kader","Ook verspreid met kartonnen Wiske opzetfiguur als bijlage."]
[null,null,null,null,null,null,"Gekleurd","2014-04-01","herdruk","Het schrikkelspook","Nieuwe cover. Achtercover met vijftal in Vitamitje, synopsis en plaatjes van laatste uitgaven."]
[null,180,"Het kregelige Ketje",{"$f":"INDEX('Lange verhalen'!B:B,MATCH(B542,'Lange verhalen'!D:D,0))","v":115},55,"oude\nformaat","Rood","1980-11-01","1e druk","Het kregelige Ketje","Getekend voor TV ekspress. Nog niet verschenen als album met nieuwe gekeurde cover, wel als De Strafste Strips en digitaal."]
[null,181,"De perenprins",{"$f":"INDEX('Lange verhalen'!B:B,MATCH(B543,'Lange verhalen'!D:D,0))","v":117},55,"oude\nformaat","Rood","1980-11-01","1e druk","De perenprins","Met Franse titelpagina."]
[null,null,null,null,null,null,"Rood","1996-03-01","herdruk","Het kostbare kader","Ook verspreid met kartonnen Wiske opzetfiguur als bijlage."]
[null,null,null,null,null,null,"Gekleurd","2014-04-01","herdruk","Het schrikkelspook","Nieuwe cover. Achtercover met vijftal in Vitamitje, synopsis en plaatjes van laatste uitgaven."]
[null,182,"De koperen knullen",{"$f":"INDEX('Lange verhalen'!B:B,MATCH(B546,'Lange verhalen'!D:D,0))","v":118},55,"oude\nformaat","Rood","1981-03-01","1e druk","De koperen knullen","Ook verspreid met als bijlage een wedstrijdformulier 'Vlieg er eens uit'. Eerste druk nrs 182 t/m 190 met achterin compleet overzicht van alle album uitgaven."]
[null,null,null,null,null,null,"Rood","1984-02-04","4e druk","Het Delta duel","Met achterin extra blad (6/6): \"Tot ziens in het volgende verhaal!\", Suske en Wiske (met Schanulluke)."]
[null,null,null,null,null,null,"Rood","1994-09-01","herdruk","Het Aruba dossier","Ook verspreid met kartonnen Krimson opzetfiguur als bijlage."]
[null,null,null,null,null,null,"Gekleurd","2010-04-01","herdruk","De rillende rots","Nieuwe cover. Achtercover met vijftal in Vitamitje, synopsis en plaatjes van laatste uitgaven."]
[null,183,"De toffe tamboer",{"$f":"INDEX('Lange verhalen'!B:B,MATCH(B550,'Lange verhalen'!D:D,0))","v":120},55,"oude\nformaat","Rood","1981-06-01","1e druk","De toffe tamboer","Met Franse titelpagina. Eerste druk met achterin compleet overzicht van alle album uitgaven."]
[null,null,null,null,null,null,"Rood","1981-11-02","2e druk","De toffe tamboer","Verkeerd depotnummer op achtercover: D/1971/0034/139 ipv met 1981."]
[null,null,null,null,null,null,"Rood","1995-06-01","herdruk","De begeerde berg","Geseald met wedstrijdfolder voor grote zomerwedstrijd 50 jaar Suske en Wiske.\nOok verspreid met kartonnen Wiske opzetfiguur als bijlage."]
[null,null,null,null,null,null,"Rood","2003-08-01","herdruk","De kus van Odfella","Ook uitgegeven met ingesealde rode Suske en Wiske sjaal, of met CD single S&W band."]
[null,null,null,null,null,null,"Gekleurd","2011-06-01","herdruk","De zappende ziel","Nieuwe cover. Achtercover met vijftal in Vitamitje, synopsis en plaatjes van laatste uitgaven."]
[null,184,"De Regenboogprinses",{"$f":"INDEX('Lange verhalen'!B:B,MATCH(B555,'Lange verhalen'!D:D,0))","v":103},55,"oude\nformaat","Rood","1981-09-01","1e druk","De Regenboogprinses","Geschreven voor de TROS/BRT TV poppenserie van Wies Andersen, gestart op 10/07/1976. Daarna in album uitgebracht. Met Franse titelpagina. Eerste druk met achterin compleet overzicht van alle album uitgaven. Met 'aankondiging' plaatje terwijl verhaal niet in de krant verscheen."]
[null,null,null,null,null,null,"Gekleurd","2014-04-01","herdruk","Het schrikkelspook","Nieuwe cover. Achtercover met vijftal in Vitamitje, synopsis en plaatjes van laatste uitgaven."]
[null,185,"De botte botaknol",{"$f":"INDEX('Lange verhalen'!B:B,MATCH(B557,'Lange verhalen'!D:D,0))","v":119},55,"oude\nformaat","Rood","1981-11-01","1e druk","De botte botaknol","Getekend voor TV ekspress. Eerste druk met achterin compleet overzicht van alle album uitgaven."]
[null,null,null,null,null,null,"Rood","1981-11-16","1e druk","De botte botaknol","Afwijkende 1e druk, met 16/11/81 ipv 1/11/81. Hierbij is in het datumblokje de 1 zwart gemaakt, zodat datum 6/11/1981 wordt."]
[null,null,null,null,null,null,"Rood","1981-11-16","1e druk","De botte botaknol","Afwijkende 1e druk, met 16/11/81 ipv 1/11/81. Hierbij is in het datumblokje de 6 zwart gemaakt, zodat datum 1/11/1981 wordt."]
[null,null,null,null,null,null,"Gekleurd","2011-06-01","herdruk","De zappende ziel","Nieuwe cover. Achtercover met vijftal in Vitamitje, synopsis en plaatjes van laatste uitgaven."]
[null,186,"De rosse reus",{"$f":"INDEX('Lange verhalen'!B:B,MATCH(B561,'Lange verhalen'!D:D,0))","v":121},55,"oude\nformaat","Rood","1982-01-01","1e druk","De rosse reus","Met Franse titelpagina. Eerste druk met achterin compleet overzicht van alle album uitgaven."]
[null,null,null,null,null,null,"Gekleurd","2010-04-01","herdruk","De rillende rots","Nieuwe cover. Achtercover met vijftal in Vitamitje, synopsis en plaatjes van laatste uitgaven."]
[null,187,"De droevige duif",{"$f":"INDEX('Lange verhalen'!B:B,MATCH(B563,'Lange verhalen'!D:D,0))","v":122},55,"oude\nformaat","Rood","1982-05-01","1e druk","De droevige duif","Eerste druk met achterin compleet overzicht van alle album uitgaven."]
[null,null,null,null,null,null,"Rood","1994-09-01","herdruk","Het Aruba-dossier","Ook uitgegeven met op de cover blauwe MULTI PASS sticker"]
[null,null,null,null,null,null,"Gekleurd","2011-06-01","herdruk","De zappende ziel","Nieuwe cover. Achtercover met vijftal in Vitamitje, synopsis en plaatjes van laatste uitgaven."]
[null,188,"De snoezige Snowijt\nHet vliegende hart","KVH 3\nKVH 1","25\n25","oude\nformaat","Rood","1982-01-01","1e druk","Het vliegende hart\nDe snoezige Snowijt","Eerste uitgave van 2 korte verhalen in rode reeks album. Uit winterboek 1973 en vakantieboek 1973 (origineel uit De Bond). Eerste druk met achterin compleet overzicht van alle album uitgaven."]
[null,null,null,null,null,null,"Rood","1989-04-06","herdruk","De krachtige krans","Misdruk: Titel van Het vliegende hart ontbreekt op de cover."]
[null,null,null,null,null,null,"Gekleurd","2011-06-01","herdruk","De zappende ziel","Nieuwe cover. Achtercover met vijftal in Vitamitje, synopsis en plaatjes van laatste uitgaven."]
[null,189,"De Belhamel-bende",{"$f":"INDEX('Lange verhalen'!B:B,MATCH(B569,'Lange verhalen'!D:D,0))","v":124},55,"oude\nformaat","Rood","1982-09-01","1e druk","De Belhamel-bende","Met Franse titelpagina. Originele titel De Belhamelbende (zonder streepje).  Eerste druk met achterin compleet overzicht van alle album uitgaven. Geen aankondiging in De Standaard maar de nieuwjaarsgroet \"Gelukkig Nieuwjaar\" (zie korte verhalen lijst). Voor voorin het album is er wel een nieuwe aankondiging gemaakt."]
[null,null,null,null,null,null,"Gekleurd","2010-10-01","herdruk","De halve havelaar","Nieuwe cover. Achtercover met vijftal in Vitamitje, synopsis en plaatjes van laatste uitgaven. "]
[null,190,"De woelige wadden",{"$f":"INDEX('Lange verhalen'!B:B,MATCH(B571,'Lange verhalen'!D:D,0))","v":123},55,"oude\nformaat","Rood","1982-11-01","1e druk","De woelige wadden","Met Franse titelpagina. Getekend voor TV ekspress. Eerste druk met achterin compleet overzicht van alle album uitgaven (laatste album). Nog geen hertekende cover beschikbaar, wel verschenen als de Nederlandse avonturen (De Telegraaf) en als zomeractie 2013 (De Poort)."]
[null,191,"De vergeten vallei\nToffe Tiko","KVH 5\nKVH 6","25\n25","oude\nformaat","Rood","1982-12-01","1e druk","De vergeten vallei\nToffe Tiko","Met Franse titelpagina. Uitgave van 2 korte verhalen in rode reeks album. Uit vakantieboek 1974 en winterboek 1974. Nog geen hertekende cover beschikbaar. "]
[null,192,"Het Bretoense broertje",{"$f":"INDEX('Lange verhalen'!B:B,MATCH(B573,'Lange verhalen'!D:D,0))","v":125},55,"oude\nformaat","Rood","1983-02-01","1e druk","Het Bretoense broertje","-"]
[null,null,null,null,null,null,"Rood","2006-05-01","herdruk","De bangeschieters","Ook verschenen met ingesealde S&W zonnescherm van De Texasrakkers (2009)."]
[null,null,null,null,null,null,"Gekleurd","2011-06-01","herdruk","De zappende ziel","Nieuwe cover. Achtercover met vijftal in Vitamitje, synopsis en plaatjes van laatste uitgaven."]
[null,193,"Hippus het zeeveulen\nHet verborgen volk","KVH 7\nKVH 9","25\n25","oude\nformaat","Rood","1983-03-01","1e druk","Hippus het zeeveulen\nHet verborgen volk","Uitgave van 2 korte verhalen in rode reeks album. Uit vakantieboek nr 3 en vakantieboek nr 4. Nog geen hertekende cover beschikbaar. "]
[null,194,"De gouden ganzeveer",{"$f":"INDEX('Lange verhalen'!B:B,MATCH(B577,'Lange verhalen'!D:D,0))","v":127},55,"oude\nformaat","Rood","1983-06-01","1e druk","De gouden ganzeveer","-"]
[null,null,"De gouden ganzenveer",null,null,null,"Gekleurd","2011-06-01","herdruk","De zappende ziel","Nieuwe cover. Titel in moderne spelling. Achtercover met vijftal, synopsis en plaatjes laatste uitgaven."]
[null,195,"De hippe heksen",{"$f":"INDEX('Lange verhalen'!B:B,MATCH(B579,'Lange verhalen'!D:D,0))","v":128},55,"oude\nformaat","Rood","1983-09-01","1e druk","De hippe heksen","-"]
[null,null,null,null,null,null,"Gekleurd","2011-06-01","herdruk","De zappende ziel","Nieuwe cover. Achtercover met vijftal in Vitamitje, synopsis en plaatjes van laatste uitgaven."]
[null,196,"De natte Navajo",{"$f":"INDEX('Lange verhalen'!B:B,MATCH(B581,'Lange verhalen'!D:D,0))","v":126},55,"oude\nformaat","Rood","1983-11-01","1e druk","De natte Navajo","Getekend voor TV ekspress."]
[null,null,null,null,null,null,"Gekleurd","2014-04-01","herdruk","Het schrikkelspook","Nieuwe cover. Achtercover met vijftal in Vitamitje, synopsis en plaatjes van laatste uitgaven."]
[null,197,"Het Delta duel",{"$f":"INDEX('Lange verhalen'!B:B,MATCH(B583,'Lange verhalen'!D:D,0))","v":129},55,"oude\nformaat","Rood","1984-02-01","1e druk","Het Delta duel","Originele titel Het Delta-duel (met streepje). "]
[null,null,null,null,null,null,"Rood","1993-04-01","herdruk","De krakende Carcas","Ook als misdruk, waarbij  voor en achter cover dubbelgeprint zijn."]
[null,null,null,null,null,null,"Gekleurd","2009-10-01","herdruk","De tijdbobijn","Nieuwe cover. Achtercover met vijftal in Vitamitje, synopsis en plaatjes van laatste uitgaven."]
[null,198,"De lieve Lilleham",{"$f":"INDEX('Lange verhalen'!B:B,MATCH(B586,'Lange verhalen'!D:D,0))","v":131},55,"oude\nformaat","Rood","1984-06-01","1e druk","De lieve Lilleham","Geseald met folder \" we maken samen de tofste poster\" en de 1e van de 11 posters die samen met andere posters een treintje vormen: De gouden locomotief."]
[null,null,null,null,null,null,"Gekleurd","2014-04-01","herdruk","Het schrikkelspook","Nieuwe cover. Achtercover met vijftal in Vitamitje, synopsis en plaatjes van laatste uitgaven."]
[null,199,"De tamme Tumi",{"$f":"INDEX('Lange verhalen'!B:B,MATCH(B588,'Lange verhalen'!D:D,0))","v":130},55,"oude\nformaat","Rood","1984-09-01","1e druk","De tamme Tumi","Getekend voor TV ekspress."]
[null,null,null,null,null,null,"Gekleurd","2010-04-01","herdruk","De rillende rots","Nieuwe cover. Achtercover met vijftal in Vitamitje, synopsis en plaatjes van laatste uitgaven."]
[null,200,"Amoris van Amoras",{"$f":"INDEX('Lange verhalen'!B:B,MATCH(B590,'Lange verhalen'!D:D,0))","v":132},55,"oude\nformaat","Rood","1984-11-01","1e druk","Amoris van Amoras","Met stempelvormig wit eerste druk vignet: jubileum nr 200 linksboven op frontcover. In Nederland kreeg je een speciale standaard plastic striptas in de eerste week van de nieuwe verkoop.\nVan album 200 tot 212 zijn er 2 verschillende eerste drukken. De nummering linksboven op frontcover in een rond wit eerste druk vignet, of in een normaal cirkeltje.\n"]
[null,null,null,null,null,null,"Rood","1984-11-01","1e druk","Amoris van Amoras","Eerste druk zonder vignet met nummer in normaal cirkeltje.\n"]
[null,null,null,null,null,null,"Rood","1995-06-01","herdruk","De begeerde berg","Ook verspreid met kartonnen Wiske opzetfiguur als bijlage."]
[null,null,null,null,null,null,"Gekleurd","2010-04-01","herdruk","De rillende rots","Nieuwe cover. Achtercover met vijftal in Vitamitje, synopsis en plaatjes van laatste uitgaven."]
[null,201,"Het dreigende dinges",{"$f":"INDEX('Lange verhalen'!B:B,MATCH(B594,'Lange verhalen'!D:D,0))","v":133},55,"oude\nformaat","Rood","1985-02-01","1e druk","Het dreigende dinges","Met eerste druk vignet."]
[null,null,null,null,null,null,"Rood","1985-02-01","1e druk","Het dreigende dinges","Eerste druk zonder vignet met nummer in normaal cirkeltje.\n"]
[null,null,null,null,null,null,"Rood","1995-06-01","herdruk","De begeerde berg","Ook verspreid met kartonnen Wiske opzetfiguur als bijlage."]
[null,null,null,null,null,null,"Gekleurd","2014-04-01","herdruk","Het schrikkelspook","Nieuwe cover. Achtercover met vijftal in Vitamitje, synopsis en plaatjes van laatste uitgaven."]
[null,202,"Angst op de Amsterdam",{"$f":"INDEX('Lange verhalen'!B:B,MATCH(B598,'Lange verhalen'!D:D,0))","v":135},55,"oude\nformaat","Rood","1985-06-01","1e druk","Angst op de Amsterdam","Met eerste druk vignet. Originele titel Angst op de \"Amsterdam\" (met aanhalingstekens). Eerste druk met bestel folder voor poster. Depotnummer: D/1985/0034/234.\nISBN: 90-02-15235-3 Nederlandse editie links onder op backcover.\n."]
[null,null,null,null,null,null,"Rood","1985-06-01","1e druk","Angst op de Amsterdam","Met eerste druk vignet. Met bestel folder voor poster. Depotnummer: D/1985/0034/228. \nISBN: 90-02-15219-1 Belgische editie links op backcover.\n."]
[null,null,null,null,null,null,"Rood","1985-06-01","1e druk","Angst op de Amsterdam","Eerste druk zonder vignet met nummer in normaal cirkeltje. Depotnummer: D/1985/0034/229. \nISBN: 90-02-15235-2 Belgische editie links op backcover.\n"]
[null,null,null,null,null,null,"Gekleurd","2009-10-01","herdruk","De tijdbobijn","Nieuwe cover. Achtercover met vijftal in Vitamitje, synopsis en plaatjes van laatste uitgaven."]
[null,203,"De ruige regen",{"$f":"INDEX('Lange verhalen'!B:B,MATCH(B602,'Lange verhalen'!D:D,0))","v":137},55,"oude\nformaat","Rood","1985-09-01","1e druk","Hoera! De Geuzen komen.","Met eerste druk vignet."]
[null,null,null,null,null,null,"Rood","1985-09-01","1e druk","De ruige regen","Eerste druk zonder vignet met nummer in normaal cirkeltje. Met prijsopdruk.\n"]
[null,null,null,null,null,null,"Rood","1985-09-01","1e druk","De ruige regen","Eerste druk zonder vignet met nummer in normaal cirkeltje. Zonder prijsopdruk.\n"]
[null,null,null,null,null,null,"Rood","1995-06-01","herdruk","De begeerde berg","Geseald met wedstrijdfolder voor grote zomerwedstrijd 50 jaar Suske en Wiske.\nOok verspreid met kartonnen Wiske opzetfiguur als bijlage."]
[null,null,null,null,null,null,"Rood","2006-05-01","herdruk","De bangeschieters","Ook verschenen met ingesealde S&W frisbee."]
[null,null,null,null,null,null,"Gekleurd","2011-06-01","herdruk","De zappende ziel","Nieuwe cover. Achtercover met vijftal in Vitamitje, synopsis en plaatjes van laatste uitgaven."]
[null,204,"De mooie millirem",{"$f":"INDEX('Lange verhalen'!B:B,MATCH(B608,'Lange verhalen'!D:D,0))","v":136},55,"oude\nformaat","Rood","1985-11-01","1e druk","De mooie millirem","Met eerste druk vignet. Met prijsopdruk."]
[null,null,null,null,null,null,"Rood","1985-11-01","1e druk","De mooie millirem","Eerste druk zonder vignet met nummer in normaal cirkeltje. Zonder prijsopdruk.\n"]
[null,null,null,null,null,null,"Gekleurd","2011-06-01","herdruk","De zappende ziel","Nieuwe cover. Achtercover met vijftal in Vitamitje, synopsis en plaatjes van laatste uitgaven."]
[null,205,"De kattige kat",{"$f":"INDEX('Lange verhalen'!B:B,MATCH(B611,'Lange verhalen'!D:D,0))","v":134},55,"oude\nformaat","Rood","1986-02-01","1e druk","Caramba! De Geuzen…","Getekend voor TV ekspress. Met eerste druk vignet. Met op achtercover aankondiging van het tweede album van De Geuzen \"verschijnt tweede helft van april 1986\"."]
[null,null,null,null,null,null,"Rood","1986-02-01","1e druk","De kattige kat","Eerste druk zonder vignet met nummer in normaal cirkeltje. Zonder prijsopdruk.\n"]
[null,null,null,null,null,null,"Rood","1995-06-01","herdruk","De begeerde berg","Ook verspreid met kartonnen Wiske opzetfiguur als bijlage."]
[null,null,null,null,null,null,"Rood","2003-08-01","herdruk","De kus van Odfella","Ook uitgegeven met ingesealde CD single van de S&W band van de theatershow De schimmige schurken."]
[null,null,null,null,null,null,"Gekleurd","2011-06-01","herdruk","De zappende ziel","Nieuwe cover. Achtercover met vijftal in Vitamitje, synopsis en plaatjes van laatste uitgaven."]
[null,206,"De bonkige baarden",{"$f":"INDEX('Lange verhalen'!B:B,MATCH(B616,'Lange verhalen'!D:D,0))","v":138},55,"oude\nformaat","Rood","1986-06-01","1e druk","De bonkige baarden","Met eerste druk vignet. Voor het eerste streepjescode op achter cover van 1e druk."]
[null,null,null,null,null,null,"Rood","1986-06-01","1e druk","De bonkige baarden","Eerste druk zonder vignet met nummer in normaal cirkeltje. Zonder prijsopdruk.\n"]
[null,null,null,null,null,null,"Rood","1994-09-01","herdruk","Het Aruba-dossier","Ook uitgegeven met op de cover blauwe MULTI PASS sticker. \nOok verspreid met kartonnen Wiske opzetfiguur als bijlage."]
[null,null,null,null,null,null,"Gekleurd","2011-06-01","herdruk","De zappende ziel","Nieuwe cover. Achtercover met vijftal in Vitamitje, synopsis en plaatjes van laatste uitgaven."]
[null,207,"De glanzende gletsjer",{"$f":"INDEX('Lange verhalen'!B:B,MATCH(B620,'Lange verhalen'!D:D,0))","v":140},55,"oude\nformaat","Rood","1986-09-01","1e druk","De glanzende gletsjer","Met eerste druk vignet."]
[null,null,null,null,null,null,"Rood","1986-09-01","1e druk","De glanzende gletsjer","Eerste druk zonder vignet met nummer in normaal cirkeltje. "]
[null,null,null,null,null,null,"Gekleurd","2011-06-01","herdruk","De zappende ziel","Nieuwe cover met Standaard Uitgeverij in zwarte ipv witte letters. Achtercover met synopsis en plaatjes."]
[null,208,"De Hellegathonden",{"$f":"INDEX('Lange verhalen'!B:B,MATCH(B623,'Lange verhalen'!D:D,0))","v":141},55,"oude\nformaat","Rood","1986-11-01","1e druk","De Hellegathonden","Met eerste druk vignet."]
[null,null,null,null,null,null,"Rood","1986-11-01","1e druk","De Hellegathonden","Eerste druk zonder vignet met nummer in normaal cirkeltje. "]
[null,null,null,null,null,null,"Rood","1994-09-01","herdruk","Het Aruba-dossier","Ook verspreid met kartonnen Wiske opzetfiguur als bijlage."]
[null,null,null,null,null,null,"Gekleurd","2010-04-01","herdruk","De rillende rots","Nieuwe cover. Achtercover met vijftal in Vitamitje, synopsis en plaatjes van laatste uitgaven."]
[null,209,"De kwaaie kwieten",{"$f":"INDEX('Lange verhalen'!B:B,MATCH(B627,'Lange verhalen'!D:D,0))","v":139},55,"oude\nformaat","Rood","1987-04-01","1e druk","De kwaaie kwieten","Getekend voor TV ekspress. Met eerste druk vignet."]
[null,null,null,null,null,null,"Rood","1987-04-01","1e druk","De kwaaie kwieten","Eerste druk zonder vignet met nummer in normaal cirkeltje. "]
[null,null,null,null,null,null,"Rood","1995-06-01","herdruk","De begeerde berg","Ook verspreid met kartonnen Wiske opzetfiguur als bijlage."]
[null,null,null,null,null,null,"Gekleurd","2011-06-01","herdruk","De zappende ziel","Nieuwe cover met Standaard Uitgeverij in zwarte ipv witte letters. Achtercover met synopsis en plaatjes."]
[null,210,"De jolige joffer",{"$f":"INDEX('Lange verhalen'!B:B,MATCH(B631,'Lange verhalen'!D:D,0))","v":142},55,"oude\nformaat","Rood","1987-06-01","1e druk","De jolige joffer","1e druk met bijlage wedstrijd oproep met GAG \"Verzin de origineelste S&W titel\" en met eerste druk vignet."]
[null,null,null,null,null,null,"Rood","1987-06-01","1e druk","De jolige joffer","Eerste druk zonder vignet met nummer in normaal cirkeltje. "]
[null,null,null,null,null,null,"Rood","1996-02-01","herdruk","Het kostbare kader","Ook verspreid met kartonnen Wiske opzetfiguur als bijlage."]
[null,null,null,null,null,null,"Rood","2004-05-01","herdruk","De breinbrekers","Ook uitgegeven met ingesealde CD single van de S&W band van de theatershow De schimmige schurken."]
[null,null,null,null,null,null,"Gekleurd","2009-10-01","herdruk","De tijdbobijn","Nieuwe cover. Achtercover met vijftal in Vitamitje, synopsis en plaatjes van laatste uitgaven."]
[null,211,"De woeste wespen",{"$f":"INDEX('Lange verhalen'!B:B,MATCH(B636,'Lange verhalen'!D:D,0))","v":145},53,"oude\nformaat","Rood","1987-09-01","1e druk","De woeste wespen","Met eerste druk vignet."]
[null,null,null,null,null,null,"Rood","1987-09-01","1e druk","De woeste wespen","Eerste druk zonder vignet met nummer in normaal cirkeltje. "]
[null,null,null,null,null,null,"Rood","2003-08-01","herdruk","De kus van Odfella","Ook verkrijgbaar met ingesealde Suske en Wiske sjaal (rood/blauw/geel)."]
[null,null,null,null,null,null,"Gekleurd","2009-10-01","herdruk","De tijdbobijn","Nieuwe cover. Achtercover met vijftal in Vitamitje, synopsis en plaatjes van laatste uitgaven."]
[null,212,"De edele elfen",{"$f":"INDEX('Lange verhalen'!B:B,MATCH(B640,'Lange verhalen'!D:D,0))","v":146},53,"oude\nformaat","Rood","1987-11-01","1e druk","De edele elfen","1e druk met bijlage S&W luiserstrip reclame en met eerste druk vignet."]
[null,null,null,null,null,null,"Rood","1987-11-01","1e druk","De edele elfen","Eerste druk zonder vignet met nummer in normaal cirkeltje. "]
[null,null,null,null,null,null,"Rood","1994-09-01","herdruk","Het Aruba-dossier","Ook uitgegeven met op de cover blauwe MULTI PASS sticker of SonyTape sticker. \nOok uitgave met zelfde (foutieve) datum maar als laatste titel De begeerde berg (05/1995)."]
[null,null,null,null,null,null,"Gekleurd","2011-06-01","herdruk","De zappende ziel","Nieuwe cover. Achtercover met vijftal in Vitamitje, synopsis en plaatjes van laatste uitgaven."]
[null,213,"De eenzame eenhoorn",{"$f":"INDEX('Lange verhalen'!B:B,MATCH(B644,'Lange verhalen'!D:D,0))","v":143},53,"oude\nformaat","Rood","1988-02-01","1e druk","De eenzame eenhoorn","Getekend voor TV ekspress. Eerste druk met vignet rechts 'Vandersteen 75'. Getekend door Vandersteen. Album 213 en 215-217 hebben in eerste druk een zwart stempelvormig vignet met 'Willy Vandersteen 75 1913-1988'. Eerste album in 1e druk met 3 ipv 2 rijen titels op achtercover."]
[null,null,null,null,null,null,"Rood","2003-08-01","herdruk","De kus van Odfella","Ook verkrijgbaar met ingesealde Suske en Wiske sjaal (rood/blauw/geel)."]
[null,null,null,null,null,null,"Rood",{"$f":"+$H$354","v":"2007-06-01"},{"$f":"+$I$354","v":"herdruk"},{"$f":"+$J$354","v":"De curieuze neuzen"},"Ook verschenen met ingesealde S&W frisbee."]
[null,null,null,null,null,null,"Gekleurd","2014-04-01","herdruk","Het schrikkelspook","Nieuwe cover. Achtercover met vijftal in Vitamitje, synopsis en plaatjes van laatste uitgaven."]
[null,214,"De parel in de Lotusbloem",{"$f":"INDEX('Lange verhalen'!B:B,MATCH(B648,'Lange verhalen'!D:D,0))","v":144},55,"iets kleiner formaat","Rood","1988-04-01","1e druk","Willy Vandersteen en Paul Geerts met sjaal","In het geheim door Paul Geerts getekend als hommage aan Vandersteen en gepresenteerd in het TV programma 'In de Hoofdrol'. De eigenlijke 1e druk, met gouden kaft, was januari 1987, direct na de uitzending. De eerste druk in de reguliere rode reeks was in april 1988. \nAlbum is iets kleiner van formaat doordat voor de druk een deel van de teveel geproduceerde eerste druk in gouden cover gebruikt is. Omdat na het vervangen van de kaft er iets bijgesneden moest worden is het album met name iets minder hoog. \nDe sjaal van Paul Geerts op achter cover loopt door tot op de rug van het album."]
[null,null,null,null,null,null,"Gekleurd","2010-04-01","herdruk","De rillende rots","Nieuwe cover. Achtercover met vijftal in Vitamitje, synopsis en plaatjes van laatste uitgaven."]
[null,null,null,null,null,null,"Gekleurd, rode rand","2022-05-01","herdruk","De maffe markies","Nieuwe cover met links rode rand. Achtercover rood met 5 rijen titels in witte letters."]
[null,215,"De Krimson-crisis",{"$f":"INDEX('Lange verhalen'!B:B,MATCH(B651,'Lange verhalen'!D:D,0))","v":147},55,"oude\nformaat","Rood","1988-09-01","1e druk","De Krimson-crisis","Eerste druk met vignet rechts 'Vandersteen 75'. Omdat het verhaal te pro-Vlaams was is Franse versie uitgegeven als bundeling van De dappere duinduikers en Het monster van Loch Ness."]
[null,null,null,null,null,null,"Gekleurd","2010-04-01","herdruk","De rillende rots","Nieuwe cover. Achtercover met vijftal in Vitamitje, synopsis en plaatjes van laatste uitgaven."]
[null,216,"De wervelende waterzak",{"$f":"INDEX('Lange verhalen'!B:B,MATCH(B653,'Lange verhalen'!D:D,0))","v":150},55,"oude\nformaat","Rood","1988-10-01","1e druk","De wervelende waterzak","Eerste druk met vignet rechts 'Vandersteen 75'. Laatste verhaal door Vandersteen zelf."]
[null,null,null,null,null,null,"Rood","2003-08-01","herdruk","De kus van Odfella","Ook verkrijgbaar met ingesealde Suske en Wiske sjaal (rood/blauw/geel)."]
[null,null,null,null,null,null,"Gekleurd","2011-06-01","herdruk","De zappende ziel","Nieuwe cover. Achtercover met vijftal in Vitamitje, synopsis en plaatjes van laatste uitgaven."]
[null,217,"De komieke Coco",{"$f":"INDEX('Lange verhalen'!B:B,MATCH(B656,'Lange verhalen'!D:D,0))","v":149},55,"oude\nformaat","Rood","1988-11-01","1e druk","De komieke Coco","Eerste druk met vignet rechts 'Vandersteen 75'."]
[null,null,null,null,null,null,"Rood","2003-08-01","herdruk","De kus van Odfella","Ook verkrijgbaar met ingesealde Suske en Wiske sjaal (rood/blauw/geel)."]
[null,null,null,null,null,null,"Gekleurd","2008-05-01","herdruk","Het babbelende bad","Nieuwe cover. Achtercover met vijftal in Vitamitje, synopsis en plaatjes van laatste uitgaven."]
[null,218,"De krachtige krans",{"$f":"INDEX('Lange verhalen'!B:B,MATCH(B659,'Lange verhalen'!D:D,0))","v":148},55,"oude\nformaat","Rood","1989-02-01","1e druk","De krachtige krans","Getekend voor TV ekspress. Vanaf album 218 voor het eerst vermeld: scenario en tekeningen Paul Geerts"]
[null,null,null,null,null,null,"Rood","1994-09-01","herdruk","Het Aruba-dossier","Ook verspreid met kartonnen Wiske opzetfiguur als bijlage."]
[null,null,null,null,null,null,"Rood","2003-05-01","herdruk","De laatste vloek","Ook verkrijgbaar geweest, geseald met een Blauwe Reeks pocketuitgave. Zomeractie 2003"]
[null,null,null,null,null,null,"Gekleurd","2011-06-01","herdruk","De zappende ziel","Nieuwe cover. Achtercover met vijftal in Vitamitje, synopsis en plaatjes van laatste uitgaven. "]
[null,219,"De speelgoedspiegel",{"$f":"INDEX('Lange verhalen'!B:B,MATCH(B663,'Lange verhalen'!D:D,0))","v":151},55,"oude\nformaat","Rood","1989-04-01","1e druk","De speelgoedspiegel","Uitwerken tekeningen vanaf strook 179/180 Marc Verhaegen."]
[null,null,null,null,null,null,"Gekleurd","2011-06-01","herdruk","De zappende ziel","Nieuwe cover. Achtercover met vijftal in Vitamitje, synopsis en plaatjes van laatste uitgaven."]
[null,220,"Sagarmatha",{"$f":"INDEX('Lange verhalen'!B:B,MATCH(B665,'Lange verhalen'!D:D,0))","v":153},55,"oude\nformaat","Rood","1989-06-01","1e druk","Sagarmatha","Scenario Paul Geerts. Tekeningen strook 1 - 156: Marc Verhaegen, vanaf strook 157: Paul Geerts.",null,null,null,null,"De Standaard"]
[null,null,null,null,null,null,"Gekleurd","2009-05-01","herdruk","De knikkende knoken","Nieuwe cover. Achtercover met vijftal in Vitamitje, synopsis en plaatjes van laatste uitgaven."]
[null,221,"De rinoramp",{"$f":"INDEX('Lange verhalen'!B:B,MATCH(B667,'Lange verhalen'!D:D,0))","v":155},55,"oude\nformaat","Rood","1989-09-01","1e druk","De rinoramp","1e druk met WWF groen/geel rond vignet \"Steun het Wereld Natuur Fonds - WWF - Red de neushoorn\". Geschreven in opdracht van het Wereld Natuur Fonds. Vlaamse versie met adres WWF Belgium op binnenzijde achtercover."]
[null,null,null,null,null,null,"Rood","1989-09-01","1e druk","De rinoramp","Nederlandse versie met op de binnenzijde achtercover tekst m.b.t. Nederlandse Wereld Natuur Fonds - Zeist."]
[null,null,null,null,null,null,"Rood","1994-02-01","herdruk","De stervende ster","Zonder vignet."]
[null,null,null,null,null,null,"Gekleurd","2011-06-01","herdruk","De zappende ziel","Nieuwe cover. Achtercover met vijftal in Vitamitje, synopsis en plaatjes van laatste uitgaven."]
[null,222,"De bezeten bezitter",{"$f":"INDEX('Lange verhalen'!B:B,MATCH(B671,'Lange verhalen'!D:D,0))","v":154},55,"oude\nformaat","Rood","1989-11-01","1e druk","De bezeten bezitter","-"]
[null,null,null,null,null,null,"Rood","1994-09-01","herdruk","Het Aruba-dossier","Ook uitgegeven met op de cover blauwe MULTI PASS sticker"]
[null,null,null,null,null,null,"Gekleurd","2011-06-01","herdruk","De zappende ziel","Nieuwe cover. Achtercover met vijftal in Vitamitje, synopsis en plaatjes van laatste uitgaven."]
[null,223,"De kleurenkladder",{"$f":"INDEX('Lange verhalen'!B:B,MATCH(B674,'Lange verhalen'!D:D,0))","v":152},55,"oude\nformaat","Rood","1990-02-01","1e druk","De kleurenkladder","Getekend voor TV ekspress. Uitwerken tekeningen: Marc Verhaegen (vanaf strook 20)."]
[null,null,null,null,null,null,"Rood","2005-04-01","herdruk","De flierende fluiter","Ook verkrijgbaar geweest, geseald met een rugzak. Zomeractie 2005."]
[null,null,null,null,null,null,"Rood","2005/2007","herdruk","Onbekend","Ook verkrijgbaar geweest, geseald met Suske of Wiske sleutelhanger. Zomeractie 2007"]
[null,null,null,null,null,null,"Gekleurd","2009-10-01","herdruk","De tijdbobijn","Nieuwe cover. Achtercover met vijftal in Vitamitje, synopsis en plaatjes van laatste uitgaven."]
[null,224,"De kleine postruiter",{"$f":"INDEX('Lange verhalen'!B:B,MATCH(B678,'Lange verhalen'!D:D,0))","v":156},55,"oude\nformaat","Rood","1990-05-01","1e druk","De kleine postruiter","Scenario Paul Geerts. Tekeningen strook 1 - 187: Marc Verhaegen, vanaf strook 188: Paul Geerts. 1e druk met bijlage Kiekeboe folder voor aanbieding album 'De taart' (alleen bij de Nederlandse oplage).",null,null,null,null,"De Standaard"]
[null,null,null,null,null,null,"Gekleurd","2011-06-01","herdruk","De zappende ziel","Nieuwe cover. Achtercover met vijftal in Vitamitje, synopsis en plaatjes van laatste uitgaven."]
[null,225,"De goalgetter",{"$f":"INDEX('Lange verhalen'!B:B,MATCH(B680,'Lange verhalen'!D:D,0))","v":158},47,"oude\nformaat","Rood","1990-09-01","1e druk","De goalgetter","Eerste verhaal wat slechts 188 stoken heeft. Met kleurwedstrijd poster van V &D \"De waanzinnige wedstrijd bij V&D\", september 1990. "]
[null,null,null,null,null,null,"Rood","1998-05-01","herdruk","De vogels der goden","Met gele info sticker op frontcover en binnenin extra voetbal stickers in de aanloop van WK '98."]
[null,null,null,null,null,null,"Gekleurd","2010-04-01","herdruk","De rillende rots","Nieuwe cover. Achtercover met vijftal in Vitamitje, synopsis en plaatjes van laatste uitgaven."]
[null,null,null,null,null,null,"Gekleurd, rode rand","2021-05-01","herdruk","De zalige ziener","Nieuwe cover met links rode rand. Achtercover rood met 5 rijen titels in witte letters."]
[null,226,"De mysterieuze mijn",{"$f":"INDEX('Lange verhalen'!B:B,MATCH(B684,'Lange verhalen'!D:D,0))","v":159},47,"oude\nformaat","Rood","1990-12-01","1e druk","De mysterieuze mijn","-"]
[null,null,null,null,null,null,"Rood","1994-09-01","herdruk","Het Aruba-dossier","Ook uitgegeven met op de cover blauwe MULTI PASS sticker"]
[null,null,null,null,null,null,"Gekleurd","2008-10-01","herdruk","De dartele draak","Nieuwe cover. Achtercover met vijftal in Vitamitje, synopsis en plaatjes van laatste uitgaven."]
[null,null,null,null,null,null,"Gekleurd, rode rand","2021-05-01","herdruk","De zalige ziener","Nieuwe cover met links rode rand. Achtercover rood met 5 rijen titels in witte letters."]
[null,227,"Het Witte Wief",{"$f":"INDEX('Lange verhalen'!B:B,MATCH(B688,'Lange verhalen'!D:D,0))","v":157},55,"oude\nformaat","Rood","1991-02-01","1e druk","Het Witte Wief","Getekend voor TV ekspress. Laatste verhaal met nog 220 stroken, verscheen eerder in de krant dan de goalgetter. Ook verspreid met als bijlage 2 pagina's tekst door Ede onderzoeker en personage Piet Pel, gesigneerd, en 2 situatietekeningen."]
[null,null,null,null,null,null,"Rood","1994-09-01","herdruk","Het Aruba-dossier","Ook uitgegeven met op de cover blauwe MULTI PASS sticker"]
[null,null,null,null,null,null,"Gekleurd","2009-10-01","herdruk","De tijdbobijn","Nieuwe cover. Achtercover met vijftal in Vitamitje, synopsis en plaatjes van laatste uitgaven."]
[null,228,"Het wondere Wolfje",{"$f":"INDEX('Lange verhalen'!B:B,MATCH(B691,'Lange verhalen'!D:D,0))","v":160},47,"oude\nformaat","Rood","1991-04-01","1e druk","Het wondere Wolfje","Ook verspreid met de bijlage “Het wondere Wolfje nader bekeken” en een blauwe tekststrook."]
[null,null,null,null,null,null,"Gekleurd","2011-06-01","herdruk","De zappende ziel","Nieuwe cover. Achtercover met vijftal in Vitamitje, synopsis en plaatjes van laatste uitgaven."]
[null,null,null,null,null,null,"Gekleurd, rode rand","2021-05-01","herdruk","De zalige ziener","Nieuwe cover met links rode rand. Achtercover rood met 5 rijen titels in witte letters."]
[null,229,"Tazuur en Tazijn",{"$f":"INDEX('Lange verhalen'!B:B,MATCH(B694,'Lange verhalen'!D:D,0))","v":162},47,"oude\nformaat","Rood","1991-09-01","1e druk","Tazuur en Tazijn","Op de achter cover voor het eerst (nr 229-237) een blokje met uitleg van nummers voor nr 67. Bij de 1e druk ontbreken nr 187-193 in de titel lijst. 1e druk met bestelfolder voor Albert Hein S&W badlakens."]
[null,null,null,null,null,null,"Gekleurd","2011-06-01","herdruk","De zappende ziel","Nieuwe cover. Achtercover met vijftal in Vitamitje, synopsis en plaatjes van laatste uitgaven."]
[null,230,"Lambik Baba",{"$f":"INDEX('Lange verhalen'!B:B,MATCH(B696,'Lange verhalen'!D:D,0))","v":163},47,"oude\nformaat","Rood","1991-11-01","1e druk","Lambik Baba","Licht racistische tekst van Lambik over Indiers in krant verwijderd in album. Op achtercover vierkantje met uitleg van nummers voor 67. Bij de 1e druk ontbreken nr 187-193 in de titel lijst."]
[null,null,null,null,null,null,"Rood","2005-04-01","herdruk","De flierende fluiter","Ook verkrijgbaar geweest, geseald met een rugzak. Zomeractie 2005."]
[null,null,null,null,null,null,"Gekleurd","2011-06-01","herdruk","De zappende ziel","Nieuwe cover. Achtercover met vijftal in Vitamitje, synopsis en plaatjes van laatste uitgaven."]
[null,231,"De scherpe schorpioen",{"$f":"INDEX('Lange verhalen'!B:B,MATCH(B699,'Lange verhalen'!D:D,0))","v":161},47,"oude\nformaat","Rood","1992-02-01","1e druk","De scherpe schorpioen","Getekend voor TV ekspress. Op achtercover vierkantje met uitleg van nummers voor 67."]
[null,null,null,null,null,null,"Rood","2005-04-01","herdruk","De flierende fluiter","Ook verkrijgbaar geweest, geseald met een rugzak. Zomeractie 2005."]
[null,null,null,null,null,null,"Gekleurd","2009-05-01","herdruk","De knikkende knoken","Nieuwe cover. Achtercover met vijftal in Vitamitje, synopsis en plaatjes van laatste uitgaven."]
[null,null,null,null,null,null,"Gekleurd, rode rand","2022-05-01","herdruk","De maffe markies","Nieuwe cover met links rode rand. Achtercover rood met 5 rijen titels in witte letters."]
[null,232,"De Tootootjes",{"$f":"INDEX('Lange verhalen'!B:B,MATCH(B703,'Lange verhalen'!D:D,0))","v":164},47,"oude\nformaat","Rood","1992-05-01","1e druk","De Tootootjes","Ook verspreid met als bijlage het Kiekeboe reclame folder voor 'De roze Rolls'. \nOp achtercover vierkantje met uitleg van nummers voor 67."]
[null,null,"De Totootjes",null,null,null,"Gekleurd","2011-06-01","herdruk","De zappende ziel","Nieuwe cover. Titel in afwijkende spelling. Achtercover met vijftal, synopsis en plaatjes laatste uitgaven."]
[null,null,null,null,null,null,"Gekleurd, rode rand","2021-05-01","herdruk","De zalige ziener","Nieuwe cover met links rode rand. Achtercover rood met 5 rijen titels in witte letters."]
[null,233,"De klinkende klokken",{"$f":"INDEX('Lange verhalen'!B:B,MATCH(B706,'Lange verhalen'!D:D,0))","v":166},47,"oude\nformaat","Rood","1992-09-01","1e druk","De klinkende klokken","Op achtercover vierkantje met uitleg van nummers voor 67."]
[null,null,null,null,null,null,"Gekleurd","2011-06-01","herdruk","De zappende ziel","Nieuwe cover. Achtercover met vijftal in Vitamitje, synopsis en plaatjes van laatste uitgaven."]
[null,null,null,null,null,null,"Gekleurd, rode rand","2022-05-01","herdruk","De maffe markies","Nieuwe cover met links rode rand. Achtercover rood met 5 rijen titels in witte letters."]
[null,234,"Het kristallen kasteel",{"$f":"INDEX('Lange verhalen'!B:B,MATCH(B709,'Lange verhalen'!D:D,0))","v":167},47,"oude\nformaat","Rood","1992-11-01","1e druk","Het kristallen kasteel","Op achtercover vierkantje met uitleg van nummers voor 67."]
[null,null,null,null,null,null,"Rood","2005-09-01","herdruk","Het slapende goud","Ook verkrijgbaar geweest, geseald met een rugzak. Zomeractie 2005."]
[null,null,null,null,null,null,"Gekleurd","2010-04-01","herdruk","De rillende rots","Nieuwe cover. Achtercover met vijftal in Vitamitje, synopsis en plaatjes van laatste uitgaven."]
[null,null,null,null,null,null,"Gekleurd, rode rand","2022-05-01","herdruk","De maffe markies","Nieuwe cover met links rode rand. Achtercover rood met 5 rijen titels in witte letters."]
[null,235,"De krakende Carcas",{"$f":"INDEX('Lange verhalen'!B:B,MATCH(B713,'Lange verhalen'!D:D,0))","v":165},47,"oude\nformaat","Rood","1993-02-01","1e druk","De krakende Carcas","Getekend voor TV ekspress. Eerste verhaalvolledig getekend en geschreven door Marc Verhaegen. Eerste druk met op achterkaft reclame Klassiek reeks EN vierkantje met uitleg van nummers voor 67. Nog niet verschenen als album met nieuwe gekeurde cover. Ook geseald met wedstrijdfolder voor grote zomerwedstrijd 50 jaar Suske en Wiske (Ned. en Belgische versie, zie note)."]
[null,236,"De gulden harpoen",{"$f":"INDEX('Lange verhalen'!B:B,MATCH(B714,'Lange verhalen'!D:D,0))","v":168},47,"oude\nformaat","Rood","1993-05-01","1e druk","De gulden harpoen","Ook geseald met wedstrijdfolder voor grote zomerwedstrijd 50 jaar Suske en Wiske (Ned. en Belgische versie, zie note). Op achtercover vierkantje met uitleg van nummers voor 67. Naar de pers verspreid met een speciaal inlegvelletje.  In het verhaal wordt de S&W fanclubdag in Boxtel bezocht."]
[null,null,null,null,null,null,"Gekleurd","2009-10-01","herdruk","De tijdbobijn","Nieuwe cover. Achtercover met vijftal in Vitamitje, synopsis en plaatjes van laatste uitgaven."]
[null,null,null,null,null,null,"Gekleurd, rode rand","2022-05-01","herdruk","De maffe markies","Nieuwe cover met links rode rand. Achtercover rood met 5 rijen titels in witte letters."]
[null,237,"De snikkende sirene",{"$f":"INDEX('Lange verhalen'!B:B,MATCH(B717,'Lange verhalen'!D:D,0))","v":170},47,"oude\nformaat","Rood","1993-09-01","1e druk","De snikkende sirene","1e druk gesealed met eerste uitgave SW weekblad 15/09/1993. Op achtercover vierkantje met uitleg van nummers voor 67. Ook uitgegeven met op de cover blauwe MULTI PASS sticker (pas in 1994?)"]
[null,null,null,null,null,null,"Rood","1995-06-01","herdruk","De begeerde berg","Met foutief jaartal 1993."]
[null,null,null,null,null,null,"Gekleurd","2008-05-01","herdruk","Het babbelende bad","Nieuwe cover. Achtercover met vijftal in Vitamitje, synopsis en plaatjes van laatste uitgaven."]
[null,null,null,null,null,null,"Gekleurd, rode rand","2021-05-01","herdruk","De zalige ziener","Nieuwe cover met links rode rand. Achtercover rood met 5 rijen titels in witte letters."]
[null,238,"De slimme slapjanus",{"$f":"INDEX('Lange verhalen'!B:B,MATCH(B721,'Lange verhalen'!D:D,0))","v":171},{"$f":"48-3+2","v":47},"oude\nformaat","Rood","1993-11-01","1e druk","De slimme slapjanus","1e druk ook met bijlage antwoordkaart (in Nederland) voor abonnement op Suske en Wiske weekblad. De titels op de achter cover vanaf dit album in 1e druk niet meer in wit kader maar in de geel rode achtergrond kleur. Levende toren voor het eerst getekend door Paul Geerts. In de krant 1 pagina langer: Voor het album werden 3 pagina's gecensureerd en hertekend tot 2 pagina's (2 werd 1.5 en 1 werd 0.5, ivm censuur)."]
[null,null,null,null,null,null,"Gekleurd","2008-10-01","herdruk","De dartele draak","Nieuwe cover. Achtercover met vijftal in Vitamitje, synopsis en plaatjes van laatste uitgaven."]
[null,239,"De stervende ster",{"$f":"INDEX('Lange verhalen'!B:B,MATCH(B723,'Lange verhalen'!D:D,0))","v":169},47,"oude\nformaat","Rood","1994-02-01","1e druk","De stervende ster","Getekend voor TV ekspress. 1e druk ook met bijlage antwoordkaart (in Nederland) voor abonnement op Suske en Wiske weekblad. Nog niet verschenen als album met nieuwe gekeurde cover, wel in De Strafste Strips en Het Laatste Nieuws 70 jaar."]
[null,null,null,null,null,null,"Rood","2003-05-01","herdruk","De laatste vloek","Ook verkrijgbaar geweest, geseald met een rugzak. Zomeractie."]
[null,240,"De pottenproever",{"$f":"INDEX('Lange verhalen'!B:B,MATCH(B725,'Lange verhalen'!D:D,0))","v":172},47,"oude\nformaat","Rood","1994-05-01","1e druk","De pottenproever","1e druk ook met bijlage antwoordkaart (in Nederland) voor abonnement op Suske en Wiske weekblad, en ook uitgegeven met op de cover blauwe MULTI PASS sticker. Nog niet verschenen als album met nieuwe gekeurde cover, wel digitaal, in De Strafste Strips en als speciale uitgave (Olen 2017)."]
[null,null,null,null,null,null,"Rood","2000-04-01","herdruk","De pottenproever","Ondanks dat het album uit 2000 komt zijn de titels van nr 142-263 niet weergegeven op de achter cover en is de laatste titel dus ook De pottenproever."]
[null,null,null,null,null,null,"Rood","2004-05-01","herdruk","De breinbrekers","Ook verkrijgbaar geweest, geseald met een rugzak. Zomeractie."]
[null,241,"Het Aruba-dossier",{"$f":"INDEX('Lange verhalen'!B:B,MATCH(B728,'Lange verhalen'!D:D,0))","v":174},47,"oude\nformaat","Rood","1994-09-01","1e druk","Het Aruba-dossier","1e druk met bijlage: In Nederland met gele folder ter gelegenheid van 1 jaar S&W weekblad en antwoordkaart voor een abonnement op het weekblad. In Vlaanderen met een iets andere folder, met daarin ook reclame en een kotingsbon voor de musical. Op achter cover zwart wit reclame blokje voor S&W weekblad."]
[null,null,null,null,null,null,"Rood","1994-09-01","1e druk","Het Aruba-dossier","Ook uitgegeven met op de cover blauwe MULTI PASS sticker"]
[null,null,null,null,null,null,"Gekleurd","2011-06-01","herdruk","De zappende ziel","Nieuwe cover. Achtercover met vijftal in Vitamitje, synopsis en plaatjes van laatste uitgaven."]
[null,242,"Tokapua Toraja",{"$f":"INDEX('Lange verhalen'!B:B,MATCH(B731,'Lange verhalen'!D:D,0))","v":175},47,"oude\nformaat","Rood","1994-11-01","1e druk","Tokapua Toraja","1e druk met bijlage: In Nederland met witte reclame folder met rood/blauwe boven/onderrand voor het S&W weekblad en antwoordkaart voor een abonnement. In Vlaanderen met een \"weekbladcheque\", goed voor een gratis Suske & Wiske Weekblad."]
[null,null,null,null,null,null,"Gekleurd","2008-05-01","herdruk","Het babbelende bad","Nieuwe cover. Achtercover met vijftal in Vitamitje, synopsis en plaatjes van laatste uitgaven."]
[null,null,null,null,null,null,"Gekleurd, rode rand","2021-05-01","herdruk","De zalige ziener","Nieuwe cover met links rode rand. Achtercover rood met 5 rijen titels in witte letters."]
[null,243,"De averechtse aap",{"$f":"INDEX('Lange verhalen'!B:B,MATCH(B734,'Lange verhalen'!D:D,0))","v":173},47,"oude\nformaat","Rood","1995-02-01","1e druk","De averechtse aap","Getekend voor TV ekspress. Met blauw 50 jaar S&W vignet 1945-1995 op de rechter bovenhoek van de front cover. Voor het eerste reclame blokje voor het S&W weekblad in kleur op achter cover van 1e druk. Nog niet verschenen als album met nieuwe gekeurde cover."]
[null,null,null,null,null,null,"Rood","2000-06-01","herdruk","Jeanne Panne","Ook de 2e druk met 50 jaar S&W vignet op de rechter bovenhoek, maar donkerder blauw en meer glanzend. Volgende drukken zonder vignet."]
[null,null,null,null,null,null,"Rood","2005-04-01","herdruk","De flierende fluiter","Ook verkrijgbaar geweest, geseald met een rugzak. Zomeractie 2005.\nOok verkrijgbaar geweest, geseald met Suske of Wiske sleutelhanger. Zomeractie 2007"]
[null,244,"De begeerde berg",{"$f":"INDEX('Lange verhalen'!B:B,MATCH(B737,'Lange verhalen'!D:D,0))","v":176},47,"oude\nformaat","Rood","1995-05-01","1e druk","De begeerde berg","Met blauw 50 jaar S&W vignet 1945-1995. Met bijlagen: 1. Blauwe reclame folder voor zowel de Suske en Wiske musical als het S&W weekblad. 2. Correctiekaartje (met Krimson) met het jusite nummer van de 'Musicallijn'."]
[null,null,null,null,null,null,"Rood","6/2000","herdruk","Jeanne Panne","Ook de 2e druk met 50 jaar S&W vignet op de rechter bovenhoek, maar donkerder blauw en meer glanzend. Volgende druk zonder vignet."]
[null,null,null,null,null,null,"Gekleurd","2008-05-01","herdruk","Het babbelende bad","Nieuwe cover. Achtercover met vijftal in Vitamitje, synopsis en plaatjes van laatste uitgaven."]
[null,null,null,null,null,null,"Gekleurd, rode rand","2021-05-01","herdruk","De zalige ziener","Nieuwe cover met links rode rand. Achtercover rood met 5 rijen titels in witte letters."]
[null,245,"De 7 schaken",{"$f":"INDEX('Lange verhalen'!B:B,MATCH(B741,'Lange verhalen'!D:D,0))","v":178},{"$f":"312/4","v":78},"oude\nformaat","Rood","1995-09-01","1e druk","De 7 schaken","Met rechtsboven blauw 50 jaar S&W vignet 1945-1995 en links een geel rond vignet met 'Extra lang verhaal'. Met als bijlage een extra nummer van Suske en Wiske Weekblad met daarin de Grote Aruba-wedstrijd en het complete verhaal \"Bosspel\". Paul Geerts maakte een extra lang verhaal voordat hij een risicovolle operatie moest ondergaan. Paul Geerts sluit strip af inplaats van Wiske."]
[null,null,null,null,null,null,"Rood","2001-03-01","herdruk","De koeiencommissie","Ook de 2e druk met 'Extra lang verhaal' vignet maar zonder 50 jaar S&W vignet."]
[null,null,null,null,null,null,"Rood","2003-08-01","herdruk","De kus van Odfella","Ook de 3e druk met 'Extra lang verhaal' vignet maar iets aangepast, zonder sterretjes."]
[null,null,"De zeven schaken",null,null,null,"Gekleurd","2011-06-01","herdruk","De zappende ziel","Nieuwe cover. Titel in afwijkende spelling. Achtercover met vijftal, synopsis en plaatjes laatste uitgaven."]
[null,246,"De vonkende vuurman",{"$f":"INDEX('Lange verhalen'!B:B,MATCH(B745,'Lange verhalen'!D:D,0))","v":177},47,"oude\nformaat","Rood","1995-11-01","1e druk","De vonkende vuurman","Getekend voor TV ekspress. Met blauw 50 jaar S&W vignet 1945-1995. Volgende druk zonder vignet. Nog niet verschenen als album met nieuwe gekeurde cover."]
[null,247,"Het kostbare kader",{"$f":"INDEX('Lange verhalen'!B:B,MATCH(B746,'Lange verhalen'!D:D,0))","v":179},47,"oude\nformaat","Rood","1996-02-01","1e druk","Het kostbare kader","-"]
[null,null,null,null,null,null,"Rood","2001-10-01","herdruk","Big mother","Ook verkrijgbaar geweest, geseald met een Blauwe Reeks pocketuitgave. Zomeractie 2003"]
[null,null,null,null,null,null,"Gekleurd","2009-05-01","herdruk","De knikkende knoken","Nieuwe cover. Achtercover met vijftal in Vitamitje, synopsis en plaatjes van laatste uitgaven."]
[null,248,"Robotkop",{"$f":"INDEX('Lange verhalen'!B:B,MATCH(B749,'Lange verhalen'!D:D,0))","v":181},47,"oude\nformaat","Rood","1996-04-01","1e druk","Robotkop","Het verhaal verwijst naar de hersenoperatie van Paul Geerts; ook verspreid met wedstrijdformulier voor Sunparks. Nog niet verschenen als album met nieuwe gekeurde cover, wel digitaal en in De Strafste Strips."]
[null,249,"De razende race",{"$f":"INDEX('Lange verhalen'!B:B,MATCH(B750,'Lange verhalen'!D:D,0))","v":180},47,"oude\nformaat","Rood","1996-09-01","1e druk","De razende race","Getekend voor TV ekspress. Met ingesealde kartonnen Lambik opzetfiguur als bijlage."]
[null,null,null,null,null,null,"Gekleurd","2008-10-01","herdruk","De dartele draak","Nieuwe cover. Achtercover met vijftal in Vitamitje, synopsis en plaatjes van laatste uitgaven."]
[null,250,"Het Grote Gat",{"$f":"INDEX('Lange verhalen'!B:B,MATCH(B752,'Lange verhalen'!D:D,0))","v":182},47,"oude\nformaat","Rood","1996-11-01","1e druk","Het Grote Gat","Met op de front cover een diamant vignet '250e album' en voorin een extra pagina voor de jubileumwedstrijd. Vignet verscheen op albums t/m 2001."]
[null,null,null,null,null,null,"Rood","2005-09-01","herdruk","Het slapende goud","Vanaf 4e druk zonder vignet."]
[null,null,null,null,null,null,"Gekleurd","2011-06-01","herdruk","De zappende ziel","Nieuwe cover. Achtercover met vijftal in Vitamitje, synopsis en plaatjes van laatste uitgaven."]
[null,251,"De verraderlijke Vinson",{"$f":"INDEX('Lange verhalen'!B:B,MATCH(B755,'Lange verhalen'!D:D,0))","v":183},47,"oude\nformaat","Rood","1997-02-01","1e druk","De verraderlijke Vinson","Nog niet verschenen als album met nieuwe gekeurde cover."]
[null,252,"Volle maan",{"$f":"INDEX('Lange verhalen'!B:B,MATCH(B756,'Lange verhalen'!D:D,0))","v":185},47,"oude\nformaat","Rood","1997-04-01","1e druk","Volle maan","-"]
[null,null,null,null,null,null,"Gekleurd","2009-10-01","herdruk","De tijdbobijn","Nieuwe cover. Achtercover met vijftal in Vitamitje, synopsis en plaatjes van laatste uitgaven."]
[null,null,null,null,null,null,"Gekleurd, rode rand","2022-05-01","herdruk","De maffe markies","Nieuwe cover met links rode rand. Achtercover rood met 5 rijen titels in witte letters."]
[null,253,"Prachtige Pjotr",{"$f":"INDEX('Lange verhalen'!B:B,MATCH(B759,'Lange verhalen'!D:D,0))","v":184},47,"oude\nformaat","Rood","1997-09-01","1e druk","Prachtige Pjotr","Getekend voor TV ekspress."]
[null,null,null,null,null,null,"Gekleurd","2008-10-01","herdruk","De dartele draak","Nieuwe cover. Achtercover met vijftal in Vitamitje, synopsis en plaatjes van laatste uitgaven."]
[null,254,"Tex en Terry",{"$f":"INDEX('Lange verhalen'!B:B,MATCH(B761,'Lange verhalen'!D:D,0))","v":186},47,"oude\nformaat","Rood","1997-12-01","1e druk","Tex en Terry","Let op: achterkant identiek aan 2e druk."]
[null,null,null,null,null,null,"Rood","1998-01-01","2e druk","Tex en Terry","Herdruk uit 1998 met identieke achterkant als 1e druk (datum 12/97), maar extra ingebonden pagina voorin met antwoordcoupon voor SW weekblad. Alleen een Nederlandse versie bekend."]
[null,null,null,null,null,null,"Gekleurd","2011-06-01","herdruk","De zappende ziel","Nieuwe cover. Achtercover met vijftal in Vitamitje, synopsis en plaatjes van laatste uitgaven."]
[null,null,null,null,null,null,"Gekleurd, rode rand","2021-05-03","herdruk","De zalige ziener","Nieuwe cover met links rode rand. Achtercover rood met 5 rijen titels in witte letters."]
[null,255,"De mompelende mummie",{"$f":"INDEX('Lange verhalen'!B:B,MATCH(B765,'Lange verhalen'!D:D,0))","v":187},47,"oude\nformaat","Rood","1998-02-01","1e druk","De mompelende mummie","De mompelende mummie en De vogels der goden vormen samen een duo verhaal. Restant van 1e druk in 2003 ook verkrijgbaar geweest, geseald met een Blauwe Reeks pocketuitgave (najaarsactie 2003)."]
[null,null,null,null,null,null,"Gekleurd","2008-05-01","herdruk","Het babbelende bad","Nieuwe cover. Achtercover met vijftal in Vitamitje, synopsis en plaatjes van laatste uitgaven."]
[null,null,null,null,null,null,"Gekleurd, rode rand","2021-05-03","herdruk","De zalige ziener","Nieuwe cover met links rode rand. Achtercover rood met 5 rijen titels in witte letters."]
[null,256,"De vogels der goden",{"$f":"INDEX('Lange verhalen'!B:B,MATCH(B768,'Lange verhalen'!D:D,0))","v":189},47,"oude\nformaat","Rood","1998-05-01","1e druk","De vogels der goden","De mompelende mummie en De vogels der goden vormen samen een duo verhaal. Restant van 1e druk in 2003 ook verkrijgbaar geweest, geseald met een Blauwe Reeks pocketuitgave (najaarsactie 2003)."]
[null,null,null,null,null,null,"Gekleurd","2011-06-01","herdruk","De zappende ziel","Nieuwe cover. Achtercover met vijftal in Vitamitje, synopsis en plaatjes van laatste uitgaven."]
[null,null,null,null,null,null,"Gekleurd, rode rand","2021-05-03","herdruk","De zalige ziener","Nieuwe cover met links rode rand. Achtercover rood met 5 rijen titels in witte letters."]
[null,257,"De rebelse Reinaert",{"$f":"INDEX('Lange verhalen'!B:B,MATCH(B771,'Lange verhalen'!D:D,0))","v":191},46,"oude\nformaat","Rood","1998-09-01","1e druk","De rebelse Reinaert","Eerste druk met gratis SW clubblad nr 1. Ook verspreid met folder voor PC spellen 'Nu te koop, De stripmaker en De roekeloze ruimtereis'. Ook verkrijgbaar met ingesealde Suske en Wiske sjaal (2003?)."]
[null,null,null,null,null,null,"Gekleurd","2008-05-01","herdruk","Het babbelende bad","Nieuwe cover. Achtercover met vijftal in Vitamitje, synopsis en plaatjes van laatste uitgaven."]
[null,null,null,null,null,null,"Gekleurd, rode rand","2021-05-03","herdruk","De zalige ziener","Nieuwe cover met links rode rand. Achtercover rood met 5 rijen titels in witte letters."]
[null,258,"De gevederde slang",{"$f":"INDEX('Lange verhalen'!B:B,MATCH(B774,'Lange verhalen'!D:D,0))","v":188},47,"oude\nformaat","Rood","1998-12-01","1e druk","De gevederde slang","Getekend voor TV ekspress."]
[null,null,null,null,null,null,"Gekleurd","2011-06-01","herdruk","De zappende ziel","Nieuwe cover. Achtercover met vijftal in Vitamitje, synopsis en plaatjes van laatste uitgaven."]
[null,null,null,null,null,null,"Gekleurd, rode rand","2022-05-01","herdruk","De maffe markies","Nieuwe cover met links rode rand. Achtercover rood met 5 rijen titels in witte letters."]
[null,259,"Amber",{"$f":"INDEX('Lange verhalen'!B:B,MATCH(B777,'Lange verhalen'!D:D,0))","v":190},47,"oude\nformaat","Rood","1999-02-01","1e druk","Amber","Restant van 1e druk in 2003 ook verkrijgbaar geweest, geseald met een Blauwe Reeks pocketuitgave (najaarsactie 2003)."]
[null,null,null,null,null,null,"Rood","2004-05-01","herdruk","De breinbrekers","Ook verkrijgbaar geweest, geseald met een rugzak. Zomeractie."]
[null,null,null,null,null,null,"Gekleurd","2008-10-01","herdruk","De dartele draak","Nieuwe cover. Achtercover met vijftal in Vitamitje, synopsis en plaatjes van laatste uitgaven."]
[null,null,null,null,null,null,"Gekleurd, rode rand","2022-05-01","herdruk","De maffe markies","Nieuwe cover met links rode rand. Achtercover rood met 5 rijen titels in witte letters."]
[null,260,"De bonte bollen",{"$f":"INDEX('Lange verhalen'!B:B,MATCH(B781,'Lange verhalen'!D:D,0))","v":193},46,"oude\nformaat","Rood","1999-05-01","1e druk","De bonte bollen","Eerste druk met gratis SW clubblad nr 2. Op laatste pagina reclame voor Suske en Wiske op CD-rom."]
[null,null,null,null,null,null,"Gekleurd","2011-11-01","herdruk","Het leidende Leiden","Nieuwe cover. Achtercover met vijftal in Vitamitje, synopsis en plaatjes van laatste uitgaven."]
[null,null,null,null,null,null,"Gekleurd, rode rand","2021-05-03","herdruk","De zalige ziener","Nieuwe cover met links rode rand. Achtercover rood met 5 rijen titels in witte letters."]
[null,261,"Het berenbeklag",{"$f":"INDEX('Lange verhalen'!B:B,MATCH(B784,'Lange verhalen'!D:D,0))","v":192},46,"oude\nformaat","Rood","1999-09-01","1e druk","Het berenbeklag","Getekend voor TV ekspress. Eerste druk met gratis SW clubblad nr 3. Nog niet verschenen als album met nieuwe gekeurde cover. Ook verschenen met ingesealde S&W frisbee. Ook verspreid met Mora-sticker.  Ook verspreid met Dash-sticker. Ook uitgegeven met meegesealde rode Suske en Wiske sjaal."]
[null,262,"Het enge eiland",{"$f":"INDEX('Lange verhalen'!B:B,MATCH(B785,'Lange verhalen'!D:D,0))","v":194},46,"oude\nformaat","Rood","1999-12-01","1e druk","Het enge eiland","Eerste druk met extra pagina voor S&W Feest CD. Ook verkrijgbaar (tegen meerprijs), ingeseald met CD-rom als bijlage: Verassings-rom 1."]
[null,null,null,null,null,null,"Rood","2004-05-01","herdruk","De breinbrekers","Ook verkrijgbaar geweest, geseald met Suske of Wiske sleutelhanger. Zomeractie 2007"]
[null,null,null,null,null,null,"Gekleurd","2011-11-01","herdruk","Het leidende Leiden","Nieuwe cover. Achtercover met vijftal in Vitamitje, synopsis en plaatjes van laatste uitgaven."]
[null,263,"Het verdronken land",{"$f":"INDEX('Lange verhalen'!B:B,MATCH(B788,'Lange verhalen'!D:D,0))","v":195},46,"oude\nformaat","Rood","2000-02-14","1e druk","Het verdronken land","Nog niet verschenen als album met nieuwe gekeurde cover. Ook verkrijgbaar geweest met diverse ingesealde items in heruitgaven waarbij de 1e druk is gebruikt: \n- Suske en Wiske sjaal (rood/blauw/geel), 2003-2003; \n- Suske of Wiske sleutelhanger, zomeractie 2007; \n- Gratis CD-single van de Suske en Wiske-band, inclusief 10% korting op De Suske en Wiske-theatershow\n  'De Schimmige Schurken', 2007."]
[null,264,"Jeanne Panne",{"$f":"INDEX('Lange verhalen'!B:B,MATCH(B789,'Lange verhalen'!D:D,0))","v":197},46,"oude\nformaat","Rood","2000-05-08","1e druk","Jeanne Panne","Eerste druk met extra pagina reclame voor S&W in Bokrijk. Ook verkrijgbaar (tegen meerprijs), ingeseald met \nCD-rom als bijlage: Verassings-rom 2, met aparte bijlage voor België en Nederland."]
[null,null,null,null,null,null,"Gekleurd, rode rand","2022-05-01","herdruk","De maffe markies","Nieuwe cover met links rode rand. Achtercover rood met 5 rijen titels in witte letters."]
[null,265,"Papa Razzi",{"$f":"INDEX('Lange verhalen'!B:B,MATCH(B791,'Lange verhalen'!D:D,0))","v":196},46,"oude\nformaat","Rood","2000-08-09","1e druk","Papa Razzi","Getekend voor TV ekspress. Nog niet verschenen als album met nieuwe gekeurde cover. Ook verkrijgbaar geweest met diverse ingesealde items in heruitgaven waarbij de 1e druk is gebruikt: \n- Suske of Wiske sleutelhanger, 2007; \n- Gratis CD-single van de Suske en Wiske-band, inclusief 10% korting op De Suske en Wiske-theatershow\n  'De Schimmige Schurken', 2007."]
[null,266,"De kernmonsters",{"$f":"INDEX('Lange verhalen'!B:B,MATCH(B792,'Lange verhalen'!D:D,0))","v":198},46,"oude\nformaat","Rood","2000-10-18","1e druk","De kernmonsters","Nog niet verschenen als album met nieuwe gekeurde cover."]
[null,267,"Lilli Natal",{"$f":"INDEX('Lange verhalen'!B:B,MATCH(B793,'Lange verhalen'!D:D,0))","v":199},46,"oude\nformaat","Rood","2000-11-29","1e druk","Lilli Natal","Eerste druk met extra pagina voor S&W Feest CD. Ook verkrijgbaar (tegen meerprijs), ingeseald met CR-rom als bijlage: Verassings-rom 3."]
[null,null,null,null,null,null,"Gekleurd","2008-10-01","herdruk","De dartele draak","Nieuwe cover. Achtercover met vijftal in Vitamitje, synopsis en plaatjes van laatste uitgaven."]
[null,268,"De koeiencommissie",{"$f":"INDEX('Lange verhalen'!B:B,MATCH(B795,'Lange verhalen'!D:D,0))","v":201},46,"oude\nformaat","Rood","2001-02-14","1e druk","De koeiencommissie","Eerste album met op achterzijde de prijs ook in Euro (3.60 Eur). Nog niet verschenen als album met nieuwe gekeurde cover. Restant van 1e druk in 2003 ook verkrijgbaar geweest, geseald met een Blauwe Reeks pocketuitgave (zomeractie 2003)."]
[null,269,"De stugge Stuyvesant",{"$f":"INDEX('Lange verhalen'!B:B,MATCH(B796,'Lange verhalen'!D:D,0))","v":200},46,"oude\nformaat","Rood","2001-05-09","1e druk","De stugge Stuyvesant","Getekend voor TV ekspress. Ook verkrijgbaar (tegen meerprijs), ingeseald met CR-rom als bijlage: De dappere duinduikers. Ook verkrijgbaar geweest in 2007 met ingesealde gratis CD-single van de Suske en Wiske-band, inclusief 10% korting op De Suske en Wiske-theatershow  'De Schimmige Schurken', waarbij de 1e druk is gebruikt. Nog niet verschenen als album met nieuwe gekeurde cover, wel in De Strafste Strips en digitaal."]
[null,270,"De ongelooflijke Thomas",{"$f":"INDEX('Lange verhalen'!B:B,MATCH(B797,'Lange verhalen'!D:D,0))","v":202},46,"oude\nformaat","Rood","2001-08-08","1e druk","De ongelooflijke Thomas","Nog niet verschenen als album met nieuwe gekeurde cover. Ook verkrijgbaar geweest met diverse ingesealde items in heruitgaven waarbij de 1e druk is gebruikt: \n- Restant van 1e druk in 2003 waarschijnlijk ook verkrijgbaar geweest, geseald met een Blauwe Reeks pocketuitgave (actie 2003, volgens Lastdodo);\n- Ook verkrijgbaar ingesealed met gratis kaartenspel, mogelijk 2006;\n- Gratis CD-single van de Suske en Wiske-band, inclusief 10% korting op De Suske en Wiske-theatershow\n  'De Schimmige Schurken', 2007."]
[null,271,"Big Mother",{"$f":"INDEX('Lange verhalen'!B:B,MATCH(B798,'Lange verhalen'!D:D,0))","v":203},46,"oude\nformaat","Rood","2001-10-17","1e druk","Big Mother","Nog niet verschenen als album met nieuwe gekeurde cover. Ook verkrijgbaar geweest ingesealed met gratis CD-single van de Suske en Wiske-band, inclusief 10% korting op De Suske en Wiske-theatershow\n  'De Schimmige Schurken', 2007."]
[null,272,"De blote Belg",{"$f":"INDEX('Lange verhalen'!B:B,MATCH(B799,'Lange verhalen'!D:D,0))","v":205},46,"oude\nformaat","Rood","2001-12-10","1e druk","De blote Belg","Nog niet verschenen als album met nieuwe gekeurde cover. Restant van 1e druk in 2003 ook verkrijgbaar geweest, geseald met een Blauwe Reeks pocketuitgave (najaarsactie 2003)."]
[null,273,"De Europummel",{"$f":"INDEX('Lange verhalen'!B:B,MATCH(B800,'Lange verhalen'!D:D,0))","v":204},46,"oude\nformaat","Rood","2002-02-13","1e druk","De Europummel","Getekend voor TV ekspress. Nog niet verschenen als album met nieuwe gekeurde cover, wel als De Strafste Strips en digitaal. De 1e druk is in 2007 ook verkrijgbaar geweest met ingesealde gratis CD-single van de Suske en Wiske-band, inclusief 10% korting op De Suske en Wiske-theatershow  'De Schimmige Schurken', 2007."]
[null,274,"De fleurige Floriade",{"$f":"INDEX('Lange verhalen'!B:B,MATCH(B801,'Lange verhalen'!D:D,0))","v":206},46,"oude\nformaat","Rood","2002-04-24","1e druk","De fleurige Floriade","Eerste druk met bijlage SW weekblad 14/2002. Eerste album met prijs alleen in Euro. Trilogie. Nog niet verschenen als album met nieuwe gekeurde cover. Restant van 1e druk in 2003 ook verkrijgbaar geweest, geseald met een Blauwe Reeks pocketuitgave (najaarsactie 2003). In 2007 ook verkrijgbaar geweest ingesealed met gratis CD-single van de Suske en Wiske-band, inclusief 10% korting op De Suske en Wiske-theatershow   'De Schimmige Schurken'."]
[null,275,"Heilig Bloed",{"$f":"INDEX('Lange verhalen'!B:B,MATCH(B802,'Lange verhalen'!D:D,0))","v":207},46,"oude\nformaat","Rood","2002-07-10","1e druk","Heilig Bloed","Eerste album waar de naam van Marc Verhaegen op de titelpagina staat. Trilogie met De fleurige Floriade en In de ban van de Milt. Nog niet verschenen als album met nieuwe gekeurde cover. "]
[null,276,"In de ban van de Milt",{"$f":"INDEX('Lange verhalen'!B:B,MATCH(B803,'Lange verhalen'!D:D,0))","v":209},46,"oude\nformaat","Rood","2002-10-14","1e druk","In de ban van de Milt","Eerste druk met als optie met bijlage CD-rom met interactie stripverhaal De snoezige Snowijt. Trilogie met De fleurige Floriade en Heilig Bloed. Ook verkrijgbaar geweest in 2007 met ingesealde gratis CD-single van de Suske en Wiske-band, inclusief 10% korting op De Suske en Wiske-theatershow  'De Schimmige Schurken', waarbij de 1e druk is gebruikt. Nog niet verschenen als album met nieuwe gekeurde cover. ",null,null,null,null,null,null,null,null,null,null,null,null,null,null,""]
[null,277,"De verdwenen verteller",{"$f":"INDEX('Lange verhalen'!B:B,MATCH(B804,'Lange verhalen'!D:D,0))","v":210},46,"oude\nformaat","Rood","2002-12-09","1e druk","De verdwenen verteller","Nog niet verschenen als album met nieuwe gekeurde cover. "]
[null,278,"De kunstkraker",{"$f":"INDEX('Lange verhalen'!B:B,MATCH(B805,'Lange verhalen'!D:D,0))","v":208},46,"oude\nformaat","Rood","2003-02-17","1e druk","De kunstkraker","Getekend voor TV ekspress, maar na drie weken gestaakt, omdat het blad werd verkocht aan Story. Ook verkrijgbaar geweest in 2007 met ingesealde gratis CD-single van de Suske en Wiske-band, inclusief 10% korting op De Suske en Wiske-theatershow  'De Schimmige Schurken', waarbij de 1e druk is gebruikt. Nog niet verschenen als album met nieuwe gekeurde cover, wel in De Strafste Strips en digitaal.  Vanaf dit album staat de naam van de uitgeverij op de cover niet meer in zwarte maar in witte letters. Bovendien is er een logo voor de naam gekomen."]
[null,279,"De laatste vloek",{"$f":"INDEX('Lange verhalen'!B:B,MATCH(B806,'Lange verhalen'!D:D,0))","v":211},46,"oude\nformaat","Rood","2003-05-14","1e druk","De laatste vloek","Trilogie met De kus van Odfella en De gevangene van Prisonov. Ook verkrijgbaar geweest met ingesealde Suske of Wiske sleutelhanger, zomeractie 2007 waarbij de 1e druk is gebruikt."]
[null,null,null,null,null,null,"Gekleurd","2008-05-01","herdruk","Het babbelende bad","Nieuwe cover. Achtercover met vijftal in Vitamitje, synopsis en plaatjes van laatste uitgaven."]
[null,280,"De kus van Odfella",{"$f":"INDEX('Lange verhalen'!B:B,MATCH(B808,'Lange verhalen'!D:D,0))","v":212},46,"oude\nformaat","Rood","2003-08-13","1e druk","De kus van Odfella","Trilogie met De laatste vloek en De gevangene van Prisonov. Nog niet verschenen als album met nieuwe gekeurde cover. In 2005 ook verkrijgbaar geweest ingesealed met gratis kaartenspel, waarbij de 1e druk is gebruikt. Eindplaatje met knipoog van Schanulleke."]
[null,281,"De gevangene van Prisonov",{"$f":"INDEX('Lange verhalen'!B:B,MATCH(B809,'Lange verhalen'!D:D,0))","v":213},46,"oude\nformaat","Rood","2003-11-19","1e druk","De gevangene van Prisonov","Trilogie met De laatste vloek en De kus van Odfella. Nog niet verschenen als album met nieuwe gekeurde cover. Ook verkrijgbaar geweest ingesealed met gratis S&W frisbee (Zomeractie 2010). In dit album staat voor het eerst een link naar de website van De Fameuze Fanclub."]
[null,282,"De breinbrekers",{"$f":"INDEX('Lange verhalen'!B:B,MATCH(B810,'Lange verhalen'!D:D,0))","v":214},46,"oude\nformaat","Rood","2004-02-18","1e druk","De breinbrekers","Ook verkrijgbaar geweest met diverse ingesealde items in heruitgaven waarbij de 1e druk is gebruikt: \n- met Mora-sticker, in de periode van 2004 - 2006,\n- met een sleutelhanger, zomeractie 2007,\n- met ingesealde S&W frisbee."]
[null,null,null,null,null,null,"Gekleurd","2019-05-01","herdruk","De gevangene van Prisonov","Nieuwe cover. Achtercover met vijftal in Vitamitje, synopsis en plaatjes van laatste uitgaven in rode cover. Opvallend uit 2019. "]
[null,283,"Paniek in Palermo",{"$f":"INDEX('Lange verhalen'!B:B,MATCH(B812,'Lange verhalen'!D:D,0))","v":215},46,"oude\nformaat","Rood","2004-06-16","1e druk","Paniek in Palermo","-"]
[null,null,null,null,null,null,"Gekleurd","2019-05-01","herdruk","De breinbrekers","Nieuwe cover. Achtercover met vijftal in Vitamitje, synopsis en plaatjes van laatste uitgaven in rode cover. Opvallend uit 2019. "]
[null,284,"Kaapse kaalkoppen",{"$f":"INDEX('Lange verhalen'!B:B,MATCH(B814,'Lange verhalen'!D:D,0))","v":216},46,"oude\nformaat","Rood","2004-09-01","1e druk","Kaapse kaalkoppen","Eerste druk met als optie met bijlage mini-album klein Suske en Wiske en 9 schooletiketten voor 1 Eur extra. Nog niet verschenen als album met nieuwe gekeurde cover. "]
[null,285,"Verraad op de Veluwe",{"$f":"INDEX('Lange verhalen'!B:B,MATCH(B815,'Lange verhalen'!D:D,0))","v":217},46,"oude\nformaat","Rood","2004-12-08","1e druk","Verraad op de Veluwe","Eerste druk in België met flyer S&W show Antwerpen 2005."]
[null,null,null,null,null,null,"Gekleurd","2008-05-01","herdruk","Het babbelende bad","Nieuwe cover. Achtercover met vijftal in Vitamitje, synopsis en plaatjes van laatste uitgaven. Ook verkrijgbaar geweest, ingeseald met een flitsende fietszadelhoes."]
[null,286,"De flierende fluiter",{"$f":"INDEX('Lange verhalen'!B:B,MATCH(B817,'Lange verhalen'!D:D,0))","v":218},46,"oude\nformaat","Rood","2005-02-16","1e druk","De flierende fluiter","Eerste druk met vignet Suske en Wiske 60 jaar. Scenario  Peter van Gucht. Tekeningen Walter Van Gasse en Marc Verhaegen (strook 49 t/m 92 en 117 t/m 184). Achtercover met vernieuwde levende toren: Suske en Wiske  met modernere kleding, Wiske zonder mouwen. Nog niet verschenen als album met nieuwe gekeurde cover, wel digitaal en in De Strafste Strips."]
[null,287,"De formidabele fantast",{"$f":"INDEX('Lange verhalen'!B:B,MATCH(B818,'Lange verhalen'!D:D,0))","v":219},46,"oude\nformaat","Rood","2005-05-11","1e druk","De formidabele fantast","Eerste druk met vignet Suske en Wiske 60 jaar. Nog niet verschenen als album met nieuwe gekeurde cover, wel als Kalmthout 2005 uitgave."]
[null,288,"Het slapende goud",{"$f":"INDEX('Lange verhalen'!B:B,MATCH(B819,'Lange verhalen'!D:D,0))","v":220},46,"oude\nformaat","Rood","2005-09-14","1e druk","Het slapende goud","Eerste druk met vignet Suske en Wiske 60 jaar. Eerste verhaal met duo scenario/tekeningen Peter van Gucht / Luc Morjaeu. Nog niet verschenen als album met nieuwe gekeurde cover."]
[null,289,"De kaduke klonen",{"$f":"INDEX('Lange verhalen'!B:B,MATCH(B820,'Lange verhalen'!D:D,0))","v":221},46,"oude\nformaat","Rood","2005-12-07","1e druk","De kaduke klonen","Eerste druk met vignet Suske en Wiske 60 jaar en als bijlage Suske en Wiske agenda. Nog niet verschenen als album met nieuwe gekeurde cover."]
[null,290,"De blikken blutser\n(Het mopperende masker)","KVH 32\nKVH 34",{"$f":"22+22","v":44},"oude\nformaat","Rood","2006-02-01","1e druk","De blikken blutser","Titel enkel De blikken blutser, met geel vignet \"In dit album 2 spannende kortverhalen\". De verhalen van elk 22 pagina's zijn de eerste twee verhalen gepubliceerd in Troskompas. Zonder prijsvermelding achterop. Ook verkrijgbaar geweest met ingesealde S&W frisbee. Nog niet verschenen als album met nieuwe gekeurde cover."]
[null,null,null,null,null,null,"Rood","2006-02-01","1e druk","De blikken blutser","Met prijsvermelding op achtercover, verder identiek."]
[null,291,"De bangeschieters",{"$f":"INDEX('Lange verhalen'!B:B,MATCH(B823,'Lange verhalen'!D:D,0))","v":222},46,"oude\nformaat","Rood","2006-05-10","1e druk","De bangeschieters","Zonder prijsvermelding achterop. Nog niet verschenen als album met nieuwe gekeurde cover. Ook verschenen met sticker en wikkel voor Stripwinkel Alex (400 exemplaren). "]
[null,null,null,null,null,null,"Rood","2006-05-10","1e druk","De bangeschieters","Met prijsvermelding op achtercover, verder identiek."]
[null,null,null,null,null,null,"Rood","2020-04-01","herdruk","Game of drones","Oorspronkelijke rode cover maar met nieuwe achtercover met vijftal in Vitamitje, synopsis en plaatjes van laatste uitgaven. Herdruk uit 2020 maar met titels van 2016."]
[null,292,"De nachtwachtbrigade",{"$f":"INDEX('Lange verhalen'!B:B,MATCH(B826,'Lange verhalen'!D:D,0))","v":223},46,"oude\nformaat","Rood","2006-09-13","1e druk","De nachtwachtbrigade","Titel niet in traditionele gele letters maar in Rembrandt stijl. Zonder prijsvermelding op achtercover. Nog niet verschenen als album met nieuwe gekeurde cover, wel verschenen als de Nederlandse avonturen (De Telegraaf)."]
[null,null,null,null,null,null,"Rood","2006-09-13","1e druk","De nachtwachtbrigade","Met prijsvermelding op achtercover, verder identiek."]
[null,293,"De kaperkoters",{"$f":"INDEX('Lange verhalen'!B:B,MATCH(B828,'Lange verhalen'!D:D,0))","v":224},46,"oude\nformaat","Rood","2006-12-06","1e druk","De kaperkoters","Zonder prijsvermelding op achtercover. Ook tijdelijk aangeboden met als optie een Suske en Wiske zonnescherm van De Texasrakkers (2009)."]
[null,null,null,null,null,null,"Rood","2006-12-06","1e druk","De kaperkoters","Met prijsvermelding op achtercover, verder identiek."]
[null,null,null,null,null,null,"Gekleurd","2010-04-01","herdruk","De rillende rots","Nieuwe cover. Achtercover met vijftal in Vitamitje, synopsis en plaatjes van laatste uitgaven."]
[null,294,"De tikkende tinkan",{"$f":"INDEX('Lange verhalen'!B:B,MATCH(B831,'Lange verhalen'!D:D,0))","v":225},46,"oude\nformaat","Rood","2007-02-28","1e druk","De tikkende tinkan","Zonder prijsvermelding op achtercover. Nog niet verschenen als album met nieuwe gekeurde cover, wel verschenen als de Nederlandse avonturen (De Telegraaf)."]
[null,null,null,null,null,null,"Rood","2007-02-28","1e druk","De tikkende tinkan","Met prijsvermelding op achtercover, verder identiek."]
[null,295,"De krasse kroko",{"$f":"INDEX('Lange verhalen'!B:B,MATCH(B833,'Lange verhalen'!D:D,0))","v":226},46,"oude\nformaat","Rood","2007-05-02","1e druk","De krasse kroko","Laatste album met cover met rode rand. Ter gelegenheid van Paul Geerts 70 jaar. Oorspronkelijke titel aangekondigd als De krasse Krokoman. 1e album met gladdere kaft. Zonder prijsvermelding op achtercover. Nog niet verschenen als album met nieuwe gekeurde cover, wel verschenen als De Strafste Strips en in Chinese uitgave."]
[null,null,null,null,null,null,"Rood","2007-05-02","1e druk","De krasse kroko","Met prijsvermelding op achtercover, verder identiek. Ook verkrijgbaar geweest met fietszadelhoes."]
[null,296,"De curieuze neuzen",{"$f":"INDEX('Lange verhalen'!B:B,MATCH(B835,'Lange verhalen'!D:D,0))","v":227},46,"oude\nformaat","Gekleurd","2007-07-04","1e druk","De curieuze neuzen","Eerste druk met schuifhoes, getiteld \"De magnifieke metamorfose\" voor de overgang van oude cover met rode rand naar volledig gekleurde cover. Eerste druk met bijlage een folder over de Suske en wiske-dag in Bokrijk en Enkhuizen. Achterkant titelpagina met reclame voor www.kidcity.be. Vanaf dit album hebben alle albums in 1e druk de achtercover met vijftal in Vitamitje, synopsis en plaatjes van laatste uitgaven."]
[null,297,"De joviale Gille",{"$f":"INDEX('Lange verhalen'!B:B,MATCH(B836,'Lange verhalen'!D:D,0))","v":228},46,"oude\nformaat","Gekleurd","2007-10-10","1e druk","De curieuze neuzen","Aanvankelijk is het verhaal aangekondigd met de titel De gulle Gilles. Met prijsvermelding op achtercover."]
[null,298,"De elfstedenstunt",{"$f":"INDEX('Lange verhalen'!B:B,MATCH(B837,'Lange verhalen'!D:D,0))","v":229},46,"oude\nformaat","Gekleurd","2007-12-12","1e druk","De joviale Gille","Met en zonder prijsvermelding op achtercover."]
[null,299,"Het babbelende bad",{"$f":"INDEX('Lange verhalen'!B:B,MATCH(B838,'Lange verhalen'!D:D,0))","v":230},46,"oude\nformaat","Gekleurd","2008-03-12","1e druk","De elfstedenstunt","Met en zonder prijsvermelding op achtercover.  Ook verkrijgbaar geweest met ingesealde 'gratis flitsende fietszadelhoes' van Suske en Wiske."]
[null,300,"Het machtige monument",{"$f":"INDEX('Lange verhalen'!B:B,MATCH(B839,'Lange verhalen'!D:D,0))","v":231},46,"oude\nformaat","Gekleurd","2008-06-23","1e druk","Het babbelende bad","Met vignet '300' op de cover. Oorspronkelijke titel 'De dansende dozen'. Ook verkrijgbaar geweest met ingesealde 'gratis flitsende fietszadelhoes' van Suske en Wiske."]
[null,301,"De dartele draak",{"$f":"INDEX('Lange verhalen'!B:B,MATCH(B840,'Lange verhalen'!D:D,0))","v":232},46,"oude\nformaat","Gekleurd","2008-09-10","1e druk","Het machtige monument","Ook verkrijgbaar geweest met ingesealde 'gratis flitsende fietszadelhoes' van Suske en Wiske."]
[null,302,"De sterrensteen",{"$f":"INDEX('Lange verhalen'!B:B,MATCH(B841,'Lange verhalen'!D:D,0))","v":234},46,"oude\nformaat","Gekleurd","2008-12-10","1e druk","De dartele draak","Letters van logo Standaard Uitgeverij zijn groen i.p.v wit onderaan op frontcover. Ook verkrijgbaar geweest met ingesealde 'gratis flitsende fietszadelhoes' van Suske en Wiske."]
[null,303,"De knikkende knoken",{"$f":"INDEX('Lange verhalen'!B:B,MATCH(B842,'Lange verhalen'!D:D,0))","v":233},46,"oude\nformaat","Gekleurd","2009-02-18","1e druk","De sterrensteen","Ook verkrijgbaar geweest met ingesealde 'gratis flitsende fietszadelhoes' van Suske en Wiske."]
[null,null,null,null,null,null,"Gekleurd, rode rand","2022-05-01","herdruk","De maffe markies","Nieuwe cover met links rode rand. Achtercover rood met 5 rijen titels in witte letters."]
[null,304,"De jokkende joker",{"$f":"INDEX('Lange verhalen'!B:B,MATCH(B844,'Lange verhalen'!D:D,0))","v":235},46,"oude\nformaat","Gekleurd","2009-05-20","1e druk","De knikkende knoken","Naar een idee van de winnaar van de wedstrijd 'De lachende lezer'. Ook verkrijgbaar geweest met ingesealde 'gratis flitsende fietszadelhoes' van Suske en Wiske."]
[null,305,"De tijdbobijn",{"$f":"INDEX('Lange verhalen'!B:B,MATCH(B845,'Lange verhalen'!D:D,0))","v":236},46,"oude\nformaat","Gekleurd","2009-08-12","1e druk","De jokkende joker","-"]
[null,null,null,null,null,null,"Gekleurd","2018-05-01","herdruk","De heldenmaker","Geen bladzijdenummers."]
[null,306,"De stralende staf",{"$f":"INDEX('Lange verhalen'!B:B,MATCH(B847,'Lange verhalen'!D:D,0))","v":238},46,"oude\nformaat","Gekleurd","2009-11-18","1e druk","De tijdbobijn","In 2011 ook met ingesealde deurhanger met Sinterklaasliedje."]
[null,307,"De rillende rots",{"$f":"INDEX('Lange verhalen'!B:B,MATCH(B848,'Lange verhalen'!D:D,0))","v":237},46,"oude\nformaat","Gekleurd","2010-02-17","1e druk","De stralende staf","Met blauw vignet 'Suske en Wiske 65 jaar' links op de front cover. Afwijkende achtercover met levende toren en synopsis van volgende verhaal 'De gamegoeroe'."]
[null,308,"De gamegoeroe",{"$f":"INDEX('Lange verhalen'!B:B,MATCH(B849,'Lange verhalen'!D:D,0))","v":239},46,"oude\nformaat","Gekleurd","2010-05-12","1e druk","De rillende rots","Met blauw vignet 'Suske en Wiske 65 jaar'  links en blauwe hoektekst voor de wedstrijd 'Win levenslang S&W' op de front cover. Onderaan logo Standaard Uitgeverij: bruin i.p.v wit."]
[null,null,null,null,null,null,"Gekleurd","2018-05-01","herdruk","De heldenmaker","Zonder vignet en hoektekst. Geen bladzijdenummers."]
[null,309,"De watersater",{"$f":"INDEX('Lange verhalen'!B:B,MATCH(B851,'Lange verhalen'!D:D,0))","v":241},46,"oude\nformaat","Gekleurd","2010-07-14","1e druk","De gamegoeroe","Met blauw vignet 'Suske en Wiske 65 jaar'  links en blauwe hoektekst voor de wedstrijd 'Win levenslang S&W' op de front cover."]
[null,310,"De halve Havelaar",{"$f":"INDEX('Lange verhalen'!B:B,MATCH(B852,'Lange verhalen'!D:D,0))","v":240},46,"oude\nformaat","Gekleurd","2010-10-06","1e druk","De watersater","Met blauw vignet 'Suske en Wiske 65 jaar'  rechts en blauwe hoektekst voor de wedstrijd 'Win levenslang S&W' op de front cover."]
[null,null,null,null,null,null,"Gekleurd, rode rand","2022-05-01","herdruk","De maffe markies","Nieuwe cover met links rode rand. Achtercover rood met 5 rijen titels in witte letters."]
[null,311,"De stuivende stad",{"$f":"INDEX('Lange verhalen'!B:B,MATCH(B854,'Lange verhalen'!D:D,0))","v":242},46,"oude\nformaat","Gekleurd","2010-12-15","1e druk","De halve Havelaar","Met blauw vignet 'Suske en Wiske 65 jaar'  rechts en blauwe hoektekst voor de wedstrijd 'Win levenslang S&W' op de front cover. Ook verkrijgbaar (tegen meerprijs), met bijlage luisterstrip van De stuivende stad op CD-rom ."]
[null,312,"De zappende ziel",{"$f":"INDEX('Lange verhalen'!B:B,MATCH(B855,'Lange verhalen'!D:D,0))","v":244},46,"oude\nformaat","Gekleurd","2011-03-09","1e druk","De stuivende stad","-"]
[null,313,"De kwakende queen",{"$f":"INDEX('Lange verhalen'!B:B,MATCH(B856,'Lange verhalen'!D:D,0))","v":243},46,"oude\nformaat","Gekleurd","2011-06-22","1e druk","De zappende ziel","Eerste druk met sticker: \"Win een gezinstrip naar Londen\" op de cover."]
[null,314,"Het lijdende Leiden",{"$f":"INDEX('Lange verhalen'!B:B,MATCH(B857,'Lange verhalen'!D:D,0))","v":245},46,"oude\nformaat","Gekleurd","2011-09-14","1e druk","De kwakende queen","Vanaf album nummer 314 met QR-code onderaan op backcover."]
[null,null,null,null,null,null,"Gekleurd, rode rand","2022-05-01","herdruk","De maffe markies","Nieuwe cover met links rode rand. Achtercover rood met 5 rijen titels in witte letters."]
[null,315,"De bananenzangers",{"$f":"INDEX('Lange verhalen'!B:B,MATCH(B859,'Lange verhalen'!D:D,0))","v":246},46,"oude\nformaat","Gekleurd","2011-11-27","1e druk","Het lijdende Leiden","-"]
[null,316,"Krimsonia",{"$f":"INDEX('Lange verhalen'!B:B,MATCH(B860,'Lange verhalen'!D:D,0))","v":247},46,"oude\nformaat","Gekleurd","2012-02-18","1e druk","De bananenzangers","-"]
[null,317,"Het bizarre blok",{"$f":"INDEX('Lange verhalen'!B:B,MATCH(B861,'Lange verhalen'!D:D,0))","v":248},46,"oude\nformaat","Gekleurd","2012-05-09","1e druk","Krimsonia","-"]
[null,318,"De suikerslaven",{"$f":"INDEX('Lange verhalen'!B:B,MATCH(B862,'Lange verhalen'!D:D,0))","v":250},46,"oude\nformaat","Gekleurd","2012-08-08","1e druk","Het bizarre blok","-"]
[null,319,"Suske de Rat",{"$f":"INDEX('Lange verhalen'!B:B,MATCH(B863,'Lange verhalen'!D:D,0))","v":249},46,"oude\nformaat","Gekleurd","2012-10-10","1e druk","De suikerslaven","-"]
[null,320,"De tirannieke tor",{"$f":"INDEX('Lange verhalen'!B:B,MATCH(B864,'Lange verhalen'!D:D,0))","v":251},46,"oude\nformaat","Gekleurd","2012-11-13","1e druk","Suske de Rat","-"]
[null,null,null,null,null,null,"Gekleurd, rode rand","2022-05-01","herdruk","De maffe markies","Nieuwe cover met links rode rand. Achtercover rood met 5 rijen titels in witte letters."]
[null,321,"Het ijzeren duel",{"$f":"INDEX('Lange verhalen'!B:B,MATCH(B866,'Lange verhalen'!D:D,0))","v":252},46,"oude\nformaat","Gekleurd","2013-03-20","1e druk","De tirannieke tor","-"]
[null,null,null,null,null,null,"Gekleurd, rode rand","2022-05-01","herdruk","De maffe markies","Nieuwe cover met links rode rand. Achtercover rood met 5 rijen titels in witte letters."]
[null,322,"De vliegende rivier",{"$f":"INDEX('Lange verhalen'!B:B,MATCH(B868,'Lange verhalen'!D:D,0))","v":253},46,"oude\nformaat","Gekleurd","2013-06-19","1e druk","Het ijzeren duel","Eerste druk met vermelding van donatie aan het goede doel (kinder kanker)."]
[null,null,null,null,null,null,"Gekleurd, rode rand","2022-05-01","herdruk","De maffe markies","Nieuwe cover met links rode rand. Achtercover rood met 5 rijen titels in witte letters."]
[null,323,"Barabas de balorige",{"$f":"INDEX('Lange verhalen'!B:B,MATCH(B870,'Lange verhalen'!D:D,0))","v":254},46,"oude\nformaat","Gekleurd","2013-09-11","1e druk","De vliegende rivier","-"]
[null,324,"De royale ruiter",{"$f":"INDEX('Lange verhalen'!B:B,MATCH(B871,'Lange verhalen'!D:D,0))","v":255},46,"oude\nformaat","Gekleurd","2013-12-11","1e druk","Barabas de balorige","-"]
[null,325,"Het schrikkelspook",{"$f":"INDEX('Lange verhalen'!B:B,MATCH(B872,'Lange verhalen'!D:D,0))","v":256},46,"oude\nformaat","Gekleurd","2014-02-12","1e druk","De royale ruiter","-"]
[null,326,"De zwarte tulp",{"$f":"INDEX('Lange verhalen'!B:B,MATCH(B873,'Lange verhalen'!D:D,0))","v":257},46,"oude\nformaat","Gekleurd","2014-06-17","1e druk","Het schrikkelspook","Eerste druk met flyer S&W avonturendagen Plopsa Coo."]
[null,327,"Het gebroken dorp",{"$f":"INDEX('Lange verhalen'!B:B,MATCH(B874,'Lange verhalen'!D:D,0))","v":258},46,"oude\nformaat","Gekleurd","2014-09-10","1e druk","De zwarte tulp","-"]
[null,328,"Sterrenrood",{"$f":"INDEX('Lange verhalen'!B:B,MATCH(B875,'Lange verhalen'!D:D,0))","v":259},46,"oude\nformaat","Gekleurd","2014-12-09","1e druk","Het gebroken dorp","-"]
[null,329,"Suskewiet",{"$f":"INDEX('Lange verhalen'!B:B,MATCH(B876,'Lange verhalen'!D:D,0))","v":260},46,"oude\nformaat","Gekleurd","2015-03-18","1e druk","Sterrenrood","-"]
[null,330,"De fabuleuze freak",{"$f":"INDEX('Lange verhalen'!B:B,MATCH(B877,'Lange verhalen'!D:D,0))","v":261},46,"oude\nformaat","Gekleurd","2015-06-16","1e druk","Suskewiet","-"]
[null,331,"Sooi en Sientje",{"$f":"INDEX('Lange verhalen'!B:B,MATCH(B878,'Lange verhalen'!D:D,0))","v":262},46,"oude\nformaat","Gekleurd","2015-09-09","1e druk","De fabuleuze freak","-"]
[null,332,"Het verloren verleden",{"$f":"INDEX('Lange verhalen'!B:B,MATCH(B879,'Lange verhalen'!D:D,0))","v":263},46,"oude\nformaat","Gekleurd","2015-12-02","1e druk","Sooi en Sientje","-"]
[null,333,"De bibberende Bosch",{"$f":"INDEX('Lange verhalen'!B:B,MATCH(B880,'Lange verhalen'!D:D,0))","v":264},46,"oude\nformaat","Gekleurd","2016-02-09","1e druk","Het verloren verleden","Oorspronkelijke titel 'De bangelijke Bosch', maar gewijzigd omdat 'bangelijk' te Vlaams was. Ook verschenen als Jherominus editie, zie gelegenheids uitgaven."]
[null,334,"Expeditie Robikson\nTaxi Tata","KVH 53\nKVH 51",{"$f":"2*22","v":44},"oude\nformaat","Gekleurd","04/16","1e druk","De bibberende Bosch","De verhalen van elk 22 pagina's zijn gepubliceerd in Troskompas."]
[null,335,"Het lederen monster",{"$f":"INDEX('Lange verhalen'!B:B,MATCH(B882,'Lange verhalen'!D:D,0))","v":265},46,"oude\nformaat","Gekleurd","2016-06-07","1e druk","Expeditie Robikson / Taxi Tata","-"]
[null,null,null,null,null,null,"Gekleurd, rode rand","2022-05-01","herdruk","De maffe markies","Nieuwe cover met links rode rand. Achtercover rood met 5 rijen titels in witte letters."]
[null,336,"Het omgekeerde land",{"$f":"INDEX('Lange verhalen'!B:B,MATCH(B884,'Lange verhalen'!D:D,0))","v":266},46,"oude\nformaat","Gekleurd","2016-09-06","1e druk","Het lederen monster","Met eindknipoog door Suske."]
[null,null,null,null,null,null,"Gekleurd, rode rand","2022-05-01","herdruk","De maffe markies","Nieuwe cover met links rode rand. Achtercover rood met 5 rijen titels in witte letters."]
[null,337,"Game of drones",{"$f":"INDEX('Lange verhalen'!B:B,MATCH(B886,'Lange verhalen'!D:D,0))","v":267},46,"oude\nformaat","Gekleurd","2016-12-06","1e druk","Het omgekeerde land","-"]
[null,338,"De heldenmaker",{"$f":"INDEX('Lange verhalen'!B:B,MATCH(B887,'Lange verhalen'!D:D,0))","v":268},46,"oude\nformaat","Gekleurd","2017-02-15","1e druk","Game of drones","Laatste album in oude formaat. Het verhaal sluit af met een betovering van de striphelden. Met een vraagteken in het slotplaatje werd de lezer alvast nieuwsgierig gemaakt voor de veranderingen die in de vernieuwde verhalen te zien zouden zijn."]
[null,339,"De planeetvreter",{"$f":"INDEX('Lange verhalen'!B:B,MATCH(B888,'Lange verhalen'!D:D,0))","v":269},46,"nieuwe A4\nformaat\n21-29.7 cm","Gekleurd, rode rand","2017-05-17","1e druk","-","Eerste album dat in het nieuwe grotere formaat is uitgegeven, en S&W in nieuwe stijl. Andere achtercover, met nieuwe levende toren in het midden en kleine afbeelding uit het album links onder."]
[null,340,"Mami Wata",{"$f":"INDEX('Lange verhalen'!B:B,MATCH(B889,'Lange verhalen'!D:D,0))","v":270},46,"nieuwe formaat","Gekleurd, rode rand","2017-06-14","1e druk","-","Achtercover, met nieuwe levende toren in het midden en kleine afbeelding uit het album links onder."]
[null,341,"Het Monamysterie",{"$f":"INDEX('Lange verhalen'!B:B,MATCH(B890,'Lange verhalen'!D:D,0))","v":271},46,"nieuwe formaat","Gekleurd, rode rand","2017-09-12","1e druk","-","Achtercover, met nieuwe levende toren in het midden en kleine afbeelding uit het album links onder."]
[null,342,"De zwarte zwevers",{"$f":"INDEX('Lange verhalen'!B:B,MATCH(B891,'Lange verhalen'!D:D,0))","v":272},46,"nieuwe formaat","Gekleurd, rode rand","2017-11-08","1e druk","-","Achtercover, met nieuwe levende toren in het midden en kleine afbeelding uit het album links onder. De vernoeuwde levende toren is naar de binnenkaft verschoven."]
[null,343,"SOS Snowbell",{"$f":"INDEX('Lange verhalen'!B:B,MATCH(B892,'Lange verhalen'!D:D,0))","v":273},46,"nieuwe formaat","Gekleurd, rode rand","2018-03-14","1e druk","-","Eerste verhaal zonder aankondiging in de krant. Vanaf dit album vernieuwde cover met cirkelvormig plaatje op achtercover en korte inhoudsbeschrijving. "]
[null,344,"BRBS 2.0",{"$f":"INDEX('Lange verhalen'!B:B,MATCH(B893,'Lange verhalen'!D:D,0))","v":274},46,"nieuwe formaat","Gekleurd, rode rand","2018-06-13","1e druk","-","-"]
[null,345,"Operatie Siggy",{"$f":"INDEX('Lange verhalen'!B:B,MATCH(B894,'Lange verhalen'!D:D,0))","v":275},46,"nieuwe formaat","Gekleurd, rode rand","2018-09-12","1e druk","-","-"]
[null,346,"Chronos en Chaos",{"$f":"INDEX('Lange verhalen'!B:B,MATCH(B895,'Lange verhalen'!D:D,0))","v":276},46,"nieuwe formaat","Gekleurd, rode rand","2018-12-05","1e druk","-","-"]
[null,347,"Lambik Plastiek",{"$f":"INDEX('Lange verhalen'!B:B,MATCH(B896,'Lange verhalen'!D:D,0))","v":278},46,"nieuwe formaat","Gekleurd, rode rand","2019-03-13","1e druk","-","1e druk met 'Sea Life' op front en achtercover en bijgevoegd dossier over plastic soep."]
[null,348,"De wrede wensput",{"$f":"INDEX('Lange verhalen'!B:B,MATCH(B897,'Lange verhalen'!D:D,0))","v":277},46,"nieuwe formaat","Gekleurd, rode rand","2019-06-12","1e druk","-","-"]
[null,349,"Het lekkere lab",{"$f":"INDEX('Lange verhalen'!B:B,MATCH(B898,'Lange verhalen'!D:D,0))","v":279},46,"nieuwe formaat","Gekleurd, rode rand","2019-09-03","1e druk","-","Oorspronkelijk waren de titels \"Het lekkere labo\" (werktitel) en \"Luilekkerbeklab\" (bij aankondiging)."]
[null,350,"De nacht van de narwal",{"$f":"INDEX('Lange verhalen'!B:B,MATCH(B899,'Lange verhalen'!D:D,0))","v":280},46,"nieuwe formaat","Gekleurd, rode rand","2019-12-03","1e druk","-","-"]
[null,351,"De verloren Van Eyck",{"$f":"INDEX('Lange verhalen'!B:B,MATCH(B900,'Lange verhalen'!D:D,0))","v":281},46,"nieuwe formaat","Gekleurd, rode rand","2020-02-11","1e druk","-","-"]
[null,352,"Team Krimson",{"$f":"INDEX('Lange verhalen'!B:B,MATCH(B901,'Lange verhalen'!D:D,0))","v":283},46,"nieuwe formaat","Gekleurd, rode rand","2020-06-16","1e druk","-","Oorspronkelijke titel 'De blanke bergen', later ook zo uitgegeven in speciale versie voor Blankenberge 750 jaar. Met op binnenkaft vermelding S&W 75 jaar."]
[null,353,"Het gewiste Wiske",{"$f":"INDEX('Lange verhalen'!B:B,MATCH(B902,'Lange verhalen'!D:D,0))","v":282},46,"nieuwe formaat","Gekleurd, rode rand","2020-08-11","1e druk","-","Met op binnenkaft vermelding S&W 75 jaar."]
[null,354,"De zwijgende Zwollem",{"$f":"INDEX('Lange verhalen'!B:B,MATCH(B903,'Lange verhalen'!D:D,0))","v":284},46,"nieuwe formaat","Gekleurd, rode rand","2020-10-06","1e druk","-","Met op binnenkaft vermelding S&W 75 jaar."]
[null,355,"De scheve Schot",{"$f":"INDEX('Lange verhalen'!B:B,MATCH(B904,'Lange verhalen'!D:D,0))","v":285},46,"nieuwe formaat","Gekleurd, rode rand","2020-12-01","1e druk","-","Met op binnenkaft vermelding S&W 75 jaar."]
[null,356,"De fluitende olifant",{"$f":"INDEX('Lange verhalen'!B:B,MATCH(B905,'Lange verhalen'!D:D,0))","v":287},46,"nieuwe formaat","Gekleurd, rode rand","2021-02-09","1e druk","-","Naar aanleiding van de expo op Trainworld (B)."]
[null,357,"De zalige ziener",{"$f":"INDEX('Lange verhalen'!B:B,MATCH(B906,'Lange verhalen'!D:D,0))","v":286},{"$f":"184/4","v":46},"nieuwe formaat","Gekleurd, rode rand","2021-04-07","1e druk","-","-"]
[null,358,"De drakenprinter",{"$f":"INDEX('Lange verhalen'!B:B,MATCH(B907,'Lange verhalen'!D:D,0))","v":288},46,"nieuwe formaat","Gekleurd, rode rand","2021-06-01","1e druk","-","Met optreden van Peter van Gucht en 'Einde bord dragers' Thijs Wessels (L) en Tom Wilequet."]
[null,359,"De naamloze 9",{"$f":"INDEX('Lange verhalen'!B:B,MATCH(B908,'Lange verhalen'!D:D,0))","v":289},46,"nieuwe formaat","Gekleurd, rode rand","2021-09-01","1e druk","-","-"]
[null,360,"De drijvende dokters",{"$f":"INDEX('Lange verhalen'!B:B,MATCH(B909,'Lange verhalen'!D:D,0))","v":290},46,"nieuwe formaat","Gekleurd, rode rand","2021-11-23","1e druk","-","-"]
[null,361,"De grot van Gregorius",{"$f":"INDEX('Lange verhalen'!B:B,MATCH(B910,'Lange verhalen'!D:D,0))","v":291},{"$f":"184/4","v":46},"nieuwe formaat","Gekleurd, rode rand","2022-02-01","1e druk","-","-"]
[null,362,"De kale kroon",{"$f":"INDEX('Lange verhalen'!B:B,MATCH(B911,'Lange verhalen'!D:D,0))","v":292},46,"nieuwe formaat","Gekleurd, rode rand","2022-04-05","1e druk","-","-"]
[null,363,"De maffe markies",{"$f":"INDEX('Lange verhalen'!B:B,MATCH(B912,'Lange verhalen'!D:D,0))","v":293},46,"nieuwe formaat","Gekleurd, rode rand","2022-05-31","1e druk","-","-"]
[null,364,"De gulden krijger",{"$f":"INDEX('Lange verhalen'!B:B,MATCH(B913,'Lange verhalen'!D:D,0))","v":294},46,"nieuwe formaat","Gekleurd, rode rand","2022-09-07","1e druk","-","-"]
[null,365,"De boze boleet",{"$f":"INDEX('Lange verhalen'!B:B,MATCH(B914,'Lange verhalen'!D:D,0))","v":295},46,"nieuwe formaat","Gekleurd, rode rand","2022-10-26","1e druk","-","Laatste verhaal in De Standaard in gedrukte vorm."]
[null,366,"De geplaagde Plantijn",{"$f":"INDEX('Lange verhalen'!B:B,MATCH(B915,'Lange verhalen'!D:D,0))","v":296},46,"nieuwe formaat","Gekleurd, rode rand","2023-01-11","1e druk","-","Naar aanleiding van de tv-serie 'Het verhaal van Vlanderen', VRT 2023. \nOorspronkelijke titel 'De geplaagde Plantin'.  "]
[null,367,"De harteloze Hein",{"$f":"INDEX('Lange verhalen'!B:B,MATCH(B916,'Lange verhalen'!D:D,0))","v":297},46,"nieuwe formaat","Gekleurd, rode rand","2023-03-08","1e druk","-","-"]
[null,368,"De Rookburgh Rookies",{"$f":"INDEX('Lange verhalen'!B:B,MATCH(B917,'Lange verhalen'!D:D,0))","v":298},46,"nieuwe formaat","Gekleurd, rode rand","2023-05-03","1e druk","-","-"]
[null,369,"De Boterhammenman",{"$f":"INDEX('Lange verhalen'!B:B,MATCH(B918,'Lange verhalen'!D:D,0))","v":299},46,"nieuwe formaat","Gekleurd, rode rand","2023-06-21","1e druk","-","-"]
[null,370,"De krijtkampioen",{"$f":"INDEX('Lange verhalen'!B:B,MATCH(B919,'Lange verhalen'!D:D,0))","v":300},46,"nieuwe formaat","Gekleurd, rode rand","2023-09-06","1e druk","-","Laatste verhaal van Luc Morjeau."]
[null,371,"De zoevende zusters",301,46,"nieuwe formaat","Gekleurd, rode rand","2023-09-15","1e druk","-","Eerste verhaal met Wout Schoonis als hoofdtekenaar. Vanaf dit album geen titelblad met plaatje meer, verhaal begint direct."]
[null,372,"Bolhoed Bik",302,46,"nieuwe formaat","Gekleurd, rode rand","2024-01-31","1e druk","-","-"]
[null,373,"Klaartje wakker",303,38,"nieuwe formaat","Gekleurd, rode rand","2024-04-17","1e druk","-","Aantal pagina's verder gereduceerd, frequentie naar 5 per jaar."]
[null,374,"De keizerkop",304,38,"nieuwe formaat","Gekleurd, rode rand","2024-08-07","1e druk","-","-"]
[null,375,"De schakende schim",305,38,"nieuwe formaat","Gekleurd, rode rand","2024-10-01",null,"-","-"]
[]
[]
[null," herkennen van eerste drukken van de vierkleuren reeks algemene opmerkingen "]
[]
[]
[null,null,"Achterkant omslag"]
[null,null,"Eerste drukken van vierkleuren reeks zijn vooral te herkennen aan de datumcijfers achterop de omslag, die onderaan staan in een vierkant zwart kader:"]
[null,null,"Van maart 1967 tot februari 1993 (nrs 67 t/m nrs 235) zijn dat drie cijfers (bijv. 1/4/1975). Het tweede en derde cijfer geven maand en jaar van uitgifte aan. Het eerste cijfer geeft echter niet de datum aan, maar (op enkele uitzonderingen na) de druk."]
[null,null,"De uitzonderingen zijn bijvoorbeeld (voor complete lijst, zie hierboven):"]
[null,null,"nrs 101, 102 en 105 t/m 110 (hier staat 2 i.p.v. 1; bijv 2/1/70)"]
[null,null,"nr 164 (De raap van Rubens: hier staat 20/06/1977)"]
[null,null,"nr 185 (De botte botaknol: hier zijn twee eerste drukken van bekend: 1/11/1981 en 16/11/1981)"]
[null,null,"Vanaf mei 1993 (nr 236) wordt op de achterkant de datum in twee cijfers aangegeven. Het eerste cijfer (dat de druk aangeeft) wordt weggelaten."]
[null,null,"De eerste druk is dan vooral te herkennen doordat de laatste titel, die staat aangegeven de titel van het album is. Dit geldt overigens al voor alle albums vanaf nr 150."]
[]
[null,null,"Voorkant omslag"]
[null,null,"nrs 67 t/m 74 : titel onder de plaat, geen vermelding 'Standaard Uitgeverij', nummer linksboven"]
[null,null,"nrs 75 t/m 81 : titel boven de plaat, geen vermelding 'Standaard Uitgeverij', nummer linksboven"]
[null,null,"nrs 82 t/m 85 : titel boven de plaat, wel 'Standaard Uitgeverij', nummer linksboven"]
[null,null,"nrs 86 t/m 123 : titel boven de plaat, wel 'Standaard Uitgeverij', nummer rechtsboven"]
[null,null,"vanaf nr 124 : titel boven de plaat, wel 'Standaard Uitgeverij', nummer linksboven"]
[]
[null,null,"Geplastificeerd / Ongeplastifceerd / Gecoated"]
[null,null,"nrs 67 t/m 81 : omslag zowel geplastificeerd als ongeplastificeerd uitgegeven"]
[null,null,"nrs 82 t/m 153 : alleen geplastificeerd uitgegeven"]
[null,null,"vanaf nr 154 : ongeplastificeerd (maar wel gecoated) uitgegeven"]
[]
[null,null,"Speciale kenmerken"]
[null,null,"nrs 200 t/m 212 : eerste druk stempel linksboven op voorkant omslag"]
[null,null,"nrs 213 en 215 t/m 217 : met stempel “Willy Vandersteen 75”"]
[null,null,"nrs 243 t/m 246 : met vignet \"1945-1995 : 50\" (50 jaar Suske en Wiske)"]
[]
[]
[null,"bronnen"]
[]
[]
["Deze lijst is zo zogvuldig mogelijk samengestend met behulp van onderstaande lijsten en bronnen:",null,null,null,null,null,null,null,null,null,"Door:"]
["-",null,"Lastdodo",null,null,null,null,null,null,null," - Arjen Leine"]
["-",null,"De Stripkatalogus, Hans Matla (9e editie)"]
["-",null,"Suske en Wiske op het www"]
["-",null,"De Fameuze Fanclub"]
["-",null,"De totale tabel",null,null,null,null,null,null,null,"Voor correcties, vragen of opmerkingen:"]
["-",null,"Wikipedia",null,null,null,null,null,null,null,"Graag contact opnemen met "]
["-",null,"Wikiwand",null,null,null,null,null,null,null,"detammetumi@gmail.com"]
["-",null,"Weetje van de Week, Kartoen Suske en Wiske Shop"]

{"sheet":"Rode Reeks Bijlagen","index":7,"n_rows":220,"n_cols":6,"rows_kept":220,"cut":false,"hidden":false,"merged":[[26,2,26,3],[27,2,27,3],[28,2,28,3],[19,2,19,3],[20,2,20,3],[21,2,21,3],[22,2,22,3],[23,2,23,3],[24,2,24,3],[14,2,14,3],[15,2,15,3],[16,2,16,3],[17,2,17,3],[25,2,25,3],[9,2,9,3],[10,2,10,3],[11,2,11,3],[12,2,12,3],[13,2,13,3],[1,1,2,5],[33,1,34,1],[33,2,34,2],[33,4,34,4],[33,5,34,5],[33,3,34,3],[3,2,4,3],[5,2,5,3],[6,2,6,3],[31,1,32,5],[3,1,4,1],[3,4,4,4],[3,5,4,5],[18,2,18,3],[7,2,7,3],[8,2,8,3]]}
[]
[null,"uitgaven met bijlagen bij eerste druk"]
[]
[null,"Album nr","Jaar",null,"Titel","Bijlage Rode Reeks  bij eerste uitgave van 1e druk"]
[]
[null,198,"1984-06-01",null,"De lieve Lilleham","Poster reclame en eerste deel trein poster"]
[null,202,"1985-06-01",null,"Angst op de Amsterdam","Bestelkaart poster Angst op de Amsterdam"]
[null,212,"1987-11-01",null,"De edele elfen","Bijlage luisterstrip reclame"]
[null,228,"1991-04-01",null,"Het wondere Wolfje","Bijlage “Het wondere Wolfje nader bekeken” boekje"]
[null,229,"1991-09-01",null,"Tazuur en Tazijn","Albert Hein badlaken reclame folder"]
[null,237,"1993-09-01",null,"De snikkende sirene","Eerste SW weekblad"]
[null,241,"1994-09-01",null,"Het Aruba-dossier","Gele antwoordkaart SW weekblad"]
[null,242,"1994-11-01",null,"Tokapua Toraja","Antwoordkaart SW weekblad en spaarkaart De Dortenaar"]
[null,244,"1995-05-01",null,"De begeerde berg","Folder musical en krimson corectiekaartje"]
[null,245,"1995-09-01",null,"De 7 schaken","Extra SW weekblad"]
[null,249,"1996-09-01",null,"De razende race","Lambik vouwfiguur"]
[null,257,"1998-09-01",null,"De rebelse Reinaert","SW clubblad 1"]
[null,260,"1999-05-01",null,"De bonte bollen","SW clubblad 2"]
[null,261,"1999-09-01",null,"Het berenbeklag","SW clubblad 3"]
[null,262,"1999-12-01",null,"Het enge eiland","Verrassings CD-rom 1"]
[null,264,"2000-05-08",null,"Jeanne Panne","Verrassings CD-rom 2"]
[null,267,"2000-11-29",null,"Lilli Natal","CD-rom 3 "]
[null,269,"2001-05-09",null,"De stugge Stuyvesant","CD-rom De dappere duinduikers"]
[null,274,"2002-04-24",null,"De fleurige Floriade","SW weekblad 14 en spokenjagers musical folder"]
[null,276,"2002-10-14",null,"In de ban van de Milt","CD-rom De snoezige Snowijt"]
[null,284,"2004-09-01",null,"Kaapse kaalkoppen","Mini-album en schooletiketten"]
[null,289,"2005-12-07",null,"De kaduke klonen","SW agenda 2006"]
[null,296,"2007-07-04",null,"De curieuze neuzen","Cover De magnifieke metamorfose, start nieuwe voorkaft stijl"]
[null,311,"2010-12-15",null,"De stuivende stad","luisterstrip-CD De stuivende stad, in Nederlands en Vlaams"]
[]
[]
[null,"uitgaven met bijlagen bij herdruk"]
[]
[null,"Album nr","Jaar","Album\nuitgave","Titel","Bijlage rode Reeks"]
[]
[null,102,"1994-01-01","1994-02-01",{"$f":"INDEX('Rode Reeks 4kleuren'!C:C,MATCH(B36,'Rode Reeks 4kleuren'!B:B,0))","v":"De dromendiefstal"},"op de cover blauwe MULTI PASS sticker"]
[null,164,"1994-01-01","2000-06-01",{"$f":"INDEX('Rode Reeks 4kleuren'!C:C,MATCH(B37,'Rode Reeks 4kleuren'!B:B,0))","v":"De raap van Rubens"},"op de cover blauwe MULTI PASS sticker"]
[null,165,"1994-01-01","1994-09-01",{"$f":"INDEX('Rode Reeks 4kleuren'!C:C,MATCH(B38,'Rode Reeks 4kleuren'!B:B,0))","v":"De sputterende spuiter"},"op de cover blauwe MULTI PASS sticker"]
[null,187,"1994-01-01","1994-09-01",{"$f":"INDEX('Rode Reeks 4kleuren'!C:C,MATCH(B39,'Rode Reeks 4kleuren'!B:B,0))","v":"De droevige duif"},"op de cover blauwe MULTI PASS sticker"]
[null,206,"1994-01-01","1994-09-01",{"$f":"INDEX('Rode Reeks 4kleuren'!C:C,MATCH(B40,'Rode Reeks 4kleuren'!B:B,0))","v":"De bonkige baarden"},"op de cover blauwe MULTI PASS sticker"]
[null,212,"1994-01-01","1994-09-01",{"$f":"INDEX('Rode Reeks 4kleuren'!C:C,MATCH(B41,'Rode Reeks 4kleuren'!B:B,0))","v":"De edele elfen"},"op de cover blauwe MULTI PASS sticker"]
[null,222,"1994-01-01","1994-09-01",{"$f":"INDEX('Rode Reeks 4kleuren'!C:C,MATCH(B42,'Rode Reeks 4kleuren'!B:B,0))","v":"De bezeten bezitter"},"op de cover blauwe MULTI PASS sticker"]
[null,226,"1994-01-01","1994-09-01",{"$f":"INDEX('Rode Reeks 4kleuren'!C:C,MATCH(B43,'Rode Reeks 4kleuren'!B:B,0))","v":"De mysterieuze mijn"},"op de cover blauwe MULTI PASS sticker"]
[null,227,"1994-01-01","1994-09-01",{"$f":"INDEX('Rode Reeks 4kleuren'!C:C,MATCH(B44,'Rode Reeks 4kleuren'!B:B,0))","v":"Het Witte Wief"},"op de cover blauwe MULTI PASS sticker"]
[null,237,"1994-01-01","1993-09-01",{"$f":"INDEX('Rode Reeks 4kleuren'!C:C,MATCH(B45,'Rode Reeks 4kleuren'!B:B,0))","v":"De snikkende sirene"},"op de cover blauwe MULTI PASS sticker"]
[null,240,"1994-01-01","1994-05-01",{"$f":"INDEX('Rode Reeks 4kleuren'!C:C,MATCH(B46,'Rode Reeks 4kleuren'!B:B,0))","v":"De pottenproever"},"op de cover blauwe MULTI PASS sticker"]
[null,241,"1994-01-01","1994-09-01",{"$f":"INDEX('Rode Reeks 4kleuren'!C:C,MATCH(B47,'Rode Reeks 4kleuren'!B:B,0))","v":"Het Aruba-dossier"},"op de cover blauwe MULTI PASS sticker"]
[null,67,"1996-01-01","1996-02-01",{"$f":"INDEX('Rode Reeks 4kleuren'!C:C,MATCH(B48,'Rode Reeks 4kleuren'!B:B,0))","v":"De poenschepper"},"Kartonnen opzetfiguur Sidonia, behorend bij labo Barabas"]
[null,69,"1996-01-01","1996-02-01",{"$f":"INDEX('Rode Reeks 4kleuren'!C:C,MATCH(B49,'Rode Reeks 4kleuren'!B:B,0))","v":"De nerveuze Nerviers"},"Kartonnen opzetfiguur Sidonia, behorend bij labo Barabas"]
[null,72,"1996-01-01","1995-06-01",{"$f":"INDEX('Rode Reeks 4kleuren'!C:C,MATCH(B50,'Rode Reeks 4kleuren'!B:B,0))","v":"Jeromba de Griek"},"Kartonnen opzetfiguur Sidonia, behorend bij labo Barabas"]
[null,75,"1996-01-01","1996-02-01",{"$f":"INDEX('Rode Reeks 4kleuren'!C:C,MATCH(B51,'Rode Reeks 4kleuren'!B:B,0))","v":"Het mini mierennest"},"Kartonnen opzetfiguur Sidonia, behorend bij labo Barabas"]
[null,76,"1996-01-01","1996-02-01",{"$f":"INDEX('Rode Reeks 4kleuren'!C:C,MATCH(B52,'Rode Reeks 4kleuren'!B:B,0))","v":"De ijzeren schelvis"},"Kartonnen opzetfiguur Sidonia, behorend bij labo Barabas"]
[null,79,"1996-01-01","1996-02-01",{"$f":"INDEX('Rode Reeks 4kleuren'!C:C,MATCH(B53,'Rode Reeks 4kleuren'!B:B,0))","v":"De zeven snaren"},"Kartonnen opzetfiguur Sidonia, behorend bij labo Barabas"]
[null,80,"1996-01-01","1996-02-01",{"$f":"INDEX('Rode Reeks 4kleuren'!C:C,MATCH(B54,'Rode Reeks 4kleuren'!B:B,0))","v":"De brullende berg"},"Kartonnen opzetfiguur Jerom, behorend bij labo Barabas"]
[null,84,"1996-01-01","1996-05-01",{"$f":"INDEX('Rode Reeks 4kleuren'!C:C,MATCH(B55,'Rode Reeks 4kleuren'!B:B,0))","v":"De stemmenrover"},"Kartonnen opzetfiguur Jerom, behorend bij labo Barabas"]
[null,86,"1996-01-01","1995-06-01",{"$f":"INDEX('Rode Reeks 4kleuren'!C:C,MATCH(B56,'Rode Reeks 4kleuren'!B:B,0))","v":"Tedere Tronica"},"Kartonnen opzetfiguur Jerom, behorend bij labo Barabas"]
[null,87,"1996-01-01","1996-02-01",{"$f":"INDEX('Rode Reeks 4kleuren'!C:C,MATCH(B57,'Rode Reeks 4kleuren'!B:B,0))","v":"De vliegende aap"},"Kartonnen opzetfiguur Jerom, behorend bij labo Barabas"]
[null,88,"1996-01-01","1995-05-01",{"$f":"INDEX('Rode Reeks 4kleuren'!C:C,MATCH(B58,'Rode Reeks 4kleuren'!B:B,0))","v":"De tamtamkloppers"},"Kartonnen opzetfiguur Jerom, behorend bij labo Barabas"]
[null,90,"1996-01-01","1996-02-01",{"$f":"INDEX('Rode Reeks 4kleuren'!C:C,MATCH(B59,'Rode Reeks 4kleuren'!B:B,0))","v":"Sjeik El Rojenbiet"},"Kartonnen opzetfiguur Jerom, behorend bij labo Barabas"]
[null,94,"1996-01-01","1996-02-01",{"$f":"INDEX('Rode Reeks 4kleuren'!C:C,MATCH(B60,'Rode Reeks 4kleuren'!B:B,0))","v":"De sissende sampam"},"Kartonnen opzetfiguur Suske, behorend bij labo Barabas"]
[null,101,"1996-01-01","1996-05-01",{"$f":"INDEX('Rode Reeks 4kleuren'!C:C,MATCH(B61,'Rode Reeks 4kleuren'!B:B,0))","v":"De kaartendans"},"Kartonnen opzetfiguur Suske, behorend bij labo Barabas"]
[null,103,"1996-01-01","1996-02-01",{"$f":"INDEX('Rode Reeks 4kleuren'!C:C,MATCH(B62,'Rode Reeks 4kleuren'!B:B,0))","v":"De klankentapper"},"Kartonnen opzetfiguur Suske, behorend bij labo Barabas"]
[null,104,"1996-01-01","1995-05-01",{"$f":"INDEX('Rode Reeks 4kleuren'!C:C,MATCH(B63,'Rode Reeks 4kleuren'!B:B,0))","v":"De wilde weldoener"},"Kartonnen opzetfiguur Suske, behorend bij labo Barabas"]
[null,106,"1996-01-01","1996-05-01",{"$f":"INDEX('Rode Reeks 4kleuren'!C:C,MATCH(B64,'Rode Reeks 4kleuren'!B:B,0))","v":"De charmante koffiepot"},"Kartonnen opzetfiguur Suske, behorend bij labo Barabas"]
[null,107,"1996-01-01","1995-06-01",{"$f":"INDEX('Rode Reeks 4kleuren'!C:C,MATCH(B65,'Rode Reeks 4kleuren'!B:B,0))","v":"De sprietatoom"},"Kartonnen opzetfiguur Suske, behorend bij labo Barabas"]
[null,108,"1996-01-01","1996-02-01",{"$f":"INDEX('Rode Reeks 4kleuren'!C:C,MATCH(B66,'Rode Reeks 4kleuren'!B:B,0))","v":"Twee toffe totems"},"Kartonnen opzetfiguur Suske, behorend bij labo Barabas"]
[null,123,"1996-01-01","1995-06-01",{"$f":"INDEX('Rode Reeks 4kleuren'!C:C,MATCH(B67,'Rode Reeks 4kleuren'!B:B,0))","v":"De Zwarte Zwaan"},"Kartonnen opzetfiguur Suske, behorend bij labo Barabas"]
[null,126,"1996-01-01","1994-09-01",{"$f":"INDEX('Rode Reeks 4kleuren'!C:C,MATCH(B68,'Rode Reeks 4kleuren'!B:B,0))","v":"De windmakers"},"Kartonnen opzetfiguur Suske, behorend bij labo Barabas"]
[null,129,"1996-01-01","1995-06-01",{"$f":"INDEX('Rode Reeks 4kleuren'!C:C,MATCH(B69,'Rode Reeks 4kleuren'!B:B,0))","v":"Prinses Zagemeel"},"Kartonnen opzetfiguur Suske, behorend bij labo Barabas"]
[null,132,"1996-01-01","1996-03-01",{"$f":"INDEX('Rode Reeks 4kleuren'!C:C,MATCH(B70,'Rode Reeks 4kleuren'!B:B,0))","v":"De stierentemmer"},"Kartonnen opzetfiguur Suske, behorend bij labo Barabas"]
[null,133,"1996-01-01","1995-06-01",{"$f":"INDEX('Rode Reeks 4kleuren'!C:C,MATCH(B71,'Rode Reeks 4kleuren'!B:B,0))","v":"De Tuf-Tuf-club"},"Kartonnen opzetfiguur Suske, behorend bij labo Barabas"]
[null,134,"1996-01-01","1996-03-01",{"$f":"INDEX('Rode Reeks 4kleuren'!C:C,MATCH(B72,'Rode Reeks 4kleuren'!B:B,0))","v":"De witte uil"},"Kartonnen opzetfiguur Barabas, behorend bij labo Barabas"]
[null,136,"1996-01-01","1996-03-01",{"$f":"INDEX('Rode Reeks 4kleuren'!C:C,MATCH(B73,'Rode Reeks 4kleuren'!B:B,0))","v":"De bokkerijders"},"Kartonnen opzetfiguur Barabas, behorend bij labo Barabas"]
[null,138,"1996-01-01","1996-03-01",{"$f":"INDEX('Rode Reeks 4kleuren'!C:C,MATCH(B74,'Rode Reeks 4kleuren'!B:B,0))","v":"Bibbergoud"},"Kartonnen opzetfiguur Barabas, behorend bij labo Barabas"]
[null,143,"1996-01-01","1995-06-01",{"$f":"INDEX('Rode Reeks 4kleuren'!C:C,MATCH(B75,'Rode Reeks 4kleuren'!B:B,0))","v":"De malle mergpijp"},"Kartonnen opzetfiguur Barabas, behorend bij labo Barabas"]
[null,144,"1996-01-01","1995-06-01",{"$f":"INDEX('Rode Reeks 4kleuren'!C:C,MATCH(B76,'Rode Reeks 4kleuren'!B:B,0))","v":"Lambiorix"},"Kartonnen opzetfiguur Barabas, behorend bij labo Barabas"]
[null,147,"1996-01-01","1996-03-01",{"$f":"INDEX('Rode Reeks 4kleuren'!C:C,MATCH(B77,'Rode Reeks 4kleuren'!B:B,0))","v":"De poppenpakker"},"Kartonnen opzetfiguur Barabas, behorend bij labo Barabas"]
[null,149,"1996-01-01","1995-06-01",{"$f":"INDEX('Rode Reeks 4kleuren'!C:C,MATCH(B78,'Rode Reeks 4kleuren'!B:B,0))","v":"De gladde glipper"},"Kartonnen opzetfiguur Krimson, behorend bij labo Barabas"]
[null,150,"1996-01-01","1995-06-01",{"$f":"INDEX('Rode Reeks 4kleuren'!C:C,MATCH(B79,'Rode Reeks 4kleuren'!B:B,0))","v":"Het Spaanse spook"},"Kartonnen opzetfiguur Krimson, behorend bij labo Barabas"]
[null,152,"1996-01-01","1995-06-01",{"$f":"INDEX('Rode Reeks 4kleuren'!C:C,MATCH(B80,'Rode Reeks 4kleuren'!B:B,0))","v":"De bevende Baobab"},"Kartonnen opzetfiguur Krimson, behorend bij labo Barabas"]
[null,153,"1996-01-01","1995-06-01",{"$f":"INDEX('Rode Reeks 4kleuren'!C:C,MATCH(B81,'Rode Reeks 4kleuren'!B:B,0))","v":"De nare varaan"},"Kartonnen opzetfiguur Krimson, behorend bij labo Barabas"]
[null,156,"1996-01-01","1995-06-01",{"$f":"INDEX('Rode Reeks 4kleuren'!C:C,MATCH(B82,'Rode Reeks 4kleuren'!B:B,0))","v":"Beminde Barabas"},"Kartonnen opzetfiguur Krimson, behorend bij labo Barabas"]
[null,182,"1996-01-01","1994-09-01",{"$f":"INDEX('Rode Reeks 4kleuren'!C:C,MATCH(B83,'Rode Reeks 4kleuren'!B:B,0))","v":"De koperen knullen"},"Kartonnen opzetfiguur Krimson, behorend bij labo Barabas"]
[null,179,"1996-01-01","1996-03-01",{"$f":"INDEX('Rode Reeks 4kleuren'!C:C,MATCH(B84,'Rode Reeks 4kleuren'!B:B,0))","v":"De windbrekers"},"Kartonnen opzetfiguur Wiske, behorend bij labo Barabas"]
[null,181,"1996-01-01","1996-03-01",{"$f":"INDEX('Rode Reeks 4kleuren'!C:C,MATCH(B85,'Rode Reeks 4kleuren'!B:B,0))","v":"De perenprins"},"Kartonnen opzetfiguur Wiske, behorend bij labo Barabas"]
[null,183,"1996-01-01","1995-06-01",{"$f":"INDEX('Rode Reeks 4kleuren'!C:C,MATCH(B86,'Rode Reeks 4kleuren'!B:B,0))","v":"De toffe tamboer"},"Kartonnen opzetfiguur Wiske, behorend bij labo Barabas"]
[null,200,"1996-01-01","1995-06-01",{"$f":"INDEX('Rode Reeks 4kleuren'!C:C,MATCH(B87,'Rode Reeks 4kleuren'!B:B,0))","v":"Amoris van Amoras"},"Kartonnen opzetfiguur Wiske, behorend bij labo Barabas"]
[null,201,"1996-01-01","1995-06-01",{"$f":"INDEX('Rode Reeks 4kleuren'!C:C,MATCH(B88,'Rode Reeks 4kleuren'!B:B,0))","v":"Het dreigende dinges"},"Kartonnen opzetfiguur Wiske, behorend bij labo Barabas"]
[null,203,"1996-01-01","1995-06-01",{"$f":"INDEX('Rode Reeks 4kleuren'!C:C,MATCH(B89,'Rode Reeks 4kleuren'!B:B,0))","v":"De ruige regen"},"Kartonnen opzetfiguur Wiske, behorend bij labo Barabas"]
[null,205,"1996-01-01","1995-06-01",{"$f":"INDEX('Rode Reeks 4kleuren'!C:C,MATCH(B90,'Rode Reeks 4kleuren'!B:B,0))","v":"De kattige kat"},"Kartonnen opzetfiguur Wiske, behorend bij labo Barabas"]
[null,206,"1996-01-01","1994-09-01",{"$f":"INDEX('Rode Reeks 4kleuren'!C:C,MATCH(B91,'Rode Reeks 4kleuren'!B:B,0))","v":"De bonkige baarden"},"Kartonnen opzetfiguur Wiske, behorend bij labo Barabas"]
[null,208,"1996-01-01","1994-09-01",{"$f":"INDEX('Rode Reeks 4kleuren'!C:C,MATCH(B92,'Rode Reeks 4kleuren'!B:B,0))","v":"De Hellegathonden"},"Kartonnen opzetfiguur Wiske, behorend bij labo Barabas"]
[null,209,"1996-01-01","1995-06-01",{"$f":"INDEX('Rode Reeks 4kleuren'!C:C,MATCH(B93,'Rode Reeks 4kleuren'!B:B,0))","v":"De kwaaie kwieten"},"Kartonnen opzetfiguur Wiske, behorend bij labo Barabas"]
[null,210,"1996-01-01","1996-03-01",{"$f":"INDEX('Rode Reeks 4kleuren'!C:C,MATCH(B94,'Rode Reeks 4kleuren'!B:B,0))","v":"De jolige joffer"},"Kartonnen opzetfiguur Wiske, behorend bij labo Barabas"]
[null,218,"1996-01-01","1994-09-01",{"$f":"INDEX('Rode Reeks 4kleuren'!C:C,MATCH(B95,'Rode Reeks 4kleuren'!B:B,0))","v":"De krachtige krans"},"Kartonnen opzetfiguur Wiske, behorend bij labo Barabas"]
[null,249,"1996-01-01","1996-06-01",{"$f":"INDEX('Rode Reeks 4kleuren'!C:C,MATCH(B96,'Rode Reeks 4kleuren'!B:B,0))","v":"De razende race"},"Kartonnen opzetfiguur Lambik, behorend bij labo Barabas"]
[null,225,"1998-05-01","1998-05-01",{"$f":"INDEX('Rode Reeks 4kleuren'!C:C,MATCH(B97,'Rode Reeks 4kleuren'!B:B,0))","v":"De goalgetter"},"Voetbal stickers in de aanloop van WK '98"]
[null,130,"2003-01-01","2000-04-01",{"$f":"INDEX('Rode Reeks 4kleuren'!C:C,MATCH(B98,'Rode Reeks 4kleuren'!B:B,0))","v":"De steensnoepers"},"Blauwe reeks pocketuitgave, zomeractie (4 delen)"]
[null,145,"2003-01-01","2000-06-01",{"$f":"INDEX('Rode Reeks 4kleuren'!C:C,MATCH(B99,'Rode Reeks 4kleuren'!B:B,0))","v":"De stalen bloempot"},"Blauwe reeks pocketuitgave, najaarsactie (4 delen)"]
[null,161,"2003-01-01","2002-04-01",{"$f":"INDEX('Rode Reeks 4kleuren'!C:C,MATCH(B100,'Rode Reeks 4kleuren'!B:B,0))","v":"De blinkende boemerang"},"Blauwe reeks pocketuitgave, zomer en najaarsactie (4 delen)"]
[null,178,"2003-01-01","2000-06-01",{"$f":"INDEX('Rode Reeks 4kleuren'!C:C,MATCH(B101,'Rode Reeks 4kleuren'!B:B,0))","v":"De stoute steenezel"},"Blauwe reeks pocketuitgave, najaarsactie (4 delen)"]
[null,218,"2003-01-01","2003-05-01",{"$f":"INDEX('Rode Reeks 4kleuren'!C:C,MATCH(B102,'Rode Reeks 4kleuren'!B:B,0))","v":"De krachtige krans"},"Blauwe reeks pocketuitgave, zomeractie (4 delen)"]
[null,247,"2003-01-01","2001-10-01",{"$f":"INDEX('Rode Reeks 4kleuren'!C:C,MATCH(B103,'Rode Reeks 4kleuren'!B:B,0))","v":"Het kostbare kader"},"Blauwe reeks pocketuitgave, zomeractie (4 delen)"]
[null,255,"2003-01-01","1998-02-01",{"$f":"INDEX('Rode Reeks 4kleuren'!C:C,MATCH(B104,'Rode Reeks 4kleuren'!B:B,0))","v":"De mompelende mummie"},"Blauwe reeks pocketuitgave, najaarsactie (4 delen)"]
[null,256,"2003-01-01","1998-05-01",{"$f":"INDEX('Rode Reeks 4kleuren'!C:C,MATCH(B105,'Rode Reeks 4kleuren'!B:B,0))","v":"De vogels der goden"},"Blauwe reeks pocketuitgave, najaarsactie (4 delen)"]
[null,259,"2003-01-01","1999-02-01",{"$f":"INDEX('Rode Reeks 4kleuren'!C:C,MATCH(B106,'Rode Reeks 4kleuren'!B:B,0))","v":"Amber"},"Blauwe reeks pocketuitgave, najaarsactie (4 delen)"]
[null,268,"2003-01-01","2001-02-01",{"$f":"INDEX('Rode Reeks 4kleuren'!C:C,MATCH(B107,'Rode Reeks 4kleuren'!B:B,0))","v":"De koeiencommissie"},"Blauwe reeks pocketuitgave, zomeractie (4 delen)"]
[null,272,"2003-01-01","2001-12-01",{"$f":"INDEX('Rode Reeks 4kleuren'!C:C,MATCH(B108,'Rode Reeks 4kleuren'!B:B,0))","v":"De blote Belg"},"Blauwe reeks pocketuitgave, najaarsactie (4 delen)"]
[null,274,"2003-01-01","2002-04-01",{"$f":"INDEX('Rode Reeks 4kleuren'!C:C,MATCH(B109,'Rode Reeks 4kleuren'!B:B,0))","v":"De fleurige Floriade"},"Blauwe reeks pocketuitgave, zomeractie (4 delen)"]
[null,68,"2003-01-01","2003-10-01",{"$f":"INDEX('Rode Reeks 4kleuren'!C:C,MATCH(B110,'Rode Reeks 4kleuren'!B:B,0))","v":"Het eiland Amoras"},"Sjaal (rood, blauw, geel)"]
[null,74,"2003-01-01","2002-10-01",{"$f":"INDEX('Rode Reeks 4kleuren'!C:C,MATCH(B111,'Rode Reeks 4kleuren'!B:B,0))","v":"De koddige kater"},"Sjaal (rood, blauw, geel)"]
[null,70,"2003-01-01","2003-10-01",{"$f":"INDEX('Rode Reeks 4kleuren'!C:C,MATCH(B112,'Rode Reeks 4kleuren'!B:B,0))","v":"De spokenjagers"},"Sjaal (rood, blauw, geel)"]
[null,100,"2003-01-01","2003-08-01",{"$f":"INDEX('Rode Reeks 4kleuren'!C:C,MATCH(B113,'Rode Reeks 4kleuren'!B:B,0))","v":"Het gouden paard"},"Sjaal (rood, blauw, geel)"]
[null,140,"2003-01-01","2002-10-01",{"$f":"INDEX('Rode Reeks 4kleuren'!C:C,MATCH(B114,'Rode Reeks 4kleuren'!B:B,0))","v":"De Zwarte Madam"},"Sjaal (rood, blauw, geel)"]
[null,183,"2003-01-01","2003-08-01",{"$f":"INDEX('Rode Reeks 4kleuren'!C:C,MATCH(B115,'Rode Reeks 4kleuren'!B:B,0))","v":"De toffe tamboer"},"Sjaal (rood, blauw, geel)"]
[null,211,"2003-01-01","2003-08-01",{"$f":"INDEX('Rode Reeks 4kleuren'!C:C,MATCH(B116,'Rode Reeks 4kleuren'!B:B,0))","v":"De woeste wespen"},"Sjaal (rood, blauw, geel)"]
[null,213,"2003-01-01","2003-08-01",{"$f":"INDEX('Rode Reeks 4kleuren'!C:C,MATCH(B117,'Rode Reeks 4kleuren'!B:B,0))","v":"De eenzame eenhoorn"},"Sjaal (rood, blauw, geel)"]
[null,216,"2003-01-01","2003-08-01",{"$f":"INDEX('Rode Reeks 4kleuren'!C:C,MATCH(B118,'Rode Reeks 4kleuren'!B:B,0))","v":"De wervelende waterzak"},"Sjaal (rood, blauw, geel)"]
[null,217,"2003-01-01","2003-08-01",{"$f":"INDEX('Rode Reeks 4kleuren'!C:C,MATCH(B119,'Rode Reeks 4kleuren'!B:B,0))","v":"De komieke Coco"},"Sjaal (rood, blauw, geel)"]
[null,257,"2003-01-01","1998-09-01",{"$f":"INDEX('Rode Reeks 4kleuren'!C:C,MATCH(B120,'Rode Reeks 4kleuren'!B:B,0))","v":"De rebelse Reinaert"},"Sjaal (rood, blauw, geel)"]
[null,261,"2003-01-01","1999-09-01",{"$f":"INDEX('Rode Reeks 4kleuren'!C:C,MATCH(B121,'Rode Reeks 4kleuren'!B:B,0))","v":"Het berenbeklag"},"Sjaal (rood, blauw, geel)"]
[null,263,"2003-01-01","2000-02-01",{"$f":"INDEX('Rode Reeks 4kleuren'!C:C,MATCH(B122,'Rode Reeks 4kleuren'!B:B,0))","v":"Het verdronken land"},"Sjaal (rood, blauw, geel)"]
[null,81,"2004-01-01","2002-04-01",{"$f":"INDEX('Rode Reeks 4kleuren'!C:C,MATCH(B123,'Rode Reeks 4kleuren'!B:B,0))","v":"De circusbaron"},"EK feesttoeter"]
[null,124,"2004-01-01","2000-06-01",{"$f":"INDEX('Rode Reeks 4kleuren'!C:C,MATCH(B124,'Rode Reeks 4kleuren'!B:B,0))","v":"Het vliegende bed"},"EK feesttoeter"]
[null,142,"2004-01-01","2000-06-01",{"$f":"INDEX('Rode Reeks 4kleuren'!C:C,MATCH(B125,'Rode Reeks 4kleuren'!B:B,0))","v":"De mottenvanger"},"EK feesttoeter"]
[null,166,"2004-01-01","2001-10-01",{"$f":"INDEX('Rode Reeks 4kleuren'!C:C,MATCH(B126,'Rode Reeks 4kleuren'!B:B,0))","v":"De maffe maniak"},"EK feesttoeter"]
[null,132,"2005-01-01","2005-04-01",{"$f":"INDEX('Rode Reeks 4kleuren'!C:C,MATCH(B127,'Rode Reeks 4kleuren'!B:B,0))","v":"De stierentemmer"},"Rugzak, zomeractie 2005 (rood, blauw, oranje, geel. Eur 3.99)"]
[null,170,"2005-01-01","2005-04-01",{"$f":"INDEX('Rode Reeks 4kleuren'!C:C,MATCH(B128,'Rode Reeks 4kleuren'!B:B,0))","v":"De olijke olifant"},"Rugzak, zomeractie 2005 (rood, blauw, oranje, geel. Eur 3.99)"]
[null,223,"2005-01-01","2005-04-01",{"$f":"INDEX('Rode Reeks 4kleuren'!C:C,MATCH(B129,'Rode Reeks 4kleuren'!B:B,0))","v":"De kleurenkladder"},"Rugzak, zomeractie 2005 (rood, blauw, oranje, geel. Eur 3.99)"]
[null,230,"2005-01-01","2005-04-01",{"$f":"INDEX('Rode Reeks 4kleuren'!C:C,MATCH(B130,'Rode Reeks 4kleuren'!B:B,0))","v":"Lambik Baba"},"Rugzak, zomeractie 2005 (rood, blauw, oranje, geel. Eur 3.99)"]
[null,231,"2005-01-01","2005-04-01",{"$f":"INDEX('Rode Reeks 4kleuren'!C:C,MATCH(B131,'Rode Reeks 4kleuren'!B:B,0))","v":"De scherpe schorpioen"},"Rugzak, zomeractie 2005 (rood, blauw, oranje, geel. Eur 3.99)"]
[null,234,"2005-01-01","2005-09-01",{"$f":"INDEX('Rode Reeks 4kleuren'!C:C,MATCH(B132,'Rode Reeks 4kleuren'!B:B,0))","v":"Het kristallen kasteel"},"Rugzak, zomeractie 2005 (rood, blauw, oranje, geel. Eur 3.99)"]
[null,239,"2005-01-01","2003-05-01",{"$f":"INDEX('Rode Reeks 4kleuren'!C:C,MATCH(B133,'Rode Reeks 4kleuren'!B:B,0))","v":"De stervende ster"},"Rugzak, zomeractie 2005 (rood, blauw, oranje, geel. Eur 3.99)"]
[null,240,"2005-01-01","2004-05-01",{"$f":"INDEX('Rode Reeks 4kleuren'!C:C,MATCH(B134,'Rode Reeks 4kleuren'!B:B,0))","v":"De pottenproever"},"Rugzak, zomeractie 2005 (rood, blauw, oranje, geel. Eur 3.99)"]
[null,243,"2005-01-01","2005-04-01",{"$f":"INDEX('Rode Reeks 4kleuren'!C:C,MATCH(B135,'Rode Reeks 4kleuren'!B:B,0))","v":"De averechtse aap"},"Rugzak, zomeractie 2005 (rood, blauw, oranje, geel. Eur 3.99)"]
[null,259,"2005-01-01","2004-05-01",{"$f":"INDEX('Rode Reeks 4kleuren'!C:C,MATCH(B136,'Rode Reeks 4kleuren'!B:B,0))","v":"Amber"},"Rugzak, zomeractie 2005 (rood, blauw, oranje, geel. Eur 3.99)"]
[null,261,"2005-01-01","1999-09-01",{"$f":"INDEX('Rode Reeks 4kleuren'!C:C,MATCH(B137,'Rode Reeks 4kleuren'!B:B,0))","v":"Het berenbeklag"},"Mora sticker (2004-2006) en Dash sticker (onbekend)"]
[null,282,"2005-01-01","2004-02-01",{"$f":"INDEX('Rode Reeks 4kleuren'!C:C,MATCH(B138,'Rode Reeks 4kleuren'!B:B,0))","v":"De breinbrekers"},"Mora sticker (2004-2006) "]
[null,146,{"$f":"MAX(C140,D139)","v":"2006-05-01"},"2006-05-01",{"$f":"INDEX('Rode Reeks 4kleuren'!C:C,MATCH(B139,'Rode Reeks 4kleuren'!B:B,0))","v":"De sterrenplukkers"},"Kaartenspel"]
[null,270,{"$f":"+C141","v":"2005-01-01"},"2001-08-01",{"$f":"INDEX('Rode Reeks 4kleuren'!C:C,MATCH(B140,'Rode Reeks 4kleuren'!B:B,0))","v":"De ongelooflijke Thomas"},"Kaartenspel"]
[null,280,"2005-01-01","2003-08-01",{"$f":"INDEX('Rode Reeks 4kleuren'!C:C,MATCH(B141,'Rode Reeks 4kleuren'!B:B,0))","v":"De kus van Odfella"},"Kaartenspel"]
[null,75,"2007-01-01","2004-09-01",{"$f":"INDEX('Rode Reeks 4kleuren'!C:C,MATCH(B142,'Rode Reeks 4kleuren'!B:B,0))","v":"Het mini mierennest"},"Sleutelhanger (Suske, Wiske, Eur 4.50)"]
[null,79,"2007-01-01","2006-05-01",{"$f":"INDEX('Rode Reeks 4kleuren'!C:C,MATCH(B143,'Rode Reeks 4kleuren'!B:B,0))","v":"De zeven snaren"},"Sleutelhanger (Suske, Wiske, Eur 4.50)"]
[null,82,"2007-01-01","2005-09-01",{"$f":"INDEX('Rode Reeks 4kleuren'!C:C,MATCH(B144,'Rode Reeks 4kleuren'!B:B,0))","v":"De gramme huurling"},"Sleutelhanger (Suske, Wiske, Eur 4.50)"]
[null,94,"2007-01-01","1994-05-01",{"$f":"INDEX('Rode Reeks 4kleuren'!C:C,MATCH(B145,'Rode Reeks 4kleuren'!B:B,0))","v":"De sissende sampam"},"Sleutelhanger (Suske, Wiske, Eur 4.50)"]
[null,96,"2007-01-01","2005-09-01",{"$f":"INDEX('Rode Reeks 4kleuren'!C:C,MATCH(B146,'Rode Reeks 4kleuren'!B:B,0))","v":"Het rijmende paard"},"Sleutelhanger (Suske, Wiske, Eur 4.50)"]
[null,97,"2007-01-01","2005-04-01",{"$f":"INDEX('Rode Reeks 4kleuren'!C:C,MATCH(B147,'Rode Reeks 4kleuren'!B:B,0))","v":"De junglebloem"},"Sleutelhanger (Suske, Wiske, Eur 4.50)"]
[null,102,"2007-01-01","2003-10-01",{"$f":"INDEX('Rode Reeks 4kleuren'!C:C,MATCH(B148,'Rode Reeks 4kleuren'!B:B,0))","v":"De dromendiefstal"},"Sleutelhanger (Suske, Wiske, Eur 4.50)"]
[null,120,"2007-01-01","2005-04-01",{"$f":"INDEX('Rode Reeks 4kleuren'!C:C,MATCH(B149,'Rode Reeks 4kleuren'!B:B,0))","v":"De geverniste zeerovers"},"Sleutelhanger (Suske, Wiske, Eur 4.50)"]
[null,243,"2007-01-01","2005-04-01",{"$f":"INDEX('Rode Reeks 4kleuren'!C:C,MATCH(B150,'Rode Reeks 4kleuren'!B:B,0))","v":"De averechtse aap"},"Sleutelhanger (Suske, Wiske, Eur 4.50)"]
[null,155,"2007-01-01","2005-04-01",{"$f":"INDEX('Rode Reeks 4kleuren'!C:C,MATCH(B151,'Rode Reeks 4kleuren'!B:B,0))","v":"De poezelige poes"},"Sleutelhanger (Suske, Wiske, Eur 4.50)"]
[null,162,"2007-01-01","2004-05-01",{"$f":"INDEX('Rode Reeks 4kleuren'!C:C,MATCH(B152,'Rode Reeks 4kleuren'!B:B,0))","v":"De gouden locomotief"},"Sleutelhanger (Suske, Wiske, Eur 4.50)"]
[null,223,"2007-01-01","2005-04-01",{"$f":"INDEX('Rode Reeks 4kleuren'!C:C,MATCH(B153,'Rode Reeks 4kleuren'!B:B,0))","v":"De kleurenkladder"},"Sleutelhanger (Suske, Wiske, Eur 4.50)"]
[null,262,"2007-01-01","2004-05-01",{"$f":"INDEX('Rode Reeks 4kleuren'!C:C,MATCH(B154,'Rode Reeks 4kleuren'!B:B,0))","v":"Het enge eiland"},"Sleutelhanger (Suske, Wiske, Eur 4.50)"]
[null,263,"2007-01-01","2000-02-01",{"$f":"INDEX('Rode Reeks 4kleuren'!C:C,MATCH(B155,'Rode Reeks 4kleuren'!B:B,0))","v":"Het verdronken land"},"Sleutelhanger (Suske, Wiske, Eur 4.50)"]
[null,265,"2007-01-01","2000-08-01",{"$f":"INDEX('Rode Reeks 4kleuren'!C:C,MATCH(B156,'Rode Reeks 4kleuren'!B:B,0))","v":"Papa Razzi"},"Sleutelhanger (Suske, Wiske, Eur 4.50)"]
[null,279,"2007-01-01","2003-05-01",{"$f":"INDEX('Rode Reeks 4kleuren'!C:C,MATCH(B157,'Rode Reeks 4kleuren'!B:B,0))","v":"De laatste vloek"},"Sleutelhanger (Suske, Wiske, Eur 4.50)"]
[null,282,"2007-01-01","2004-02-01",{"$f":"INDEX('Rode Reeks 4kleuren'!C:C,MATCH(B158,'Rode Reeks 4kleuren'!B:B,0))","v":"De breinbrekers"},"Sleutelhanger (Suske, Wiske, Eur 4.50)"]
[null,72,"2007-01-01","2002-10-01",{"$f":"INDEX('Rode Reeks 4kleuren'!C:C,MATCH(B159,'Rode Reeks 4kleuren'!B:B,0))","v":"Jeromba de Griek"},"CD single bonustrack 'Alleen', theatershow De schimmige schurken"]
[null,73,"2007-01-01","2007-03-01",{"$f":"INDEX('Rode Reeks 4kleuren'!C:C,MATCH(B160,'Rode Reeks 4kleuren'!B:B,0))","v":"Het zoemende ei"},"CD single bonustrack 'Alleen', theatershow De schimmige schurken"]
[null,119,"2007-01-01","2001-10-01",{"$f":"INDEX('Rode Reeks 4kleuren'!C:C,MATCH(B161,'Rode Reeks 4kleuren'!B:B,0))","v":"Het sprekende testament"},"CD single bonustrack 'Alleen', theatershow De schimmige schurken"]
[null,140,"2007-01-01","2002-10-01",{"$f":"INDEX('Rode Reeks 4kleuren'!C:C,MATCH(B162,'Rode Reeks 4kleuren'!B:B,0))","v":"De Zwarte Madam"},"CD single bonustrack 'Alleen', theatershow De schimmige schurken"]
[null,141,"2007-01-01","2002-04-01",{"$f":"INDEX('Rode Reeks 4kleuren'!C:C,MATCH(B163,'Rode Reeks 4kleuren'!B:B,0))","v":"Het bevroren vuur"},"CD single bonustrack 'Alleen', theatershow De schimmige schurken"]
[null,147,"2007-01-01","2002-10-01",{"$f":"INDEX('Rode Reeks 4kleuren'!C:C,MATCH(B164,'Rode Reeks 4kleuren'!B:B,0))","v":"De poppenpakker"},"CD single bonustrack 'Alleen', theatershow De schimmige schurken"]
[null,178,"2007-01-01","2004-05-01",{"$f":"INDEX('Rode Reeks 4kleuren'!C:C,MATCH(B165,'Rode Reeks 4kleuren'!B:B,0))","v":"De stoute steenezel"},"CD single bonustrack 'Alleen', theatershow De schimmige schurken"]
[null,183,"2007-01-01","2003-08-01",{"$f":"INDEX('Rode Reeks 4kleuren'!C:C,MATCH(B166,'Rode Reeks 4kleuren'!B:B,0))","v":"De toffe tamboer"},"CD single bonustrack 'Alleen', theatershow De schimmige schurken"]
[null,205,"2007-01-01","2003-08-01",{"$f":"INDEX('Rode Reeks 4kleuren'!C:C,MATCH(B167,'Rode Reeks 4kleuren'!B:B,0))","v":"De kattige kat"},"CD single bonustrack 'Alleen', theatershow De schimmige schurken"]
[null,210,"2007-01-01","2004-05-01",{"$f":"INDEX('Rode Reeks 4kleuren'!C:C,MATCH(B168,'Rode Reeks 4kleuren'!B:B,0))","v":"De jolige joffer"},"CD single bonustrack 'Alleen', theatershow De schimmige schurken"]
[null,263,"2007-01-01","2000-02-14",{"$f":"INDEX('Rode Reeks 4kleuren'!C:C,MATCH(B169,'Rode Reeks 4kleuren'!B:B,0))","v":"Het verdronken land"},"CD single bonustrack 'Alleen', theatershow De schimmige schurken"]
[null,265,"2007-01-01","2000-08-09",{"$f":"INDEX('Rode Reeks 4kleuren'!C:C,MATCH(B170,'Rode Reeks 4kleuren'!B:B,0))","v":"Papa Razzi"},"CD single bonustrack 'Alleen', theatershow De schimmige schurken"]
[null,269,"2007-01-01","2001-05-09",{"$f":"INDEX('Rode Reeks 4kleuren'!C:C,MATCH(B171,'Rode Reeks 4kleuren'!B:B,0))","v":"De stugge Stuyvesant"},"CD single bonustrack 'Alleen', theatershow De schimmige schurken"]
[null,270,"2007-01-01","2001-08-08",{"$f":"INDEX('Rode Reeks 4kleuren'!C:C,MATCH(B172,'Rode Reeks 4kleuren'!B:B,0))","v":"De ongelooflijke Thomas"},"CD single bonustrack 'Alleen', theatershow De schimmige schurken"]
[null,271,"2007-01-01","2001-10-17",{"$f":"INDEX('Rode Reeks 4kleuren'!C:C,MATCH(B173,'Rode Reeks 4kleuren'!B:B,0))","v":"Big Mother"},"CD single bonustrack 'Alleen', theatershow De schimmige schurken"]
[null,273,"2007-01-01","2002-02-13",{"$f":"INDEX('Rode Reeks 4kleuren'!C:C,MATCH(B174,'Rode Reeks 4kleuren'!B:B,0))","v":"De Europummel"},"CD single bonustrack 'Alleen', theatershow De schimmige schurken"]
[null,274,"2007-01-01","2002-04-24",{"$f":"INDEX('Rode Reeks 4kleuren'!C:C,MATCH(B175,'Rode Reeks 4kleuren'!B:B,0))","v":"De fleurige Floriade"},"CD single bonustrack 'Alleen', theatershow De schimmige schurken"]
[null,276,"2007-01-01","2002-10-01",{"$f":"INDEX('Rode Reeks 4kleuren'!C:C,MATCH(B176,'Rode Reeks 4kleuren'!B:B,0))","v":"In de ban van de Milt"},"CD single bonustrack 'Alleen', theatershow De schimmige schurken"]
[null,278,"2007-01-01","2003-02-17",{"$f":"INDEX('Rode Reeks 4kleuren'!C:C,MATCH(B177,'Rode Reeks 4kleuren'!B:B,0))","v":"De kunstkraker"},"CD single bonustrack 'Alleen', theatershow De schimmige schurken"]
[null,114,"2009-01-01","2006-05-01",{"$f":"INDEX('Rode Reeks 4kleuren'!C:C,MATCH(B178,'Rode Reeks 4kleuren'!B:B,0))","v":"De Tartaarse helm"},"Auto zonnescherm van de Texasrakkers animatiefilm"]
[null,136,"2009-01-01","2006-05-01",{"$f":"INDEX('Rode Reeks 4kleuren'!C:C,MATCH(B179,'Rode Reeks 4kleuren'!B:B,0))","v":"De bokkerijders"},"Auto zonnescherm van de Texasrakkers animatiefilm"]
[null,169,"2009-01-01","2006-05-01",{"$f":"INDEX('Rode Reeks 4kleuren'!C:C,MATCH(B180,'Rode Reeks 4kleuren'!B:B,0))","v":"De amoureuze amazone"},"Auto zonnescherm van de Texasrakkers animatiefilm"]
[null,172,"2009-01-01","2006-05-01",{"$f":"INDEX('Rode Reeks 4kleuren'!C:C,MATCH(B181,'Rode Reeks 4kleuren'!B:B,0))","v":"Het laatste dwaallicht"},"Auto zonnescherm van de Texasrakkers animatiefilm"]
[null,192,"2009-01-01","2006-05-01",{"$f":"INDEX('Rode Reeks 4kleuren'!C:C,MATCH(B182,'Rode Reeks 4kleuren'!B:B,0))","v":"Het Bretoense broertje"},"Auto zonnescherm van de Texasrakkers animatiefilm"]
[null,293,"2009-01-01","2006-12-06",{"$f":"INDEX('Rode Reeks 4kleuren'!C:C,MATCH(B183,'Rode Reeks 4kleuren'!B:B,0))","v":"De kaperkoters"},"Auto zonnescherm van de Texasrakkers animatiefilm"]
[null,115,"2010-01-01",{"$f":"+$D$185","v":"2007-06-01"},{"$f":"INDEX('Rode Reeks 4kleuren'!C:C,MATCH(B184,'Rode Reeks 4kleuren'!B:B,0))","v":"De gezanten van Mars"},"Frisbee, Zomeractie 2010 (rood, geel. Eur 4.50)"]
[null,126,"2010-01-01","2007-06-01",{"$f":"INDEX('Rode Reeks 4kleuren'!C:C,MATCH(B185,'Rode Reeks 4kleuren'!B:B,0))","v":"De windmakers"},"Frisbee, Zomeractie 2010 (rood, geel. Eur 4.50)"]
[null,127,"2010-01-01",{"$f":"+$D$185","v":"2007-06-01"},{"$f":"INDEX('Rode Reeks 4kleuren'!C:C,MATCH(B186,'Rode Reeks 4kleuren'!B:B,0))","v":"De knokkersburcht"},"Frisbee, Zomeractie 2010 (rood, geel. Eur 4.50)"]
[null,153,"2010-01-01","2006-05-01",{"$f":"INDEX('Rode Reeks 4kleuren'!C:C,MATCH(B187,'Rode Reeks 4kleuren'!B:B,0))","v":"De nare varaan"},"Frisbee, Zomeractie 2010 (rood, geel. Eur 4.50)"]
[null,156,"2010-01-01","2007-06-01",{"$f":"INDEX('Rode Reeks 4kleuren'!C:C,MATCH(B188,'Rode Reeks 4kleuren'!B:B,0))","v":"Beminde Barabas"},"Frisbee, Zomeractie 2010 (rood, geel. Eur 4.50)"]
[null,203,"2010-01-01","2006-05-01",{"$f":"INDEX('Rode Reeks 4kleuren'!C:C,MATCH(B189,'Rode Reeks 4kleuren'!B:B,0))","v":"De ruige regen"},"Frisbee, Zomeractie 2010 (rood, geel. Eur 4.50)"]
[null,213,"2010-01-01","2003-08-01",{"$f":"INDEX('Rode Reeks 4kleuren'!C:C,MATCH(B190,'Rode Reeks 4kleuren'!B:B,0))","v":"De eenzame eenhoorn"},"Frisbee, Zomeractie 2010 (rood, geel. Eur 4.50)"]
[null,261,"2010-01-01","1999-09-01",{"$f":"INDEX('Rode Reeks 4kleuren'!C:C,MATCH(B191,'Rode Reeks 4kleuren'!B:B,0))","v":"Het berenbeklag"},"Frisbee, Zomeractie 2010 (rood, geel. Eur 4.50)"]
[null,281,"2010-01-01","2003-11-19",{"$f":"INDEX('Rode Reeks 4kleuren'!C:C,MATCH(B192,'Rode Reeks 4kleuren'!B:B,0))","v":"De gevangene van Prisonov"},"Frisbee, Zomeractie 2010 (rood, geel. Eur 4.50)"]
[null,282,"2010-01-01","2004-02-18",{"$f":"INDEX('Rode Reeks 4kleuren'!C:C,MATCH(B193,'Rode Reeks 4kleuren'!B:B,0))","v":"De breinbrekers"},"Frisbee, Zomeractie 2010 (rood, geel. Eur 4.50)"]
[null,290,"2010-01-01","2006-02-01",{"$f":"INDEX('Rode Reeks 4kleuren'!C:C,MATCH(B194,'Rode Reeks 4kleuren'!B:B,0))","v":"De blikken blutser\n(Het mopperende masker)"},"Frisbee, Zomeractie 2010 (rood, geel. Eur 4.50)"]
[null,70,"2010-01-01","2010-10-01",{"$f":"INDEX('Rode Reeks 4kleuren'!C:C,MATCH(B195,'Rode Reeks 4kleuren'!B:B,0))","v":"De spokenjagers"},"Deurhanger met Sinterklaasliedje."]
[null,89,"2010-01-01","2010-10-01",{"$f":"INDEX('Rode Reeks 4kleuren'!C:C,MATCH(B196,'Rode Reeks 4kleuren'!B:B,0))","v":"De dolle musketiers"},"Flitsende fietszadelhoes"]
[null,96,"2010-01-01","2010-10-01",{"$f":"INDEX('Rode Reeks 4kleuren'!C:C,MATCH(B197,'Rode Reeks 4kleuren'!B:B,0))","v":"Het rijmende paard"},"Flitsende fietszadelhoes"]
[null,107,"2010-01-01","2010-04-01",{"$f":"INDEX('Rode Reeks 4kleuren'!C:C,MATCH(B198,'Rode Reeks 4kleuren'!B:B,0))","v":"De sprietatoom"},"Flitsende fietszadelhoes"]
[null,116,"2010-01-01","2010-10-01",{"$f":"INDEX('Rode Reeks 4kleuren'!C:C,MATCH(B199,'Rode Reeks 4kleuren'!B:B,0))","v":"De bronzen sleutel"},"Flitsende fietszadelhoes"]
[null,119,"2010-01-01","2010-04-01",{"$f":"INDEX('Rode Reeks 4kleuren'!C:C,MATCH(B200,'Rode Reeks 4kleuren'!B:B,0))","v":"Het sprekende testament"},"Flitsende fietszadelhoes"]
[null,123,"2010-01-01","2010-04-17",{"$f":"INDEX('Rode Reeks 4kleuren'!C:C,MATCH(B201,'Rode Reeks 4kleuren'!B:B,0))","v":"De Zwarte Zwaan"},"Flitsende fietszadelhoes"]
[null,134,"2010-01-01","2008-05-01",{"$f":"INDEX('Rode Reeks 4kleuren'!C:C,MATCH(B202,'Rode Reeks 4kleuren'!B:B,0))","v":"De witte uil"},"Flitsende fietszadelhoes"]
[null,146,"2010-01-01","2010-10-01",{"$f":"INDEX('Rode Reeks 4kleuren'!C:C,MATCH(B203,'Rode Reeks 4kleuren'!B:B,0))","v":"De sterrenplukkers"},"Flitsende fietszadelhoes"]
[null,151,"2010-01-01","2010-04-17",{"$f":"INDEX('Rode Reeks 4kleuren'!C:C,MATCH(B204,'Rode Reeks 4kleuren'!B:B,0))","v":"Het ros Bazhaar"},"Flitsende fietszadelhoes"]
[null,154,"2010-01-01","2010-04-17",{"$f":"INDEX('Rode Reeks 4kleuren'!C:C,MATCH(B205,'Rode Reeks 4kleuren'!B:B,0))","v":"Rikki en Wiske in Chocowakije"},"Flitsende fietszadelhoes"]
[null,164,"2010-01-01","2010-10-01",{"$f":"INDEX('Rode Reeks 4kleuren'!C:C,MATCH(B206,'Rode Reeks 4kleuren'!B:B,0))","v":"De raap van Rubens"},"Flitsende fietszadelhoes"]
[null,285,"2010-01-01","2008-05-01",{"$f":"INDEX('Rode Reeks 4kleuren'!C:C,MATCH(B207,'Rode Reeks 4kleuren'!B:B,0))","v":"Verraad op de Veluwe"},"Flitsende fietszadelhoes"]
[null,295,"2010-01-01","2007-05-02",{"$f":"INDEX('Rode Reeks 4kleuren'!C:C,MATCH(B208,'Rode Reeks 4kleuren'!B:B,0))","v":"De krasse kroko"},"Flitsende fietszadelhoes"]
[null,299,"2010-01-01","2008-03-12",{"$f":"INDEX('Rode Reeks 4kleuren'!C:C,MATCH(B209,'Rode Reeks 4kleuren'!B:B,0))","v":"Het babbelende bad"},"Flitsende fietszadelhoes"]
[null,300,"2010-01-01","2008-06-23",{"$f":"INDEX('Rode Reeks 4kleuren'!C:C,MATCH(B210,'Rode Reeks 4kleuren'!B:B,0))","v":"Het machtige monument"},"Flitsende fietszadelhoes"]
[null,301,"2010-01-01","2008-09-10",{"$f":"INDEX('Rode Reeks 4kleuren'!C:C,MATCH(B211,'Rode Reeks 4kleuren'!B:B,0))","v":"De dartele draak"},"Flitsende fietszadelhoes"]
[null,302,"2010-01-01","2008-12-10",{"$f":"INDEX('Rode Reeks 4kleuren'!C:C,MATCH(B212,'Rode Reeks 4kleuren'!B:B,0))","v":"De sterrensteen"},"Flitsende fietszadelhoes"]
[null,303,"2010-01-01","2009-02-18",{"$f":"INDEX('Rode Reeks 4kleuren'!C:C,MATCH(B213,'Rode Reeks 4kleuren'!B:B,0))","v":"De knikkende knoken"},"Flitsende fietszadelhoes"]
[null,304,"2010-01-01","2009-05-20",{"$f":"INDEX('Rode Reeks 4kleuren'!C:C,MATCH(B214,'Rode Reeks 4kleuren'!B:B,0))","v":"De jokkende joker"},"Flitsende fietszadelhoes"]
[null,306,"2011-01-01","2009-11-18",{"$f":"INDEX('Rode Reeks 4kleuren'!C:C,MATCH(B215,'Rode Reeks 4kleuren'!B:B,0))","v":"De stralende staf"},"Deurhanger met Sinterklaasliedje."]
[]
[]
[null,"Voor correcties, vragen of opmerkingen:"]
[null,"Graag contact opnemen met "]
[null,"detammetumi@gmail.com"]

{"sheet":"Classics","index":8,"n_rows":136,"n_cols":13,"rows_kept":136,"cut":false,"hidden":false,"merged":[[4,0,7,11],[9,0,10,6],[11,2,12,6],[11,1,12,1],[18,1,19,1],[18,4,19,4],[18,3,19,3],[14,10,15,14],[11,7,12,10],[14,6,15,6],[14,7,15,7],[14,8,15,8],[14,9,15,9],[18,7,19,7],[18,8,19,8],[16,10,16,17],[17,10,17,17],[18,10,18,17],[19,10,19,17],[94,10,94,17],[95,10,95,17],[0,0,3,9],[14,1,15,1],[14,2,15,2],[14,3,15,3],[14,4,15,4],[14,5,15,5],[88,10,88,17],[89,10,89,17],[90,10,90,17],[91,10,91,17],[92,10,92,17],[93,10,93,17],[82,10,82,17],[83,10,83,17],[84,10,84,17],[85,10,85,17],[86,10,86,17],[87,10,87,17],[76,10,76,17],[77,10,77,17],[78,10,78,17],[79,10,79,17],[80,10,80,17],[81,10,81,17],[70,10,70,17],[71,10,71,17],[72,10,72,17],[73,10,73,17],[74,10,74,17],[75,10,75,17],[64,10,64,17],[65,10,65,17],[66,10,66,17],[67,10,67,17],[68,10,68,17],[69,10,69,17],[60,10,60,17],[61,10,61,17],[62,10,62,17],[63,10,63,17],[53,10,53,17],[54,10,54,17],[55,10,55,17],[56,10,56,17],[57,10,57,17],[58,10,58,17],[23,10,23,17],[24,10,24,17],[25,10,25,17],[26,10,26,17],[27,10,27,17],[30,1,31,1],[30,2,31,6],[37,10,37,17],[38,10,38,17],[33,7,34,7],[33,8,34,8],[33,9,34,9],[33,10,34,17],[35,10,35,17],[36,10,36,17],[37,9,38,9],[37,7,38,7],[37,8,38,8],[35,6,36,6],[37,6,38,6],[35,3,36,3],[35,1,36,1],[35,7,36,7],[35,8,36,8],[20,10,20,17],[21,10,21,17],[22,10,22,17],[30,7,31,12],[98,1,99,1],[98,2,99,6],[98,7,99,16],[101,1,102,1],[101,2,102,2],[101,3,102,3],[101,4,102,4],[101,5,102,5],[101,6,102,6],[101,7,102,7],[101,8,102,8],[101,9,102,9],[101,10,102,17],[33,1,34,1],[33,2,34,2],[33,3,34,3],[33,4,34,4],[33,5,34,5],[33,6,34,6],[39,10,39,17],[35,9,36,9],[37,1,38,1],[103,10,103,17],[104,10,104,17],[105,10,105,17],[106,10,106,17],[107,10,107,17],[108,10,108,17],[109,10,109,17],[37,3,38,3],[47,10,47,17],[48,10,48,17],[49,10,49,17],[50,10,50,17],[51,10,51,17],[52,10,52,17],[41,10,41,17],[42,10,42,17],[43,10,43,17],[44,10,44,17],[45,10,45,17],[46,10,46,17],[40,10,40,17],[59,10,59,17],[110,10,110,17],[111,10,111,17],[112,10,112,17],[113,10,113,17],[114,10,114,17],[115,10,115,17],[116,10,116,17],[117,10,117,17],[118,10,118,17],[129,10,129,17],[130,10,130,17],[123,10,123,17],[119,10,119,17],[120,10,120,17],[121,10,121,17],[122,10,122,17],[124,10,124,17],[125,10,125,17],[126,10,126,17],[127,10,127,17],[128,10,128,17]]}
["Suske en Wiske"]
[null,null,null,null,null,null,null,null,null,null,null,null,"De klassiek reeks is onderverdeeld in 3 series:"]
[null,null,null,null,null,null,null,null,null,null,null,null,"1. De Strip Klassiek reeks uit  de jaren '80"]
[null,null,null,null,null,null,null,null,null,null,null,null,"2. De hardcover Klassiek reeks uit  de jaren '90"]
["klassiek reeks",null,null,null,null,null,null,null,null,null,null,null,"3. De witte Classics reeks uit  de jaren 2017-2019"]
[]
[]
[]
[]
[]
[]
[null,"1.","strip klassiek",null,null,null,null,"soft cover met gouden rand"]
[]
[]
[null,"Nr","Album\ndatum","Titel","Druk","Lastdodo nr","Kaft","Rode reeks nr","Pagina's","Kleur","Opmerking"]
[]
[null,"SK1","1981-06-01","De gekalibreerde kwibus","1e druk",1,"softcover","-",44,"ongekleurd"]
[null,"SK2","1981-06-01","Op het eiland Amoras","1e druk",2,"softcover",1,55,"steunkleur","Complete versie van 55 pagina's; Ook reclame uitgave voor Fa douchschuim (1997)"]
[null,"SK3","1981-06-01","De vliegende aap","1e druk","3a","softcover",2,55,"ongekleurd","Titelpagina bruin, vervolgens 2 pagina's blauw; Ook reclame uitgave voor Fa douchschuim (1997)"]
[null,null,"1981-06-01",null,null,"3b","softcover",null,null,"ongekleurd","Variant: titelpagina blauw, vervolgens 2 pagina's bruin (Lastdodo nr 3b)"]
[null,"SK4","1981-09-01","De sprietatoom","1e druk",4,"softcover",{"$f":"INDEX('Lange verhalen'!$E$10:$E$76,MATCH(D21,'Lange verhalen'!$G$10:$G$76,0))","v":3},55,"ongekleurd","Niet de complete versie zoals in de krant en de Klassiek reeks"]
[null,"SK5","1981-11-01","De koning drinkt","1e druk",5,"softcover",{"$f":"INDEX('Lange verhalen'!$E$10:$E$76,MATCH(D22,'Lange verhalen'!$G$10:$G$76,0))","v":4},54.5,"ongekleurd"]
[null,"SK6","1982-01-01","Prinses Zagemeel","1e druk",6,"softcover",{"$f":"INDEX('Lange verhalen'!$E$10:$E$76,MATCH(D23,'Lange verhalen'!$G$10:$G$76,0))","v":5},55,"ongekleurd"]
[null,"SK7","1982-06-01","De Zwarte Madam","1e druk",8,"softcover",{"$f":"INDEX('Lange verhalen'!$E$10:$E$76,MATCH(D24,'Lange verhalen'!$G$10:$G$76,0))","v":6},54.5,"ongekleurd"]
[null,"SK8","1983-06-01","De Witte uil","1e druk",13,"softcover",{"$f":"INDEX('Lange verhalen'!$E$10:$E$76,MATCH(D25,'Lange verhalen'!$G$10:$G$76,0))","v":7},55,"ongekleurd"]
[null,"SK9","1983-09-01","Bibbergoud","1e druk",14,"softcover",{"$f":"INDEX('Lange verhalen'!$E$10:$E$76,MATCH(D26,'Lange verhalen'!$G$10:$G$76,0))","v":8},55,"ongekleurd","Ook reclame uitgave 1998, Danone"]
[null,"SK10","1984-06-01","Lambiorix","1e druk",19,"softcover",{"$f":"INDEX('Lange verhalen'!$E$10:$E$76,MATCH(D27,'Lange verhalen'!$G$10:$G$76,0))","v":9},55,"ongekleurd"]
[null,"SK11","1999-07-17","De sterrenplukkers","1e druk","-","softcover",{"$f":"INDEX('Lange verhalen'!$E$10:$E$76,MATCH(D28,'Lange verhalen'!$G$10:$G$76,0))","v":16},55,"ongekleurd","Aleen als reclame uitgave voor Milky Way tijdens stripvestival Middelkerke (1999)"]
[]
[]
[null,"2.","klassiek rode reeks",null,null,null,null,"hard cover met linnen rug en losse infokaart"]
[]
[]
[null,"Nr","Album\ndatum","Titel","Druk","Lastdodo nr","Kaft","Rode reeks nr","Pagina's","Kleur","Opmerking"]
[]
[null,"KR1","1993-02-01","Rikki en Wiske","1e druk","1a","HC",0,60,"ongekleurd","op de achtercover: 02/93"]
[null,null,"1993-03-01",null,"2e druk","1b",null,null,null,null,"op de achtercover: 03/93"]
[null,"KR2","1993-02-01","Op het eiland Amoras","1e druk","2a","HC",1,55,"ongekleurd","op de achtercover: 02/93"]
[null,null,"1993-03-01",null,"2e druk","2b",null,null,null,null,"op de achtercover: 03/93"]
[null,"KR3","1993-06-01","De sprietatoom","1e druk",3,"HC",{"$f":"INDEX('Lange verhalen'!$E$10:$E$76,MATCH(D40,'Lange verhalen'!$G$10:$G$76,0))","v":3},56.5,"ongekleurd"]
[null,"KR4","1993-06-01","De vliegende aap","1e druk",4,"HC",{"$f":"INDEX('Lange verhalen'!$E$10:$E$76,MATCH(D41,'Lange verhalen'!$G$10:$G$76,0))","v":2},55,"ongekleurd"]
[null,"KR5","1993-09-01","De Zwarte Madam","1e druk",5,"HC",{"$f":"INDEX('Lange verhalen'!$E$10:$E$76,MATCH(D42,'Lange verhalen'!$G$10:$G$76,0))","v":6},54.5,"ongekleurd"]
[null,"KR6","1993-09-01","De koning drinkt","1e druk",6,"HC",{"$f":"INDEX('Lange verhalen'!$E$10:$E$76,MATCH(D43,'Lange verhalen'!$G$10:$G$76,0))","v":4},54.5,"ongekleurd"]
[null,"KR7","1993-10-01","Prinses Zagemeel","1e druk",7,"HC",{"$f":"INDEX('Lange verhalen'!$E$10:$E$76,MATCH(D44,'Lange verhalen'!$G$10:$G$76,0))","v":5},55,"ongekleurd"]
[null,"KR8","1993-10-01","De bokkerijder","1e druk",8,"HC",26,55,"ongekleurd","Met spelling titel zoals in de krant"]
[null,"KR9","1994-02-01","De witte uil","1e druk",9,"HC",{"$f":"INDEX('Lange verhalen'!$E$10:$E$76,MATCH(D46,'Lange verhalen'!$G$10:$G$76,0))","v":7},55,"ongekleurd"]
[null,"KR10","1994-02-01","De gekalibreerde kwibus","1e druk",10,"HC","-",44,"ongekleurd","Naast de infokaart een bestelbrief voor de biografie en bibliografie Vandersteen"]
[null,"KR11","1994-06-01","De mottenvanger","1e druk",11,"HC",{"$f":"INDEX('Lange verhalen'!$E$10:$E$76,MATCH(D48,'Lange verhalen'!$G$10:$G$76,0))","v":31},55,"ongekleurd"]
[null,"KR12","1994-06-01","Bibbergoud","1e druk",12,"HC",{"$f":"INDEX('Lange verhalen'!$E$10:$E$76,MATCH(D49,'Lange verhalen'!$G$10:$G$76,0))","v":8},55,"ongekleurd","Naast de infokaart een folder voor de biografie en bibliografie Vandersteen"]
[null,"KR13","1994-09-01","Lambiorix","1e druk",13,"HC",{"$f":"INDEX('Lange verhalen'!$E$10:$E$76,MATCH(D50,'Lange verhalen'!$G$10:$G$76,0))","v":9},55,"ongekleurd","Naast de infokaart een intekenfolder voor 1995"]
[null,"KR14","1994-09-01","De stierentemmer","1e druk",14,"HC",{"$f":"INDEX('Lange verhalen'!$E$10:$E$76,MATCH(D51,'Lange verhalen'!$G$10:$G$76,0))","v":10},55,"ongekleurd","Naast de infokaart een folder voor de gehele rode en blauwe reeks"]
[null,"KR15","1994-11-01","De stalen bloempot","1e druk",15,"HC",{"$f":"INDEX('Lange verhalen'!$E$10:$E$76,MATCH(D52,'Lange verhalen'!$G$10:$G$76,0))","v":11},55,"ongekleurd"]
[null,"KR16","1994-11-01","Het zingende nijlpaard","1e druk",16,"HC",{"$f":"INDEX('Lange verhalen'!$E$10:$E$76,MATCH(D53,'Lange verhalen'!$G$10:$G$76,0))","v":12},55,"ongekleurd"]
[null,"KR17","1995-02-01","De ringelingschat","1e druk",17,"HC",{"$f":"INDEX('Lange verhalen'!$E$10:$E$76,MATCH(D54,'Lange verhalen'!$G$10:$G$76,0))","v":13},55,"ongekleurd"]
[null,"KR18","1995-02-01","De Tuftuf-club","1e druk",18,"HC",{"$f":"INDEX('Lange verhalen'!$E$10:$E$76,MATCH(D55,'Lange verhalen'!$G$10:$G$76,0))","v":14},55,"ongekleurd"]
[null,"KR19","1995-06-01","Het bevroren vuur","1e druk",19,"HC",{"$f":"INDEX('Lange verhalen'!$E$10:$E$76,MATCH(D56,'Lange verhalen'!$G$10:$G$76,0))","v":15},55,"ongekleurd"]
[null,"KR20","1995-06-01","De sterrenplukkers","1e druk",20,"HC",{"$f":"INDEX('Lange verhalen'!$E$10:$E$76,MATCH(D57,'Lange verhalen'!$G$10:$G$76,0))","v":16},55,"ongekleurd"]
[null,"KR21","1995-09-01","De lachende wolf","1e druk",21,"HC",{"$f":"INDEX('Lange verhalen'!$E$10:$E$76,MATCH(D58,'Lange verhalen'!$G$10:$G$76,0))","v":17},54.75,"ongekleurd"]
[null,"KR22","1995-09-01","De dolle musketiers","1e druk",22,"HC",{"$f":"INDEX('Lange verhalen'!$E$10:$E$76,MATCH(D59,'Lange verhalen'!$G$10:$G$76,0))","v":18},55,"ongekleurd"]
[null,"KR23","1995-11-01","Het vliegende hart","1e druk","23a","HC",188,25,"ongekleurd"]
[null,"KR24","1995-11-01","De tamtamklopper","1e druk",24,"HC",19,55,"ongekleurd","Met spelling titel zoals in de krant"]
[null,"KR25","1996-02-01","De knokkersburcht","1e druk",25,"HC",{"$f":"INDEX('Lange verhalen'!$E$10:$E$76,MATCH(D62,'Lange verhalen'!$G$10:$G$76,0))","v":20},55.5,"ongekleurd","Het logo\"S\" van Standaard onderaan de rug is gespiegeld gedrukt"]
[null,"KR26","1996-02-01","De cirkusbaron","1e druk",26,"HC",21,55,"ongekleurd","Het logo\"S\" van Standaard onderaan de rug is gespiegeld gedrukt"]
[null,"KR27","1996-05-01","De speelgoedzaaier","1e druk",27,"HC",{"$f":"INDEX('Lange verhalen'!$E$10:$E$76,MATCH(D64,'Lange verhalen'!$G$10:$G$76,0))","v":22},55,"ongekleurd"]
[null,"KR28","1996-05-01","De ijzeren schelvis","1e druk",28,"HC",{"$f":"INDEX('Lange verhalen'!$E$10:$E$76,MATCH(D65,'Lange verhalen'!$G$10:$G$76,0))","v":23},55,"ongekleurd"]
[null,"KR29","1996-09-01","De Kleppende Klipper","1e druk",29,"HC",{"$f":"INDEX('Lange verhalen'!$E$10:$E$76,MATCH(D66,'Lange verhalen'!$G$10:$G$76,0))","v":24},55,"ongekleurd"]
[null,"KR30","1996-09-01","De straatridder","1e druk",30,"HC",{"$f":"INDEX('Lange verhalen'!$E$10:$E$76,MATCH(D67,'Lange verhalen'!$G$10:$G$76,0))","v":25},55,"ongekleurd"]
[null,"KR31","1996-11-01","De brullende berg","1e druk",31,"HC",{"$f":"INDEX('Lange verhalen'!$E$10:$E$76,MATCH(D68,'Lange verhalen'!$G$10:$G$76,0))","v":27},55,"ongekleurd"]
[null,"KR32","1996-11-01","De spokenjagers","1e druk",32,"HC",{"$f":"INDEX('Lange verhalen'!$E$10:$E$76,MATCH(D69,'Lange verhalen'!$G$10:$G$76,0))","v":28},55,"ongekleurd"]
[null,"KR33","1997-02-01","De snorrende Snor","1e druk",33,"HC",{"$f":"INDEX('Lange verhalen'!$E$10:$E$76,MATCH(D70,'Lange verhalen'!$G$10:$G$76,0))","v":29},55,"ongekleurd"]
[null,"KR34","1997-02-01","De stemmenrover","1e druk",34,"HC",{"$f":"INDEX('Lange verhalen'!$E$10:$E$76,MATCH(D71,'Lange verhalen'!$G$10:$G$76,0))","v":30},55,"ongekleurd"]
[null,"KR35","1997-05-01","Het taterende testament","1e druk",35,"HC",32,55,"ongekleurd","Met krant titel ipv 'Het sprekende testament'"]
[null,"KR36","1997-05-01","De zonnige zageman","1e druk",36,"HC",33,55,"ongekleurd","Met krant titel ipv 'De gevernsite zeerovers'"]
[null,"KR37","1997-09-01","De duistere diamant","1e druk",37,"HC",{"$f":"INDEX('Lange verhalen'!$E$10:$E$76,MATCH(D74,'Lange verhalen'!$G$10:$G$76,0))","v":34},55,"ongekleurd"]
[null,"KR38","1997-09-01","De Zwarte Zwaan","1e druk",38,"HC",{"$f":"INDEX('Lange verhalen'!$E$10:$E$76,MATCH(D75,'Lange verhalen'!$G$10:$G$76,0))","v":35},55,"ongekleurd"]
[null,"KR39","1997-11-01","Het vliegende bed","1e druk",39,"HC",{"$f":"INDEX('Lange verhalen'!$E$10:$E$76,MATCH(D76,'Lange verhalen'!$G$10:$G$76,0))","v":36},55,"ongekleurd"]
[null,"KR40","1997-11-01","De Texas-Rakkers","1e druk",40,"HC",{"$f":"INDEX('Lange verhalen'!$E$10:$E$76,MATCH(D77,'Lange verhalen'!$G$10:$G$76,0))","v":37},55,"ongekleurd"]
[null,"KR41","1998-02-01","De windmakers","1e druk",41,"HC",{"$f":"INDEX('Lange verhalen'!$E$10:$E$76,MATCH(D78,'Lange verhalen'!$G$10:$G$76,0))","v":38},55,"ongekleurd","Naast de infokaart een folder van Graphicart over zeefdrukken"]
[null,"KR42","1998-02-01","De gouden cirkel","1e druk",42,"HC",{"$f":"INDEX('Lange verhalen'!$E$10:$E$76,MATCH(D79,'Lange verhalen'!$G$10:$G$76,0))","v":39},55,"ongekleurd"]
[null,"KR43","1998-04-01","De zingende zwammen","1e druk",43,"HC",{"$f":"INDEX('Lange verhalen'!$E$10:$E$76,MATCH(D80,'Lange verhalen'!$G$10:$G$76,0))","v":40},55,"ongekleurd"]
[null,"KR44","1998-04-01","De wolkeneters","1e druk",44,"HC",{"$f":"INDEX('Lange verhalen'!$E$10:$E$76,MATCH(D81,'Lange verhalen'!$G$10:$G$76,0))","v":41},55,"ongekleurd"]
[null,"KR45","1998-06-01","De klankentapper","1e druk",45,"HC",{"$f":"INDEX('Lange verhalen'!$E$10:$E$76,MATCH(D82,'Lange verhalen'!$G$10:$G$76,0))","v":43},55,"ongekleurd"]
[null,"KR46","1998-06-01","De wilde weldoener","1e druk",46,"HC",{"$f":"INDEX('Lange verhalen'!$E$10:$E$76,MATCH(D83,'Lange verhalen'!$G$10:$G$76,0))","v":44},55,"ongekleurd"]
[null,"KR47","1998-09-01","Het hondenparadijs","1e druk",47,"HC",{"$f":"INDEX('Lange verhalen'!$E$10:$E$76,MATCH(D84,'Lange verhalen'!$G$10:$G$76,0))","v":45},55,"ongekleurd"]
[null,"KR48","1998-09-01","De kaartendans","1e druk",48,"HC",{"$f":"INDEX('Lange verhalen'!$E$10:$E$76,MATCH(D85,'Lange verhalen'!$G$10:$G$76,0))","v":46},55,"ongekleurd","Naast de infokaart een intekenfolder voor 1999, en folder met inlegvel van Graphicart"]
[null,"KR49","1998-11-01","De kwakstralen","1e druk",49,"HC",{"$f":"INDEX('Lange verhalen'!$E$10:$E$76,MATCH(D86,'Lange verhalen'!$G$10:$G$76,0))","v":47},55,"ongekleurd"]
[null,"KR50","1998-11-01","Het rijmende paard","1e druk",50,"HC",{"$f":"INDEX('Lange verhalen'!$E$10:$E$76,MATCH(D87,'Lange verhalen'!$G$10:$G$76,0))","v":48},55,"ongekleurd"]
[null,"KR51","1999-02-01","De sissende sampam","1e druk",51,"HC",49,56,"ongekleurd"]
[null,"KR52","1999-02-01","Sjeik El Ro-jenbiet","1e druk",52,"HC",{"$f":"INDEX('Lange verhalen'!$E$10:$E$76,MATCH(D89,'Lange verhalen'!$G$10:$G$76,0))","v":50},55,"ongekleurd"]
[null,"KR53","1999-05-01","De nerveuze Nerviërs","1e druk",53,"HC",51,55,"ongekleurd"]
[null,"KR54","1999-05-01","Het zoemende ei","1e druk",54,"HC",{"$f":"INDEX('Lange verhalen'!$E$10:$E$76,MATCH(D91,'Lange verhalen'!$G$10:$G$76,0))","v":53},55,"ongekleurd"]
[null,"KR55","1999-09-01","De koddige kater","1e druk",55,"HC",{"$f":"INDEX('Lange verhalen'!$E$10:$E$76,MATCH(D92,'Lange verhalen'!$G$10:$G$76,0))","v":54},55,"ongekleurd"]
[null,"KR56","1999-09-01","De schone slaper","1e druk",56,"HC",{"$f":"INDEX('Lange verhalen'!$E$10:$E$76,MATCH(D93,'Lange verhalen'!$G$10:$G$76,0))","v":57},55,"ongekleurd"]
[null,"KR57","1999-11-01","De apekermis","1e druk",57,"HC",{"$f":"INDEX('Lange verhalen'!$E$10:$E$76,MATCH(D94,'Lange verhalen'!$G$10:$G$76,0))","v":61},55,"ongekleurd"]
[null,"KR58","1999-11-01","Jeromba de Griek","1e druk",58,"HC",{"$f":"INDEX('Lange verhalen'!$E$10:$E$76,MATCH(D95,'Lange verhalen'!$G$10:$G$76,0))","v":63},55,"ongekleurd"]
[null,"KR59","1999-11-01","De Dulle Griet","1e druk",59,"HC",66,55,"ongekleurd","Naast de infokaart is ook een slotbrief toegevoegd"]
[]
[]
[null,"3.","classics",null,null,null,null,"witte softcover met rode Suske en Wiske letters en handtekening"]
[]
[]
[null,"Nr","Album\ndatum","Titel","Druk","Lastdodo nr","Kaft","Rode/blauwe reeks nr","Pagina's","Kleur","Opmerking"]
[]
[null,1,"2017-05-01","Het geheim van de gladiatoren","1e druk",1,"wit",113,55,"4 kleuren","Verkorte versie met 55 pagina's, handtekening (W. Vandersteen) is van Paul Geerts, rode reeks cover"]
[null,2,"2017-05-01","De duistere diamant","1e druk",2,"wit",121,55,"4 kleuren","De handtekening (W. Vandersteen) op de eerste 4 delen is van Paul Geerts, rode reeks cover"]
[null,3,"2017-05-01","De schat van Beersel","1e druk",3,"wit",111,55,"4 kleuren","Verkorte versie met 55 pagina's, handtekening (W. Vandersteen) is van Paul Geerts, rode reeks cover"]
[null,4,"2017-05-01","De groene splinter","1e druk",4,"wit",112,55,"4 kleuren","Verkorte versie met 55 pagina's, handtekening (W. Vandersteen) is van Paul Geerts, rode reeks cover"]
[null,5,"2017-09-01","De koning drinkt","1e druk",5,"wit",105,55,"4 kleuren","Hertekende versie met 55 pagina's"]
[null,6,"2017-09-01","De tamtamkloppers","1e druk",6,"wit",88,55,"4 kleuren","Hertekende versie  als in rode reeks"]
[null,7,"2017-09-01","De Zwarte Zwaan","1e druk",7,"wit",123,55,"4 kleuren","Rode reeks cover"]
[null,8,"2017-09-01","Het gouden paard","1e druk",8,"wit",100,55,"4 kleuren","Hertekende versie met 55 pagina's"]
[null,9,"2017-12-01","De Zwarte Madam","1e druk",9,"wit",140,54.5,"4 kleuren","Rode reeks cover"]
[null,10,"2017-12-01","De gezanten van Mars","1e druk",10,"wit",115,55,"4 kleuren","Verkorte versie met 55 pagina's, rode reeks cover"]
[null,11,"2017-12-01","De wolkeneters","1e druk",11,"wit",109,55,"4 kleuren",""]
[null,12,"2017-12-01","De wilde weldoener","1e druk",12,"wit",104,55,"4 kleuren",""]
[null,13,"2018-06-01","Prinses Zagemeel","1e druk",13,"wit",129,55,"4 kleuren","Rode reeks cover"]
[null,14,"2018-06-01","De bokkenrijders","1e druk",14,"wit",136,55,"4 kleuren","Titel aangepast aan moderne spelling, rode reeks cover"]
[null,15,"2018-06-01","De stalen bloempot","1e druk",15,"wit",145,55,"4 kleuren","Rode reeks cover"]
[null,16,"2018-06-01","De apenkermis","1e druk",16,"wit",77,55,"4 kleuren","Titel aangepast aan moderne spelling"]
[null,17,"2018-12-01","De vliegende aap","1e druk",17,"wit",2,55,"4 kleuren","Originele cover, originele tekeningen"]
[null,18,"2018-12-01","Lambiorix","1e druk",18,"wit",9,55,"4 kleuren","Originele cover"]
[null,19,"2018-12-01","De windmakers","1e druk",19,"wit",38,55,"4 kleuren",""]
[null,20,"2018-12-01","Het hondenparadijs","1e druk",20,"wit",45,55,"4 kleuren","Rode reeks cover"]
[null,21,"2019-04-01","Het Spaanse spook","1e druk",21,"wit",{"$f":"+'Blauwe reeks'!B11","v":"B1"},69,"4 kleuren","Oorspronkelijke eerste 4 pagina's van voor hertekening en daardoor 69 pagina's, originele cover"]
[null,22,"2019-04-01","De Tartaarse helm","1e druk",22,"wit",{"$f":"+'Blauwe reeks'!B15","v":"B3"},62,"4 kleuren","Volledige lengte, originele cover"]
[null,23,"2019-04-01","De koddige kater","1e druk",23,"wit",54,55,"4 kleuren",""]
[null,24,"2019-04-01","De schone slaper","1e druk",24,"wit",57,55,"4 kleuren",""]
[null,25,"2019-10-01","De mottenvanger","1e druk",25,"wit",31,55,"4 kleuren","Originele cover"]
[null,26,"2019-10-01","Bibbergoud","1e druk",26,"wit",8,55,"4 kleuren","Originele cover"]
[null,27,"2019-10-01","De bronzen sleutel","1e druk",27,"wit",{"$f":"+'Blauwe reeks'!B13","v":"B2"},62,"4 kleuren","Volledige lengte, originele cover"]
[null,28,"2019-10-01","Jeromba de Griek","1e druk",28,"wit",63,55,"4 kleuren",""]
[]
[]
[null,"Voor correcties, vragen of opmerkingen:"]
[null,"Graag contact opnemen met "]
[null,"detammetumi@gmail.com"]

{"sheet":"Amoras","index":9,"n_rows":38,"n_cols":19,"rows_kept":38,"cut":false,"hidden":false,"merged":[[33,3,33,4],[33,9,33,16],[16,3,16,4],[16,9,16,16],[30,3,30,4],[30,9,30,16],[32,3,32,4],[32,9,32,16],[29,3,29,4],[29,9,29,16],[23,3,23,4],[23,9,23,16],[19,8,20,8],[31,3,31,4],[31,9,31,16],[19,9,20,16],[21,3,21,4],[21,9,21,16],[22,3,22,4],[22,9,22,16],[27,3,27,4],[27,9,27,16],[28,3,28,4],[28,9,28,16],[24,3,24,4],[24,9,24,16],[25,3,25,4],[25,9,25,16],[26,3,26,4],[26,9,26,16],[19,1,20,1],[19,2,20,2],[19,3,20,4],[19,6,20,6],[19,7,20,7],[12,3,12,4],[12,9,12,16],[13,3,13,4],[13,9,13,16],[14,3,14,4],[14,9,14,16],[15,3,15,4],[11,3,11,4],[11,9,11,16],[0,1,4,8],[7,1,8,1],[7,2,8,2],[7,3,8,4],[7,6,8,6],[7,7,8,7],[7,8,8,8],[7,9,8,16],[9,3,9,4],[9,9,9,16],[10,3,10,4],[10,9,10,16],[2,10,5,16]]}
[null," amoras",null,null,null,null,null,null,null,null,null,null,null,null,null,null,null,null,{"$f":"+'Lange verhalen'!S1","v":"versie: 21 Apr 2024"}]
[null,null,null,null,null,null,null,null,null,null,"Spinn-off reeks van Suske en Wiske",null,null,null,null,null,null,null,{"$f":"+'Lange verhalen'!S2","v":"door Arjen Leine / Mark Ormel"}]
[null,null,null,null,null,null,null,null,null,null,"Op 15 februari, de honderdste geboortedag van Willy Vandersteen, werd de website Amoras2047 geopend waarop wordt afgeteld naar de start van de serie. Het getal 2047 is niet toevallig gekozen, In dat jaar is het exact 100 jaar geleden dat het eerste Suske en Wiske-verhaal, Op het eiland Amoras voor het eerst in album verscheen."]
[]
[]
[]
[null,"amoras"]
[null,"Nr","Datum","Album Nummer",null,null,"Titel","Pagina's","Heb ik","Opmerkingen"]
[null,null,null,null,null,"Datum"]
[null,{"$f":"+B9+1","v":1},"2013-05-08",1,null,null,"Suske",54]
[null,2,"2013-11-06",{"$f":"+D10+1","v":2},null,null,"Jérusalem",54]
[null,3,"2014-05-07",{"$f":"+D11+1","v":3},null,null,"Krimson",54]
[null,4,"2014-10-21",{"$f":"+D12+1","v":4},null,null,"Lambik",54,null,"Bij een gedeelte van de oplage in met name Nederland op de cover de tekst: 'De bestsellerserie van Suske en Wiske' 300.000 exemplaren verkocht."]
[null,5,"2015-05-19",{"$f":"+D13+1","v":5},null,null,"Wiske",54]
[null,6,"2015-11-04",{"$f":"+D14+1","v":6},null,null,"Barabas",54]
[null,"AMO A","2015-12-01","-",null,null,"De complete saga",{"$f":"6*54","v":324},null,"Bundeling van deel 1-6. Met flappen, waardoor het boekblok uitsteekt."]
[null,"AMO 0","2016-01-12","-",null,null,"The making of Amoras",null,null,"Geen stripverhaal. Ter afsluiting van de reeks wordt een kijkje achter de schermen gegeven met schetsen, foto's en achtergrond informatie."]
[]
[null,"de kronieken van amoras"]
[null,"Nr","Datum","Album Nummer",null,null,"Titel","Pagina's","Heb ik","Opmerkingen"]
[null,null,null,null,null,"Datum"]
[null,{"$f":"+B21+1","v":1},"2017-03-15",1,null,null,"De zaak Krimson #1",54,null,"Trilogie"]
[null,2,"2017-10-11",{"$f":"+D22+1","v":2},null,null,"De zaak Krimson #2",54,null,"Trilogie"]
[null,3,"2018-06-13",3,null,null,"De zaak Krimson #3",54,null,"Trilogie"]
[null,4,"2019-05-15",4,null,null,"Gardavu!",46]
[null,5,"2019-12-04",5,null,null,"De Killerbacterie",46]
[null,6,"2020-05-20",6,null,null,"De Underdog",46]
[null,7,"2020-11-03",7,null,null,"Wie niet horen wil",46]
[null,8,"2021-05-11",8,null,null,"Avontuur in Piscine-les-Bains",46]
[null,9,"2021-11-24",9,null,null,"De zaak Sus Antigoon #1",46,null,"Verhaal in 2 delen. Dit album werd aangekondigd met de titel Het verloren eiland. "]
[null,10,"2022-05-31",10,null,null,"De zaak Sus Antigoon #2",46,null,"Verhaal in 2 delen"]
[null,11,"2022-11-23",11,null,null,"Schanulleke",46]
[null,{"$f":"+B32+1","v":12},"2023-05-31",{"$f":"+D32+1","v":12},null,null,"De val",46]
[null,{"$f":"+B33+1","v":13},"2023-11-22",{"$f":"+D33+1","v":13},null,null,"De droom van Arthur",46]
[]
["-","Voor correcties, vragen of opmerkingen:"]
["-","Graag contact opnemen met "]
["-","detammetumi@gmail.com"]

{"sheet":"krant","index":10,"n_rows":277,"n_cols":8,"rows_kept":277,"cut":false,"hidden":true,"merged":[[8,0,8,3],[0,0,0,3],[263,0,265,0],[263,2,265,2],[268,0,268,3]]}
["Overzicht publicaties De Nieuwe Standaard",null,null,null,"aank","1e afl"]
["Titel","Aankondiging","Begin","Eind"]
["Rikki en Wiske",null,"vr 30-03-1945","za 15-12-1945",{"$f":"DATE(RIGHT(C3,4),MID(C3,LEN(C3)-6,2),MID(C3,LEN(C3)-9,2))","v":"1945-03-30"}]
["Op het eiland Amoras","wo 19-12-1945","do 20-12-1945","ma 13-05-1946",{"$f":"DATE(RIGHT(B4,4),MID(B4,LEN(B4)-6,2),MID(B4,LEN(B4)-9,2))","v":"1945-12-19"},"1945-12-20"]
["De sprietatoom","wo 15-05-1946","do 16-05-1946","vr 27-09-1946","1946-05-15","1946-05-16"]
["De vliegende aap","za 28-09-1946","ma 30-09-1946","wo 12-02-1947","1946-09-28","1946-09-30"]
["De zwarte Madam","do 13-02-1947","vr 14-02-1947","di 01-07-1947","1947-02-13","1947-02-14"]
["De koning drinkt","di 01-07-1947","wo 02-07-1947","vr 07-11-1947","1947-07-01","1947-07-02"]
["Overzicht publicaties De Standaard"]
["Titel","Aankondiging","Begin","Eind"]
["De koning drinkt","dinsdag 01-07-1947","woensdag 02-07-1947","vrijdag 07-11-1947",{"$f":"DATE(RIGHT(B11,4),MID(B11,LEN(B11)-6,2),MID(B11,LEN(B11)-9,2))","v":"1947-07-01"},{"$f":"DATE(RIGHT(C11,4),MID(C11,LEN(C11)-6,2),MID(C11,LEN(C11)-9,2))","v":"1947-07-02"}]
["Prinses Zagemeel","zaterdag 08-11-1947","maandag 10-11-1947","vrijdag 19-03-1948","1947-11-08","1947-11-10"]
["De bokkerijder","zaterdag 20-03-1948","maandag 22-03-1948","woensdag 28-07-1948","1948-03-20","1948-03-22"]
["De witte uil","donderdag 29-07-1948","vrijdag 30-07-1948","dinsdag 07-12-1948","1948-07-29","1948-07-30"]
["De mottenvanger","woensdag 08-12-1948","donderdag 09-12-1948","vrijdag 15-04-1949","1948-12-08","1948-12-09"]
["Bibbergoud","zaterdag 16-04-1949","maandag 18-04-1949","woensdag 24-08-1949","1949-04-16","1949-04-18"]
["Lambiorix","donderdag 25-08-1949","vrijdag 26-08-1949","woensdag 04-01-1950","1949-08-25","1949-08-26"]
["De stierentemmer","donderdag 05-01-1950","vrijdag 06-01-1950","maandag 15-05-1950","1950-01-05","1950-01-06"]
["De stalen bloempot","dinsdag 16-05-1950","woensdag 17-05-1950","vrijdag 22-09-1950","1950-05-16","1950-05-17"]
["Het zingende nijlpaard","zaterdag 23-09-1950","maandag 25-09-1950","donderdag 01-02-1951","1950-09-23","1950-09-25"]
["De ringelingschat","vrijdag 02-02-1951","zaterdag 03-02-1951","dinsdag 12-06-1951","1951-02-02","1951-02-03"]
["De tuftuf-club","woensdag 13-06-1951","donderdag 14-06-1951","zaterdag 27-10-1951","1951-06-13","1951-06-14"]
["Het bevroren vuur","maandag 29-10-1951","dinsdag 30-10-1951","zaterdag 08-03-1952","1951-10-29","1951-10-30"]
["De sterrenplukkers","maandag 10-03-1952","dinsdag 11-03-1952","vrijdag 18-07-1952","1952-03-10","1952-03-11"]
["De lachende wolf","zaterdag 19-07-1952","maandag 21-07-1952","dinsdag 25-11-1952","1952-07-19","1952-07-21"]
["De dolle musketiers","woensdag 26-11-1952","donderdag 27-11-1952","maandag 06-04-1953","1952-11-26","1952-11-27"]
["De tamtamklopper","dinsdag 07-04-1953","woensdag 08-04-1953","donderdag 13-08-1953","1953-04-07","1953-04-08"]
["De knokkersburcht","dinsdag 18-08-1953","woensdag 19-08-1953","maandag 28-12-1953","1953-08-18","1953-08-19"]
["De cirkusbaron","donderdag 31-12-1953","vrijdag 01-01-1954","dinsdag 11-05-1954","1953-12-31","1954-01-01"]
["De speelgoedzaaier","zaterdag 15-05-1954","maandag 17-05-1954","vrijdag 24-09-1954","1954-05-15","1954-05-17"]
["De IJzeren Schelvis","maandag 27-09-1954","dinsdag 28-09-1954","maandag 07-02-1955","1954-09-27","1954-09-28"]
["De kleppende klipper","vrijdag 11-02-1955","zaterdag 12-02-1955","maandag 27-06-1955","1955-02-11","1955-02-12"]
["De straatridder","zaterdag 02-07-1955","maandag 04-07-1955","maandag 14-11-1955","1955-07-02","1955-07-04"]
["De brullende berg","donderdag 17-11-1955","vrijdag 18-11-1955","woensdag 28-03-1956","1955-11-17","1955-11-18"]
["De spokenjagers","zaterdag 31-03-1956","maandag 02-04-1956","woensdag 08-08-1956","1956-03-31","1956-04-02"]
["De vermoeiden!",null,"vrijdag 10-08-1956","Pauze-aankondiging",{"$f":"DATE(RIGHT(C36,4),MID(C36,LEN(C36)-6,2),MID(C36,LEN(C36)-9,2))","v":"1956-08-10"},{"$f":"+E36","v":"1956-08-10"}]
["De snorrende snor","zaterdag 08-09-1956","maandag 10-09-1956","donderdag 17-01-1957",{"$f":"DATE(RIGHT(B37,4),MID(B37,LEN(B37)-6,2),MID(B37,LEN(B37)-9,2))","v":"1956-09-08"},{"$f":"DATE(RIGHT(C37,4),MID(C37,LEN(C37)-6,2),MID(C37,LEN(C37)-9,2))","v":"1956-09-10"}]
["De stemmenrover","maandag 21-01-1957","dinsdag 22-01-1957","donderdag 30-05-1957","1957-01-21","1957-01-22"]
["Het taterende testament","dinsdag 04-06-1957","woensdag 05-06-1957","zaterdag 12-10-1957","1957-06-04","1957-06-05"]
["De zonnige zageman","woensdag 16-10-1957","donderdag 17-10-1957","dinsdag 25-02-1958","1957-10-16","1957-10-17"]
["De duistere diamant","vrijdag 28-02-1958","zaterdag 01-03-1958","donderdag 10-07-1958","1958-02-28","1958-03-01"]
["De zwarte zwaan","maandag 14-07-1958","dinsdag 15-07-1958","vrijdag 21-11-1958","1958-07-14","1958-07-15"]
["Het vliegende bed","donderdag 27-11-1958","vrijdag 28-11-1958","donderdag 09-04-1959","1958-11-27","1958-11-28"]
["De Texas-rakkers","maandag 13-04-1959","dinsdag 14-04-1959","donderdag 20-08-1959","1959-04-13","1959-04-14"]
["De windmakers","zaterdag 22-08-1959","dinsdag 25-08-1959","donderdag 31-12-1959","1959-08-22","1959-08-25"]
["De gouden cirkel","maandag 04-01-1960","dinsdag 05-01-1960","woensdag 11-01-1960","1960-01-04","1960-01-05"]
["De zingende zwammen","woensdag 18-05-1960","donderdag 19-05-1960","maandag 26-09-1960","1960-05-18","1960-05-19"]
["De wolkeneters","woensdag 28-09-1960","donderdag 29-09-1960","maandag 06-02-1961","1960-09-28","1960-09-29"]
["De klankentapper","dinsdag 07-02-1961","woensdag 08-02-1961","vrijdag 16-06-1961","1961-02-07","1961-02-08"]
["De wilde weldoener","maandag 19-06-1961","donderdag 20-06-1961","woensdag 25-10-1961","1961-06-19","1961-06-20"]
["Het hondenparadijs","donderdag 26-10-1961","vrijdag 27-10-1961","dinsdag 06-03-1962","1961-10-26","1961-10-27"]
["De kaartendans","woensdag 07-03-1962","donderdag 08-03-1962","vrijdag 13-07-1962","1962-03-07","1962-03-08"]
["De Kwakstralen","zaterdag 14-07-1962","maandag 16-07-1962","dinsdag 20-11-1962","1962-07-14","1962-07-16"]
["Het rijmende paard","donderdag 22-11-1962","vrijdag 23-11-1962","maandag 01-04-1963","1962-11-22","1962-11-23"]
["De sissende sampam","woensdag 02-04-1963","donderdag 03-04-1963","zaterdag 10-08-1963","1963-04-02","1963-04-03"]
["Sjeik El Ro-jenbiet","maandag 12-08-1963","dinsdag 13-08-1963","vrijdag 20-12-1963","1963-08-12","1963-08-13"]
["De nerveuze NerviÃƒÂ«rs","zaterdag 21-12-1963","maandag 23-12-1963","vrijdag 01-05-1964","1963-12-21","1963-12-23"]
["Het zoemende ei","zaterdag 02-05-1964","maandag 04-04-1964","donderdag 10-09-1964","1964-05-02","1964-04-04"]
["De koddige kater","vrijdag 11-09-1964","zaterdag 12-09-1964","vrijdag 22-01-1965","1964-09-11","1964-09-12"]
["De schone slaper","zaterdag 23-01-1965","maandag 25-01-1965","dinsdag 01-06-1965","1965-01-23","1965-01-25"]
["De apekermis","woensdag 02-06-1965","donderdag 03-06-1965","zaterdag 09-10-1965","1965-06-02","1965-06-03"]
["Jeromba de Griek","maandag 11-10-1965","dinsdag 12-10-1965","maandag 21-02-1966","1965-10-11","1965-10-12"]
["De dulle griet","dinsdag 22-02-1966","woensdag 23-02-1966","vrijdag 01-07-1966","1966-02-22","1966-02-23"]
["De poenschepper","zaterdag 02-07-1966","maandag 04-07-1966","vrijdag 11-11-1966","1966-07-02","1966-07-04"]
["Wattman","zaterdag 12-11-1966","maandag 14-11-1966","donderdag 23-03-1967","1966-11-12","1966-11-14"]
["Het mini-mierennest","vrijdag 24-03-1967","zaterdag 25-03-1967","vrijdag 04-08-1967","1967-03-24","1967-03-25"]
["De zeven snaren","zaterdag 05-08-1967","maandag 07-08-1967","vrijdag 15-12-1967","1967-08-05","1967-08-07"]
["De gramme huurling","zaterdag 16-12-1967","maandag 18-12-1967","vrijdag 26-04-1968","1967-12-16","1967-12-18"]
["Tedere Tronica","zaterdag 27-04-1968","maandag 29-04-1968","zaterdag 07-09-1968",{"$f":"DATE(RIGHT(B69,4),MID(B69,LEN(B69)-6,2),MID(B69,LEN(B69)-9,2))","v":"1968-04-27"},{"$f":"DATE(RIGHT(C69,4),MID(C69,LEN(C69)-6,2),MID(C69,LEN(C69)-9,2))","v":"1968-04-29"}]
["De briesende bruid","maandag 09-09-1968","dinsdag 10-09-1968","vrijdag 17-01-1969","1968-09-09","1968-09-10"]
["De junglebloem","zaterdag 18-01-1969","maandag 20-01-1969","maandag 02-06-1969","1969-01-18","1969-01-20"]
["De dromendiefstal","dinsdag 03-06-1969","woensdag 04-06-1969","vrijdag 10-10-1969","1969-06-03","1969-06-04"]
["De charmante koffiepot","zaterdag 11-10-1969","maandag 13-10-1969","donderdag 19-02-1970","1969-10-11","1969-10-13"]
["Twee toffe totems","vrijdag 20-02-1970","zaterdag 21-02-1970","vrijdag 03-07-1970","1970-02-20","1970-02-21"]
["De toornige tjiftjaf","zaterdag 04-07-1970","maandag 06-07-1970","donderdag 12-11-1970","1970-07-04","1970-07-06"]
["De kale kapper","vrijdag 13-11-1970","zaterdag 14-11-1970","dinsdag 30-03-1971","1970-11-13","1970-11-14"]
["Het brommende brons","woensdag 31-03-1971","donderdag 01-04-1971","donderdag 12-08-1971","1971-03-31","1971-04-01"]
["De steensnoepers","vrijdag 13-08-1971","zaterdag 14-08-1971","maandag 27-12-1971","1971-08-13","1971-08-14"]
["De gekke gokker","dinsdag 28-12-1971","woensdag 29-12-1971","maandag 08-05-1972","1971-12-28","1971-12-29"]
["De boze boomzalver","dinsdag 09-05-1972","woensdag 10-05-1972","dinsdag 19-09-1972","1972-05-09","1972-05-10"]
["De malle mergpijp","woensdag 20-09-1972","donderdag 21-09-1972","vrijdag 02-02-1973","1972-09-20","1972-09-21"]
["De poppenpakker","zaterdag 03-02-1973","maandag 05-02-1973","zaterdag 16-06-1973","1973-02-03","1973-02-05"]
["De gladde glipper","maandag 18-06-1973","dinsdag 19-06-1973","dinsdag 30-10-1973","1973-06-18","1973-06-19"]
["Het ros Bazhaar","woensdag 31-10-1973","vrijdag 02-11-1973","dinsdag 12-03-1974","1973-10-31","1973-11-02"]
["De nare Varaan","woensdag 13-03-1974","donderdag 14-03-1974","woensdag 24-07-1974","1974-03-13","1974-03-14"]
["De poezelige poes","donderdag 25-07-1974","vrijdag 26-07-1974","woensdag 04-12-1974","1974-07-25","1974-07-26"]
["Beminde Barabas","donderdag 05-12-1974","vrijdag 06-12-1974","woensdag 16-04-1975","1974-12-05","1974-12-06"]
["De vinnige viking","donderdag 17-04-1975","vrijdag 18-04-1975","zaterdag 30-08-1975","1975-04-17","1975-04-18"]
["De bokkige bombardon","maandag 01-09-1975","dinsdag 02-09-1975","maandag 12-01-1976","1975-09-01","1975-09-02"]
["De blinkende boemerang","dinsdag 13-01-1976","woensdag 14-01-1976","zaterdag 22-05-1976","1976-01-13","1976-01-14"]
["De raap van Rubens","maandag 24-05-1976","dinsdag 25-05-1976","maandag 29-11-1976","1976-05-24","1976-05-25"]
["De sputterende spuiter","dinsdag 30-11-1976","woensdag 01-12-1976","zaterdag 09-04-1977","1976-11-30","1976-12-01"]
["De Efteling-elfjes","dinsdag 12-04-1977","woensdag 13-04-1977","dinsdag 23-08-1977","1977-04-12","1977-04-13"]
["De amoureuze amazone","woensdag 24-08-1977","donderdag 25-08-1977","woensdag 04-01-1978","1977-08-24","1977-08-25"]
["Walli de walvis","donderdag 05-01-1978","vrijdag 06-01-1978","donderdag 18-05-1978","1978-01-05","1978-01-06"]
["Het drijvende dorp","vrijdag 19-05-1978","zaterdag 20-05-1978","woensdag 27-09-1978","1978-05-19","1978-05-20"]
["Het statige standbeeld","donderdag 28-09-1978","vrijdag 29-09-1978","donderdag 08-02-1979","1978-09-28","1978-09-29"]
["De pompenplanters","vrijdag 09-02-1979","zaterdag 10-02-1979","vrijdag 22-06-1979","1979-02-09","1979-02-10"]
["De adellijke ark","zaterdag 23-06-1979","maandag 25-06-1979","vrijdag 02-11-1979","1979-06-23","1979-06-25"]
["De stoute steenezel","zaterdag 03-11-1979","maandag 05-11-1979","woensdag 12-03-1980","1979-11-03","1979-11-05"]
["De perenprins","donderdag 13-03-1980","vrijdag 14-03-1980","vrijdag 25-07-1980","1980-03-13","1980-03-14"]
["De koperen knullen","zaterdag 26-07-1980","maandag 28-07-1980","vrijdag 05-12-1980","1980-07-26","1980-07-28"]
["De toffe tamboer","zaterdag 06-12-1980","maandag 08-12-1980","donderdag 16-04-1981","1980-12-06","1980-12-08"]
["De rosse reus","vrijdag 17-04-1981","zaterdag 18-04-1981","zaterdag 29-08-1981","1981-04-17","1981-04-18"]
["De droevige duif","maandag 31-08-1981","dinsdag 01-09-1981","zaterdag 09-01-1982","1981-08-31","1981-09-01"]
["Gelukkig Nieuwjaar!",null,"maandag 11-01-1982","Nieuwjaarswens",{"$f":"DATE(RIGHT(C106,4),MID(C106,LEN(C106)-6,2),MID(C106,LEN(C106)-9,2))","v":"1982-01-11"},{"$f":"+E106","v":"1982-01-11"}]
["De Belhamelbende",null,"dinsdag 12-01-1982","zaterdag 22-05-1982",{"$f":"DATE(RIGHT(C107,4),MID(C107,LEN(C107)-6,2),MID(C107,LEN(C107)-9,2))","v":"1982-01-12"},{"$f":"+E107","v":"1982-01-12"}]
["Het Bretoense broertje","maandag 24-05-1982","dinsdag 25-05-1982","vrijdag 01-10-1982",{"$f":"DATE(RIGHT(B108,4),MID(B108,LEN(B108)-6,2),MID(B108,LEN(B108)-9,2))","v":"1982-05-24"},{"$f":"DATE(RIGHT(C108,4),MID(C108,LEN(C108)-6,2),MID(C108,LEN(C108)-9,2))","v":"1982-05-25"}]
["De gouden ganzeveer","zaterdag 02-10-1982","maandag 04-10-1982","zaterdag 12-02-1983","1982-10-02","1982-10-04"]
["De hippe heksen","maandag 14-02-1983","dinsdag 15-02-1983","zaterdag 25-06-1983","1983-02-14","1983-02-15"]
["Het Delta-duel","maandag 27-06-1983","dinsdag 28-06-1983","zaterdag 05-11-1983","1983-06-27","1983-06-28"]
["De lieve Lilleham","maandag 07-11-1983","dinsdag 08-11-1983","donderdag 15-03-1984","1983-11-07","1983-11-08"]
["Amoris van Amoras","vrijdag 16-03-1984","zaterdag 17-03-1984","zaterdag 28-07-1984","1984-03-16","1984-03-17"]
["Het dreigende dinges","maandag 30-07-1984","dinsdag 31-07-1984","vrijdag 07-12-1984","1984-07-30","1984-07-31"]
["Angst op de \"Amsterdam\"","zaterdag 08-12-1984","maandag 10-12-1984","vrijdag 19-04-1985","1984-12-08","1984-12-10"]
["De mooie millirem","zaterdag 20-04-1985","maandag 22-04-1985","zaterdag 31-08-1985","1985-04-20","1985-04-22"]
["De bonkige baarden","maandag 02-09-1985","dinsdag 03-09-1985","maandag 13-01-1986","1985-09-02","1985-09-03"]
["De glanzende gletsjer","dinsdag 14-01-1986","woensdag 15-01-1986","dinsdag 27-05-1986","1986-01-14","1986-01-15"]
["De hellegathonden","woensdag 28-05-1986","donderdag 29-05-1986","maandag 06-10-1986","1986-05-28","1986-05-29"]
["De jolige joffer","dinsdag 07-10-1986","woensdag 08-10-1986","dinsdag 17-02-1987","1986-10-07","1986-10-08"]
["De woeste wespen","woensdag 18-02-1987","donderdag 19-02-1987","vrijdag 26-06-1987","1987-02-18","1987-02-19"]
["De edele elfen","zaterdag 27-06-1987","maandag 29-06-1987","zaterdag 31-10-1987","1987-06-27","1987-06-29"]
["De Krimson-crisis","maandag 02-11-1987","dinsdag 03-11-1987","zaterdag 13-03-1988","1987-11-02","1987-11-03"]
["De dappere duinduikers","maandag 14-03-1988","dinsdag 15-03-1988","vrijdag 20-05-1988","1988-03-14","1988-03-15"]
["De komieke Coco","zaterdag 21-05-1988","dinsdag 24-05-1988","vrijdag 30-09-1988","1988-05-21","1988-05-24"]
["De speelgoedspiegel","zaterdag 01-10-1988","maandag 03-10-1988","donderdag 09-02-1989","1988-10-01","1988-10-03"]
["Sagarmatha","vrijdag 10-02-1989","zaterdag 11-02-1989","vrijdag 23-06-1989","1989-02-10","1989-02-11"]
["De bezeten bezitter","zaterdag 24-06-1989","maandag 26-06-1989","vrijdag 03-11-1989","1989-06-24","1989-06-26"]
["De kleine postruiter","zaterdag 04-11-1989","maandag 06-11-1989","vrijdag 16-03-1990","1989-11-04","1989-11-06"]
["De goalgetter","zaterdag 17-03-1990","maandag 19-03-1990","dinsdag 10-07-1990","1990-03-17","1990-03-19"]
["De mysterieuze mijn","woensdag 11-07-1990","donderdag 12-07-1990","woensdag 31-10-1990","1990-07-11","1990-07-12",{"$f":"DATE(RIGHT(D131,4),MID(D131,LEN(D131)-6,2),MID(D131,LEN(D131)-9,2))","v":"1990-10-31"},{"$f":"(G131-F131-(INT((WEEKDAY(F131-1)+G131-F131)/7)))/2","v":47.5}]
["Het wondere Wolfje","vrijdag 02-11-1990","zaterdag 03-11-1990","vrijdag 22-02-1991","1990-11-02","1990-11-03","1991-02-22",47.5]
["Tazuur en Tazijn","zaterdag 23-02-1991","maandag 25-02-1991","dinsdag 18-06-1991","1991-02-23","1991-02-25","1991-06-18",48.5]
["Lambik Baba","woensdag 19-07-1991","donderdag 20-07-1991","woensdag 09-10-1991",{"$f":"+G133+1","v":"1991-06-19"},{"$f":"+E134+1","v":"1991-06-20"},"1991-10-09",47.5]
["De Tootootjes","donderdag 10-10-1991","vrijdag 11-10-1991","zaterdag 01-02-1992",{"$f":"DATE(RIGHT(B135,4),MID(B135,LEN(B135)-6,2),MID(B135,LEN(B135)-9,2))","v":"1991-10-10"},{"$f":"DATE(RIGHT(C135,4),MID(C135,LEN(C135)-6,2),MID(C135,LEN(C135)-9,2))","v":"1991-10-11"},"1992-02-01",48.5]
["De klinkende klokken","maandag 03-02-1992","dinsdag 04-02-1992","dinsdag 26-05-1992","1992-02-03","1992-02-04","1992-05-26",48]
["Het kristallen kasteel","woensdag 27-05-1992","vrijdag 29-05-1992","vrijdag 18-09-1992","1992-05-27","1992-05-29","1992-09-18",48]
["De gulden harpoen","zaterdag 19-09-1992","maandag 21-09-1992","maandag 11-01-1993","1992-09-19","1992-09-21","1993-01-11",48]
["De snikkende sirene","dinsdag 12-01-1993","woensdag 13-01-1993","dinsdag 04-05-1993","1993-01-12","1993-01-13","1993-05-04",47.5]
["De slimme slapjanus","woensdag 05-05-1993","donderdag 06-05-1993","zaterdag 28-08-1993","1993-05-05","1993-05-06","1993-08-28",49]
["De pottenproever","maandag 30-08-1993","dinsdag 31-08-1993","maandag 20-12-1993","1993-08-30","1993-08-31","1993-12-20",47.5]
["Het Aruba-dossier","dinsdag 21-12-1993","woensdag 22-12-1993","woensdag 13-04-1994","1993-12-21","1993-12-22","1994-04-13",48]
["Tokapua Toraja","donderdag 14-04-1994","vrijdag 15-04-1994","vrijdag 05-08-1994","1994-04-14","1994-04-15","1994-08-05",48]
["De begeerde berg","zaterdag 06-08-1994","maandag 08-08-1994","maandag 28-11-1994","1994-08-06","1994-08-08","1994-11-28",48]
["De 7 Schaken","dinsdag 29-11-1994 en vrijdag 02-12-1994","zaterdag 03-12-1994","dinsdag 06-06-1995","1994-11-29",{"$f":"DATE(RIGHT(C145,4),MID(C145,LEN(C145)-6,2),MID(C145,LEN(C145)-9,2))","v":"1994-12-03"},"1995-06-06",79]
["Het kostbare kader","woensdag 07-06-1995","donderdag 08-06-1995","woensdag 27-09-1995",{"$f":"DATE(RIGHT(B146,4),MID(B146,LEN(B146)-6,2),MID(B146,LEN(B146)-9,2))","v":"1995-06-07"},"1995-06-08","1995-09-27",47.5]
["Robotkop","donderdag 28-09-1995","vrijdag 29-09-1995","zaterdag 20-01-1996","1995-09-28","1995-09-29","1996-01-20",48.5]
["Het Grote Gat","maandag 22-01-1996","dinsdag 23-01-1996","maandag 13-05-1996","1996-01-22","1996-01-23","1996-05-13",47.5]
["De verraderlijke Vinson","dinsdag 14-05-1996","woensdag 15-05-1996","donderdag 05-09-1996","1996-05-14","1996-05-15","1996-09-05",48.5]
["Volle maan","vrijdag 06-09-1996","zaterdag 07-09-1996","zaterdag 19-04-1997","1996-09-06","1996-09-07",{"$f":"+E151-1","v":"1996-12-29"},48]
["Tex en Terry","maandag 30-12-1996","dinsdag 31-12-1996","maandag 21-04-1997","1996-12-30","1996-12-31",{"$f":"DATE(RIGHT(D151,4),MID(D151,LEN(D151)-6,2),MID(D151,LEN(D151)-9,2))","v":"1997-04-21"},47.5]
["De mompelende mummie","dinsdag 22-04-1997","woensdag 23-04-1997","donderdag 14-08-1997","1997-04-22","1997-04-23",{"$f":"DATE(RIGHT(D152,4),MID(D152,LEN(D152)-6,2),MID(D152,LEN(D152)-9,2))","v":"1997-08-14"},48.5]
["De vogels der Goden","zaterdag 16-08-1997","maandag 18-08-1997","zaterdag 06-12-1997","1997-08-16","1997-08-18",{"$f":"DATE(RIGHT(D153,4),MID(D153,LEN(D153)-6,2),MID(D153,LEN(D153)-9,2))","v":"1997-12-06"},47.5]
["Amber","maandag 08-12-1997","dinsdag 09-12-1997","maandag 30-03-1998","1997-12-08","1997-12-09",{"$f":"DATE(RIGHT(D154,4),MID(D154,LEN(D154)-6,2),MID(D154,LEN(D154)-9,2))","v":"1998-03-30"},47.5]
["De rebelse Reinaert","donderdag 31-03-1998","vrijdag 01-04-1998","dinsdag 21-07-1998","1998-03-31","1998-04-01"]
["De bonte bollen","woensdag 22-07-1998","donderdag 23-07-1998","maandag 09-11-1998","1998-07-22","1998-07-23"]
["Het enge eiland","dinsdag 10-11-1998","donderdag 12-11-1998","maandag 01-03-1999","1998-11-10","1998-11-12"]
["Het verdronken land","dinsdag 02-03-1999","woensdag 03-03-1999","dinsdag 22-06-1999","1999-03-02","1999-03-03"]
["Jeanne Panne","woensdag 23-06-1999","donderdag 24-06-1999","zaterdag 09-10-1999","1999-06-23","1999-06-24"]
["De kernmonsters","maandag 11-10-1999","dinsdag 12-10-1999","maandag 31-01-2000","1999-10-11","1999-10-12"]
["Lilli Natal","dinsdag 01-02-2000","woensdag 02-02-2000","dinsdag 21-05-2000","2000-02-01","2000-02-02"]
["De koeiencommissie","maandag 22-05-2000","dinsdag 23-05-2000","maandag 11-09-2000","2000-05-22","2000-05-23"]
["De ongelooflijke Thomas","dinsdag 12-09-2000","woensdag 13-09-2000","dinsdag 02-01-2001","2000-09-12","2000-09-13"]
["Big Mother","woensdag 03-01-2001","donderdag 04-01-2001","zaterdag 07-04-2001","2001-01-03","2001-01-04"]
["De blote Belg","maandag 09-04-2001","dinsdag 10-04-2001","woensdag 01-08-2001","2001-04-09","2001-04-10"]
["De fleurige Floriade","donderdag 02-08-2001","vrijdag 03-08-2001","dinsdag 20-11-2001","2001-08-02","2001-08-03"]
["Heilig Bloed","woensdag 21-11-2001","donderdag 22-11-2001","maandag 11-03-2002","2001-11-21","2001-11-22"]
["In de ban van de Milt","dinsdag 12-03-2002","woensdag 13-03-2002","dinsdag 02-07-2002","2002-03-12","2002-03-13"]
["De verdwenen verteller","woensdag 03-07-2002","donderdag 04-07-2002","zaterdag 19-10-2002","2002-07-03","2002-07-04"]
["De laatste vloek","maandag 21-10-2002","dinsdag 22-10-2002","maandag 10-02-2003","2002-10-21","2002-10-22"]
["De kus van Odfella","dinsdag 11-02-2003","woensdag 12-02-2003","maandag 02-06-2003","2003-02-11","2003-02-12"]
["De gevangene van Prisonov","dinsdag 03-06-2003","woensdag 04-06-2003","maandag 22-09-2003","2003-06-03","2003-06-04"]
["De breinbrekers","dinsdag 23-09-2003","woensdag 24-09-2003","dinsdag 13-01-2004","2003-09-23","2003-09-24"]
["Paniek in Palermo","woensdag 14-01-2004","donderdag 15-01-2004","maandag 03-05-2004","2004-01-14","2004-01-15"]
["Kaapse kaalkoppen","dinsdag 04-05-2004","woensdag 05-05-2004","maandag 23-08-2004","2004-05-04","2004-05-05"]
["Verraad op de Veluwe","dinsdag 24-08-2004","woensdag 25-08-2004","zaterdag 11-12-2004","2004-08-24","2004-08-25"]
["De flierende fluiter","maandag 13-12-2004","dinsdag 14-12-2004","zaterdag 02-04-2005","2004-12-13",{"$f":"DATE(RIGHT(C177,4),MID(C177,LEN(C177)-6,2),MID(C177,LEN(C177)-9,2))","v":"2004-12-14"}]
["De formidabele fantast","maandag 04-04-2005","dinsdag 05-04-2005","zaterdag 23-07-2005","2005-04-04","2005-04-05"]
["Het slapende goud","maandag 25-07-2005","dinsdag 26-07-2005","zaterdag 12-11-2005","2005-07-25","2005-07-26"]
["De kaduke klonen","maandag 14-11-2005","dinsdag 15-11-2005","woensdag 01-03-2006","2005-11-14","2005-11-15"]
["De bangeschieters",null,"donderdag 02-03-2006","woensdag 21-06-2006",{"$f":"DATE(RIGHT(C181,4),MID(C181,LEN(C181)-6,2),MID(C181,LEN(C181)-9,2))","v":"2006-03-02"},"2006-03-02"]
["De Nachtwachtbrigade","donderdag 22-06-2006","vrijdag 23-06-2006","dinsdag 10-10-2006",{"$f":"DATE(RIGHT(B182,4),MID(B182,LEN(B182)-6,2),MID(B182,LEN(B182)-9,2))","v":"2006-06-22"},"2006-06-23"]
["De kaperkoters","woensdag 11-10-2006","donderdag 12-10-2006","woensdag 31-01-2007","2006-10-11","2006-10-12"]
["De tikkende Tinkan","donderdag 01-02-2007","vrijdag 02-02-2007","woensdag 23-05-2007","2007-02-01","2007-02-02"]
["De curieuze neuzen","donderdag 24-05-2007","vrijdag 25-05-2007","woensdag 12-09-2007","2007-05-24","2007-05-25"]
["De joviale Gille","donderdag 13-09-2007","vrijdag 14-09-2007","woensdag 02-01-2008","2007-09-13","2007-09-14"]
["De elfstedenstunt","donderdag 03-01-2008","vrijdag 04-01-2008","maandag 21-04-2008","2008-01-03","2008-01-04"]
["Het machtige monument","dinsdag 22-04-2008","woensdag 23-04-2008","maandag 11-8-2008","2008-04-22","2008-04-23"]
["De dartele draak","dinsdag 12-08-2008","woensdag 13-08-2008","maandag 01-12-2008","2008-08-12","2008-08-13"]
["De knikkende knoken","dinsdag 02-12-2008","woensdag 03-12-2008","zaterdag 21-03-2009","2008-12-02","2008-12-03"]
["De jokkende joker","maandag 23-03-2009","dinsdag 24-03-2009","maandag 13-07-2009","2009-03-23","2009-03-24"]
["De tijdbobijn","dinsdag 14-07-2009","woensdag 15-07-2009","zaterdag 31-10-2009","2009-07-14","2009-07-15"]
["De rillende rots","maandag 02-11-2009","dinsdag 03-11-2009","zaterdag 20-02-2010","2009-11-02","2009-11-03"]
["De gamegoeroe","maandag 22-02-2010","dinsdag 23-02-2010","maandag 14-06-2010","2010-02-22","2010-02-23"]
["De halve Havelaar","dinsdag 15-06-2010","woensdag 16-06-2010","vrijdag 01-10-2010","2010-06-15","2010-06-16"]
["De stuivende stad","zaterdag 02-10-2010","maandag 04-10-2010","zaterdag 22-01-2011","2010-10-02","2010-10-04"]
["De kwakende Queen","maandag 24-01-2011","dinsdag 25-01-2011","donderdag 12-05-2011","2011-01-24","2011-01-25"]
["Het lijdende Leiden","vrijdag 13-05-2011","zaterdag 14-05-2011","vrijdag 02-09-2011","2011-05-13","2011-05-14"]
["De bananenzangers","zaterdag 03-09-2011","maandag 04-09-2011","donderdag 22-12-2011","2011-09-03","2011-09-04"]
["Krimsonia","vrijdag 23-12-2011","zaterdag 24-12-2011","Dinsdag 10-04-2012","2011-12-23","2011-12-24"]
["Het bizarre blok","Woensdag 11-04-2012","Donderdag 12-04-2012","Woensdag 01-08-2012","2012-04-11","2012-04-12"]
["Suske de rat","Donderdag 02-08-2012","Vrijdag 03-08-2012","Dinsdag 20-11-2012","2012-08-02","2012-08-03",{"$f":"DATE(RIGHT(D202,4),MID(D202,LEN(D202)-6,2),MID(D202,LEN(D202)-9,2))","v":"2012-11-20"},{"$f":"(G202-F202-(INT((WEEKDAY(F202-1)+G202-F202)/7)))/2","v":46.5}]
["Het ijzeren duel","woensdag 21-11-2012","Donderdag 22-11-2012","Maandag 11-03-2013","2012-11-21","2012-11-22","2013-03-11",46.5]
["De vliegende rivier","Dinsdag 12-03-2013","Woensdag 13-03-2013","Dinsdag 02-07-2013","2013-03-12","2013-03-13","2013-07-02",47.5]
["Barabas de Balorige","Woensdag 03-07-2013","Donderdag 04-07-2013","Zaterdag 19-10-2013","2013-07-03","2013-07-04","2013-10-19",46]
["De royale ruiter","Maandag 21-10-2013","Dinsdag 22-10-2013","Maandag 10-02-2014","2013-10-21","2013-10-22","2014-02-10",47.5]
["Het schrikkelspook","Dinsdag 11-02-2014","Woensdag 12-02-2014","Maandag 02-06-2014","2014-02-11","2014-02-12","2014-06-02",47]
["Het gebroken dorp","Dinsdag 03-06-2014","Woensdag 04-06-2014","Maandag 22-09-2014","2014-06-03","2014-06-04","2014-09-22",47]
["Sterrenrood","Dinsdag 23-09-2014","Woensdag 24-09-2014","Dinsdag 13-01-2015","2014-09-23",{"$f":"DATE(RIGHT(C209,4),MID(C209,LEN(C209)-6,2),MID(C209,LEN(C209)-9,2))","v":"2014-09-24"},"2015-01-13",47.5]
["Suskewiet","Woensdag 14-01-2015","Donderdag 15-01-2015","Maandag 04-05-2015","2015-01-14","2015-01-15","2015-05-04",46.5]
["De fabuleuze Freak","Dinsdag 05-05-2015","Woensdag 06-05-2015","Dinsdag 25-08-2015","2015-05-05","2015-05-06","2015-08-25",47.5]
["Sooi en Sientje","Woensdag 26-08-2015","Donderdag 27-08-2015","Zaterdag 12-12-2015","2015-08-26","2015-08-27","2015-12-12",46]
["Het verloren verleden","Maandag 14-12-2015","Dinsdag 15-12-2015","Zaterdag 02-04-2016","2015-12-14","2015-12-15","2016-04-02",47]
["Expeditie Robikson",null,"Maandag 04-04-2016","Donderdag 26-05-2016",{"$f":"DATE(RIGHT(C214,4),MID(C214,LEN(C214)-6,2),MID(C214,LEN(C214)-9,2))","v":"2016-04-04"},"2016-04-04","2016-05-26",22.5]
["Taxi Tata",null,"Vrijdag 27-05-2016","Zaterdag 16-07-2016",{"$f":"DATE(RIGHT(C215,4),MID(C215,LEN(C215)-6,2),MID(C215,LEN(C215)-9,2))","v":"2016-05-27"},"2016-05-27","2016-07-16",21.5]
["Het lederen monster","Maandag 18-07-2016","Dinsdag 19-07-2016","Zaterdag 05-11-2016",{"$f":"DATE(RIGHT(B216,4),MID(B216,LEN(B216)-6,2),MID(B216,LEN(B216)-9,2))","v":"2016-07-18"},"2016-07-19","2016-11-05",47]
["Game of Drones","Maandag 07-11-2016","Dinsdag 08-11-2016","Donderdag 23-02-2017",{"$f":"DATE(RIGHT(B217,4),MID(B217,LEN(B217)-6,2),MID(B217,LEN(B217)-9,2))","v":"2016-11-07"},"2016-11-08","2017-02-23",46]
["De Heldenmaker","Vrijdag 24-02-2017","Zaterdag 25-02-2017","Vrijdag 16-06-2017",{"$f":"DATE(RIGHT(B218,4),MID(B218,LEN(B218)-6,2),MID(B218,LEN(B218)-9,2))","v":"2017-02-24"},"2017-02-25","2017-06-16",47.5]
["Mami Wata","Zaterdag 17-06-2017","Maandag 19-06-2017","Donderdag 05-10-2017",{"$f":"DATE(RIGHT(B219,4),MID(B219,LEN(B219)-6,2),MID(B219,LEN(B219)-9,2))","v":"2017-06-17"},"2017-06-19","2017-10-05",46.5]
["De zwarte zwevers","Vrijdag 06-10-2017","Zaterdag 07-10-2017","Vrijdag 26-01-2018",{"$f":"DATE(RIGHT(B220,4),MID(B220,LEN(B220)-6,2),MID(B220,LEN(B220)-9,2))","v":"2017-10-06"},"2017-10-07","2018-01-26",47.5]
["SOS Snowbell",null,"Zaterdag 27-01-2018","Donderdag 17-05-2018",{"$f":"DATE(RIGHT(C221,4),MID(C221,LEN(C221)-6,2),MID(C221,LEN(C221)-9,2))","v":"2018-01-27"},"2018-01-27","2018-05-17",47]
["BRBS 2.0",null,"Vrijdag 18-05-2018","Woensdag 05-09-2018","2018-05-18","2018-05-18","2018-09-05",47]
["Operatie Siggy",null,"Donderdag 06-09-2018","Zaterdag 22-12-2018","2018-09-06","2018-09-06","2018-12-22",46]
["Chronos en Chaos",null,"Maandag 24-12-2018","Donderdag 11-04-2019","2018-12-24","2018-12-24","2019-04-11",46.5]
["Lambik Plastiek",null,"Vrijdag 12-04-2019","Donderdag 01-08-2019","2019-04-12","2019-04-12","2019-08-01",47.5]
["De wrede wensput",null,"Vrijdag 02-08-2019","Woensdag 20-11-2019","2019-08-02","2019-08-02","2019-11-20",47]
["Het lekkere lab",null,"Donderdag 21-11-2019","Maandag 09-03-2020","2019-11-21","2019-11-21","2020-03-09",46.5]
["De verloren Van Eyck",null,"Dinsdag 10-03-2020","Zaterdag 27-06-2020","2020-03-10","2020-03-10","2020-06-27",47]
["Team Krimson",null,"Maandag 29-06-2020","Donderdag 15-10-2020","2020-06-29","2020-06-29","2020-10-15",46.5]
["De sonometer",null,"Vrijdag 16-10-2020","Maandag 22-02-2021","2020-10-16","2020-10-16","2021-02-22",55]
["De zalige ziener",null,"Dinsdag 23-02-2021",null,"2021-02-23","2021-02-23"]
[]
["Titel TV Ekspres",null,"Begin","Eind"]
["Lambiorix",null,"No. 10 (31-03-1972)","No. 12 (24-03-1973)",{"$f":"DATE(LEFT(RIGHT(C234,5),4),MID(C234,LEN(C234)-7,2),MID(C234,LEN(C234)-10,2))","v":"1972-03-31"},{"$f":"+E234","v":"1972-03-31"}]
["De bevende baobab",null,"No. 13 (31-03-1973)","No. 16 (20-04-1974)","1973-03-31","1973-03-31"]
["De mollige meivis",null,"No. 17 (27-04-1974)","No. 19 (10-05-1975)","1974-04-27","1974-04-27"]
["De vlijtige vlinder",null,"No. 20 (17-05-1975)","No. 22 (29-05-1976)","1975-05-17","1975-05-17"]
["De maffe maniak",null,"No. 23 (05-06-1976)","No. 24 (18-06-1977)","1976-06-05","1976-06-05"]
["De olijke olifant",null,"No. 25 (25-06-1977)","No. 27 (08-07-1977)","1977-06-25","1977-06-25"]
["De kadulle Cupido",null,"No. 28 (15-07-1978)","No. 30 (23-07-1979)","1978-07-15","1978-07-15"]
["Het kregelige Ketje",null,"No. 31 (30-07-1979)","No. 33 (11-08-1980)","1979-07-30","1979-07-30"]
["De botte botaknol",null,"No. 34 (18-08-1980)","No. 36 (31-08-1981)","1980-08-18","1980-08-18"]
["De woelige wadden",null,"No. 37 (07-09-1981)","No. 38 (20-09-1982)","1981-09-07","1981-09-07"]
["De natte Navajo",null,"No. 39 (27-09-1982)","No. 41 (10-10-1983)","1982-09-27","1982-09-27"]
["De tamme Tumi",null,"No. 42 (17-10-1983)","No. 44 (29-10-1984)","1983-10-17","1983-10-17"]
["De kattige kat",null,"No. 45 (05-11-1984)","No. 47 (18-11-1985)","1984-11-05","1984-11-05"]
["De kwaaie kwieten",null,"No. 48 (25-11-1985)","No. 50 (08-12-1986)","1985-11-25","1985-11-25"]
["De eenzame eenhoorn",null,"No. 51 (15-12-1986)","No. 50 (14-12-1987)","1986-12-15","1986-12-15"]
["De krachtige krans",null,"No. 51 (21-12-1987)","No. 01 (02-01-1989)","1987-12-21","1987-12-21"]
["De kleurenkladder",null,"No. 02 (09-01-1989)","No. 04 (22-01-1990)","1989-01-09","1989-01-09"]
["Het witte wief",null,"No. 05 (26-01-1990)","No. 07 (11-02-1991)","1990-01-26","1990-01-26"]
["De scherpe schorpioen",null,"No. 08 (18-02-1991)","No. 02 (06-01-1992)","1991-02-18","1991-02-18"]
["De krakende Carcas",null,"No. 03 (13-01-1992)","No. 49 (30-11-1992)","1992-01-13","1992-01-13"]
["De stervende ster",null,"No. 50 (07-12-1992)","No. 43 (25-10-1993)","1992-12-07","1992-12-07"]
["De averechtse aap",null,"No. 44 (02-11-1993)","No. 38 (??-09-1994)","1993-11-02","1993-11-02"]
["De vonkende vuurman",null,"No. 39 (??-09-1994)","No. ?? (??-08-1995)",{"$f":"+datumschat!A11","v":"1994-09-26"},"1994-09-26"]
["De razende race",null,"No. ?? (??-08-1995)","No. ?? (??-07-1996)",{"$f":"+datumschat!A12","v":"1995-08-21"},"1995-08-21"]
["Prachtige Pjotr",null,"No. ?? (??-07-1996)","No. ?? (??-06-1997)",{"$f":"+datumschat!A13","v":"1996-07-15"},"1996-07-15"]
["De gevederde slang",null,"No. ?? (??-06-1997)","No. ?? (??-04-1998)",{"$f":"+datumschat!A14","v":"1997-06-09"},"1997-06-09"]
["Het berenbeklag",null,"No. ?? (??-04-1998)","No. ?? (??-03-1999)",{"$f":"+datumschat!A15","v":"1998-05-04"},"1998-05-04"]
["Papa Razzi",null,"No. ?? (??-03-1999)","No. ?? (??-02-2000)",{"$f":"+datumschat!A16","v":"1999-03-22"},"1999-03-22"]
["De stugge Stuyvesant",null,"No. ?? (??-02-2000)","No. ?? (??-12-2001)",{"$f":"+datumschat!A17","v":"2000-02-07"},"2000-02-07"]
["De Europummel",null,"No. 01 (03-01-2001)","No. 46 (05-11-2001)",{"$f":"DATE(LEFT(RIGHT(C263,5),4),MID(C263,LEN(C263)-7,2),MID(C263,LEN(C263)-10,2))","v":"2001-01-03"},"2001-01-03"]
["De kunstkraker",null,"No. 48 (19-11-2001)","No. 50 (03-12-2001)"]
[null,null,null,"Publicatie gestaakt"]
[null,null,null,"na 3 afleveringen"]
[]
[]
["Overzicht publicaties De Telegraaf"]
["Titel",null,"Begin","Eind"]
["De wrede wensput",null,"zaterdag 02-03-2019","donderdag 20-06-2019",{"$f":"DATE(RIGHT(C271,4),MID(C271,LEN(C271)-6,2),MID(C271,LEN(C271)-9,2))","v":"2019-03-02"},{"$f":"DATE(RIGHT(C271,4),MID(C271,LEN(C271)-6,2),MID(C271,LEN(C271)-9,2))","v":"2019-03-02"},"2019-06-20",{"$f":"(G271-F271-(INT((WEEKDAY(F271-1)+G271-F271)/7)))/2","v":47}]
["Het lekkere lab",null,"vrijdag 21-06-2019","zaterdag 05-10-2019","2019-06-21","2019-06-21","2019-10-05",45.5]
["De nacht van de narwal",null,"maandag 07-10-2019","vrijdag 24-01-2020","2019-10-07","2019-10-07","2020-01-24",47]
["De preutse prinses",null,"zaterdag 25-01-2020","maandag 11-05-2020","2020-01-25","2020-01-25","2020-05-11",45.5]
["Het gewiste Wiske",null,"dinsdag 12-05-2020","vrijdag 28-08-2020","2020-05-12","2020-05-12","2020-08-28",46.5]
["De Sonometer",null,"zaterdag 29-08-2020","dinsdag 05-01-2021","2020-08-29","2020-08-29","2021-01-05",55]
["De zalige ziener",null,"woensdag 06-01-2021",null,"2021-01-06",{"$f":"DATE(RIGHT(C277,4),MID(C277,LEN(C277)-6,2),MID(C277,LEN(C277)-9,2))","v":"2021-01-06"}]

{"sheet":"Lekturama","index":11,"n_rows":495,"n_cols":8,"rows_kept":495,"cut":false,"hidden":false,"merged":[[374,6,376,11],[329,6,331,11],[324,6,326,11],[315,6,317,11],[471,6,471,11],[472,6,472,11],[473,6,473,11],[474,6,474,11],[459,6,459,11],[460,6,460,11],[461,6,461,11],[462,6,462,11],[449,6,450,11],[388,6,388,11],[387,6,387,11],[386,6,386,11],[395,6,395,11],[394,6,394,11],[392,6,392,11],[391,6,391,11],[390,6,390,11],[429,6,429,11],[430,6,430,11],[431,6,431,11],[451,6,454,11],[455,6,458,11],[463,6,466,11],[467,6,470,11],[475,6,478,11],[389,6,389,11],[404,6,404,11],[405,6,405,11],[424,6,424,11],[423,6,423,11],[409,6,409,11],[410,6,410,11],[411,6,411,11],[412,6,412,11],[413,6,413,11],[414,6,414,11],[415,6,415,11],[416,6,416,11],[417,6,417,11],[418,6,418,11],[419,6,419,11],[420,6,420,11],[421,6,421,11],[422,6,422,11],[436,6,436,11],[433,6,433,11],[434,6,434,11],[425,6,425,11],[426,6,426,11],[427,6,427,11],[428,6,428,11],[446,2,447,5],[446,6,447,11],[437,6,437,11],[438,6,438,11],[439,6,439,11],[440,6,440,11],[441,6,441,11],[442,6,442,11],[449,1,450,1],[449,2,450,2],[449,3,450,3],[449,4,450,4],[449,5,450,5],[443,6,443,11],[359,6,359,11],[360,6,360,11],[361,6,361,11],[377,6,377,11],[378,6,378,11],[384,1,385,1],[384,2,385,2],[384,3,385,3],[384,4,385,4],[384,5,385,5],[384,6,385,11],[381,2,382,5],[381,6,382,11],[370,2,373,2],[370,3,373,3],[374,2,378,2],[374,3,378,3],[362,2,365,2],[362,3,365,3],[366,2,369,2],[366,3,369,3],[432,6,432,11],[435,6,435,11],[332,6,332,11],[333,6,333,11],[358,6,358,11],[354,6,357,11],[350,2,353,2],[350,3,353,3],[342,2,345,2],[342,3,345,3],[396,6,396,11],[397,6,397,11],[398,6,398,11],[399,6,399,11],[400,6,400,11],[401,6,401,11],[402,6,402,11],[403,6,403,11],[406,6,406,11],[407,6,407,11],[408,6,408,11],[318,6,318,11],[319,6,319,11],[327,6,327,11],[328,6,328,11],[306,6,306,11],[307,6,307,11],[308,6,308,11],[312,6,312,11],[313,6,313,11],[314,6,314,11],[309,6,309,11],[310,6,311,11],[299,6,299,11],[300,6,300,11],[301,6,301,11],[302,6,302,11],[297,6,298,11],[303,6,305,11],[293,6,293,11],[294,6,294,11],[295,6,295,11],[296,6,296,11],[288,6,288,11],[289,6,289,11],[290,6,290,11],[291,6,291,11],[278,6,278,11],[279,6,279,11],[280,6,280,11],[281,6,281,11],[282,6,282,11],[283,6,283,11],[284,6,284,11],[285,6,285,11],[292,6,292,11],[269,6,269,11],[270,6,270,11],[274,6,274,11],[275,6,275,11],[276,6,276,11],[277,6,277,11],[271,6,273,11],[240,6,240,11],[253,6,253,11],[254,6,254,11],[255,6,255,11],[256,6,256,11],[257,6,257,11],[266,6,266,11],[267,6,267,11],[268,6,268,11],[262,6,265,11],[258,6,261,11],[249,6,252,11],[245,6,248,11],[241,6,244,11],[286,6,286,11],[287,6,287,11],[234,6,234,11],[235,6,235,11],[236,6,236,11],[237,6,237,11],[238,6,238,11],[239,6,239,11],[231,6,233,11],[222,6,222,11],[223,6,223,11],[224,6,224,11],[225,6,225,11],[229,6,229,11],[230,6,230,11],[226,6,228,11],[208,6,208,11],[209,6,209,11],[210,6,210,11],[219,6,219,11],[220,6,220,11],[221,6,221,11],[216,6,218,11],[194,6,197,11],[198,6,198,11],[203,6,206,11],[199,6,202,11],[211,6,211,11],[212,6,212,11],[213,6,213,11],[214,6,214,11],[215,6,215,11],[207,6,207,11],[350,6,353,11],[346,6,349,11],[342,6,345,11],[370,6,373,11],[366,6,369,11],[362,6,365,11],[338,6,341,11],[334,6,337,11],[320,6,323,11],[186,6,186,11],[187,6,187,11],[182,6,185,11],[188,6,188,11],[189,6,189,11],[190,6,190,11],[191,6,191,11],[193,6,193,11],[192,6,192,11],[149,6,152,11],[153,6,156,11],[157,6,160,11],[173,6,176,11],[169,6,172,11],[165,6,168,11],[161,6,164,11],[177,6,180,11],[181,6,181,11],[143,6,143,11],[144,6,144,11],[145,6,145,11],[146,6,146,11],[147,6,147,11],[148,6,148,11],[140,6,142,11],[119,6,119,11],[122,6,125,11],[126,6,129,11],[130,6,133,11],[134,6,137,11],[138,6,138,11],[139,6,139,11],[120,6,121,11],[114,6,117,11],[118,6,118,11],[98,6,100,11],[16,6,16,11],[17,6,17,11],[18,6,21,11],[22,6,25,11],[26,6,29,11],[30,6,33,11],[34,6,37,11],[46,6,49,11],[50,6,53,11],[54,6,57,11],[58,6,61,11],[62,6,65,11],[34,3,37,3],[487,1,490,1],[9,0,10,6],[11,1,12,1],[381,1,382,1],[446,1,447,1],[451,1,454,1],[455,1,458,1],[459,1,462,1],[463,1,466,1],[483,1,486,1],[479,1,482,1],[467,1,470,1],[471,1,474,1],[475,1,478,1],[324,2,328,2],[324,3,328,3],[286,2,291,2],[38,6,41,11],[42,6,45,11],[101,6,101,11],[102,6,105,11],[106,6,109,11],[110,6,113,11],[262,2,265,2],[262,3,265,3],[276,2,280,2],[4,0,7,6],[0,0,3,6],[14,4,15,4],[14,5,15,5],[14,3,15,3],[14,2,15,2],[14,1,15,1],[66,6,69,11],[94,6,97,11],[90,6,93,11],[86,6,89,11],[82,6,85,11],[78,6,81,11],[74,6,77,11],[70,6,73,11],[11,2,12,5],[14,6,15,11],[11,7,12,10],[30,2,33,2],[30,3,33,3],[34,2,37,2],[281,3,285,3],[292,2,296,2],[292,3,296,3],[329,2,333,2],[329,3,333,3],[346,2,349,2],[346,3,349,3],[231,2,235,2],[231,3,235,3],[320,2,323,2],[320,3,323,3],[266,2,270,2],[266,3,270,3],[271,2,275,2],[271,3,275,3],[315,2,319,2],[315,3,319,3],[310,2,314,2],[310,3,314,3],[286,3,291,3],[297,2,302,2],[297,3,302,3],[303,2,309,2],[303,3,309,3],[203,2,206,2],[203,3,206,3],[207,2,210,2],[207,3,210,3],[241,2,244,2],[241,3,244,3],[245,2,248,2],[245,3,248,3],[249,2,252,2],[249,3,252,3],[236,2,240,2],[236,3,240,3],[258,2,261,2],[258,3,261,3],[211,2,215,2],[211,3,215,3],[216,2,220,2],[216,3,220,3],[221,2,225,2],[221,3,225,3],[226,2,230,2],[226,3,230,3],[253,2,257,2],[253,3,257,3],[276,3,280,3],[281,2,285,2],[354,2,357,2],[354,3,357,3],[358,2,361,2],[358,3,361,3],[169,2,172,2],[169,3,172,3],[173,2,176,2],[173,3,176,3],[199,2,202,2],[199,3,202,3],[177,2,181,2],[177,3,181,3],[182,3,186,3],[182,2,186,2],[187,3,193,3],[187,2,193,2],[194,3,198,3],[194,2,198,2],[334,2,337,2],[334,3,337,3],[338,2,341,2],[338,3,341,3],[157,2,160,2],[157,3,160,3],[161,2,164,2],[161,3,164,3],[165,2,168,2],[165,3,168,3],[134,2,137,2],[134,3,137,3],[149,2,152,2],[149,3,152,3],[153,2,156,2],[153,3,156,3],[138,2,142,2],[138,3,142,3],[143,2,148,2],[143,3,148,3],[122,2,125,2],[122,3,125,3],[126,2,129,2],[126,3,129,3],[130,2,133,2],[130,3,133,3],[110,2,113,2],[110,3,113,3],[114,2,117,2],[114,3,117,3],[118,2,121,2],[118,3,121,3],[102,2,105,2],[102,3,105,3],[106,2,109,2],[106,3,109,3],[86,2,89,2],[86,3,89,3],[90,2,93,2],[90,3,93,3],[94,2,97,2],[94,3,97,3],[82,2,85,2],[82,3,85,3],[62,2,65,2],[62,3,65,3],[66,2,69,2],[66,3,69,3],[70,2,73,2],[70,3,73,3],[98,2,101,2],[98,3,101,3],[38,2,41,2],[38,3,41,3],[18,2,21,2],[18,3,21,3],[22,2,25,2],[22,3,25,3],[26,2,29,2],[26,3,29,3],[451,3,454,3],[451,2,454,2],[50,2,53,2],[50,3,53,3],[54,2,57,2],[54,3,57,3],[58,2,61,2],[58,3,61,3],[42,2,45,2],[42,3,45,3],[46,2,49,2],[46,3,49,3],[74,2,77,2],[74,3,77,3],[78,2,81,2],[78,3,81,3],[455,2,458,2],[455,3,458,3],[459,2,462,2],[459,3,462,3],[463,2,466,2],[463,3,466,3],[487,2,490,2],[487,3,490,3],[467,2,470,2],[467,3,470,3],[471,2,474,2],[471,3,474,3],[475,2,478,2],[475,3,478,3],[479,2,482,2],[479,3,482,3],[483,2,486,2],[483,3,486,3],[487,6,487,11],[488,6,488,11],[489,6,489,11],[490,6,490,11],[483,6,483,11],[484,6,484,11],[485,6,485,11],[486,6,486,11],[479,6,479,11],[480,6,480,11],[481,6,481,11],[482,6,482,11]]}
["Suske en Wiske"]
[null,null,null,null,null,null,null,"De Lekturama reeks is onderverdeeld in 3 series:"]
[null,null,null,null,null,null,null,"1. De Suske en Wiske collectie, rood, hardcover bundeling (1998-2023)"]
[null,null,null,null,null,null,null,"2. Orginele verhalen, geel, hardcover bundeling (uitbreiding van serie 1, 1998-2002)"]
["lekturama",null,null,null,null,null,null,"3. Top 40 collectie, bruin, verzamelbox met bundelingen, 2013"]
[]
[null,null,null,null,null,null,null,"Dik gedrukte titels hebben een afwijkende (of foutief gespelde) titel"]
[null,null,null,null,null,null,null,"Vanaf 1999 wordt Lekturama met een c geschreven"]
[]
[]
[]
[null,"1.","suske en wiske collectie",null,null,null,null,"hardcover, rood"]
[]
[]
[null,"Serie","Deel","Jaar","Rode reeks nr","Titel","Opmerkingen"]
[]
[null,1,0,1988,150,"Het Spaanse spook","Kennismakingsdeel; Heruitgave 1997 en 2000"]
[null,1,0,2001,168,"De Efteling-elfjes","Kennismakingsdeel"]
[null,1,1,1986,67,"De poenschepper","Eerste gratis deel;\nUitgave met en zonder code X710-02 (achter Latijnse jaartal)\nHeruitgave 1997 en 2001"]
[null,1,null,null,68,"Het eiland Amoras"]
[null,1,null,null,69,"De nerveuze Nerviërs"]
[null,1,null,null,70,"De spokenjagers"]
[null,1,2,1986,71,"Wattman","Uitgave met en zonder code X710-06 (achter Latijnse jaartal)\nHeruitgave 1997 met blauwe of witte cirkel op de cover"]
[null,1,2,1986,72,"Jeromba de Griek"]
[null,1,2,1986,73,"Het zoemende ei"]
[null,1,2,1986,74,"De koddige kater"]
[null,1,3,1987,75,"Het mini mierennest","Heruitgave 1997 met blauwe of witte cirkel op de cover"]
[null,1,3,1987,76,"De ijzeren schelvis"]
[null,1,3,1987,77,"De apekermis"]
[null,1,3,1987,78,"De Dulle Griet"]
[null,1,4,1987,79,"De zeven snaren","Heruitgave 1997 met blauwe of witte cirkel op de cover"]
[null,1,4,1987,80,"De brullende berg"]
[null,1,4,1987,81,"De circusbaron"]
[null,1,4,1987,82,"De gramme hurling"]
[null,1,5,1987,83,"De straatridder","Heruitgave 1997 met blauwe of witte cirkel op de cover"]
[null,1,5,1987,84,"De stemmenrover"]
[null,1,5,1987,85,"De schone slaper"]
[null,1,5,1987,86,"Tedere Tronica"]
[null,1,6,1988,87,"De vliegende aap","Heruitgave 1997"]
[null,1,6,1988,88,"De tamtamkloppers"]
[null,1,6,1988,89,"De dolle musketiers"]
[null,1,6,1988,90,"Sjeik El Rojenbiet"]
[null,1,7,1986,91,"De speelgoedzaaier","Uitgave met en zonder code X710-07 (achter Latijnse jaartal)\nHeruitgave 1997 "]
[null,1,7,1986,92,"De briesende bruid"]
[null,1,7,1986,93,"De snorrende Snor"]
[null,1,7,1986,94,"De sissende sampan"]
[null,1,8,1986,95,"De Kleppende Klipper","Uitgave met en zonder code X710-03 (achter Latijnse jaartal)\nHeruitgave 1997 "]
[null,1,8,1986,96,"Het rijmende paard"]
[null,1,8,1986,97,"De junglebloem"]
[null,1,8,1986,98,"Het hondenparadijs"]
[null,1,9,1986,99,"De Kwakstralen","Uitgave met en zonder code X710-01 (achter Latijnse jaartal), ook een uitgave zonder thema pagina's en andere inhoudsopgave.\nHeruitgave 1997 "]
[null,1,9,1986,100,"Het gouden paard"]
[null,1,9,1986,101,"De kaartendans"]
[null,1,9,1986,102,"De dromendiefstal"]
[null,1,10,1986,103,"De klankentapper","Uitgave met en zonder code X710-04 (achter Latijnse jaartal)\nHeruitgave 1997 "]
[null,1,10,1986,104,"De wilde weldoener"]
[null,1,10,1986,105,"De koning drinkt"]
[null,1,10,1986,106,"De charmante koffiepot"]
[null,1,11,1986,107,"De sprietatoom","Uitgave met nieuwsbrief Studio Vandersteen in lichtblauw en zwart geschreven, beide met code X710-08 (achter Latijnse jaartal)\nHeruitgave 1997 (code X710-08) en 2001 (code 40101208)"]
[null,1,11,1986,108,"Twee toffe totems"]
[null,1,11,1986,109,"De wolkeneters"]
[null,1,11,1986,110,"De zingende zwammen"]
[null,1,12,1987,111,"De schat van Beersel","Heruitgave 1997 "]
[null,1,12,1987,112,"De groene splinter"]
[null,1,12,1987,113,"Het geheim van de gladiatoren"]
[null,1,12,1987,114,"De Tartaarse helm"]
[null,1,13,1987,115,"De gezanten van Mars","Heruitgave 1997 met blauwe of witte cirkel op de cover (code X710-14) \nHeruitgave 2001 met blauwe of witte cirkel op de cover (code 401012014)"]
[null,1,13,1987,116,"De bronzen sleutel"]
[null,1,13,1987,117,"De toornige Tjiftjaf"]
[null,1,13,1987,118,"De gouden cirkel"]
[null,1,14,1987,119,"Het sprekende testament","Heruitgave 1997 "]
[null,1,14,1987,120,"De geverniste zeerovers"]
[null,1,14,1987,121,"De duistere diamant"]
[null,1,14,1987,122,"De kale kapper"]
[null,1,15,1988,123,"De Zwarte Zwaan","Heruitgave 1997 "]
[null,1,15,1988,124,"Het vliegende bed"]
[null,1,15,1988,125,"De Texasrakkers"]
[null,1,15,1988,126,"De windmakers"]
[null,1,16,1988,127,"De knokkersburcht","Heruitgave 1997 "]
[null,1,16,1988,128,"Het brommende brons"]
[null,1,16,1988,129,"Prinses Zagemeel"]
[null,1,16,1988,130,"De steensnoepers"]
[null,1,17,1988,131,"Het zingende nijlpaard","Heruitgave 1997 "]
[null,1,17,1988,132,"De stierentemmer"]
[null,1,17,1988,133,"De Tuf-Tuf-club"]
[null,1,17,1988,134,"De witte uil"]
[null,1,18,1986,135,"De gekke gokker","Uitgave met en zonder code X710-05\nHeruitgave 1988 (met Latijnse jaartal MCMLXXXVIII) en 1997 "]
[null,1,18,1986,136,"De bokkerijders"]
[null,1,18,1986,137,"De ringelingschat"]
[null,1,18,1986,138,"Bibbergoud"]
[null,1,19,1986,139,"De boze boomzalver","Heruitgave 1997 (code X710-09) \nHeruitgave 2001 (code 401012009)"]
[null,1,19,1986,140,"De Zwarte Madam"]
[null,1,19,1986,141,"Het bevroren vuur"]
[null,1,19,1986,142,"De mottenvanger"]
[null,1,20,1987,143,"De malle mergpijp","Heruitgave 1997 met blauwe of witte cirkel op de cover"]
[null,1,20,1987,144,"Lambiorix"]
[null,1,20,1987,145,"De stalen bloempot"]
[null,1,20,1987,146,"De sterrenplukkers"]
[null,1,21,1987,147,"De poppenpakker","Heruitgave 1997"]
[null,1,21,1987,148,"De lachende wolf"]
[null,1,21,1987,149,"De gladde glipper"]
[null,1,21,1987,150,"Het Spaanse spook","Ook verschenen als apart kennismakingsdeel in 1988, 1997 en 2000"]
[null,1,22,1987,151,"Het ros Bazhaar","Heruitgave 1997 (code X710-18) \nHeruitgave 2001 en 2006 (code 401012018)"]
[null,1,22,1987,152,"De bevende Baobab"]
[null,1,22,1987,153,"De nare varaan"]
[null,1,22,1987,154,"Rikki en Wiske in Chocowakije"]
[null,1,23,1987,155,"De poezelige poes","Heruitgave 1997 (code X710-19) \nHeruitgave 2001 en 2006 (code 401012019)"]
[null,1,23,1987,156,"Beminde Barabas"]
[null,1,23,1987,157,"De mollige meivis"]
[null,1,23,1987,158,"De vinnige Viking"]
[null,1,24,1988,159,"De minilotten van Kokonera","Heruitgave 1997 (code X710-20) \nHeruitgave 2006 (code 401012020)"]
[null,1,24,1988,160,"De bokkige bombardon"]
[null,1,24,1988,161,"De blinkende boemerang"]
[null,1,24,1988,162,"De gouden locomotief"]
[null,1,25,1988,163,"De vlijtige vlinder","Heruitgave 1997 (code X710-23) \nHeruitgave 2006 (code 401012023)"]
[null,1,25,1988,164,"De raap van Rubens"]
[null,1,25,1988,165,"De sputterende spuiter"]
[null,1,25,1988,166,"De maffe maniak"]
[null,1,26,1988,167,"De zingende kaars"]
[null,1,26,1988,168,"De Efteling-elfjes","Ook verschenen als apart kennismakingsdeel in 2001"]
[null,1,26,1988,169,"De amoureuze amazone","Heruitgave 1997"]
[null,1,26,1988,170,"De olijke olifant"]
[null,1,27,1988,171,"Walli de walvis","Heruitgave 1997 met blauwe of witte cirkel op de cover (code X710-29) \nHeruitgave 2006 (code 401012029)"]
[null,1,27,1988,172,"Het laatste dwaallicht"]
[null,1,27,1988,173,"Het drijvende dorp"]
[null,1,27,1988,174,"Het statige standbeeld"]
[null,1,28,1989,175,"De kadulle Cupido","Heruitgave 1997 met blauwe of witte cirkel op de cover (code X710-32) \nHeruitgave 2006 (code 401012032)"]
[null,1,28,1989,176,"De pompenplanters"]
[null,1,28,1989,177,"De adellijke ark"]
[null,1,28,1989,178,"De stoute steenezel"]
[null,1,29,1989,179,"De windbrekers","Heruitgave 1997 "]
[null,1,29,1989,180,"Het kregelige Ketje"]
[null,1,29,1989,181,"De perenprins"]
[null,1,29,1989,182,"De koperen knullen"]
[null,1,30,1989,183,"De toffe tamboer","Heruitgave 1997 "]
[null,1,30,1989,184,"De Regenboogprinses"]
[null,1,30,1989,185,"De botte botaknol"]
[null,1,30,1989,186,"De rosse reus"]
[null,1,31,1988,187,"De droevige duif"]
[null,1,null,null,188,"De snoezige Snowijt","Kortverhaal, KVH 2"]
[null,1,null,null,188,"Het vliegende hart","Heruitgave 1997 (code X710-21) \nHeruitgave 2006 (code 401012021)"]
[null,1,null,null,189,"De Belhamelbende"]
[null,1,null,null,190,"De woelige wadden"]
[null,1,32,1988,191,"De vergeten vallei","Kortverhaal, KVH 4"]
[null,1,null,null,191,"Toffe Tiko","Kortverhaal, KVH 5"]
[null,1,null,null,192,"Het Bretoense broertje"]
[null,1,null,null,193,"Hippus het zeeveulen","Kortverhaal, KVH 6"]
[null,1,null,null,193,"Het verborgen volk","Kortverhaal, KVH 8"]
[null,1,null,null,194,"De gouden ganzeveer","Heruitgave 1997 met blauwe of witte cirkel op de cover"]
[null,1,33,1988,195,"De hippe heksen","Heruitgave 1997 "]
[null,1,33,1988,196,"De natte Navajo"]
[null,1,33,1988,197,"Het Delta duel"]
[null,1,33,1988,198,"De lieve Lilleham"]
[null,1,34,1988,199,"De tamme Tumi","Heruitgave 1997 "]
[null,1,34,1988,200,"Amoris van Amoras"]
[null,1,34,1988,201,"Het dreigende dinges"]
[null,1,34,1988,202,"Angst op de “Amsterdam”"]
[null,1,35,1989,203,"De ruige regen","Heruitgave 1997 "]
[null,1,35,1989,204,"De mooie Millirem"]
[null,1,35,1989,205,"De kattige kat"]
[null,1,35,1989,206,"De bonkige baarden"]
[null,1,36,1989,207,"De glanzende gletsjer","Heruitgave 1997 met blauwe of witte cirkel op de cover"]
[null,1,36,1989,208,"De Hellegathonden"]
[null,1,36,1989,209,"De kwaaie kwieten"]
[null,1,36,1989,210,"De jolige joffer"]
[null,1,37,1989,211,"De woeste wespen","Heruitgave 1997 "]
[null,1,37,1989,212,"De edele elfen"]
[null,1,37,1989,213,"De eenzame eenhoorn"]
[null,1,37,1989,215,"De Krimson-crisis"]
[null,1,38,1990,216,"De wervelende waterzak","Heruitgave 1997 "]
[null,1,38,1990,217,"De komieke Coco"]
[null,1,38,1990,218,"De krachtige krans"]
[null,1,38,1990,219,"De speelgoedspiegel"]
[null,1,39,1991,220,"Sagarmatha","Heruitgave 1997 "]
[null,1,39,1991,221,"De rinoramp"]
[null,1,39,1991,222,"De bezeten bezitter"]
[null,1,39,1991,223,"De kleurenkladder"]
[null,1,40,1992,224,"De kleine postruiter","Heruitgave 1997 met blauwe of witte cirkel op de cover"]
[null,1,null,null,225,"De goalgetter"]
[null,1,null,null,226,"De mysterieuze mijn"]
[null,1,null,null,227,"Het Witte Wief"]
[null,1,null,null,null,"Bosspel","Kortverhaal, MKV 41"]
[null,1,41,1992,228,"Het wondere wolfje","Heruitgave 1997 met blauwe of witte cirkel op de cover"]
[null,1,null,null,229,"Tazuur en Tazijn"]
[null,1,null,null,230,"Lambik Baba"]
[null,1,null,null,231,"De scherpe schorpioen"]
[null,1,null,null,null,"Spruiten voor Sprotje","Kortverhaal, KVH 23"]
[null,1,42,1993,214,"De parel in de Lotusbloem","Heruitgave 1997 (code X710-42) en 2006 (code 401012042)"]
[null,1,null,null,null,"Witte zwanen zwarte zwanen","Kortverhaal, KVH 19"]
[null,1,null,null,null,"Knokken in Knossos","Kortverhaal, KVH 22"]
[null,1,null,null,null,"Sprookjesnacht aan zee","Kortverhaal, KVH 17"]
[null,1,null,null,null,"De Tiroolse Trawanten","Kortverhaal, MKV 31"]
[null,1,null,null,null,"Suske en Wiske tegen de ZZZ","Kortverhaal, MKV 32"]
[null,1,null,null,null,"Fata Morgana","Kortverhaal, KVH 20"]
[null,1,43,1994,232,"De Tootootjes","Eerste druk 1994 met nieuw code formaat (057100043)\nHeruitgave 1997 met blauwe of witte cirkel op de cover (code X710-43)"]
[null,1,null,null,233,"De klinkende klokken"]
[null,1,null,null,234,"Het kristallen kasteel"]
[null,1,null,null,235,"De krakende Carcas"]
[null,1,null,null,null,"De dappere Duinduikers","Kortverhaal, KVH 21"]
[null,1,44,1995,236,"De gulden harpoen","Eerste druk 1994 met code 057100044\nHeruitgave 1997 met blauwe of witte cirkel op de cover (code X710-44) \nHeruitgave 2006 (code 401012044)"]
[null,1,44,1995,237,"De snikkende sirene"]
[null,1,44,1995,238,"De slimme slapjanus"]
[null,1,44,1995,239,"De stervende ster"]
[null,1,45,1995,240,"De pottenproever","Vanaf hier niet altijd een herdruk. Deel 45 alleen in 1e druk."]
[null,1,45,1995,241,"Het Aruba-dossier"]
[null,1,45,1995,242,"Tokapua Toraja"]
[null,1,45,1995,243,"De averechtse aap"]
[null,1,46,1996,244,"De begeerde berg"]
[null,1,46,1996,245,"De zeven schaken"]
[null,1,46,1996,246,"De vonkende vuurman"]
[null,1,46,1996,null,"50- jaar avontuur","50 jaar Suske en Wiske-Geschiedenis in strip, kort verhaal, MKV 44 (met quiz en antwoorden)"]
[null,1,47,1997,247,"Het kostbare kader"]
[null,1,47,1997,248,"Robotkop"]
[null,1,47,1997,249,"De razende race"]
[null,1,47,1997,null,"De Galapagosgassen","Kortverhaal, KVH 26"]
[null,1,47,1997,null,"De pezige Peekan","Pezige Peekah, kortverhaal, KVH 24"]
[null,1,48,1997,250,"Het Grote Gat","1e druk met brief Lekturama met aanbiedingen. \nHerdruk 2006, beide met code 401012048"]
[null,1,48,1997,251,"De verraderlijke Vinson"]
[null,1,48,1997,252,"Volle maan"]
[null,1,48,1997,null,"De mollige marmotten","Kortverhaal, KVH 27"]
[null,1,48,1997,null,"De macabere Macralles","Kortverhaal, KVH 25"]
[null,1,49,1998,253,"Prachtige Pjotr"]
[null,1,49,1998,254,"Tex en Terry"]
[null,1,49,1998,255,"De mompelende mummie"]
[null,1,49,1998,null,"De lollige lakens","Kortverhaal, KVH 9"]
[null,1,49,1998,null,"Het geheim van de Kalmthoutse heide","Kortverhaal, KVH 10"]
[null,1,50,1999,256,"De vogels der goden","Met voorin extra kortverhaal SNP39:\"Al 50 albums bij Lekturama\", 2 stroken\nBijlage: Sticker 50ste jubileum album Lekturama"]
[null,1,50,1999,257,"De rebelse Reinaert"]
[null,1,50,1999,258,"De gevederde slang"]
[null,1,50,1999,null,"De witte gems","Kortverhaal, KVH 12"]
[null,1,50,1999,null,"De gouden bloem","Kortverhaal, KVH 3"]
[null,1,51,1999,259,"Amber","Vanaf nr 51 wordt Lecturama met een 'c' geschreven ipv met een 'k'\nHerdruk 2006"]
[null,1,51,1999,260,"De bonte bollen"]
[null,1,51,1999,261,"Het berenbeklag"]
[null,1,51,1999,null,"De bevende berken","Kortverhaal, KVH 18"]
[null,1,51,1999,null,"Het verloren zwaard","Kortverhaal, KVH 13"]
[null,1,52,2000,262,"Het enge eiland"]
[null,1,52,2000,263,"Het verdronken land"]
[null,1,52,2000,264,"Jeanne Panne"]
[null,1,52,2000,null,"Het onbekende eiland","Kortverhaal, KVH 16"]
[null,1,52,2000,null,"Het monster van Loch Ness","Kortverhaal, KVH 11"]
[null,1,53,2001,265,"Papa Razzi","Er is ook een misdruk in omloop waarbij het binnenwerk op de kop in is gebonden."]
[null,1,53,2001,266,"De kernmonsters"]
[null,1,53,2001,267,"Lilli Natal"]
[null,1,53,2001,268,"De koeiencommissie"]
[null,1,54,2002,269,"De stugge Stuyvesant"]
[null,1,54,2002,270,"De ongelooflijke Thomas"]
[null,1,54,2002,271,"Big Mother"]
[null,1,54,2002,272,"De blote Belg"]
[null,1,55,2003,273,"De Europummel","Heruitgave 2006"]
[null,1,55,2003,274,"De fleurige Floriade"]
[null,1,55,2003,275,"Heilig Bloed"]
[null,1,55,2003,276,"In de ban van de milt"]
[null,1,56,2004,277,"De verdwenen verteller"]
[null,1,56,2004,279,"De laatste vloek"]
[null,1,56,2004,280,"De kus van Odfella"]
[null,1,56,2004,null,"De stenen broden","Kortverhaal, KVH 14"]
[null,1,56,2004,null,"De zilveren appels","Kortverhaal, KVH 15"]
[null,1,57,2005,281,"De gevangene van Prisonov"]
[null,1,57,2005,282,"De breinbrekers"]
[null,1,57,2005,283,"Paniek in Palermo"]
[null,1,57,2005,284,"Kaapse kaalkoppen"]
[null,1,58,2006,285,"Verraad op de Veluwe"]
[null,1,58,2006,286,"De flierende fluiter"]
[null,1,58,2006,287,"De formidabele fantast"]
[null,1,58,2006,288,"Het slapende goud"]
[null,1,59,2007,289,"De kaduke klonen"]
[null,1,59,2007,290,"De blikken bluster","De blikken blutser"]
[null,1,59,2007,290,"Het mopperende masker"]
[null,1,59,2007,291,"De bangeschieters"]
[null,1,59,2007,292,"De Nachtwachtbrigade"]
[null,1,60,2008,293,"De kaperkoters","Heruitgave 2008"]
[null,1,60,2008,294,"De tikkende Tinkan"]
[null,1,60,2008,295,"De krasse kroko"]
[null,1,60,2008,null,"De guitige gast","Kortverhaal, KVH 29"]
[null,1,60,2008,null,"De koppige kluizenaar","Kortverhaal, KVH 28"]
[null,1,61,2009,296,"De curieuze neuzen"]
[null,1,61,2009,297,"De joviale Gille"]
[null,1,61,2009,298,"De elfstedenstunt"]
[null,1,61,2009,null,"De razende rentmeester","Kortverhaal, KVH 30"]
[null,1,61,2009,null,"De energieke guiten","Kortverhaal, KVH 32"]
[null,1,62,2009,299,"Het babbelende bad"]
[null,1,62,2009,300,"Het machtige document","Het machtige monument"]
[null,1,62,2009,301,"De dartelelende draak","De dartele draak"]
[null,1,62,2009,null,"De pronte professor","Kortverhaal, KVH 36"]
[null,1,62,2009,null,"De sinistere site","Kortverhaal, KVH 34"]
[null,1,63,2009,302,"De sterrensteen"]
[null,1,null,null,303,"De knikkende knokken","De knikkende knoken"]
[null,1,null,null,null,"Het rinkelende radarwerk","Het rinkelende raderwerk, kort verhaal, KVH 38"]
[null,1,null,null,null,"De weerwaterman","Kortverhaal, KVH 39"]
[null,1,null,null,null,"De microkomiek","Kortverhaal, KVH 40"]
[null,1,null,null,null,"De primitieve paljassen","Kortverhaal, KVH 35"]
[null,1,64,2010,304,"De jokkende joker"]
[null,1,64,2010,305,"De tijdbobijn"]
[null,1,64,2010,306,"De stralende staf"]
[null,1,64,2010,null,"Sinjeur Stekkepoot","Kortverhaal, KVH 37"]
[null,1,64,2010,null,"De venijnige vanger"]
[null,1,65,2011,307,"De rillende rots","Met gratis album De vergeten vluchtelingen (MKV 68) en met\n2 folders (Luister CD De stuivende stad, en originele verhalen)"]
[null,1,65,2011,308,"De gamegoeroe"]
[null,1,65,2011,null,"De toetercup","Kortverhaal, KVH 44"]
[null,1,65,2011,null,"De kribbige krab","Kortverhaal, KVH 45"]
[null,1,65,2011,null,"De treiterende trien","Kortverhaal, KVH 42"]
[null,1,65,2011,null,"De werken van Lambik","Kortverhaal, KVH 46"]
[null,1,66,2011,309,"De watersater","Met gratis het album De stuivende stad, inclusief luisterstrip-CD"]
[null,1,null,null,310,"De halve Havelaar"]
[null,1,null,null,311,"De stuivende stad"]
[null,1,null,null,null,"De bosbollebozen","Kortverhaal, KVH 43"]
[null,1,null,null,null,"De vergeten vluchtelingen","Kortverhaal, MKV 68"]
[null,1,null,null,null,"De lepe luis","Kortverhaal, MKV 66"]
[null,1,null,null,null,"De terugkeer van de lepe luis","Kortverhaal, MKV 69"]
[null,1,67,2011,312,"De zappende ziel","Met gratis Klein Suske en Wiske no. 14: Zomerkriebels"]
[null,1,67,2011,313,"De kwakende Queen"]
[null,1,67,2011,null,"De kokende kei","Kort verhaal, KVH 47"]
[null,1,67,2011,null,"Krimson Break","Kort verhaal, KVH 48"]
[null,1,67,2011,null,"Taxi Tata","Kort verhaal, KVH 50"]
[null,1,68,2012,314,"Het lijdende Leiden","Met gratis een blauw mini-album van De Tartaarse helm"]
[null,1,68,2012,315,"De bananenzangers"]
[null,1,68,2012,316,"Krimsonia"]
[null,1,68,2012,null,"De laaiende linies","Kortverhaal, KVH 51"]
[null,1,68,2012,null,"Expeditie Robikson","Kortverhaal, KVH 52"]
[null,1,69,2013,317,"Het bizarre blok","Gratis bijlagen:\n1) Folder Suske en Wiske Top 40 met inschrijfkaart.\n2) Versus nummer 103, 3e kwartaal van 2013.\n3) Een boekenlegger van Suske en Wiske collectie."]
[null,1,69,2013,318,"De suikerslaven"]
[null,1,69,2013,319,"Suske de Rat"]
[null,1,69,2013,320,"De tirannieke tor"]
[null,1,70,2014,321,"Het ijzeren duel"]
[null,1,70,2014,322,"De vliegende rivier"]
[null,1,70,2014,323,"Barabas de balorige"]
[null,1,70,2014,null,"De spottende spiegel","Kortverhaal, KVH 53"]
[null,1,70,2014,null,"Het vurige Vitamitje","Kortverhaal, KVH 54"]
[null,1,71,2016,324,"De royale ruiter","Met gratis groene album De rammelende rally (KVH 1), \ncover zoals uitgave Brabants Stripspektakel"]
[null,1,null,null,325,"Het schrikkelspook"]
[null,1,null,null,326,"De zwarte tulp"]
[null,1,null,null,null,"De coole Kastaar","Kortverhaal, KVH 55"]
[null,1,null,null,null,"Het vervloekte venster","Kortverhaal, KVH 60"]
[null,1,72,2017,327,"Het gebroken dorp","Met gratis album Fata Morgana (KVH 20) met Efteling opdruk"]
[null,1,72,2017,328,"Sterrenrood"]
[null,1,72,2017,329,"Suskewiet"]
[null,1,72,2017,330,"De fabuleuze Freak"]
[null,1,73,2018,278,"De kunstkraker","Met gratis blauwe album De kaartendans met opdruk van Maastricht 2000 Bridge Olympiad"]
[null,1,73,2018,331,"Sooi en Sientje"]
[null,1,73,2018,332,"Het verloren verleden"]
[null,1,73,2018,333,"De bibberende Bosch"]
[null,1,74,2018,335,"Het lederen monster","Met gratis album De energieke guiten (KVH 32)"]
[null,1,74,2018,336,"Het omgekeerde land"]
[null,1,74,2018,337,"Game of Drones"]
[null,1,74,2018,338,"De heldenmaker"]
[null,1,75,2019,339,"De planeetvreter","Vanaf dit album Suske en Wiske hertend in nieuwe stijl op de cover\nMet gratis album als bijlage:\nWitte zwanen, zwarte zwanen (2010)"]
[null,1,75,2019,340,"Mami Wata"]
[null,1,75,2019,341,"Het Monamysterie"]
[null,1,75,2019,342,"De zwarte zwevers"]
[null,1,76,2019,343,"SOS Snowbell","Met gratis album:\nDe Schaal van Moraal, SOS Kinderdorpen deel 2 NL, 2016 of\nDe charmante chirurg, SOS Kinderdorpen deel 2 NL, 2016"]
[null,1,76,2019,344,"BRBS 2.0"]
[null,1,76,2019,345,"Operatie Siggy"]
[null,1,76,2019,346,"Chronos en Chaos"]
[null,1,77,2019,347,"Lambik Plastiek","zie ook https://suskewiske.verzamelalbum.com/"]
[null,1,77,2019,348,"De wrede wensput"]
[null,1,77,2019,350,"De nacht van de narwal"]
[null,1,77,2019,349,"Het lekkere lab"]
[null,1,78,2020,"-","Cromini","Hommage, HOM1"]
[null,1,78,2020,"-","Boemerang","Hommage, HOM2"]
[null,1,78,2020,"-","De kwakkelende kwakzalver","Hommage, HOM3"]
[null,1,78,2020,"-","De preutse prinses","Hommage, HOM4"]
[null,1,79,2021,351,"De verloren Van Eyck"]
[null,1,79,2021,352,"Team Krimson"]
[null,1,79,2021,353,"Het gewiste Wiske"]
[null,1,79,2021,354,"De zwijgende Zwollem"]
[null,1,80,2021,355,"De scheve Schot"]
[null,1,80,2021,356,"De fluitende olifant"]
[null,1,80,2021,357,"De zalige ziener"]
[null,1,80,2021,358,"De drakenprinter"]
[null,1,81,2022,359,"De naamloze 9"]
[null,1,81,2022,360,"De drijvende dokters"]
[null,1,81,2022,361,"De grot van Gregorius"]
[null,1,81,2022,362,"De kale kroon"]
[null,1,82,2023,363,"De maffe markies","zie ook https://suskewiske.verzamelalbum.com/ 82"]
[null,1,null,null,364,"De gulden krijger"]
[null,1,null,null,365,"De boze boleet"]
[null,1,null,null,"-","Tante Biotica","Kortverhaal, KVH 63"]
[null,1,null,null,"-","De beestige brug","Kortverhaal, KVH 64"]
[]
[]
[null,"2.","originele verhalen",null,null,null,"gele hardcover serie, met de oorspronkelijke versie van de verhalen"]
[]
[]
[null,"Serie","Deel","Jaar","Rode reeks nr","Titel","Opmerkingen"]
[]
[null,2,1,1998,0,"Rikki en Wiske","Kennismakingsdeel, ook heruitgave 2001"]
[null,2,1,1998,1,"Op het eiland Amoras"]
[null,2,2,1998,4,"De koning drinkt"]
[null,2,2,1998,6,"De Zwarte Madam"]
[null,2,2,1998,3,"De sprietatoom"]
[null,2,2,1998,2,"De vliegende aap"]
[null,2,3,1999,5,"Prinses Zagemeel"]
[null,2,3,1999,26,"De bokkerijder","Titel op cover,rug en inhoudsopgave \"De bokkerijder\", boven het verhaal \"De bokkerijders\""]
[null,2,3,1999,7,"De witte uil"]
[null,2,3,1999,"-","De gekalibreerde kwibus"]
[null,2,4,1999,31,"De mottenvanger"]
[null,2,4,1999,8,"Bibbergoud"]
[null,2,4,1999,9,"Lambiorix"]
[null,2,4,1999,10,"De stierentemmer"]
[null,2,5,1999,11,"De stalen bloempot"]
[null,2,5,1999,13,"De ringelingschat"]
[null,2,5,1999,12,"Het zingende nijlpaard"]
[null,2,5,1999,14,"De Tuftuf-club"]
[null,2,6,1999,15,"Het bevroren vuur"]
[null,2,6,1999,16,"De sterrenplukkers"]
[null,2,6,1999,17,"De lachende wolf"]
[null,2,6,1999,18,"De dolle musketiers"]
[null,2,7,1999,19,"De tamtamklopper","Oorspronkelijke titel"]
[null,2,7,1999,20,"De knokkersburcht"]
[null,2,7,1999,21,"De circusbaron"]
[null,2,7,1999,22,"De speelgoedzaaier"]
[null,2,8,2000,24,"De Kleppende Klipper"]
[null,2,8,2000,25,"De straatridder"]
[null,2,8,2000,27,"De brullende berg"]
[null,2,8,2000,23,"De IJzeren Schelvis"]
[null,2,9,2001,28,"De spokenjagers"]
[null,2,9,2001,29,"De snorrende Snor"]
[null,2,9,2001,30,"De stemmenrover"]
[null,2,9,2001,32,"Het sprekende testament"]
[null,2,10,2001,33,"De geverniste zeerovers"]
[null,2,10,2001,34,"De duistere diamant"]
[null,2,10,2001,35,"De Zwarte Zwaan"]
[null,2,10,2001,36,"Het vliegende bed"]
[null,2,11,2001,37,"De Texasrakkers","Titel zonder streepje"]
[null,2,11,2001,38,"De windmakers"]
[null,2,11,2001,39,"De gouden cirkel"]
[null,2,11,2001,40,"De zingende zwammen"]
[null,2,12,2001,41,"De wolkeneters"]
[null,2,12,2001,43,"De klankentapper"]
[null,2,12,2001,44,"De wilde weldoener"]
[null,2,12,2001,45,"Het hondenparadijs"]
[null,2,13,2001,46,"De kaartendans"]
[null,2,13,2001,47,"De Kwakstralen"]
[null,2,13,2001,48,"Het rijmende paard"]
[null,2,13,2001,49,"De sissende sampam","De strooknummering  is flink in de war, er wordt als volgt genummerd:1-20,19,20-24,27,28-30,33,34,31,32,35-42,41,42-206,205,206-220. Hierdoor is het verhaal 1 pagina langer."]
[null,2,14,2001,50,"Sjeik El Ro-jenbiet"]
[null,2,14,2001,51,"De nerveuze Nerviërs"]
[null,2,14,2001,53,"Het zoemende ei"]
[null,2,14,2001,54,"De koddige kater"]
[null,2,15,2002,57,"De schone slaper"]
[null,2,15,2002,61,"De apenkermis","Titel moderne spelling met n"]
[null,2,15,2002,63,"Jeromba de Griek"]
[null,2,15,2002,66,"De Dulle Griet"]
[]
[]
[null,"3.","de top 40 collectie",null,null,null,"De mooiste verhalen van Willy Vandersteen, bruine hardcover serie in 1 box"]
[]
[]
[null,"Serie","Deel","Jaar","Rode reeks nr","Titel","Opmerkingen"]
[]
[null,3,1,"2013-11-01",68,"Het eiland Amoras","Oorspronkelijk met als bijlage een folder: Nieuwe collectie"]
[null,null,null,null,87,"De vliegende Aap"]
[null,null,null,null,105,"De koning drinkt"]
[null,null,null,null,138,"Bibbergoud"]
[null,3,{"$f":"+C452+1","v":2},"2013-11-01",134,"De witte uil"]
[null,null,null,null,144,"Lambiorix"]
[null,null,null,null,137,"De ringelingschat"]
[null,null,null,null,145,"De stalen bloempot"]
[null,3,{"$f":"+C456+1","v":3},"2013-11-01",133,"De Tuf-Tuf-club","Titel met extra streepje (net als in vier kleurenreeks)"]
[null,null,null,null,141,"Het bevroren vuur"]
[null,null,null,null,146,"De sterrenplukkers"]
[null,null,null,null,148,"De lachende wolf"]
[null,3,{"$f":"+C460+1","v":4},"2013-11-01",89,"De dolle musketiers"]
[null,null,null,null,114,"De Tartaarse helm"]
[null,null,null,null,127,"De knokkersburcht"]
[null,null,null,null,111,"De schat van Beersel"]
[null,3,{"$f":"+C464+1","v":5},"2013-11-01",81,"De circusbaron"]
[null,null,null,null,76,"De ijzeren schelvis"]
[null,null,null,null,83,"De straatridder"]
[null,null,null,null,95,"De Kleppende Klipper"]
[null,3,{"$f":"+C468+1","v":6},"2013-11-01",113,"Het geheim van de gladiatoren"]
[null,null,null,null,70,"De spokenjagers"]
[null,null,null,null,115,"De gezanten van Mars"]
[null,null,null,null,136,"De bokkenrijders","Titel moderne spelling met n"]
[null,3,{"$f":"+C472+1","v":7},"2013-11-01",112,"De groene splinter"]
[null,null,null,null,119,"Het sprekende testament"]
[null,null,null,null,120,"De geverniste zeerovers"]
[null,null,null,null,121,"De duistere diamant"]
[null,3,{"$f":"+C476+1","v":8},"2013-11-01",125,"De Texasrakkers","Titel zonder streepje"]
[null,null,null,null,110,"De zingende zwammen"]
[null,null,null,null,118,"De gouden cirkel"]
[null,null,null,null,103,"De klankentapper"]
[null,3,{"$f":"+C480+1","v":9},"2013-11-01",98,"Het hondenparadijs"]
[null,null,null,null,101,"De kaartendans"]
[null,null,null,null,94,"De sissende sampan"]
[null,null,null,null,90,"Sjeik El Rojenbiet","Titel zonder streepje (net als in vier kleurenreeks)"]
[null,3,{"$f":"+C484+1","v":10},"2013-11-01",77,"De apenkermis","Titel moderne spelling met n"]
[null,null,null,null,67,"De poenschepper"]
[null,null,null,null,71,"Wattman"]
[null,null,null,null,100,"Het gouden paard"]
[]
["-","Voor correcties, vragen of opmerkingen:"]
["-","Graag contact opnemen met "]
["-","detammetumi@gmail.com"]

{"sheet":"TotaleTabel (tekenaars)","index":12,"n_rows":590,"n_cols":10,"rows_kept":590,"cut":false,"hidden":true,"merged":[[24,0,25,0],[24,1,25,1],[24,2,25,2],[26,2,36,2],[26,3,36,3],[37,0,39,0],[37,1,39,1],[37,2,39,2],[12,2,15,3],[16,0,17,0],[16,1,17,1],[16,2,16,3],[17,2,17,3],[18,2,23,3],[93,2,98,2],[93,3,98,3],[99,2,99,3],[100,2,109,2],[100,3,109,3],[110,0,111,0],[110,1,111,1],[110,3,111,3],[41,2,60,2],[41,3,60,3],[62,2,89,2],[62,3,89,3],[90,0,91,0],[90,1,91,1],[90,2,91,2],[130,2,131,2],[130,3,131,3],[132,0,133,0],[132,1,133,1],[132,2,133,2],[134,2,135,2],[112,2,127,2],[112,3,113,3],[115,3,127,3],[128,0,129,0],[128,1,129,1],[128,2,129,2],[147,3,148,3],[149,0,150,0],[149,1,150,1],[149,2,150,2],[137,2,138,2],[137,3,138,3],[139,0,140,0],[139,1,140,1],[139,2,140,2],[141,0,142,0],[141,1,142,1],[141,2,142,2],[151,0,152,0],[151,1,152,1],[151,2,152,2],[153,0,154,0],[153,1,154,1],[153,2,154,2],[143,2,146,2],[147,0,148,0],[147,1,148,1],[167,0,169,0],[167,1,169,1],[170,2,173,2],[170,3,173,3],[179,0,180,0],[179,1,180,1],[179,3,180,3],[155,2,166,2],[156,0,157,0],[156,1,157,1],[158,3,159,3],[160,0,161,0],[160,1,161,1],[163,0,164,0],[163,1,164,1],[165,3,166,3],[190,0,191,0],[190,1,191,1],[192,0,193,0],[192,1,193,1],[192,3,193,3],[194,0,195,0],[194,1,195,1],[194,3,195,3],[182,0,185,0],[182,1,185,1],[182,3,185,3],[187,0,189,0],[187,1,189,1],[187,3,189,3],[200,0,201,0],[200,1,201,1],[200,3,201,3],[202,0,203,0],[202,1,203,1],[202,3,203,3],[196,0,197,0],[196,1,197,1],[196,3,197,3],[198,0,199,0],[198,1,199,1],[198,3,199,3],[208,3,210,3],[212,3,214,3],[220,3,222,3],[224,2,225,2],[224,3,225,3],[231,0,232,0],[231,1,232,1],[231,3,232,3],[204,0,205,0],[204,1,205,1],[204,3,205,3],[206,0,207,0],[206,1,207,1],[206,3,207,3],[233,0,234,0],[233,1,234,1],[233,3,234,3],[235,2,238,2],[235,3,278,3],[239,0,240,0],[239,1,240,1],[242,0,243,0],[242,1,243,1],[245,2,253,2],[269,0,271,0],[269,1,271,1],[272,0,274,0],[272,1,274,1],[275,0,278,0],[275,1,278,1],[254,0,255,0],[254,1,255,1],[256,2,262,2],[263,0,265,0],[263,1,265,1],[266,0,268,0],[266,1,268,1],[279,0,282,0],[279,1,282,1],[279,3,282,3],[283,0,284,0],[283,1,284,1],[283,3,307,3],[285,0,287,0],[285,1,287,1],[288,0,292,0],[288,1,292,1],[308,0,313,0],[308,1,313,1],[308,2,308,3],[309,2,309,3],[310,2,310,3],[311,2,311,3],[312,2,312,3],[313,2,313,3],[293,0,297,0],[293,1,297,1],[298,0,302,0],[298,1,302,1],[303,0,307,0],[303,1,307,1],[320,0,325,0],[320,1,325,1],[320,2,320,3],[321,2,321,3],[322,2,322,3],[323,2,323,3],[324,2,324,3],[325,2,325,3],[314,0,319,0],[314,1,319,1],[314,2,314,3],[315,2,315,3],[316,2,316,3],[317,2,317,3],[318,2,318,3],[319,2,319,3],[332,0,337,0],[332,1,337,1],[332,2,332,3],[333,2,333,3],[334,2,334,3],[335,2,335,3],[336,2,336,3],[337,2,337,3],[326,0,331,0],[326,1,331,1],[326,2,326,3],[327,2,327,3],[328,2,328,3],[329,2,329,3],[330,2,330,3],[331,2,331,3],[338,0,344,0],[338,1,344,1],[338,2,338,3],[339,2,339,3],[340,2,340,3],[341,2,341,3],[342,2,342,3],[343,2,343,3],[344,2,344,3],[351,0,356,0],[351,1,356,1],[351,2,351,3],[352,2,352,3],[353,2,353,3],[354,2,354,3],[355,2,355,3],[356,2,356,3],[345,0,350,0],[345,1,350,1],[345,2,345,3],[346,2,346,3],[347,2,347,3],[348,2,348,3],[349,2,349,3],[350,2,350,3],[363,0,368,0],[363,1,368,1],[363,2,363,3],[364,2,364,3],[365,2,365,3],[366,2,366,3],[367,2,367,3],[368,2,368,3],[357,0,362,0],[357,1,362,1],[357,2,357,3],[358,2,358,3],[359,2,359,3],[360,2,360,3],[361,2,361,3],[362,2,362,3],[369,0,375,0],[369,1,375,1],[369,2,369,3],[370,2,370,3],[371,2,371,3],[372,2,372,3],[373,2,373,3],[374,2,374,3],[375,2,375,3],[383,0,388,0],[383,1,388,1],[383,2,383,3],[384,2,384,3],[385,2,385,3],[386,2,386,3],[387,2,387,3],[388,2,388,3],[376,0,382,0],[376,1,382,1],[376,2,376,3],[377,2,377,3],[378,2,378,3],[379,2,379,3],[380,2,380,3],[381,2,381,3],[382,2,382,3],[396,0,401,0],[396,1,401,1],[396,2,396,3],[397,2,397,3],[398,2,398,3],[399,2,399,3],[400,2,400,3],[401,2,401,3],[389,0,395,0],[389,1,395,1],[389,2,389,3],[390,2,390,3],[391,2,391,3],[392,2,392,3],[393,2,393,3],[394,2,394,3],[395,2,395,3],[409,0,414,0],[409,1,414,1],[409,2,409,3],[410,2,410,3],[411,2,411,3],[412,2,412,3],[413,2,413,3],[414,2,414,3],[402,0,408,0],[402,1,408,1],[402,2,402,3],[403,2,403,3],[404,2,404,3],[405,2,405,3],[406,2,406,3],[407,2,407,3],[408,2,408,3],[421,0,426,0],[421,1,426,1],[421,2,421,3],[422,2,422,3],[423,2,423,3],[424,2,424,3],[425,2,425,3],[426,2,426,3],[415,0,420,0],[415,1,420,1],[415,2,415,3],[416,2,416,3],[417,2,417,3],[418,2,418,3],[419,2,419,3],[420,2,420,3],[433,0,438,0],[433,1,438,1],[433,2,433,3],[434,2,434,3],[435,2,435,3],[436,2,436,3],[437,2,437,3],[438,2,438,3],[427,0,432,0],[427,1,432,1],[427,2,427,3],[428,2,428,3],[429,2,429,3],[430,2,430,3],[431,2,431,3],[432,2,432,3],[450,0,451,0],[450,2,451,2],[458,0,459,0],[458,1,459,1],[460,0,461,0],[460,1,461,1],[443,0,444,0],[443,1,444,1],[445,0,447,0],[445,1,447,1],[448,0,449,0],[448,1,449,1],[471,0,474,0],[471,1,474,1],[475,0,478,0],[475,1,478,1],[479,0,482,0],[479,1,482,1],[462,0,463,0],[462,1,463,1],[465,0,466,0],[465,1,466,1],[467,0,470,0],[467,1,470,1],[515,0,519,0],[515,1,519,1],[520,0,526,0],[520,1,526,1],[527,0,531,0],[527,1,531,1],[483,0,486,0],[483,1,486,1],[505,0,509,0],[505,1,509,1],[510,0,514,0],[510,1,514,1],[548,0,551,0],[548,1,551,1],[552,0,555,0],[552,1,555,1],[556,0,559,0],[556,1,559,1],[532,0,536,0],[532,1,536,1],[537,0,541,0],[537,1,541,1],[542,0,547,0],[542,1,547,1],[578,0,583,0],[578,1,583,1],[584,0,589,0],[584,1,589,1],[560,0,565,0],[560,1,565,1],[566,0,571,0],[566,1,571,1],[572,0,577,0],[572,1,577,1]]}
["http://suskeenwiske.ophetwww.net/studio/tabel.php"]
["Studio Vandersteen",null,"De totale tabel"]
["Op deze pagina wordt een schematisch overzicht gegeven, in chronologische volgorde, van alle verhalen en de mensen die daaraan hebben meegewerkt."]
["Omdat van veel korte verhalen nog niet met zekerheid achterhaald kan worden wie deze hebben geschreven en/of getekend zijn de meeste van die titels niet in de tabel opgenomen."]
["Verantwoordelijkheidsvermeldingen voor De grappen van Lambik staan in een aparte overzichtslijst. van Jack Moonen en Erik Strijbos."]
[]
[]
["Lange verhalen"]
[]
["De nummers waarmee de verhalen worden aangeduid zijn gebaseerd op de nummering die wordt gebruikt in De stripkatalogus van Hans Matla. Voor de verhalen die in die katalogus nog niet voorkomen is uitgegaan van de begindatum van voorpublicatie of de datum waarop het album is verschenen"]
[]
["No.","Titel","Auteur/Tekenaar","Inkter"]
["V 1","Rikki en Wiske","Willy Vandersteen"]
["V 2","Op het eiland Amoras"]
["V 3","De sprietatoom"]
["V 4","De vliegende aap"]
["V 5","De Zwarte Madam","Willy Vandersteen"]
[null,null,"Idee: Wim Goderis"]
["V 6","De koning drinkt","Willy Vandersteen"]
["V 7","Prinses Zagemeel"]
["V 8","De bokkerijder"]
["V 9","De Witte Uil"]
["V 10","Het Spaanse spook"]
["V 11","De gekalibreerde kwibus"]
["V 12","De mottenvanger","Willy Vandersteen","Vanaf het eind van het verhaal:"]
[null,null,null,"François Joseph Herman"]
["V 13","Bibbergoud","Willy Vandersteen","François Joseph Herman?"]
["V 14","Lambiorix"]
["V 15","De stierentemmer"]
["V 16","De bronzen sleutel"]
["V 17","De stalen bloempot"]
["V 18","Het zingende nijlpaard"]
["V 19","De ringelingschat"]
["V 20","De Tartaarse helm"]
["V 21","De Tuf-Tuf-Club"]
["V 22","Het bevroren vuur"]
["V 23","De sterrenplukkers"]
["V 24","De lachende wolf","Willy Vandersteen","Karel Boumans"]
[null,null,null,"m.m.v."]
[null,null,null,"Karel Verschuere"]
["V 25","De schat van Beersel","Willy Vandersteen","?"]
["V 26","Het vliegende hart","Willy Vandersteen","Karel Boumans"]
["V 27","De dolle musketiers"]
["V 28","De tamtamklopper"]
["V 29","De Knokkersburcht"]
["V 30","Het geheim van de gladiatoren"]
["V 31","De cirkusbaron"]
["V 32","De speelgoedzaaier"]
["V 33","De IJzeren Schelvis"]
["V 34","De gezanten van Mars"]
["V 35","De kleppende klipper"]
["V 36","De straatridder"]
["V 37","De brullende berg"]
["V 38","De spokenjagers"]
["V 39","De groene splinter"]
["V 40","De snorrende snor"]
["V 41","De stemmenrover"]
["V 42","Het sprekende testament"]
["V 43","De geverniste zeerovers"]
["V 44","Het gouden paard"]
["V 45","De duistere diamant"]
["V 46","De zwarte Zwaan","Willy Vandersteen","Eduard De Rop?"]
["V 47","Het vliegende bed","Willy Vandersteen","Eduard De Rop"]
["V 48","De Texas rakkers"]
["V 49","De windmakers"]
["V 50","De gouden cirkel"]
["V 51","De zingende zwammen"]
["V 52","De wolkeneters"]
["V 53","De klankentapper"]
["V 54","De wilde weldoener"]
["V 55","Het hondenparadijs"]
["V 56","De kaartendans"]
["V 57","De Kwakstralen"]
["V 58","Het rijmende paard"]
["V 59","De sissende sampam"]
["V 60","Sjeik El Ro-Jenbiet"]
["V 61","De nerveuze Nerviërs"]
["V 62","Het zoemende ei"]
["V 63","De koddige kater"]
["V 64","De schone slaper"]
["V 65","De apekermis"]
["V 66","Jeromba de Griek"]
["V 67","De dulle griet"]
["V 68","De poenschepper"]
["V 69","Wattman"]
["V 70","Het mini-mierennest"]
["V 71","De zeven snaren"]
["V 72","De gramme huurling"]
["V 73","Tedere Tronica"]
["V 74","De briesende bruid"]
["V 75","De dromendiefstal","Willy Vandersteen","Eduard De Rop",null,"1969-06-01","nr 102"]
[null,null,null,"m.m.v. Paul Geerts"]
["V 76","De junglebloem","Willy Vandersteen","Eduard De Rop",null,"1969-01-01","nr 97"]
["V 77","De charmante koffiepot","Willy Vandersteen","Paul Geerts"]
["V 78","Twee toffe totems"]
["V 79","De toornige tjiftjaf"]
["V 80","De kale kapper"]
["V 81","Het brommende brons"]
["V 82","De steensnoepers"]
["V 83","De gekke gokker","Paul Geerts"]
["V 84","De boze boomzalver","Paul Geerts","Eduard De Rop"]
["V 85","De malle mergpijp"]
["V 86","De poppenpakker"]
["V 87","De gladde glipper"]
["V 88","Het ros Bazhaar"]
["V 89","De bevende baobab"]
["V 90","De nare varaan"]
["V 91","De poezelige poes"]
["V 92","Beminde Barabas"]
["V 93","De mollige meivis"]
["V 94","De vinnige Viking","Scenario: Willy Vandersteen","Eduard De Rop"]
[null,null,"Tekeningen: Paul Geerts"]
["V 95","De vlijtige vlinder","Paul Geerts","Eduard De Rop"]
["V 96","De bokkige bombardon"]
["V 97","De Minilotten van Kokonera",null,"Eric De Rop"]
["V 98","De gouden locomotief",null,"Eduard De Rop"]
["V 99","De blinkende boemerang"]
["V 100","De zingende kaars"]
["V 101","Het laatste dwaallicht"]
["V 102","De raap van Rubens"]
["V 103","De maffe maniak"]
["V 104","De regenboogprinses"]
["V 105","De windbrekers"]
["V 106","De sputterende spuiter"]
["V 107","De Efteling-elfjes"]
["V 108","De olijke olifant"]
["V 109","De amoureuze Amazone"]
["V 110","Walli de walvis"]
["V 111","Het drijvende dorp","Paul Geerts","Eduard De Rop"]
[null,null,null,"m.m.v. Tom Wilequet"]
["V 112","De kadulle Cupido","Paul Geerts","Eduard De Rop"]
["V 113","Het statige standbeeld"]
["V 114","De pompenplanters","Paul Geerts","Tot p. 46: Eduard De Rop"]
[null,null,null,"Vanaf p. 46: Eugeen Goossens"]
["V 115","De adelijke ark","Paul Geerts","Eduard De Rop"]
["V 116","Het kregelige ketje",null,"Eugeen Goossens"]
["V 117","De stoute steenezel","Paul Geerts","Eugeen Goossens"]
["V 118","De perenprins","Paul Geerts","Eugeen Goossens"]
["V 119","De koperen knullen"]
["V 120","De botte botaknol","Paul Geerts","Eduard De Rop"]
[null,null,null,"Eugeen Goossens"]
["V 121","De toffe tamboer","Paul Geerts","Eugeen Goossens"]
[null,null,null,"Behalve de aankondiging."]
["V 122","De rosse reus","Paul Geerts","Eduard De Rop"]
["V 123","De droevige duif",null,"Eugeen Goossens"]
["V 124","De woelige wadden"]
["V 125","De Belhamel-bende"]
["V 126","Het Bretoense broertje","Scenario: Willy Vandersteen","Eduard De Rop"]
[null,null,"Tekeningen: Paul Geerts"]
["V 127","De natte Navajo","Paul Geerts","Eduard De Rop"]
[null,null,null,"Eugeen Goossens"]
["V 128","De gouden ganzeveer","Paul Geerts","Eugeen Goossens"]
[null,null,null,"Behalve strook 121/122"]
["V 129","De hippe heksen","Paul Geerts","Eduard De Rop"]
[null,null,null,"Eugeen Goossens"]
["V 130","Het Delta-duel","Paul Geerts","Eugeen Goossens"]
["V 131","De tamme tumi",null,"Eugeen Goossens"]
[null,null,null,"Cover: Eric De Rop"]
["V 132","De lieve Lilleham",null,"Eugeen Goossens"]
["V 133","Amoris van Amoras"]
["V 134","Het dreigende dinges",null,"Eugeen Goossens"]
[null,null,null,"Cover: Eric De Rop"]
["V 135","De kattige kat",null,"Eugeen Goossens"]
["V 136","Angst op de \"Amsterdam\"",null,"Eugeen Goossens"]
[null,null,null,"Eric De Rop (enkele pagina's)"]
["V 137","De mooie Millirem",null,"Eugeen Goossens"]
["V 138","De bonkige baarden"]
["V 139","De ruige regen","Scenario: Willy Vandersteen","Eric De Rop (figuren)",1]
[null,null,"Schetsen: Willy Vandersteen","Anita Schauwvlieghe (decors)"]
[null,null,"Uitwerken tekeningen: Eric De Rop"]
["V 140","De kwaaie kwieten","Paul Geerts","Eugeen Goossens"]
["V 141","De glanzende gletsjer"]
["V 142","De hellegathonden"]
["V 143","De jolige joffer"]
["V 144","De eenzame eenhoorn","Willy Vandersteen","Liliane Govers",2]
["V 145","De parel in de lotusbloem","Paul Geerts","Liliane Govers"]
["V 146","De woeste wespen","Paul Geerts","Eric De Rop"]
["V 147","De edele elfen","Paul Geerts","Eric De Rop?"]
["V 148","De Krimson-crisis","Paul Geerts","Eric De Rop"]
["V 149","De krachtige krans","Paul Geerts","Liliane Govers"]
[null,null,"Idee: Liliane Govers"]
["V 150","De komieke Coco","Paul Geerts","Eric De Rop"]
["V 151","De speelgoedspiegel","Paul Geerts","Eric De Rop"]
[null,null,"Uitwerken tekeningen"]
[null,null,"vanaf strook 179/180:"]
[null,null,"Marc Verhaegen"]
["V 152","De wervelende waterzak","Willy Vandersteen","Liliane Govers",3]
["V 153","De kleurenkladder","Paul Geerts","Eric De Rop"]
[null,null,"Uitwerken tekeningen vanaf strook 20:"]
[null,null,"Marc Verhaegen"]
["V 154","Sagarmatha","Scenario en tek. vanaf strook 157: Paul Geerts","Strook 1-156: Eric De Rop"]
[null,null,"Tek. strook 1-156: Marc Verhaegen","Strook 157-220: Marc Verhaegen, Liliane Govers"]
["V 155","De bezeten bezitter","Scenario: Paul Geerts","Eric De Rop"]
[null,null,"Uitwerken tek.: Marc Verhaegen"]
["V 156","De rinoramp","Scenario: Paul Geerts","Eric De Rop"]
[null,null,"Uitwerken tek.: Marc Verhaegen"]
["V 157","De kleine postruiter","Scenario en tek. vanaf strook 188: Paul Geerts","Eric De Rop"]
[null,null,"Tek. strook 1-187: Marc Verhaegen"]
["V 158","Het witte wief","Scenario: Paul Geerts","Eric De Rop"]
[null,null,"Uitwerken tek.: Marc Verhaegen"]
["V 159","De goalgetter","Basisidee scenario en tek.: Marc Verhaegen","Eric De Rop"]
[null,null,"Grappen en dialogen: Paul Geerts"]
["V 160","De mysterieuze mijn","Scenario, grappen en dialogen: Paul Geerts","Eric De Rop"]
[null,null,"Bijdragen aan scenario en uitwerken tek.: Marc Verhaegen"]
["V 161","Het wondere Wolfje","Scenario, grappen en dialogen: Paul Geerts","Eric De Rop"]
[null,null,"Bijdr. aan scenario en uitwerken tek.: Marc Verhaegen"]
["V 162","De scherpe schorpioen","Scenario: Paul Geerts","Eric De Rop"]
[null,null,"Bijdr. scenario en tek.: Marc Verhaegen"]
["V 163","Tazuur en Tazijn","Scenario, grappen en dialogen: Paul Geerts","Eric De Rop"]
["V 164","Lambik Baba","Bijdr. aan scenario en uitwerken tek.: Marc Verhaegen"]
["V 165","De Tootootjes"]
["V 166","De krakende Carcas","Marc Verhaegen","Eric De Rop"]
["V 167","De klinkende klokkken","Scenario: Paul Geerts","Eric De Rop"]
["V 168","Het kristallen kasteel","Uitwerken tek.: Marc Verhaegen"]
["V 169","De gulden harpoen"]
["V 170","De stervende ster","Marc Verhaegen","Eric De Rop"]
["V 171","De snikkende sirene","Paul Geerts","Eric De Rop"]
["V 172","De slimme slapjanus","Marc Verhaegen","Eric De Rop"]
["V 173","De pottenproever","Marc Verhaegen","Eric De Rop"]
["V 174","De averechtse aap","Marc Verhaegen","Eric De Rop"]
["V 175","Het Aruba-dossier","Scenario: Paul Geerts en Marc Verhaegen","Eric De Rop"]
["V 176","Tokapua Toraja","Dialogen: Paul Geerts"]
["V 177","De begeerde berg","Tekeningen: Marc Verhaegen"]
["V 178","De 7 schaken","Paul Geerts","Liliane Govers"]
["V 179","De vonkende vuurman","Marc Verhaegen","Eric De Rop"]
["V 180","Het kostbare kader"]
["V 181","Robotkop","Paul Geerts","Eric De Rop"]
["V 182","De razende race","Marc Verhaegen","Eric De Rop"]
["V 183","Het grote gat","Paul Geerts","Eric De Rop"]
["V 184","De verraderlijke Vinson","Paul Geerts","Eric De Rop"]
["V 185","Prachtige Pjotr","Marc Verhaegen","Eric De Rop"]
["V 186","Volle maan","Scenario: Paul Geerts","Eric De Rop??"]
[null,null,"Tekeningen: Marc Verhaegen"]
["V 187","Tex en Terry","Paul Geerts","Eric De Rop"]
[null,null,"Tekeningen: Marc Verhaegen"]
["V 188","De gevederde slang","Paul Geerts","Eric De Rop"]
["V 189","De mompelende mummie"]
["V 190","De vogels der goden"]
["V 191","Amber"]
["V 192","De rebelse Reinaert","Scenario en schetsen: Paul Geerts"]
[null,null,"Tekeningen: Marc Verhaegen"]
["V 193","De bonte bollen","Paul Geerts"]
["V 194","Het berenbeklag","Scenario: Paul Geerts"]
[null,null,"Tekeningen: Marc Verhaegen"]
["V 195","Het enge eiland","Paul Geerts"]
["V 196","Het verdronken land","Marc Verhaegen"]
["V 197","Jeanne Panne"]
["V 198","Papa Razzi"]
["V 199","De kernmonsters"]
["V 200","Lilli Natal"]
["V 201","De koeiencommissie"]
["V 202","De stugge Stuyvesant"]
["V 203","De ongelooflijke Thomas"]
["V 204","Big Mother"]
["V 205","De Europummel","Scenario: Marc Verhaegen, m.m.v. Erik Meynen"]
[null,null,"Tekeningen: Marc Verhaegen"]
["V 206","De blote Belg","Marc Verhaegen"]
["V 207","De fleurige Floriade"]
["V 208","Heilig Bloed"]
["V 209","De kunstkraker"]
["V 210","In de ban van de Milt"]
["V 211","De verdwenen verteller"]
["V 212","De laatste vloek"]
["V 213","De kus van Odfella","Scenario en tekeningen: Marc Verhaegen"]
[null,null,"Uitwerken tekeningen: Walter Van Gasse"]
[null,null,"Eindredactie tekeningen: Marc Verhaegen"]
["V 214","De gevangene van Prisonov","Scenario en schetsen: Marc Verhaegen (zinnetje in de aankondiging van Peter van Gucht)"]
[null,null,"Uitwerking tekeningen: Walter Van Gasse"]
[null,null,"Eindredactie tekeningen: Marc Verhaegen"]
["V 215","De breinbrekers","Scenario en schetsen: Marc Verhaegen"]
[null,null,"Uitwerking tekeningen: Walter Van Gasse m.m.v. Peter Quirijnen (decors)"]
[null,null,"Eindredactie tekeningen: Marc Verhaegen"]
["V 216","Paniek in Palermo","Scenario en schetsen: Marc Verhaegen, idee vulkaanscene: Peter Van Gucht"]
[null,null,"Uitwerking tekeningen: Walter Van Gasse m.m.v. Peter Quirijnen (decors)"]
[null,null,"Eindredactie tekeningen: Marc Verhaegen"]
["V 217","Kaapse kaalkoppen","Scenario: Marc Verhaegen met een kleine bijdrage van Peter Van Gucht"]
[null,null,"Schetsen: Marc Verhaegen"]
[null,null,"Uitwerking tekeningen: Walter Van Gasse m.m.v. Peter Quirijnen (decors)"]
[null,null,"Eindredactie tekeningen: Marc Verhaegen"]
["V 218","Verraad op de Veluwe","Scenario: Marc Verhaegen m.m.v. Peter Van Gucht","Eric De Rop en Marc Verhaegen (strook 135-136)"]
[null,null,"Schetsen: Marc Verhaegen"]
[null,null,"Uitwerking tekeningen: Walter Van Gasse m.m.v. Peter Quirijnen (decors)"]
[null,null,"Eindredactie tekeningen: Marc Verhaegen"]
["V 219","De flierende fluiter","Scenario: Peter Van Gucht","Eric De Rop"]
[null,null,"Tekeningen: Marc Verhaegen (strook 49 t/m 92 en 117 t/m 184) en Walter Van Gasse m.m.v. Peter Quirijnen (decors)"]
["V 220","De formidabele fantast","Scenario en schetsen: Marc Verhaegen"]
[null,null,"Uitwerking tekeningen: Walter van Gasse m.m.v. Peter Quirijnen (decors)"]
[null,null,"Eindredactie tekeningen: Marc Verhaegen"]
["V 221","Het slapende goud","Scenario: Peter Van Gucht, met medewerking van Erik Meynen"]
[null,null,"Tekeningen: Luc Morjaeu, Charel Cambré en Walter Van Gasse"]
[null,null,"Decors: Peter Quirijnen"]
[null,null,"DTP-opmaak: Tom Wilequet"]
[null,null,"Inkleuring: Rita Bernaers"]
["V 222","De kaduke klonen","Scenario: Peter Van Gucht, met medewerking van Erik Meynen"]
[null,null,"Tekeningen: Luc Morjaeu, Charel Cambré en Walter Van Gasse"]
[null,null,"Decors: Peter Quirijnen"]
[null,null,"DTP-opmaak: Tom Wilequet"]
[null,null,"Inkleuring: Rita Bernaers"]
["V 223","De bangeschieters","Scenario: Peter Van Gucht, met medewerking van Erik Meynen"]
[null,null,"Tekeningen: Luc Morjaeu en Charel Cambré"]
[null,null,"Decors: Peter Quirijnen"]
[null,null,"DTP-opmaak: Tom Wilequet"]
[null,null,"Inkleuring: Isabelle Van Laerhoven"]
["V 224","De Nachtwachtbrigade","Scenario: Peter Van Gucht, met medewerking van Erik Meynen"]
[null,null,"Tekeningen: Luc Morjaeu en Charel Cambré"]
[null,null,"Decors: Peter Quirijnen"]
[null,null,"DTP-opmaak: Tom Wilequet"]
[null,null,"Inkleuring: Isabelle Van Laerhoven"]
["V 225","De kaperkoters","Scenario: Peter Van Gucht met medewerking van Erik Meynen"]
[null,null,"Tekeningen: Luc Morjaeu, Dirk Stallaert en Charel Cambré"]
[null,null,"Decors: Peter Quirijnen"]
[null,null,"DTP-opmaak: Tom Wilequet"]
[null,null,"Inkten: Eric De Rop en Bruno Verschelden"]
[null,null,"Inkleuring: Isabelle Van Laerhoven en Sabine De Meyer"]
["V 226","De tikkende Tinkan","Scenario: Peter Van Gucht met medewerking van Erik Meynen en Bruno De Roover"]
[null,null,"Tekeningen: Luc Morjaeu en Charel Cambré"]
[null,null,"Decors: Peter Quirijnen"]
[null,null,"DTP-opmaak: Tom Wilequet"]
[null,null,"Inkten: Eric De Rop"]
[null,null,"Inkleuring: Isabelle Van Laerhoven"]
["V 227","De krasse Kroko","Scenario: Peter Van Gucht met medewerking van Bruno De Roover"]
[null,null,"Tekeningen: Luc Morjaeu en Charel Cambré"]
[null,null,"Decors: Peter Quirijnen"]
[null,null,"DTP-opmaak: Tom Wilequet"]
[null,null,"Inkten: Eric De Rop"]
[null,null,"Inkleuring: Isabelle Van Laerhoven"]
["V 228","De curieuze neuzen","Scenario: Peter Van Gucht"]
[null,null,"Tekeningen: Luc Morjaeu en Charel Cambré"]
[null,null,"Decors: Peter Quirijnen"]
[null,null,"DTP-opmaak: Tom Wilequet"]
[null,null,"Inkten: Eric De Rop"]
[null,null,"Inkleuring: Isabelle Van Laerhoven"]
["V 229","De joviale Gille","Scenario: Peter Van Gucht"]
[null,null,"Tekeningen: Luc Morjaeu"]
[null,null,"Decors: Peter Quirijnen"]
[null,null,"DTP-opmaak: Tom Wilequet"]
[null,null,"Inkten: Eric De Rop"]
[null,null,"Inkleuring: Isabelle Van Laerhoven"]
["V 230","De Elfstedenstunt","Scenario: Peter Van Gucht"]
[null,null,"Tekeningen: Luc Morjaeu met medewerking van"]
[null,null,"Charel Cambré (figuren en schetsen achtergronden)"]
[null,null,"Decors: Peter Quirijnen"]
[null,null,"DTP-opmaak: Tom Wilequet"]
[null,null,"Inkten: Eric De Rop"]
[null,null,"Inkleuring: Isabelle Van Laerhoven"]
["V 231","Het babbelende bad","Scenario: Peter Van Gucht"]
[null,null,"Tekeningen: Luc Morjaeu"]
[null,null,"Decors: Peter Quirijnen"]
[null,null,"DTP-opmaak: Tom Wilequet"]
[null,null,"Inkten: Eric De Rop"]
[null,null,"Inkleuring: Isabelle Van Laerhoven"]
["V 232","Het machtige monument","Scenario: Peter Van Gucht, met medewerking van Erik Meynen"]
[null,null,"Tekeningen: Luc Morjaeu"]
[null,null,"Decors: Peter Quirijnen"]
[null,null,"DTP-opmaak: Tom Wilequet"]
[null,null,"Inkten: Eric De Rop"]
[null,null,"Inkleuring: Isabelle Van Laerhoven"]
["V 233","De dartele draak","Scenario: Peter Van Gucht"]
[null,null,"Tekeningen: Luc Morjaeu"]
[null,null,"Decors: Peter Quirijnen"]
[null,null,"DTP-opmaak: Tom Wilequet"]
[null,null,"Inkten: Eric De Rop"]
[null,null,"Inkleuring: Isabelle Van Laerhoven"]
["V 234","De sterrensteen","Scenario: Peter Van Gucht"]
[null,null,"Tekeningen: Luc Morjaeu"]
[null,null,"Decors: Peter Quirijnen"]
[null,null,"DTP-opmaak: Tom Wilequet"]
[null,null,"Inkten: Eric De Rop"]
[null,null,"Inkleuring: Isabelle Van Laerhoven"]
["V 235","De knikkende knoken","Scenario: Peter Van Gucht"]
[null,null,"Tekeningen: Luc Morjaeu met medewerking van"]
[null,null,"Charel Cambré (enkele platen)"]
[null,null,"Decors: Peter Quirijnen"]
[null,null,"DTP-opmaak: Tom Wilequet"]
[null,null,"Inkten: Eric De Rop"]
[null,null,"Inkleuring: Isabelle Van Laerhoven"]
["V 236","De jokkende joker","Scenario: Peter Van Gucht"]
[null,null,"Tekeningen: Luc Morjaeu met medewerking van"]
[null,null,"Charel Cambré (enkele platen aan het begin)"]
[null,null,"Decors: Peter Quirijnen"]
[null,null,"DTP-opmaak: Tom Wilequet"]
[null,null,"Inkten: Eric De Rop"]
[null,null,"Inkleuring: Sabine De Meyer"]
["V 237","De tijdbobijn","Scenario: Peter Van Gucht"]
[null,null,"Tekeningen: Luc Morjaeu"]
[null,null,"Decors: Peter Quirijnen"]
[null,null,"DTP-opmaak: Tom Wilequet"]
[null,null,"Inkten: Eric De Rop"]
[null,null,"Inkleuring: Isabelle Van Laerhoven"]
["V 238","De stralende staf","Scenario: Peter Van Gucht"]
[null,null,"Tekeningen: Luc Morjaeu met medewerking van"]
[null,null,"Charel Cambré (enkele platen aan het begin)"]
[null,null,"Decors: Peter Quirijnen"]
[null,null,"DTP-opmaak: Tom Wilequet"]
[null,null,"Inkten: Eric De Rop"]
[null,null,"Inkleuring: Isabelle Van Laerhoven"]
["V 239","De rillende rots","Scenario: Peter Van Gucht"]
[null,null,"Tekeningen: Luc Morjaeu"]
[null,null,"Decors: Peter Quirijnen"]
[null,null,"DTP-opmaak: Tom Wilequet"]
[null,null,"Inkten: Eric De Rop"]
[null,null,"Inkleuring: Sabine De Meyer"]
["V 240","De gamegoeroe","Scenario: Peter Van Gucht"]
[null,null,"Tekeningen: Luc Morjaeu"]
[null,null,"Storyboard: Charel Cambré"]
[null,null,"Decors: Peter Quirijnen"]
[null,null,"DTP-opmaak: Tom Wilequet"]
[null,null,"Inkten: Eric De Rop"]
[null,null,"Inkleuring: Sabine De Meyer"]
["V 241","De watersater","Scenario: Peter Van Gucht"]
[null,null,"Tekeningen: Dirk Stallaert"]
[null,null,"Decors: Peter Quirijnen"]
[null,null,"DTP-opmaak en inkleuring cover: Tom Wilequet"]
[null,null,"Inkten: Eric De Rop"]
[null,null,"Inkleuring: Isabelle Van Laerhoven"]
["V 242","De halve Havelaar","Scenario: Peter Van Gucht"]
[null,null,"Tekeningen: Luc Morjaeu"]
[null,null,"Decors: Peter Quirijnen"]
[null,null,"DTP-opmaak: Tom Wilequet"]
[null,null,"Inkten: Eric De Rop"]
[null,null,"Inkleuring: Sabine De Meyer"]
["V 243","De stuivende stad","Scenario: Peter Van Gucht"]
[null,null,"Tekeningen: Luc Morjaeu"]
[null,null,"Decors: Peter Quirijnen"]
[null,null,"DTP-opmaak: Tom Wilequet"]
[null,null,"Inkten: Eric De Rop"]
[null,null,"Inkleuring: Sabine De Meyer"]
["V 244","De zappende ziel","Scenario: Peter Van Gucht"]
[null,null,"Tekeningen: Dirk Stallaert"]
[null,null,"Decors: Peter Quirijnen en Jeroen Bullaert"]
[null,null,"DTP-opmaak: Tom Wilequet"]
[null,null,"Inkten: Eric De Rop"]
[null,null,"Inkleuring: Sabine De Meyer"]
["V 245","De kwakende Queen","Scenario: Peter Van Gucht"]
[null,null,"Tekeningen: Luc Morjaeu"]
[null,null,"Decors: Peter Quirijnen"]
[null,null,"DTP-opmaak: Tom Wilequet"]
[null,null,"Inkten: Eric De Rop"]
[null,null,"Inkleuring: Sabine De Meyer"]
[]
["Heruitgaven en hertekeningen"]
["Hier worden alleen gegevens verstrekt over de albums waarvan ik, geheel of gedeeltelijk weet wie er aan meegewerkt hebben. De meeste hertekeningen zijn verricht door anonieme studio-medewerkers. Iedereen die over meer informatie beschikt wordt hierbij uitgenodigd om die aan mij door te geven, zodat ik die gegevens in deze tabel kan verwerken."]
["No.","Titel","Auteur/Tekenaar"]
["V 6","De koning drinkt","Scenario: Willy Vandersteen"]
[null,null,"Tekeningen o.a. Paul Geerts"]
["V 9","De Witte Uil","Scenario: Willy Vandersteen"]
[null,null,"Tekeningen p. 1-13: Paul Geerts"]
[null,null,"Tekeningen p. 14 e.v.: Eric De Rop en Robert Merhottein (Merho)"]
["V 14","Lambiorix","Scenario: Willy Vandersteen"]
[null,null,"Tekeningen: Eric De Rop en Robert Merhottein (Merho)"]
["V 25","De schat van Beersel","Marc Verhaegen"]
[null,"Inleiding bij heruitgave voor de Kredietbank"]
[]
["Korte verhalen"]
[]
["In de onderstaande tabel zijn alleen die verhalen opgenomen waarvan met enige zekerheid kan worden genoteerd wie ze heeft geschreven. Veel verhalen zijn gemaakt door anonieme studio-medewerkers waarvan de namen moeilijk zijn te achterhalen. Alle aanvullingen op de tabel zijn echter van harte welkom."]
["De nummering van de verhalen is gebaseerd op die in de bibliografie van Willy Vandersteen door Rolf De Ryck."]
["No.","Titel","Auteur/Tekenaar"]
["K 10","De rammelende rally","Willy Vandersteen"]
[null,null,"Karel Verschuere"]
["K 43","De snoezige Snowijt","Scenario: Willy Vandersteen en Paul Geerts"]
[null,null,"Tekeningen: Paul Geerts"]
["K 44","De vergeten vallei","Scenario: Willy Vandersteen"]
[null,null,"Tekeningen: Eduard De Rop?"]
["K 47","De vliegende klomp","Inkten: Eric De Rop"]
["K 51","De lollige lakens","Scenario: Willy Vandersteen"]
[null,null,"Tekeningen: Paul Geerts"]
["K 96","De bevende berken","Scenario: Paul Geerts"]
[null,null,"Tekeningen: Eric De Rop"]
[null,null,"Schetsen pagina 11 e.v.: Paul Geerts"]
[null,null,"Inkten: Anita Schauwvlieghe"]
["K 99","De tandentikkers","Scenario: ?"]
[null,null,"Tekeningen: Eugeen Goossens"]
[null,null,"Cleanen platen en inkten figuren: Eric De Rop"]
[null,null,"Inkten decors: Anita Schauwvlieghe en Peter Koeken"]
["K 102","Sony-San","Scenario: ?",null,"nu met streepje"]
[null,null,"Tekeningen: Eugeen Goossens"]
[null,null,"Cleanen platen en inkten figuren: Eric De Rop"]
[null,null,"Inkten decors: Anita Schauwvlieghe en Peter Koeken"]
["K 109","Witte zwanen zwarte zwanen","Scenario: Marck Meul",null,"zonder komma"]
[null,null,"Tekeningen: Eugeen Goossens"]
[null,null,"Cleanen platen en inkten figuren: Eric De Rop"]
[null,null,"Inkten decors: Anita Schauwvlieghe en Peter Koeken"]
["K 120","Fata Morgana","Scenario en tekeningen: Eugeen Goossens"]
[null,null,"Tekeningen: Eugeen Goossens"]
[null,null,"Cleanen platen en inkten figuren: Eric De Rop"]
[null,null,"Inkten decors: Anita Schauwvlieghe en Peter Koeken"]
["K 158","Bosspel","Marc Verhaegen"]
["K 161","Suske en Wiske in het Zeeuws Museum","Eugeen Goossens"]
["K 164","Knokken in Knossos","Marc Verhaegen"]
["K 166","Spruiten voor Sprotje","Marc Verhaegen"]
["K 167","Pezige Peekah","Marc Verhaegen"]
["K 169","De Galapagosgassen","Marc Verhaegen",null,"zonder spatie"]
["K 171","De mollige marmotten","Paul Geerts"]
[null,"De hamer van Thor","Marc Verhaegen"]
[null,"De pijnloze tandarts","Marc Verhaegen",null,"Lambik files"]
[null,"Hotel Holiday","Marc Verhaegen"]
[null,"Opvoedingsplan B1","Marc Verhaegen",null,"Lambik files"]
[null,"Operatie woestijn","Marc Verhaegen",null,"Lambik files",null,"waarom zonder:"]
[null,"Elektro-aliens","Marc Verhaegen",null,"Lambik files",null,"Telekinese"]
[null,"De space party","Marc Verhaegen",null,"Lambik files",null,"De UFO"]
[null,"De mysterieuze cirkel","Marc Verhaegen",null,"Lambik files",null,"De buitenaardse buis",null,null,"??"]
[null,"De ludieke les","Marc Verhaegen",null,null,null,"NB de laatste drie, pijploze, ufo en buitenaardse, heb ik en staan in Lambic files, clubblad 1,2,3"]
[null,"De koppige kluizenaar","Scenario: Peter Van Gucht"]
[null,"De guitige gast","Tekeningen: Walter Van Gasse"]
[null,"Het mopperende masker","Scenario: Peter Van Gucht (met medewerking van Erik Meynen)"]
[null,null,"Tekeningen: Luc Morjaeu, Charel Cambré, Bruno De Roover"]
[null,null,"Decors: Peter Quirijnen"]
[null,null,"DTP-opmaak: Tom Wilequet"]
[null,null,"Inkleuring: Rita Bernaers"]
[null,"De blikken blutser","Scenario: Peter Van Gucht (met medewerking van Erik Meynen)"]
[null,null,"Tekeningen: Luc Morjaeu, Charel Cambré"]
[null,null,"Decors: Peter Quirijnen"]
[null,null,"DTP-opmaak: Tom Wilequet"]
[null,null,"Inkleuring: Rita Bernaers"]
[null,"De sinistere site","Scenario: Peter Van Gucht en Erik Meynen"]
[null,null,"Tekeningen: Luc Morjeau, Charel Cambré en Bruno De Roover"]
[null,null,"Inkten: Eric De Rop"]
[null,null,"DTP-opmaak: Tom Wilequet"]
[null,null,"Inkleuring: Rita Bernaers"]
[null,"De pronte professor","Scenario: Peter Van Gucht en Erik Meynen"]
[null,null,"Tekeningen supervisie: Luc Morjaeu"]
[null,null,"Tekeningen figuren: Dirk Stallaert"]
[null,null,"Decors: Peter Quirijnen"]
[null,null,"Inkten: Eric De Rop"]
[null,null,"DTP-opmaak: Tom Wilequet"]
[null,null,"Inkleuring: Isabelle Van Laerhoven"]
[null,"De vergeten vluchtelingen","Scenario: Peter Van Gucht"]
[null,null,"Tekeningen: Luc Morjaeu, Charel Cambré en Peter Quirijnen"]
[null,null,"DTP-opmaak: Tom Wilequet"]
[null,null,"Inkten: Eric De Rop"]
[null,null,"Inkleuring: Isabelle Van Laerhoven"]
[null,"De terugkeer van de lepe luis","Scenario: Peter Van Gucht en Erik Meynen"]
[null,null,"Tekeningen: Luc Morjaeu en Charel Cambré"]
[null,null,"Inkten: Eric De Rop"]
[null,null,"DTP-opmaak: Tom Wilequet"]
[null,null,"Inkleuring: Rita Bernaers"]
[null,"Het rinkelende raderwerk","Scenario: Peter Van Gucht en Erik Meynen"]
[null,null,"Tekeningen: Luc Morjaeu en Dirk Stallaert"]
[null,null,"Inkten: Eric De Rop"]
[null,null,"DTP-opmaak: Tom Wilequet"]
[null,null,"Inkleuring: Isabelle Van Laerhoven"]
[null,"De Weerwaterman","Scenario: Peter Van Gucht en Erik Meynen"]
[null,null,"Tekeningen: Luc Morjaeu en Charel Cambré"]
[null,null,"Decors: Peter Quirijnen"]
[null,null,"Inkten: Eric De Rop"]
[null,null,"DTP-opmaak: Tom Wilequet"]
[null,null,"Inkleuring: Isabelle Van Laerhoven"]
[null,"De primitieve paljassen","Scenario: Peter Van Gucht"]
[null,null,"Tekeningen: Luc Morjaeu"]
[null,null,"Inkten: Eric De Rop"]
[null,null,"Inkleuring: Sabine De Meyer"]
[null,"Sinjeur Stekkepoot","Scenario: Peter Van Gucht"]
[null,null,"Tekeningen: Luc Morjaeu en Charel Cambré"]
[null,null,"Inkten: Eric De Rop"]
[null,null,"Inkleuring: Sabine De Meyer"]
[null,"De microkomiek","Scenario: Peter Van Gucht"]
[null,null,"Tekeningen: Dirk Stallaert"]
[null,null,"Inkten: Eric De Rop"]
[null,null,"Inkleuring: Sabine De Meyer"]
[null,"De venijnige vanger","Scenario: Peter Van Gucht"]
[null,null,"Tekeningen: Luc Morjaeu en Dirk Stallaert"]
[null,null,"Decors: Peter Quirijnen"]
[null,null,"Inkten: Eric De Rop"]
[null,null,"DTP-opmaak: Tom Wilequet"]
[null,null,"Inkleuring: Sabine De Meyer"]
[null,"De treiterende trien","Scenario: Peter Van Gucht"]
[null,null,"Tekeningen: Luc Morjaeu en Dirk Stallaert"]
[null,null,"Decors: Peter Quirijnen"]
[null,null,"Inkten: Eric De Rop"]
[null,null,"DTP-opmaak: Tom Wilequet"]
[null,null,"Inkleuring: Sabine De Meyer"]
[null,"De bosbollebozen","Scenario: Peter Van Gucht en Erik Meynen"]
[null,null,"Tekeningen: Luc Morjaeu"]
[null,null,"Decors: Peter Quirijnen"]
[null,null,"Inkten: Eric De Rop"]
[null,null,"DTP-opmaak: Tom Wilequet"]
[null,null,"Inkleuring: Isabelle Van Laerhoven"]
[null,"De toetercup","Scenario: Peter Van Gucht"]
[null,null,"Tekeningen: Luc Morjaeu en Charel Cambré"]
[null,null,"Decors: Peter Quirijnen"]
[null,null,"Inkten: Eric De Rop"]
[null,null,"DTP-opmaak: Tom Wilequet"]
[null,null,"Inkleuring: Sabine De Meyer"]
[null,"De kribbige krab","Scenario: Peter Van Gucht"]
[null,null,"Tekeningen: Dirk Stallaert"]
[null,null,"Decors: Peter Quirijnen"]
[null,null,"Inkten: Eric De Rop"]
[null,null,"DTP-opmaak: Tom Wilequet"]
[null,null,"Inkleuring: Sabine De Meyer"]

{"sheet":"Aankondigingen","index":13,"n_rows":315,"n_cols":10,"rows_kept":315,"cut":false,"hidden":true,"merged":[]}
[]
["Nr.",null,"Year","Datum Album","Titel","Aankondiging"]
["7. VK - Vierkleurenreeks (1967-heden)"]
[]
[154,null,{"$f":"IF(ISERR(VALUE(D5)),VALUE(RIGHT(D5,4)),YEAR(D5))","v":1945},"30 maart 1945","Rikki en Wiske (in Chocowakije)","geen aankondiging voor zover bekend",null,null,null,"Strip Klassiek Hardcover"]
[68,null,{"$f":"IF(ISERR(VALUE(D6)),VALUE(RIGHT(D6,4)),YEAR(D6))","v":1945},"1945-12-19","(Op) Het eiland Amoras","Alle aankondigingen",null,null,null,"Strip Klassiek Hardcover"]
[107,null,{"$f":"IF(ISERR(VALUE(D7)),VALUE(RIGHT(D7,4)),YEAR(D7))","v":1946},"15 mei 1946","De sprietatoom","Alle aankondigingen",null,null,null,"Strip Klassiek Hardcover"]
[87,null,{"$f":"IF(ISERR(VALUE(D8)),VALUE(RIGHT(D8,4)),YEAR(D8))","v":1946},"1946-09-28","De vliegende aap","Alle aankondigingen",null,null,null,"Strip Klassiek Hardcover"]
[140,null,1947,"13 februari 1947","De zwarte madam","Alle aankondigingen",null,null,null,"Strip Klassiek Hardcover"]
[105,null,1947,"1 juli 1947","De koning drinkt","Alle aankondigingen",null,null,null,"Strip Klassiek Hardcover"]
[129,null,1947,"1947-11-08","Prinses Zagemeel","Alle aankondigingen",null,null,null,"Strip Klassiek Hardcover"]
[136,null,1948,"20 maart 1948","De bokkerijders","Alle aankondigingen",null,null,null,"Strip Klassiek Hardcover"]
[134,null,1948,"29 juli 1948","De witte uil","Alle aankondigingen",null,null,null,"Strip Klassiek Hardcover, ook De Gecalibreerde Kwibus"]
[150,null,1948,"1948-09-09","Het Spaanse spook","Scan kaft weekblad kuifje, 3e jaargang nr 37",null,null,null,"Strip Klassiek Blauw Hardcover"]
[142,null,1948,"1948-12-08","De mottenvanger","Alle aankondigingen",null,null,null,"Strip Klassiek Hardcover"]
[138,null,1949,"1949-04-16","Bibbergoud","Alle aankondigingen",null,null,null,"Strip Klassiek Hardcover, geprinte scan"]
[144,null,1949,"25 augustus 1949","Lambiorix","Alle aankondigingen",null,null,null,"Strip Klassiek Hardcover"]
[132,null,1950,"5 januari 1950","De stierentemmer","Alle aankondigingen",null,null,null,"Strip Klassiek Hardcover"]
[116,null,1950,"2 maart 1950","De bronzen sleutel","Scan kaft weekblad kuifje, 4e jaargang nr 9",null,null,null,"Strip Klassiek Blauw Hardcover"]
[145,null,1950,"16 mei 1950","De stalen bloempot","Alle aankondigingen",null,null,null,"Strip Klassiek Hardcover"]
[131,null,1950,"1950-09-23","Het zingende nijlpaard","Alle aankondigingen",null,null,null,"Strip Klassiek Hardcover"]
[137,null,1951,"2 februari 1951","De ringelingschat","Alle aankondigingen",null,null,null,"Strip Klassiek Hardcover"]
[114,null,1951,"9 mei 1951","De Tartaarse helm","Scan kaft weekblad kuifje, 6e jaargang nr 19",null,null,null,"Strip Klassiek Blauw Hardcover"]
[133,null,1951,"13 juni 1951","De tuftuf-club","Alle aankondigingen",null,null,null,"Strip Klassiek Hardcover"]
[141,null,1951,"29 oktober 1951","Het bevroren vuur","Alle aankondigingen",null,null,null,"Strip Klassiek Hardcover"]
[146,null,1952,"10 maart 1952","De sterrenplukkers","Alle aankondigingen",null,null,null,"Strip Klassiek Hardcover"]
[148,null,1952,"19 juli 1952","De lachende wolf","Alle aankondigingen",null,null,null,"Strip Klassiek Hardcover"]
[111,null,1952,"23 juli 1952","De schat van Beersel","Scan kaft weekblad kuifje, 7e jaargang nr 30",null,null,null,"Strip Klassiek Blauw Hardcover"]
[89,null,1952,"1952-11-26","De dolle musketiers","Alle aankondigingen",null,null,null,"Strip Klassiek Hardcover"]
[188,null,1952,"1952-12-14","Het vliegende hart","geen aankondiging. Eerste 2 stroken van nr 188 soort aankondiging",null,null,null,"Strip Klassiek Hardcover"]
[88,null,1953,"1953-04-07","De tamtamkloppers","Alle aankondigingen",null,null,null,"Strip Klassiek Hardcover, geprinte scan"]
[127,null,1953,"18 augustus 1953","De knokkersburcht","Alle aankondigingen",null,null,null,"Strip Klassiek Hardcover"]
[113,null,1953,"14 oktober 1953","Het geheim van de gladiatoren","Scan kaft weekblad kuifje, 8e jaargang nr 41 (aleen tekst bij andere voorkaft)",null,null,null,"Strip Klassiek Blauw Hardcover"]
[81,null,1953,"1953-12-31","De circusbaron","Alle aankondigingen",null,null,null,"Strip Klassiek Hardcover"]
[91,null,1954,"15 mei 1954","De speelgoedzaaier","Alle aankondigingen",null,null,null,"Strip Klassiek Hardcover"]
[76,null,1954,"1954-09-27","De ijzeren schelvis","Alle aankondigingen",null,null,null,"Strip Klassiek Hardcover"]
[115,null,1955,"2 februari 1955","De gezanten van Mars","geen aankondiging, Weekblad Kuifje",null,null,null,"Strip Klassiek Blauw Hardcover"]
[95,null,1955,"11 februari 1955","De kleppende klipper","Alle aankondigingen",null,null,null,"Strip Klassiek Hardcover"]
[83,null,1955,"2 juli 1955","De straatridder","Alle aankondigingen",null,null,null,"Strip Klassiek Hardcover"]
[80,null,1955,"1955-11-17","De brullende berg","Alle aankondigingen",null,null,null,"Strip Klassiek Hardcover"]
[70,null,1956,"31 maart 1956","De spokenjagers","Alle aankondigingen",null,null,null,"Strip Klassiek Hardcover"]
[112,null,1956,"27 juni 1956","De groene splinter","Scan kaft weekblad kuifje, 11e jaargang nr 27",null,null,null,"Strip Klassiek Hardcover. Aankondigingsplaat 4 jul 56 maar blijkbaar ook aankondigingsstrook 27 juni 1956 (volgens gele inlegvel)"]
[93,null,1956,"1956-09-08","De snorrende snor","Alle aankondigingen",null,null,null,"Strip Klassiek Hardcover"]
[84,null,1957,"21 januari 1957","De stemmenrover","Alle aankondigingen",null,null,null,"Strip Klassiek Hardcover"]
[119,null,1957,"4 juni 1957","Het sprekende testament","Alle aankondigingen","(Het Taterende Testament)",null,null,"Strip Klassiek Hardcover"]
[120,null,1957,"16 oktober 1957","De geverniste zeerovers","Alle aankondigingen","(De Zonnige Zageman)",null,null,"Strip Klassiek Hardcover"]
[100,null,1958,"26 februari 1958","Het gouden paard","geen aankondiging, Weekblad Kuifje",null,null,null,"Strip Klassiek Blauw Hardcover"]
[121,null,1958,"28 februari 1958","De duistere diamant","Alle aankondigingen",null,null,null,"Strip Klassiek Hardcover"]
[123,null,1958,"14 juli 1958","De zwarte zwaan","Alle aankondigingen",null,null,null,"Strip Klassiek Hardcover"]
[124,null,1958,"1958-11-27","Het vliegende bed","Alle aankondigingen",null,null,null,"Strip Klassiek Hardcover"]
[125,null,1959,"1959-04-13","De Texasrakkers","Alle aankondigingen",null,null,null,"Strip Klassiek Hardcover"]
[126,null,1959,"22 augustus 1959","De windmakers","Alle aankondigingen",null,null,null,"Strip Klassiek Hardcover"]
[118,null,1960,"4 januari 1960","De gouden cirkel","Alle aankondigingen",null,null,null,"Strip Klassiek Hardcover"]
[110,null,1960,"18 mei 1960","De zingende zwammen","Alle aankondigingen",null,null,null,"Strip Klassiek Hardcover"]
[109,null,1960,"1960-09-28","De wolkeneters","Alle aankondigingen",null,null,null,"Strip Klassiek Hardcover"]
[103,null,1961,"7 februari 1961","De klankentapper","Alle aankondigingen",null,null,null,"Strip Klassiek Hardcover"]
[104,null,1961,"19 juni 1961","De wilde weldoener","Alle aankondigingen",null,null,null,"Strip Klassiek Hardcover"]
[98,null,1961,"26 oktober 1961","Het hondenparadijs","Alle aankondigingen",null,null,null,"Strip Klassiek Hardcover"]
[101,null,1962,"7 maart 1962","De kaartendans","Alle aankondigingen",null,null,null,"Strip Klassiek Hardcover"]
[99,null,1962,"14 juli 1962","De kwakstralen","Alle aankondigingen",null,null,null,"Strip Klassiek Hardcover"]
[96,null,1962,"1962-11-22","Het rijmende paard","Alle aankondigingen",null,null,null,"Strip Klassiek Hardcover"]
[94,null,1963,"1963-04-02","De sissende sampan","Alle aankondigingen",null,null,null,"Strip Klassiek Hardcover"]
[90,null,1963,"12 augustus 1963","Sjeik El Rojenbiet","Alle aankondigingen",null,null,null,"Strip Klassiek Hardcover"]
[69,null,1963,"1963-12-21","De nerveuze Nerviërs","Alle aankondigingen"]
[73,null,1964,"2 mei 1964","Het zoemende ei","Alle aankondigingen"]
[74,null,1964,"1964-09-11","De koddige kater","Alle aankondigingen"]
[85,null,1965,"23 januari 1965","De schone slaper","Alle aankondigingen"]
[77,null,1965,"2 juni 1965","De apekermis","Alle aankondigingen"]
[72,null,1965,"11 oktober 1965","Jeromba de Griek","Alle aankondigingen"]
[78,null,1966,"22 februari 1966","De dulle griet","Alle aankondigingen"]
[67,null,1966,"2 juli 1966","De poenschepper","Alle aankondigingen"]
[71,null,{"$f":"IF(ISERR(VALUE(D72)),VALUE(RIGHT(D72,4)),YEAR(D72))","v":1966},"1966-11-12","Wattman","Alle aankondigingen"]
[75,null,1967,"24 maart 1967","Het mini-mierennest","Alle aankondigingen"]
[79,null,1967,"5 augustus 1967","De zeven snaren","Alle aankondigingen"]
[82,null,1967,"1967-12-16","De gramme huurling","Alle aankondigingen"]
[86,null,1968,"1968-04-27","Tedere Tronica","Alle aankondigingen"]
[92,null,1968,"1968-09-09","De briesende bruid","Alle aankondigingen"]
[97,null,1969,"18 januari 1969","De junglebloem","Alle aankondigingen"]
[102,null,1969,"3 juni 1969","De dromendiefstal","Alle aankondigingen"]
[106,null,1969,"11 oktober 1969","De charmante koffiepot","Alle aankondigingen"]
[108,null,1970,"20 februari 1970","Twee toffe totems","Alle aankondigingen"]
[117,null,1970,"4 juli 1970","De toornige tjiftjaf","Alle aankondigingen"]
[122,null,1970,"1970-11-13","De kale kapper","Alle aankondigingen"]
[128,null,1971,"31 maart 1971","Het brommende brons","Alle aankondigingen"]
[130,null,1971,"13 augustus 1971","De steensnoepers","Alle aankondigingen"]
[135,null,1971,"1971-12-28","De gekke gokker","Alle aankondigingen"]
[139,null,1972,"9 mei 1972","De boze boomzalver","Alle aankondigingen"]
[143,null,1972,"1972-09-20","De malle mergpijp","Alle aankondigingen"]
[147,null,1973,"3 februari 1973","De poppenpakker","Alle aankondigingen"]
[152,null,1973,"31 maart 1973","De bevende Baobab","geen aankondiging, TV Ekspres"]
[149,null,1973,"18 juni 1973","De gladde glipper","Alle aankondigingen"]
[151,null,1973,"31 oktober 1973","Het ros Bazhaar","Alle aankondigingen"]
[188,null,1973,"1973-12-01","De snoezige Snowijt","geen aankondiging, Winterboek. Eerste 2 stroken van verhaal soort aankondiging"]
[153,null,1974,"13 maart 1974","De nare varaan","Alle aankondigingen"]
[157,null,1974,"1974-04-27","De mollige meivis","geen aankondiging, TV Ekspres"]
[191,null,1974,"juni 1974","De vergeten vallei","Alle aankondigingen"]
[155,null,1974,"25 juli 1974","De poezelige poes","Alle aankondigingen"]
[156,null,1974,"1974-12-05","Beminde Barabas","Alle aankondigingen"]
[191,null,1975,"januari 1975","Toffe Tiko","geen aankondiging, Winterboek. "]
[158,null,1975,"1975-04-17","De vinnige Viking","Alle aankondigingen"]
[163,null,1975,"17 mei 1975","De vlijtige vlinder","geen aankondiging, TV Ekspres"]
[193,null,1975,"juni 1975","Hippus het zeeveulen","geen aankondiging, kort verhaal"]
[160,null,1975,"1975-09-01","De bokkige bombardon","Alle aankondigingen"]
[159,null,1975,"6 oktober 1975","De minilotten van Kokonera","geen aankondiging, poppenserie"]
[162,null,1975,"1975-12-01","De gouden locomotief","geen aankondiging, poppenserie."]
[161,null,1976,"13 januari 1976","De blinkende boemerang","Alle aankondigingen"]
[167,null,1976,"9 februari 1976","De zingende kaars","geen aankondiging, poppenserie."]
[172,null,1976,"1976-04-14","Het laatste dwaallicht","geen aankondiging, poppenserie."]
[164,null,1976,"24 mei 1976","De raap van Rubens","Alle aankondigingen"]
[193,null,1976,"juni 1976","Het verborgen volk","geen aankondiging, kort verhaal"]
[166,null,1976,"5 juni 1976","De maffe maniak","geen aankondiging, TV Ekspres"]
[184,null,1976,"10 juli 1976","De regenboogprinses","geen aankondiging, poppenserie. Maar wel soort aankondiging in album"]
[179,null,1976,"6 oktober 1976","De windbrekers","geen aankondiging, poppenserie."]
[165,null,1976,"1976-11-30","De sputterende spuiter","Alle aankondigingen"]
[168,null,1977,"1977-04-12","De Efteling-elfjes","Alle aankondigingen"]
[170,null,1977,"25 juni 1977","De olijke olifant","geen aankondiging, TV Ekspres"]
[169,null,1977,"24 augustus 1977","De amoureuze amazone","Alle aankondigingen",null,null,"Ook de gestolen schoen"]
[171,null,1978,"5 januari 1978","Walli de walvis","Alle aankondigingen"]
[173,null,1978,"19 mei 1978","Het drijvende dorp","Alle aankondigingen"]
[175,null,1978,"15 juli 1978","De kadulle Cupido","geen aankondiging, TV Ekspres"]
[174,null,1978,"1978-09-28","Het statige standbeeld","Alle aankondigingen"]
[176,null,1979,"9 februari 1979","De pompenplanters","Alle aankondigingen"]
[177,null,1979,"23 juni 1979","De adellijke ark","scan"]
[180,null,1979,"30 juli 1979","Het kregelige ketje","geen aankondiging, TV Ekspres"]
[178,null,1979,"1979-11-03","De stoute steenezel","Alle aankondigingen"]
[181,null,1980,"13 maart 1980","De perenprins","Alle aankondigingen"]
[182,null,1980,"26 juli 1980","De koperen knullen","In album","(eerste album waar dit mee gebeurt)"]
[185,null,1980,"18 augustus 1980","De botte botaknol","geen aankondiging, TV Ekspres"]
[183,null,1980,"1980-12-06","De toffe tamboer","In album"]
[186,null,1981,"1981-04-17","De rosse reus","In album"]
[187,null,1981,"31 augustus 1981","De droevige duif","In album"]
[190,null,1981,"1981-09-07","De woelige wadden","geen aankondiging, TV Ekspres"]
[189,null,1982,"12 januari 1982","De belhamel-bende","In album"]
[192,null,1982,"24 mei 1982","Het Bretoense broertje","In album"]
[196,null,1982,"1982-09-27","De natte Navajo","In album","TV Ekspres"]
[194,null,{"$f":"IF(ISERR(VALUE(D136)),VALUE(RIGHT(D136,4)),YEAR(D136))","v":1982},"2 oktober 1982","De gouden ganzeveer","In album"]
[195,null,1983,"14 februari 1983","De hippe heksen","In album"]
[197,null,1983,"27 juni 1983","Het Delta duel","In album"]
[199,null,1983,"17 oktober 1983","De tamme tumi","In album","TV Ekspres"]
[198,null,1983,"1983-11-07","De lieve Lilleham","In album"]
[200,null,1984,"16 maart 1984","Amoris van Amoras","In album"]
[201,null,1984,"30 juli 1984","Het dreigende dinges","In album"]
[205,null,1984,"1984-11-05","De kattige kat","In album","TV Ekspres"]
[202,null,1984,"1984-12-08","Angst op de \"Amsterdam\"","In album"]
[204,null,1985,"1985-04-20","De mooie millirem","In album"]
[203,null,1985,"1985-09-01","De ruige regen","In album"]
[206,null,1985,"1985-09-02","De bonkige baarden","In album"]
[209,null,1985,"1985-11-25","De kwaaie kwieten","geen aankondiging, TV Ekspres"]
[207,null,1986,"14 januari 1986","De glanzende gletsjer","In album"]
[208,null,1986,"28 mei 1986","De hellegathonden","In album"]
[210,null,1986,"7 oktober 1986","De jolige joffer","In album"]
[213,null,1986,"1986-12-15","De eenzame eenhoorn","In album strook 99 gebruikt. TV Ekspres"]
[214,null,1987,"1 januari 1987","De parel in de lotusbloem","geen aankondiging"]
[211,null,1987,"18 februari 1987","De woeste wespen","In album"]
[212,null,1987,"27 juni 1987","De edele elfen","In album"]
[215,null,1987,"1987-11-02","De Krimson-crisis","In album"]
[218,null,1987,"1987-12-22","De krachtige krans","geen aankondiging, TV Ekspres"]
[217,null,1988,"21 mei 1988","De komieke Coco","In album"]
[216,null,1988,"1 oktober 1988","De wervelende waterzak","Het verhaal is niet voorgepubliceerd en verscheen meteen als album in oktober 1988."]
[219,null,1988,"1 oktober 1988","De speelgoedspiegel","In album"]
[223,null,1989,"9 januari 1989","De kleurenkladder","geen aankondiging, TV Ekspres"]
[220,null,1989,"10 februari 1989","Sagarmatha","In album"]
[222,null,1989,"24 juni 1989","De bezeten bezitter","In album"]
[221,null,1989,"1989-09-01","De rinoramp","Het verhaal is niet voorgepubliceerd en verscheen meteen als album op 20 september 1989."]
[224,null,1989,"1989-11-04","De kleine postruiter","In album"]
[227,null,1990,"26 januari 1990","Het witte wief","geen aankondiging, TV Ekspres"]
[225,null,1990,"17 maart 1990","De goalgetter","In album"]
[226,null,1990,"11 juli 1990","De mysterieuze mijn","In album"]
[228,null,1990,"1990-11-02","Het wondere Wolfje","In album"]
[231,null,1991,"18 februari 1991","De scherpe schorpioen","geen aankondiging, TV Ekspres"]
[229,null,1991,"23 februari 1991","Tazuur en Tazijn","In album"]
[230,null,1991,"19 juni 1991","Lambik Baba","In album"]
[232,null,1991,"10 oktober 1991","De tootootjes","In album"]
[235,null,1992,"13 januari 1992","De krakende carcas","In album","TV Ekspres"]
[233,null,1992,"3 februari 1992","De klinkende klokken","In album"]
[234,null,1992,"27 mei 1992","Het kristallen kasteel","In album"]
[236,null,1992,"1992-09-19","De gulden harpoen","In album"]
[239,null,1992,"1992-12-07","De stervende ster","In album","TV Ekspres"]
[237,null,1993,"12 januari 1993","De snikkende sirene","In album"]
[238,null,1993,"5 mei 1993","De slimme slapjanus","In album"]
[240,null,1993,"30 augustus 1993","De pottenproever","In album"]
[243,null,1993,"1993-11-02","De averechtse aap","In album","TV Ekspres"]
[241,null,1993,"1993-12-21","Het Aruba-dossier","In album","scan"]
[242,null,1994,"1994-04-14","Tokapua Toraja","In album","scan"]
[244,null,1994,"6 augustus 1994","De begeerde berg","In album","scan"]
[246,null,1994,"1994-09-01","De vonkende vuurman","In album","TV Ekspres"]
[245,null,1994,"1994-11-29","De 7 schaken","In album","scan"]
[247,null,1995,"7 juni 1995","Het kostbare kader","In album","scan"]
[249,null,1995,"augustus 1995","De razende race","In album","geen aankondiging, TV Ekspres"]
[248,null,1995,"1995-09-28","Robotkop","In album","scan"]
[250,null,1996,"22 januari 1996","Het grote gat","In album","scan"]
[251,null,1996,"14 mei 1996","De verraderlijke Vinson","In album","scan"]
[253,null,1996,"juli 1996","Prachtige Pjotr","In album","geen aankondiging, TV Ekspres"]
[252,null,1996,"1996-09-06","Volle maan","In album","scan",null,"In Album andere aankondiging, ook gescand"]
[254,null,1996,"1996-12-30","Tex en Terry","In album","scan"]
[255,null,1997,"1997-04-24","De mompelende mummie","In album","scan"]
[258,null,1997,"juni 1997","De gevederde slang","In album","TV Ekspres"]
[256,null,1997,"1997-11-12","De vogels der goden","In album","scan"]
[259,null,1997,"1997-12-08","Amber","In album","scan"]
[257,null,{"$f":"IF(ISERR(VALUE(D200)),VALUE(RIGHT(D200,4)),YEAR(D200))","v":1998},"31 maart 1998","De rebelse Reinaert","In album","scan"]
[261,null,1998,"1998-04-01","Het berenbeklag","In album","TV Ekspres"]
[260,null,1998,"22 juli 1998","De bonte bollen","In album","scan"]
[262,null,1998,"1998-11-10","Het enge eiland","In album","scan"]
[263,null,1999,"2 maart 1999","Het verdronken land","In album","scan"]
[265,null,1999,"maart 1999","Papa Razzi","In album","TV Ekspres"]
[264,null,1999,"23 juni 1999","Jeanne Panne","In album","scan"]
[266,null,1999,"11 oktober 1999","De kernmonsters","In album","scan"]
[267,null,2000,"1 februari 2000","Lilli Natal","In album","scan"]
[269,null,2000,"februari 2000","De stugge Stuyvesant","In album","TV Ekspres"]
[268,null,2000,"22 mei 2000","De koeiencommissie","In album","scan"]
[270,null,2000,"2000-09-12","De ongelooflijke Thomas","In album","scan"]
[271,null,2001,"3 januari 2001","Big Mother","In album","scan"]
[273,null,2001,"3 januari 2001","De europummel","In album","TV Ekspres"]
[272,null,2001,"2001-04-09","De blote Belg","In album","scan"]
[274,null,2001,"2 augustus 2001","De fleurige Floriade","In album","scan"]
[278,null,2001,"2001-11-19","De kunstkraker","In album","scan","TV Ekspres (publicatie gestaakt na 3 afleveringen)"]
[275,null,2001,"2001-11-21","Heilig bloed","In album","scan"]
[276,null,2002,"12 maart 2002","In de ban van de Milt","In album","scan"]
[277,null,2002,"3 juli 2002","De verdwenen verteller","In album","scan"]
[279,null,2002,"21 oktober 2002","De laatste vloek","In album","scan"]
[280,null,2003,"11 februari 2003","De kus van Odfella","In album","scan"]
[281,null,2003,"3 juni 2003","De gevangene van Prisonov","In album","scan"]
[282,null,2003,"2003-09-23","De breinbrekers","In album","scan"]
[283,null,2004,"14 januari 2004","Paniek in Palermo","In album","scan"]
[284,null,2004,"4 mei 2004","Kaapse kaalkoppen","In album","scan"]
[285,null,2004,"24 augustus 2004","Verraad op de Veluwe","In album","scan"]
[286,null,2004,"2004-12-13","De flierende fluiter","In album","scan"]
[287,null,2005,"2005-04-04","De formidabele fantast","In album","scan"]
[290,null,2005,"2005-04-23","Het mopperende masker","In album"]
[288,null,2005,"25 juli 2005","Het slapende goud","In album","scan"]
[290,null,2005,"1 oktober 2005","De blikken blutser","In album"]
[289,null,2005,"2005-11-14","De kaduke klonen","In album","scan"]
[291,null,2006,"2 maart 2006","De bangeschieters","In album","scan"]
[292,null,2006,"22 juni 2006","De nachtwachtbrigade","In album","scan"]
[293,null,2006,"11 oktober 2006","De kaperkoters","In album","scan"]
[294,null,2007,"1 februari 2007","De tikkende tinkan","In album","scan"]
[295,null,2007,"2 mei 2007","De krasse kroko","In album"]
[296,null,2007,"24 mei 2007","De curieuze neuzen","In album"]
[297,null,2007,"2007-09-13","De joviale Gille","In album"]
[298,null,2007,"2007-12-12","De elfstedenstunt","In album"]
[299,null,2008,"12 maart 2008","Het babbelende bad","In album"]
[300,null,2008,"2008-04-22","Het machtige monument","In album"]
[301,null,2008,"12 augustus 2008","De dartele draak","In album"]
[303,null,2008,"2008-12-02","De knikkende knoken","In album"]
[302,null,2008,"2008-12-12","De sterrensteen","In album"]
[304,null,2009,"20 mei 2009","De jokkende joker","In album"]
[305,null,2009,"14 juli 2009","De tijdbobijn","In album"]
[307,null,2009,"2009-11-02","De rillende rots","In album"]
[306,null,2009,"2009-11-18","De stralende staf","In album"]
[308,null,2010,"22 februari 2010","De gamegoeroe","In album"]
[310,null,2010,"15 juni 2010","De halve Havelaar","In album"]
[309,null,2010,"14 juli 2010","De watersater","In album"]
[311,null,2010,"2 oktober 2010","De stuivende stad","In album"]
[334,null,2010,"23 oktober 2010","Taxi Tata","In album"]
[313,null,2011,"24 januari 2011","De kwakende queen","In album"]
[312,null,2011,"9 maart 2011","De zappende ziel","In album"]
[334,null,2011,"26 maart 2011","Expeditie Robikson","In album"]
[314,null,2011,"13 mei 2011","Het lijdende Leiden","In album"]
[315,null,2011,"2011-09-03","De bananenzangers","In album"]
[316,null,2011,"2011-12-23","Krimsonia","In album"]
[317,null,2012,"2012-04-11","Het bizarre blok","In album"]
[319,null,2012,"2 augustus 2012","Suske de rat","In album"]
[318,null,2012,"8 augustus 2012","De suikerslaven","In album"]
[320,null,{"$f":"IF(ISERR(VALUE(D264)),VALUE(RIGHT(D264,4)),YEAR(D264))","v":2012},"2012-11-13","De tirannieke tor","In album"]
[321,null,2012,"2012-11-21","Het ijzeren duel","In album"]
[322,null,2013,"19 juni 2013","De vliegende rivier","In album"]
[323,null,2013,"2013-09-11","Barabas de Balorige","In album"]
[324,null,2013,"2013-12-11","De royale ruiter","In album"]
[325,null,2014,"12 februari 2014","Het schrikkelspook","In album"]
[326,null,2014,"17 juni 2014","De zwarte tulp","In album"]
[327,null,2014,"2014-09-09","Het gebroken dorp","In album"]
[328,null,2014,"2014-12-19","Sterrenrood","In album"]
[329,null,2015,"18 maart 2015","Suskewiet","In album"]
[330,null,2015,"16 juni 2015","De fabuleuze freak","In album"]
[331,null,2015,"2015-09-09","Sooi en Sientje","In album"]
[332,null,2015,"2015-12-02","Het verloren verleden","In album"]
[333,null,2016,"9 februari 2016","De bibberende Bosch","In album"]
[335,null,2016,"7 juni 2016","Het lederen monster","In album"]
[336,null,2016,"2016-09-06","Het omgekeerde land","In album"]
[337,null,2016,"2016-12-06","Game of drones","In album"]
[338,null,2017,"14 februari 2017","De heldenmaker","In album"]
[339,null,2017,"17 mei 2017","De planeetvreter","In album"]
[340,null,2017,"14 juni 2017","Mami Wata","geen aankondiging In album, alleen plaatje"]
[341,null,2017,"2017-09-12","Het Monamysterie","geen aankondiging In album, alleen plaatje"]
[342,null,2017,"2017-11-07","De zwarte zwevers","geen aankondiging In album, alleen plaatje"]
[343,null,2018,"13 maart 2018","SOS Snowbell","geen aankondiging In album, alleen plaatje"]
[344,null,2018,"12 juni 2018","BRBS 2.0","geen aankondiging In album, alleen plaatje"]
[345,null,2018,"2018-09-12","Operatie Siggy","geen aankondiging In album, alleen plaatje"]
[346,null,2018,"2018-12-05","Chronos en Chaos","geen aankondiging In album, alleen plaatje"]
[347,null,2019,"13 maart 2019","Lambik Plastiek","geen aankondiging In album, alleen plaatje"]
[348,null,2019,"12 juni 2019","De wrede wensput","geen aankondiging In album, alleen plaatje"]
[349,null,2019,"2019-09-03","Het lekkere lab","geen aankondiging In album, alleen plaatje"]
[{"$f":"+A292+1","v":350},null,2019,{"$f":"INDEX('Lange verhalen'!T:T,MATCH($A293,'Lange verhalen'!$D:$D,0))","v":"2019-12-03"},{"$f":"INDEX('Lange verhalen'!G:G,MATCH($A293,'Lange verhalen'!$D:$D,0))","v":"De nacht van de narwal"},"geen aankondiging In album, alleen plaatje"]
[351,null,{"$f":"IF(ISERR(VALUE(D294)),VALUE(RIGHT(D294,4)),YEAR(D294))","v":2020},{"$f":"INDEX('Lange verhalen'!T:T,MATCH($A294,'Lange verhalen'!$D:$D,0))","v":"2020-02-11"},{"$f":"INDEX('Lange verhalen'!G:G,MATCH($A294,'Lange verhalen'!$D:$D,0))","v":"De verloren Van Eyck"},"geen aankondiging In album, alleen plaatje"]
[352,null,2020,{"$f":"INDEX('Lange verhalen'!T:T,MATCH($A295,'Lange verhalen'!$D:$D,0))","v":"2020-06-16"},{"$f":"INDEX('Lange verhalen'!G:G,MATCH($A295,'Lange verhalen'!$D:$D,0))","v":"Team Krimson"},"geen aankondiging In album, alleen plaatje"]
[353,null,2020,{"$f":"INDEX('Lange verhalen'!T:T,MATCH($A296,'Lange verhalen'!$D:$D,0))","v":"2020-08-11"},{"$f":"INDEX('Lange verhalen'!G:G,MATCH($A296,'Lange verhalen'!$D:$D,0))","v":"Het gewiste Wiske"},"geen aankondiging In album, alleen plaatje"]
[354,null,2020,{"$f":"INDEX('Lange verhalen'!T:T,MATCH($A297,'Lange verhalen'!$D:$D,0))","v":"2020-10-06"},{"$f":"INDEX('Lange verhalen'!G:G,MATCH($A297,'Lange verhalen'!$D:$D,0))","v":"De zwijgende Zwollem"},"geen aankondiging In album, alleen plaatje"]
[355,null,2020,{"$f":"INDEX('Lange verhalen'!T:T,MATCH($A298,'Lange verhalen'!$D:$D,0))","v":"2020-12-01"},{"$f":"INDEX('Lange verhalen'!G:G,MATCH($A298,'Lange verhalen'!$D:$D,0))","v":"De scheve Schot"},"geen aankondiging In album, alleen plaatje"]
[356,null,2021,{"$f":"INDEX('Lange verhalen'!T:T,MATCH($A299,'Lange verhalen'!$D:$D,0))","v":"2021-02-09"},{"$f":"INDEX('Lange verhalen'!G:G,MATCH($A299,'Lange verhalen'!$D:$D,0))","v":"De fluitende olifant"},"geen aankondiging In album, alleen plaatje"]
[357,null,2021,{"$f":"INDEX('Lange verhalen'!T:T,MATCH($A300,'Lange verhalen'!$D:$D,0))","v":"2021-04-07"},{"$f":"INDEX('Lange verhalen'!G:G,MATCH($A300,'Lange verhalen'!$D:$D,0))","v":"De zalige ziener"},"geen aankondiging In album, alleen plaatje"]
[358,null,2021,{"$f":"INDEX('Lange verhalen'!T:T,MATCH($A301,'Lange verhalen'!$D:$D,0))","v":"2021-06-01"},{"$f":"INDEX('Lange verhalen'!G:G,MATCH($A301,'Lange verhalen'!$D:$D,0))","v":"De drakenprinter"},"geen aankondiging In album, alleen plaatje"]
[359,null,2021,{"$f":"INDEX('Lange verhalen'!T:T,MATCH($A302,'Lange verhalen'!$D:$D,0))","v":"2021-09-01"},{"$f":"INDEX('Lange verhalen'!G:G,MATCH($A302,'Lange verhalen'!$D:$D,0))","v":"De naamloze 9"},"geen aankondiging In album, alleen plaatje"]
[360,null,2021,{"$f":"INDEX('Lange verhalen'!T:T,MATCH($A303,'Lange verhalen'!$D:$D,0))","v":"2021-11-23"},{"$f":"INDEX('Lange verhalen'!G:G,MATCH($A303,'Lange verhalen'!$D:$D,0))","v":"De drijvende dokters"},"geen aankondiging In album, alleen plaatje"]
[361,null,2022,{"$f":"INDEX('Lange verhalen'!T:T,MATCH($A304,'Lange verhalen'!$D:$D,0))","v":"2022-02-01"},{"$f":"INDEX('Lange verhalen'!G:G,MATCH($A304,'Lange verhalen'!$D:$D,0))","v":"De grot van Gregorius"},"geen aankondiging In album, alleen plaatje"]
[362,null,2022,{"$f":"INDEX('Lange verhalen'!T:T,MATCH($A305,'Lange verhalen'!$D:$D,0))","v":"2022-04-05"},{"$f":"INDEX('Lange verhalen'!G:G,MATCH($A305,'Lange verhalen'!$D:$D,0))","v":"De kale kroon"},"geen aankondiging In album, alleen plaatje"]
[363,null,2022,{"$f":"INDEX('Lange verhalen'!T:T,MATCH($A306,'Lange verhalen'!$D:$D,0))","v":"2022-05-31"},{"$f":"INDEX('Lange verhalen'!G:G,MATCH($A306,'Lange verhalen'!$D:$D,0))","v":"De maffe markies"},"geen aankondiging In album, alleen plaatje"]
[364,null,2022,{"$f":"INDEX('Lange verhalen'!T:T,MATCH($A307,'Lange verhalen'!$D:$D,0))","v":"2022-09-07"},{"$f":"INDEX('Lange verhalen'!G:G,MATCH($A307,'Lange verhalen'!$D:$D,0))","v":"De gulden krijger"},"geen aankondiging In album, alleen plaatje"]
[365,null,2022,{"$f":"INDEX('Lange verhalen'!T:T,MATCH($A308,'Lange verhalen'!$D:$D,0))","v":"2022-10-26"},{"$f":"INDEX('Lange verhalen'!G:G,MATCH($A308,'Lange verhalen'!$D:$D,0))","v":"De boze boleet"},"geen aankondiging In album, alleen plaatje"]
[366,null,2023,{"$f":"INDEX('Lange verhalen'!T:T,MATCH($A309,'Lange verhalen'!$D:$D,0))","v":"2023-01-11"},{"$f":"INDEX('Lange verhalen'!G:G,MATCH($A309,'Lange verhalen'!$D:$D,0))","v":"De geplaagde Plantijn"},"geen aankondiging In album, alleen plaatje"]
[367,null,2023,{"$f":"INDEX('Lange verhalen'!T:T,MATCH($A310,'Lange verhalen'!$D:$D,0))","v":"2023-03-08"},{"$f":"INDEX('Lange verhalen'!G:G,MATCH($A310,'Lange verhalen'!$D:$D,0))","v":"De harteloze Hein"},"geen aankondiging In album, alleen plaatje"]
[368,null,2023,{"$f":"INDEX('Lange verhalen'!T:T,MATCH($A311,'Lange verhalen'!$D:$D,0))","v":"2023-05-03"},{"$f":"INDEX('Lange verhalen'!G:G,MATCH($A311,'Lange verhalen'!$D:$D,0))","v":"De Rookburgh Rookies"},"geen aankondiging In album, alleen plaatje"]
[369,null,2023,{"$f":"INDEX('Lange verhalen'!T:T,MATCH($A312,'Lange verhalen'!$D:$D,0))","v":"2023-06-21"},{"$f":"INDEX('Lange verhalen'!G:G,MATCH($A312,'Lange verhalen'!$D:$D,0))","v":"De Boterhammenman"},"geen aankondiging In album, alleen plaatje"]
[370,null,{"$f":"IF(ISERR(VALUE(D313)),VALUE(RIGHT(D313,4)),YEAR(D313))","v":2023},{"$f":"INDEX('Lange verhalen'!T:T,MATCH($A313,'Lange verhalen'!$D:$D,0))","v":"2023-09-06"},{"$f":"INDEX('Lange verhalen'!G:G,MATCH($A313,'Lange verhalen'!$D:$D,0))","v":"De krijtkampioen"},"geen aankondiging In album, alleen plaatje"]
[371,null,2023,{"$f":"INDEX('Lange verhalen'!T:T,MATCH($A314,'Lange verhalen'!$D:$D,0))","v":"2023-11-22"},{"$f":"INDEX('Lange verhalen'!G:G,MATCH($A314,'Lange verhalen'!$D:$D,0))","v":"De zoevende zusters"},"geen aankondiging In album."]
[372,null,2024,{"$f":"INDEX('Lange verhalen'!T:T,MATCH($A315,'Lange verhalen'!$D:$D,0))","v":"2024-01-31"},{"$f":"INDEX('Lange verhalen'!G:G,MATCH($A315,'Lange verhalen'!$D:$D,0))","v":"Bolhoed Bik"},"geen aankondiging In album."]

{"sheet":"datumschat","index":14,"n_rows":19,"n_cols":16,"rows_kept":19,"cut":false,"hidden":true,"merged":[]}
[]
[]
[null,null,null,null,null,null,null,null,null,null,null,null,null,null,"De eenzame eenhoorn",53]
["1987-12-21",{"$f":"+A4+(J4-1)*7","v":"1989-01-02"},{"$f":"+A4","v":"1987-12-21"},{"$f":"+B4","v":"1989-01-02"},"De krachtige krans","No. 51 (21-12-1987)","No. 01 (02-01-1989)",51,1,{"$f":"52*2+I4-H4+1","v":55},null,null,null,null,"De krachtige krans",55]
[{"$f":"+B4+7","v":"1989-01-09"},{"$f":"+A5+(J5-1)*7","v":"1990-01-22"},"1989-01-09","1990-01-22","De kleurenkladder","No. 02 (09-01-1989)","No. 04 (22-01-1990)",{"$f":"+I4+1","v":2},4,{"$f":"52*1+I5-H5+1","v":55},null,null,null,null,"De kleurenkladder",55]
["1990-01-29",{"$f":"+A6+(J6-1)*7","v":"1991-02-11"},"1990-01-29","1991-02-11","Het witte wief","No. 05 (26-01-1990)","No. 07 (11-02-1991)",5,7,{"$f":"52*1+I6-H6+1","v":55},null,null,null,null,"Het witte wief",55]
["1991-02-18",{"$f":"+A7+(J7-1)*7","v":"1992-01-06"},"1991-02-18","1992-01-06","De scherpe schorpioen","No. 08 (18-02-1991)","No. 02 (06-01-1992)",8,2,{"$f":"52*1+I7-H7+1","v":47},null,null,null,null,"De scherpe schorpioen",47]
["1992-01-13",{"$f":"+A8+(47-1)*7","v":"1992-11-30"},"1992-01-13","1992-11-30","De krakende Carcas","No. 03 (13-01-1992)","No. 49 (30-11-1992)",3,49,{"$f":"52*0+I8-H8+1","v":47},null,null,null,null,"De krakende Carcas",47]
["1992-12-07",{"$f":"+A9+(47-1)*7","v":"1993-10-25"},"1992-12-07","1993-10-25","De stervende ster","No. 50 (07-12-1992)","No. 43 (25-10-1993)",50,43,{"$f":"52*1+I9-H9+1","v":46},null,null,null,null,"De stervende ster",47]
["1993-11-01",{"$f":"+A10+(47-1)*7","v":"1994-09-19"},"1993-11-01","1994-09-19","De averechtse aap","No. 44 (02-11-1993)","No. 38 (??-09-1994)",44,38,47,null,null,null,null,"De averechtse aap",47]
["1994-09-26",{"$f":"+A11+(47-1)*7","v":"1995-08-14"},"1994-09-26","1995-08-14","De vonkende vuurman","No. 39 (??-09-1994)","No. ?? (??-08-1995)",39,{"$f":"+H11+P11-52-1","v":33},47,null,null,null,null,"De vonkende vuurman",47]
["1995-08-21",{"$f":"+A12+(J12-1)*7","v":"1996-07-08"},"1995-08-21","1996-07-08","De razende race","No. ?? (??-08-1995)","No. ?? (??-07-1996)",34,28,47,null,null,null,null,"De razende race",47]
["1996-07-15","1997-06-02","1996-07-15","1997-06-02","Prachtige Pjotr","No. ?? (??-07-1996)","No. ?? (??-06-1997)",29,23,47,null,null,null,null,"Prachtige Pjotr",47]
["1997-06-09","1998-04-27","1997-06-09","1998-04-27","De gevederde slang","No. ?? (??-06-1997)","No. ?? (??-04-1998)",24,18,47,null,null,null,null,"De gevederde slang",47]
["1998-05-04","1999-03-15","1998-05-04","1999-03-15","Het berenbeklag","No. ?? (??-04-1998)","No. ?? (??-03-1999)",19,12,46,null,null,null,null,"Het berenbeklag",46]
["1999-03-22","2000-01-31","1999-03-22","2000-01-31","Papa Razzi","No. ?? (??-03-1999)","No. ?? (??-02-2000)",13,6,46,null,null,null,null,"Papa Razzi",46]
["2000-02-07","2000-12-18","2000-02-07","2000-12-18","De stugge Stuyvesant","No. ?? (??-02-2000)","No. ?? (??-12-2001)",7,{"$f":"+H17+P17-52-1+52","v":52},{"$f":"+I17-H17+1","v":46},null,null,null,null,"De stugge Stuyvesant",46]
["2000-12-25","2001-11-05","2000-12-25","2001-11-05","De Europummel","No. 01 (03-01-2001)","No. 46 (05-11-2001)",{"$f":"+I17+1-52","v":1},46,{"$f":"+I18-H18+1","v":46},null,null,null,null,"De Europummel",46]
["2001-11-19",null,null,null,null,null,null,null,null,null,null,null,null,null,"De kunstkraker",46]

{"sheet":"Wikipedia-Alle verhalen","index":15,"n_rows":391,"n_cols":19,"rows_kept":391,"cut":false,"hidden":true,"merged":[]}
["https://nl.wikipedia.org/wiki/Lijst_van_verhalen_van_Suske_en_Wiske"]
["Nr.","Datum","Titel","VO","BR","HO","VT","HT","GT","VK","SK","RK","PR","CL","HR"]
[null,null,null,"1. VO - Vlaamse ongekleurde reeks (1946-1959)","2. BR - Blauwe reeks (1952-1957)","3. HO - Hollandse ongekleurde reeks (1953-1959)","4. VT - Vlaamse tweekleurenreeks (1959-1964)","5. HT - Hollandse tweekleurenreeks (1959-1964)","6. GT - Gezamenlijke tweekleurenreeks (1964-1966)","7. VK - Vierkleurenreeks (1967-heden)","8. SK - Strip Klassiek Reeks (1981-1984)","9. RK - Rode Klassiek Reeks (1993-1999)","10. PR - Pocket Reeks (2007-2014)","11. CL - Suske en Wiske Classics (2017-heden)","12. HR - Hommage reeks (2017-heden)","Kort verhaal","Buiten reguliere reeks","check"]
[1,"30 maart 1945","Rikki en Wiske (in Chocowakije)",0,null,null,null,null,null,154,null,1,null,null,null,{"$f":"IF(ISNA(MATCH(C4,#REF!,0)),\"\",IF(Q4=\"Y\",\"\",\"Y\"))","v":"Y"},null,{"$f":"IF(ISNA(MATCH(C4,#REF!,0)),IF(J4>0,\"\",1),\"\")","v":""}]
[2,"1945-12-19","(Op) Het eiland Amoras",1,null,"1a",null,null,null,68,2,2,null,null,null,{"$f":"IF(ISNA(MATCH(C5,#REF!,0)),\"\",IF(Q5=\"Y\",\"\",\"Y\"))","v":"Y"},null,{"$f":"IF(ISNA(MATCH(C5,#REF!,0)),IF(J5>0,\"\",1),\"\")","v":""}]
[3,"15 mei 1946","De sprietatoom",3,null,null,42,31,null,107,4,3,40,null,null,{"$f":"IF(ISNA(MATCH(C6,#REF!,0)),\"\",IF(Q6=\"Y\",\"\",\"Y\"))","v":"Y"},null,{"$f":"IF(ISNA(MATCH(C6,#REF!,0)),IF(J6>0,\"\",1),\"\")","v":""}]
[4,"1946-09-28","De vliegende aap",2,null,null,null,null,65,87,3,4,37,17,null,{"$f":"IF(ISNA(MATCH(C7,#REF!,0)),\"\",IF(Q7=\"Y\",\"\",\"Y\"))","v":"Y"},null,{"$f":"IF(ISNA(MATCH(C7,#REF!,0)),IF(J7>0,\"\",1),\"\")","v":""}]
[5,"13 februari 1947","De zwarte madam",6,null,null,null,null,null,140,8,5,22,9,null,{"$f":"IF(ISNA(MATCH(C8,#REF!,0)),\"\",IF(Q8=\"Y\",\"\",\"Y\"))","v":"Y"},null,{"$f":"IF(ISNA(MATCH(C8,#REF!,0)),IF(J8>0,\"\",1),\"\")","v":""}]
[6,"1 juli 1947","De koning drinkt",4,null,null,null,null,null,105,5,6,17,5,null,{"$f":"IF(ISNA(MATCH(C9,#REF!,0)),\"\",IF(Q9=\"Y\",\"\",\"Y\"))","v":"Y"},null,{"$f":"IF(ISNA(MATCH(C9,#REF!,0)),IF(J9>0,\"\",1),\"\")","v":""}]
[7,"1947-11-08","Prinses Zagemeel",5,null,null,null,null,null,129,6,7,null,13,null,{"$f":"IF(ISNA(MATCH(C10,#REF!,0)),\"\",IF(Q10=\"Y\",\"\",\"Y\"))","v":"Y"},null,{"$f":"IF(ISNA(MATCH(C10,#REF!,0)),IF(J10>0,\"\",1),\"\")","v":""}]
[8,"20 maart 1948","De bokkerijders",26,null,null,null,null,null,136,null,8,9,15,null,{"$f":"IF(ISNA(MATCH(C11,#REF!,0)),\"\",IF(Q11=\"Y\",\"\",\"Y\"))","v":"Y"},null,{"$f":"IF(ISNA(MATCH(C11,#REF!,0)),IF(J11>0,\"\",1),\"\")","v":""}]
[9,"29 juli 1948","De witte uil",7,null,null,null,null,null,134,13,9,35,null,null,{"$f":"IF(ISNA(MATCH(C12,#REF!,0)),\"\",IF(Q12=\"Y\",\"\",\"Y\"))","v":"Y"},null,{"$f":"IF(ISNA(MATCH(C12,#REF!,0)),IF(J12>0,\"\",1),\"\")","v":""}]
[10,"1948-09-09","Het Spaanse spook",null,0,null,null,null,null,150,null,null,null,21,null,{"$f":"IF(ISNA(MATCH(C13,#REF!,0)),\"\",IF(Q13=\"Y\",\"\",\"Y\"))","v":"Y"},null,{"$f":"IF(ISNA(MATCH(C13,#REF!,0)),IF(J13>0,\"\",1),\"\")","v":""}]
[11,"31 oktober 1948","De gekalibreerde kwibus",null,null,null,null,null,null,null,1,10,null,null,null,{"$f":"IF(ISNA(MATCH(C14,#REF!,0)),\"\",IF(Q14=\"Y\",\"\",\"Y\"))","v":"Y"},null,{"$f":"IF(ISNA(MATCH(C14,#REF!,0)),IF(J14>0,\"\",1),\"\")","v":""},"ok"]
[12,"1948-12-08","De mottenvanger",31,null,null,null,null,null,142,null,11,16,25,null,{"$f":"IF(ISNA(MATCH(C15,#REF!,0)),\"\",IF(Q15=\"Y\",\"\",\"Y\"))","v":"Y"},null,{"$f":"IF(ISNA(MATCH(C15,#REF!,0)),IF(J15>0,\"\",1),\"\")","v":""}]
[13,"1949-04-16","Bibbergoud",8,null,1,null,null,null,138,14,12,20,26,null,{"$f":"IF(ISNA(MATCH(C16,#REF!,0)),\"\",IF(Q16=\"Y\",\"\",\"Y\"))","v":"Y"},null,{"$f":"IF(ISNA(MATCH(C16,#REF!,0)),IF(J16>0,\"\",1),\"\")","v":""}]
[14,"25 augustus 1949","Lambiorix",9,null,3,null,null,null,144,19,13,23,18,null,{"$f":"IF(ISNA(MATCH(C17,#REF!,0)),\"\",IF(Q17=\"Y\",\"\",\"Y\"))","v":"Y"},null,{"$f":"IF(ISNA(MATCH(C17,#REF!,0)),IF(J17>0,\"\",1),\"\")","v":""}]
[15,"5 januari 1950","De stierentemmer",10,null,7,null,null,null,132,null,14,null,null,null,{"$f":"IF(ISNA(MATCH(C18,#REF!,0)),\"\",IF(Q18=\"Y\",\"\",\"Y\"))","v":"Y"},null,{"$f":"IF(ISNA(MATCH(C18,#REF!,0)),IF(J18>0,\"\",1),\"\")","v":""}]
[16,"2 maart 1950","De bronzen sleutel",null,1,null,null,null,null,116,null,null,null,27,null,{"$f":"IF(ISNA(MATCH(C19,#REF!,0)),\"\",IF(Q19=\"Y\",\"\",\"Y\"))","v":"Y"},null,{"$f":"IF(ISNA(MATCH(C19,#REF!,0)),IF(J19>0,\"\",1),\"\")","v":""}]
[17,"16 mei 1950","De stalen bloempot",11,null,null,null,null,null,145,null,15,null,14,null,{"$f":"IF(ISNA(MATCH(C20,#REF!,0)),\"\",IF(Q20=\"Y\",\"\",\"Y\"))","v":"Y"},null,{"$f":"IF(ISNA(MATCH(C20,#REF!,0)),IF(J20>0,\"\",1),\"\")","v":""}]
[18,"1950-09-23","Het zingende nijlpaard",12,null,4,null,null,null,131,null,16,26,null,null,{"$f":"IF(ISNA(MATCH(C21,#REF!,0)),\"\",IF(Q21=\"Y\",\"\",\"Y\"))","v":"Y"},null,{"$f":"IF(ISNA(MATCH(C21,#REF!,0)),IF(J21>0,\"\",1),\"\")","v":""}]
[19,"2 februari 1951","De ringelingschat",13,null,8,7,8,null,137,null,17,23,null,null,{"$f":"IF(ISNA(MATCH(C22,#REF!,0)),\"\",IF(Q22=\"Y\",\"\",\"Y\"))","v":"Y"},null,{"$f":"IF(ISNA(MATCH(C22,#REF!,0)),IF(J22>0,\"\",1),\"\")","v":""}]
[20,"9 mei 1951","De Tartaarse helm",null,2,null,null,null,null,114,null,null,null,22,null,{"$f":"IF(ISNA(MATCH(C23,#REF!,0)),\"\",IF(Q23=\"Y\",\"\",\"Y\"))","v":"Y"},null,{"$f":"IF(ISNA(MATCH(C23,#REF!,0)),IF(J23>0,\"\",1),\"\")","v":""}]
[21,"13 juni 1951","De tuftuf-club",14,null,5,null,null,null,133,null,18,37,null,null,{"$f":"IF(ISNA(MATCH(C24,#REF!,0)),\"\",IF(Q24=\"Y\",\"\",\"Y\"))","v":"Y"},null,{"$f":"IF(ISNA(MATCH(C24,#REF!,0)),IF(J24>0,\"\",1),\"\")","v":""}]
[22,"29 oktober 1951","Het bevroren vuur",15,null,2,null,null,null,141,null,19,null,null,null,{"$f":"IF(ISNA(MATCH(C25,#REF!,0)),\"\",IF(Q25=\"Y\",\"\",\"Y\"))","v":"Y"},null,{"$f":"IF(ISNA(MATCH(C25,#REF!,0)),IF(J25>0,\"\",1),\"\")","v":""}]
[23,"10 maart 1952","De sterrenplukkers",16,null,6,null,null,null,146,null,20,31,null,null,{"$f":"IF(ISNA(MATCH(C26,#REF!,0)),\"\",IF(Q26=\"Y\",\"\",\"Y\"))","v":"Y"},null,{"$f":"IF(ISNA(MATCH(C26,#REF!,0)),IF(J26>0,\"\",1),\"\")","v":""}]
[24,"19 juli 1952","De lachende wolf",17,null,null,null,null,null,148,null,21,34,null,null,{"$f":"IF(ISNA(MATCH(C27,#REF!,0)),\"\",IF(Q27=\"Y\",\"\",\"Y\"))","v":"Y"},null,{"$f":"IF(ISNA(MATCH(C27,#REF!,0)),IF(J27>0,\"\",1),\"\")","v":""}]
[25,"23 juli 1952","De schat van Beersel",null,3,null,null,null,null,111,null,null,null,3,null,{"$f":"IF(ISNA(MATCH(C28,#REF!,0)),\"\",IF(Q28=\"Y\",\"\",\"Y\"))","v":"Y"},null,{"$f":"IF(ISNA(MATCH(C28,#REF!,0)),IF(J28>0,\"\",1),\"\")","v":""}]
[26,"1952-11-26","De dolle musketiers",18,null,9,null,null,59,89,null,22,32,null,null,{"$f":"IF(ISNA(MATCH(C29,#REF!,0)),\"\",IF(Q29=\"Y\",\"\",\"Y\"))","v":"Y"},null,{"$f":"IF(ISNA(MATCH(C29,#REF!,0)),IF(J29>0,\"\",1),\"\")","v":""}]
[27,"1952-12-14","Het vliegende hart",null,null,null,null,null,null,188,null,23,null,null,null,{"$f":"IF(ISNA(MATCH(C30,#REF!,0)),\"\",IF(Q30=\"Y\",\"\",\"Y\"))","v":"Y"},null,{"$f":"IF(ISNA(MATCH(C30,#REF!,0)),IF(J30>0,\"\",1),\"\")","v":""}]
[28,"1953-04-07","De tamtamkloppers",19,null,10,19,10,null,88,null,24,null,6,null,{"$f":"IF(ISNA(MATCH(C31,#REF!,0)),\"\",IF(Q31=\"Y\",\"\",\"Y\"))","v":"Y"},null,{"$f":"IF(ISNA(MATCH(C31,#REF!,0)),IF(J31>0,\"\",1),\"\")","v":""}]
[29,"18 augustus 1953","De knokkersburcht",20,null,11,20,11,null,127,null,25,32,null,null,{"$f":"IF(ISNA(MATCH(C32,#REF!,0)),\"\",IF(Q32=\"Y\",\"\",\"Y\"))","v":"Y"},null,{"$f":"IF(ISNA(MATCH(C32,#REF!,0)),IF(J32>0,\"\",1),\"\")","v":""}]
[30,"14 oktober 1953","Het geheim van de gladiatoren",null,4,null,null,null,null,113,null,null,15,1,null,{"$f":"IF(ISNA(MATCH(C33,#REF!,0)),\"\",IF(Q33=\"Y\",\"\",\"Y\"))","v":"Y"},null,{"$f":"IF(ISNA(MATCH(C33,#REF!,0)),IF(J33>0,\"\",1),\"\")","v":""}]
[31,"1953-12-31","De circusbaron",21,null,12,null,null,56,81,null,26,40,null,null,{"$f":"IF(ISNA(MATCH(C34,#REF!,0)),\"\",IF(Q34=\"Y\",\"\",\"Y\"))","v":"Y"},null,{"$f":"IF(ISNA(MATCH(C34,#REF!,0)),IF(J34>0,\"\",1),\"\")","v":""}]
[32,"15 mei 1954","De speelgoedzaaier",22,null,13,null,null,55,91,null,27,null,null,null,{"$f":"IF(ISNA(MATCH(C35,#REF!,0)),\"\",IF(Q35=\"Y\",\"\",\"Y\"))","v":"Y"},null,{"$f":"IF(ISNA(MATCH(C35,#REF!,0)),IF(J35>0,\"\",1),\"\")","v":""}]
[33,"1954-09-27","De ijzeren schelvis",23,null,14,null,null,60,76,null,28,27,null,null,{"$f":"IF(ISNA(MATCH(C36,#REF!,0)),\"\",IF(Q36=\"Y\",\"\",\"Y\"))","v":"Y"},null,{"$f":"IF(ISNA(MATCH(C36,#REF!,0)),IF(J36>0,\"\",1),\"\")","v":""}]
[34,"2 februari 1955","De gezanten van Mars",null,5,null,null,null,null,115,null,null,30,10,null,{"$f":"IF(ISNA(MATCH(C37,#REF!,0)),\"\",IF(Q37=\"Y\",\"\",\"Y\"))","v":"Y"},null,{"$f":"IF(ISNA(MATCH(C37,#REF!,0)),IF(J37>0,\"\",1),\"\")","v":""}]
[35,"11 februari 1955","De kleppende klipper",24,null,15,null,null,null,95,null,29,19,null,null,{"$f":"IF(ISNA(MATCH(C38,#REF!,0)),\"\",IF(Q38=\"Y\",\"\",\"Y\"))","v":"Y"},null,{"$f":"IF(ISNA(MATCH(C38,#REF!,0)),IF(J38>0,\"\",1),\"\")","v":""}]
[36,"2 juli 1955","De straatridder",25,null,16,null,null,null,83,null,30,28,null,null,{"$f":"IF(ISNA(MATCH(C39,#REF!,0)),\"\",IF(Q39=\"Y\",\"\",\"Y\"))","v":"Y"},null,{"$f":"IF(ISNA(MATCH(C39,#REF!,0)),IF(J39>0,\"\",1),\"\")","v":""}]
[37,"1955-11-17","De brullende berg",27,null,17,null,null,58,80,null,31,10,null,null,{"$f":"IF(ISNA(MATCH(C40,#REF!,0)),\"\",IF(Q40=\"Y\",\"\",\"Y\"))","v":"Y"},null,{"$f":"IF(ISNA(MATCH(C40,#REF!,0)),IF(J40>0,\"\",1),\"\")","v":""}]
[38,"31 maart 1956","De spokenjagers",28,null,18,null,null,52,70,null,32,22,null,null,{"$f":"IF(ISNA(MATCH(C41,#REF!,0)),\"\",IF(Q41=\"Y\",\"\",\"Y\"))","v":"Y"},null,{"$f":"IF(ISNA(MATCH(C41,#REF!,0)),IF(J41>0,\"\",1),\"\")","v":""}]
[39,"27 juni 1956","De groene splinter",null,6,null,null,null,null,112,null,null,15,4,null,{"$f":"IF(ISNA(MATCH(C42,#REF!,0)),\"\",IF(Q42=\"Y\",\"\",\"Y\"))","v":"Y"},null,{"$f":"IF(ISNA(MATCH(C42,#REF!,0)),IF(J42>0,\"\",1),\"\")","v":""}]
[40,"1956-09-08","De snorrende snor",29,null,19,null,null,64,93,null,33,36,null,null,{"$f":"IF(ISNA(MATCH(C43,#REF!,0)),\"\",IF(Q43=\"Y\",\"\",\"Y\"))","v":"Y"},null,{"$f":"IF(ISNA(MATCH(C43,#REF!,0)),IF(J43>0,\"\",1),\"\")","v":""}]
[41,"21 januari 1957","De stemmenrover",30,null,20,null,null,62,84,null,34,16,null,null,{"$f":"IF(ISNA(MATCH(C44,#REF!,0)),\"\",IF(Q44=\"Y\",\"\",\"Y\"))","v":"Y"},null,{"$f":"IF(ISNA(MATCH(C44,#REF!,0)),IF(J44>0,\"\",1),\"\")","v":""}]
[42,"4 juni 1957","Het sprekende testament",32,null,21,32,21,null,119,null,35,null,null,null,{"$f":"IF(ISNA(MATCH(C45,#REF!,0)),\"\",IF(Q45=\"Y\",\"\",\"Y\"))","v":"Y"},null,{"$f":"IF(ISNA(MATCH(C45,#REF!,0)),IF(J45>0,\"\",1),\"\")","v":""}]
[43,"16 oktober 1957","De geverniste zeerovers",33,null,22,33,22,null,120,null,36,13,null,null,{"$f":"IF(ISNA(MATCH(C46,#REF!,0)),\"\",IF(Q46=\"Y\",\"\",\"Y\"))","v":"Y"},null,{"$f":"IF(ISNA(MATCH(C46,#REF!,0)),IF(J46>0,\"\",1),\"\")","v":""}]
[44,"1905-05-10","De rammelende rally",null,null,null,null,null,null,null,null,null,null,null,null,{"$f":"IF(ISNA(MATCH(C47,#REF!,0)),\"\",IF(Q47=\"Y\",\"\",\"Y\"))","v":"Y"},null,{"$f":"IF(ISNA(MATCH(C47,#REF!,0)),IF(J47>0,\"\",1),\"\")","v":""}]
[45,"26 februari 1958","Het gouden paard",null,null,null,null,null,null,100,null,null,18,8,null,{"$f":"IF(ISNA(MATCH(C48,#REF!,0)),\"\",IF(Q48=\"Y\",\"\",\"Y\"))","v":"Y"},null,{"$f":"IF(ISNA(MATCH(C48,#REF!,0)),IF(J48>0,\"\",1),\"\")","v":""}]
[46,"28 februari 1958","De duistere diamant",34,null,23,34,23,null,121,null,37,null,2,null,{"$f":"IF(ISNA(MATCH(C49,#REF!,0)),\"\",IF(Q49=\"Y\",\"\",\"Y\"))","v":"Y"},null,{"$f":"IF(ISNA(MATCH(C49,#REF!,0)),IF(J49>0,\"\",1),\"\")","v":""}]
[47,"14 juli 1958","De zwarte zwaan",35,null,null,35,26,null,123,null,38,35,7,null,{"$f":"IF(ISNA(MATCH(C50,#REF!,0)),\"\",IF(Q50=\"Y\",\"\",\"Y\"))","v":"Y"},null,{"$f":"IF(ISNA(MATCH(C50,#REF!,0)),IF(J50>0,\"\",1),\"\")","v":""}]
[48,"1958-11-27","Het vliegende bed",null,null,null,36,24,null,124,null,39,37,null,null,{"$f":"IF(ISNA(MATCH(C51,#REF!,0)),\"\",IF(Q51=\"Y\",\"\",\"Y\"))","v":"Y"},null,{"$f":"IF(ISNA(MATCH(C51,#REF!,0)),IF(J51>0,\"\",1),\"\")","v":""}]
[49,"1959-04-13","De Texasrakkers",null,null,null,37,25,null,125,null,40,21,null,null,{"$f":"IF(ISNA(MATCH(C52,#REF!,0)),\"\",IF(Q52=\"Y\",\"\",\"Y\"))","v":"Y"},null,{"$f":"IF(ISNA(MATCH(C52,#REF!,0)),IF(J52>0,\"\",1),\"\")","v":""}]
[50,"22 augustus 1959","De windmakers",null,null,null,38,27,null,126,null,41,null,19,null,{"$f":"IF(ISNA(MATCH(C53,#REF!,0)),\"\",IF(Q53=\"Y\",\"\",\"Y\"))","v":"Y"},null,{"$f":"IF(ISNA(MATCH(C53,#REF!,0)),IF(J53>0,\"\",1),\"\")","v":""}]
[51,"4 januari 1960","De gouden cirkel",null,null,null,39,28,null,118,null,42,20,null,null,{"$f":"IF(ISNA(MATCH(C54,#REF!,0)),\"\",IF(Q54=\"Y\",\"\",\"Y\"))","v":"Y"},null,{"$f":"IF(ISNA(MATCH(C54,#REF!,0)),IF(J54>0,\"\",1),\"\")","v":""}]
[52,"18 mei 1960","De zingende zwammen",null,null,null,40,29,null,110,null,43,26,null,null,{"$f":"IF(ISNA(MATCH(C55,#REF!,0)),\"\",IF(Q55=\"Y\",\"\",\"Y\"))","v":"Y"},null,{"$f":"IF(ISNA(MATCH(C55,#REF!,0)),IF(J55>0,\"\",1),\"\")","v":""}]
[53,"1960-09-28","De wolkeneters",null,null,null,41,30,null,109,null,44,30,11,null,{"$f":"IF(ISNA(MATCH(C56,#REF!,0)),\"\",IF(Q56=\"Y\",\"\",\"Y\"))","v":"Y"},null,{"$f":"IF(ISNA(MATCH(C56,#REF!,0)),IF(J56>0,\"\",1),\"\")","v":""}]
[54,"7 februari 1961","De klankentapper",null,null,null,43,32,null,103,null,45,null,null,null,{"$f":"IF(ISNA(MATCH(C57,#REF!,0)),\"\",IF(Q57=\"Y\",\"\",\"Y\"))","v":"Y"},null,{"$f":"IF(ISNA(MATCH(C57,#REF!,0)),IF(J57>0,\"\",1),\"\")","v":""}]
[55,"19 juni 1961","De wilde weldoener",null,null,null,44,33,null,104,null,46,28,12,null,{"$f":"IF(ISNA(MATCH(C58,#REF!,0)),\"\",IF(Q58=\"Y\",\"\",\"Y\"))","v":"Y"},null,{"$f":"IF(ISNA(MATCH(C58,#REF!,0)),IF(J58>0,\"\",1),\"\")","v":""}]
[56,"26 oktober 1961","Het hondenparadijs",null,null,null,45,34,null,98,null,47,14,20,null,{"$f":"IF(ISNA(MATCH(C59,#REF!,0)),\"\",IF(Q59=\"Y\",\"\",\"Y\"))","v":"Y"},null,{"$f":"IF(ISNA(MATCH(C59,#REF!,0)),IF(J59>0,\"\",1),\"\")","v":""}]
[57,"7 maart 1962","De kaartendans",null,null,null,46,35,null,101,null,48,null,null,null,{"$f":"IF(ISNA(MATCH(C60,#REF!,0)),\"\",IF(Q60=\"Y\",\"\",\"Y\"))","v":"Y"},null,{"$f":"IF(ISNA(MATCH(C60,#REF!,0)),IF(J60>0,\"\",1),\"\")","v":""}]
[58,"14 juli 1962","De kwakstralen",null,null,null,47,36,null,99,null,49,30,null,null,{"$f":"IF(ISNA(MATCH(C61,#REF!,0)),\"\",IF(Q61=\"Y\",\"\",\"Y\"))","v":"Y"},null,{"$f":"IF(ISNA(MATCH(C61,#REF!,0)),IF(J61>0,\"\",1),\"\")","v":""}]
[59,"1962-11-22","Het rijmende paard",null,null,null,48,37,null,96,null,50,18,null,null,{"$f":"IF(ISNA(MATCH(C62,#REF!,0)),\"\",IF(Q62=\"Y\",\"\",\"Y\"))","v":"Y"},null,{"$f":"IF(ISNA(MATCH(C62,#REF!,0)),IF(J62>0,\"\",1),\"\")","v":""}]
[60,"1963-04-02","De sissende sampan",null,null,null,49,38,null,94,null,51,19,null,null,{"$f":"IF(ISNA(MATCH(C63,#REF!,0)),\"\",IF(Q63=\"Y\",\"\",\"Y\"))","v":"Y"},null,{"$f":"IF(ISNA(MATCH(C63,#REF!,0)),IF(J63>0,\"\",1),\"\")","v":""}]
[61,"12 augustus 1963","Sjeik El Rojenbiet",null,null,null,50,39,null,90,null,52,17,null,null,{"$f":"IF(ISNA(MATCH(C64,#REF!,0)),\"\",IF(Q64=\"Y\",\"\",\"Y\"))","v":"Y"},null,{"$f":"IF(ISNA(MATCH(C64,#REF!,0)),IF(J64>0,\"\",1),\"\")","v":""}]
[62,"1963-12-21","De nerveuze Nerviërs",null,null,null,null,null,51,69,null,53,23,null,null,{"$f":"IF(ISNA(MATCH(C65,#REF!,0)),\"\",IF(Q65=\"Y\",\"\",\"Y\"))","v":"Y"},null,{"$f":"IF(ISNA(MATCH(C65,#REF!,0)),IF(J65>0,\"\",1),\"\")","v":""}]
[63,"2 mei 1964","Het zoemende ei",null,null,null,null,null,53,73,null,54,39,null,null,{"$f":"IF(ISNA(MATCH(C66,#REF!,0)),\"\",IF(Q66=\"Y\",\"\",\"Y\"))","v":"Y"},null,{"$f":"IF(ISNA(MATCH(C66,#REF!,0)),IF(J66>0,\"\",1),\"\")","v":""}]
[64,"1964-09-11","De koddige kater",null,null,null,null,null,54,74,null,55,null,23,null,{"$f":"IF(ISNA(MATCH(C67,#REF!,0)),\"\",IF(Q67=\"Y\",\"\",\"Y\"))","v":"Y"},null,{"$f":"IF(ISNA(MATCH(C67,#REF!,0)),IF(J67>0,\"\",1),\"\")","v":""}]
[65,"23 januari 1965","De schone slaper",null,null,null,null,null,57,85,null,56,8,24,null,{"$f":"IF(ISNA(MATCH(C68,#REF!,0)),\"\",IF(Q68=\"Y\",\"\",\"Y\"))","v":"Y"},null,{"$f":"IF(ISNA(MATCH(C68,#REF!,0)),IF(J68>0,\"\",1),\"\")","v":""}]
[66,"2 juni 1965","De apekermis",null,null,null,null,null,61,77,null,57,7,16,null,{"$f":"IF(ISNA(MATCH(C69,#REF!,0)),\"\",IF(Q69=\"Y\",\"\",\"Y\"))","v":"Y"},null,{"$f":"IF(ISNA(MATCH(C69,#REF!,0)),IF(J69>0,\"\",1),\"\")","v":""}]
[67,"11 oktober 1965","Jeromba de Griek",null,null,null,null,null,63,72,null,58,32,28,null,{"$f":"IF(ISNA(MATCH(C70,#REF!,0)),\"\",IF(Q70=\"Y\",\"\",\"Y\"))","v":"Y"},null,{"$f":"IF(ISNA(MATCH(C70,#REF!,0)),IF(J70>0,\"\",1),\"\")","v":""}]
[68,"22 februari 1966","De dulle griet",null,null,null,null,null,66,78,null,59,null,null,null,{"$f":"IF(ISNA(MATCH(C71,#REF!,0)),\"\",IF(Q71=\"Y\",\"\",\"Y\"))","v":"Y"},null,{"$f":"IF(ISNA(MATCH(C71,#REF!,0)),IF(J71>0,\"\",1),\"\")","v":""}]
[69,"2 juli 1966","De poenschepper",null,null,null,null,null,null,67,null,null,38,null,null,{"$f":"IF(ISNA(MATCH(C72,#REF!,0)),\"\",IF(Q72=\"Y\",\"\",\"Y\"))","v":"Y"},null,{"$f":"IF(ISNA(MATCH(C72,#REF!,0)),IF(J72>0,\"\",1),\"\")","v":""}]
[70,"1966-11-12","Wattman",null,null,null,null,null,null,71,null,null,28,null,null,{"$f":"IF(ISNA(MATCH(C73,#REF!,0)),\"\",IF(Q73=\"Y\",\"\",\"Y\"))","v":"Y"},null,{"$f":"IF(ISNA(MATCH(C73,#REF!,0)),IF(J73>0,\"\",1),\"\")","v":""}]
[71,"24 maart 1967","Het mini-mierennest",null,null,null,null,null,null,75,null,null,29,null,null,{"$f":"IF(ISNA(MATCH(C74,#REF!,0)),\"\",IF(Q74=\"Y\",\"\",\"Y\"))","v":"Y"},null,{"$f":"IF(ISNA(MATCH(C74,#REF!,0)),IF(J74>0,\"\",1),\"\")","v":""}]
[72,"5 augustus 1967","De zeven snaren",null,null,null,null,null,null,79,null,null,null,null,null,{"$f":"IF(ISNA(MATCH(C75,#REF!,0)),\"\",IF(Q75=\"Y\",\"\",\"Y\"))","v":"Y"},null,{"$f":"IF(ISNA(MATCH(C75,#REF!,0)),IF(J75>0,\"\",1),\"\")","v":""}]
[73,"1967-12-16","De gramme huurling",null,null,null,null,null,null,82,null,null,null,null,null,{"$f":"IF(ISNA(MATCH(C76,#REF!,0)),\"\",IF(Q76=\"Y\",\"\",\"Y\"))","v":"Y"},null,{"$f":"IF(ISNA(MATCH(C76,#REF!,0)),IF(J76>0,\"\",1),\"\")","v":""}]
[74,"1968-04-27","Tedere Tronica",null,null,null,null,null,null,86,null,null,36,null,null,{"$f":"IF(ISNA(MATCH(C77,#REF!,0)),\"\",IF(Q77=\"Y\",\"\",\"Y\"))","v":"Y"},null,{"$f":"IF(ISNA(MATCH(C77,#REF!,0)),IF(J77>0,\"\",1),\"\")","v":""}]
[75,"1968-09-09","De briesende bruid",null,null,null,null,null,null,92,null,null,39,null,null,{"$f":"IF(ISNA(MATCH(C78,#REF!,0)),\"\",IF(Q78=\"Y\",\"\",\"Y\"))","v":"Y"},null,{"$f":"IF(ISNA(MATCH(C78,#REF!,0)),IF(J78>0,\"\",1),\"\")","v":""}]
[76,"18 januari 1969","De junglebloem",null,null,null,null,null,null,97,null,null,29,null,null,{"$f":"IF(ISNA(MATCH(C79,#REF!,0)),\"\",IF(Q79=\"Y\",\"\",\"Y\"))","v":"Y"},null,{"$f":"IF(ISNA(MATCH(C79,#REF!,0)),IF(J79>0,\"\",1),\"\")","v":""}]
[77,"3 juni 1969","De dromendiefstal",null,null,null,null,null,null,102,null,null,16,null,null,{"$f":"IF(ISNA(MATCH(C80,#REF!,0)),\"\",IF(Q80=\"Y\",\"\",\"Y\"))","v":"Y"},null,{"$f":"IF(ISNA(MATCH(C80,#REF!,0)),IF(J80>0,\"\",1),\"\")","v":""}]
[78,"11 oktober 1969","De charmante koffiepot",null,null,null,null,null,null,106,null,null,40,null,null,{"$f":"IF(ISNA(MATCH(C81,#REF!,0)),\"\",IF(Q81=\"Y\",\"\",\"Y\"))","v":"Y"},null,{"$f":"IF(ISNA(MATCH(C81,#REF!,0)),IF(J81>0,\"\",1),\"\")","v":""}]
[79,"20 februari 1970","Twee toffe totems",null,null,null,null,null,null,108,null,null,34,null,null,{"$f":"IF(ISNA(MATCH(C82,#REF!,0)),\"\",IF(Q82=\"Y\",\"\",\"Y\"))","v":"Y"},null,{"$f":"IF(ISNA(MATCH(C82,#REF!,0)),IF(J82>0,\"\",1),\"\")","v":""}]
[80,"4 juli 1970","De toornige tjiftjaf",null,null,null,null,null,null,117,null,null,12,null,null,{"$f":"IF(ISNA(MATCH(C83,#REF!,0)),\"\",IF(Q83=\"Y\",\"\",\"Y\"))","v":"Y"},null,{"$f":"IF(ISNA(MATCH(C83,#REF!,0)),IF(J83>0,\"\",1),\"\")","v":""}]
[81,"1970-11-13","De kale kapper",null,null,null,null,null,null,122,null,null,29,null,null,{"$f":"IF(ISNA(MATCH(C84,#REF!,0)),\"\",IF(Q84=\"Y\",\"\",\"Y\"))","v":"Y"},null,{"$f":"IF(ISNA(MATCH(C84,#REF!,0)),IF(J84>0,\"\",1),\"\")","v":""}]
[82,"31 maart 1971","Het brommende brons",null,null,null,null,null,null,128,null,null,25,null,null,{"$f":"IF(ISNA(MATCH(C85,#REF!,0)),\"\",IF(Q85=\"Y\",\"\",\"Y\"))","v":"Y"},null,{"$f":"IF(ISNA(MATCH(C85,#REF!,0)),IF(J85>0,\"\",1),\"\")","v":""}]
[83,"13 augustus 1971","De steensnoepers",null,null,null,null,null,null,130,null,null,24,null,null,{"$f":"IF(ISNA(MATCH(C86,#REF!,0)),\"\",IF(Q86=\"Y\",\"\",\"Y\"))","v":"Y"},null,{"$f":"IF(ISNA(MATCH(C86,#REF!,0)),IF(J86>0,\"\",1),\"\")","v":""}]
[84,"1971-12-28","De gekke gokker",null,null,null,null,null,null,135,null,null,38,null,null,{"$f":"IF(ISNA(MATCH(C87,#REF!,0)),\"\",IF(Q87=\"Y\",\"\",\"Y\"))","v":"Y"},null,{"$f":"IF(ISNA(MATCH(C87,#REF!,0)),IF(J87>0,\"\",1),\"\")","v":""}]
[85,"9 mei 1972","De boze boomzalver",null,null,null,null,null,null,139,null,null,6,null,null,{"$f":"IF(ISNA(MATCH(C88,#REF!,0)),\"\",IF(Q88=\"Y\",\"\",\"Y\"))","v":"Y"},null,{"$f":"IF(ISNA(MATCH(C88,#REF!,0)),IF(J88>0,\"\",1),\"\")","v":""}]
[86,"1972-09-20","De malle mergpijp",null,null,null,null,null,null,143,null,null,15,null,null,{"$f":"IF(ISNA(MATCH(C89,#REF!,0)),\"\",IF(Q89=\"Y\",\"\",\"Y\"))","v":"Y"},null,{"$f":"IF(ISNA(MATCH(C89,#REF!,0)),IF(J89>0,\"\",1),\"\")","v":""}]
[87,"3 februari 1973","De poppenpakker",null,null,null,null,null,null,147,null,null,13,null,null,{"$f":"IF(ISNA(MATCH(C90,#REF!,0)),\"\",IF(Q90=\"Y\",\"\",\"Y\"))","v":"Y"},null,{"$f":"IF(ISNA(MATCH(C90,#REF!,0)),IF(J90>0,\"\",1),\"\")","v":""}]
[88,"31 maart 1973","De bevende Baobab",null,null,null,null,null,null,152,null,null,33,null,null,{"$f":"IF(ISNA(MATCH(C91,#REF!,0)),\"\",IF(Q91=\"Y\",\"\",\"Y\"))","v":"Y"},null,{"$f":"IF(ISNA(MATCH(C91,#REF!,0)),IF(J91>0,\"\",1),\"\")","v":""}]
[89,"18 juni 1973","De gladde glipper",null,null,null,null,null,null,149,null,null,38,null,null,{"$f":"IF(ISNA(MATCH(C92,#REF!,0)),\"\",IF(Q92=\"Y\",\"\",\"Y\"))","v":"Y"},null,{"$f":"IF(ISNA(MATCH(C92,#REF!,0)),IF(J92>0,\"\",1),\"\")","v":""}]
[90,"31 oktober 1973","Het ros Bazhaar",null,null,null,null,null,null,151,null,null,18,null,null,{"$f":"IF(ISNA(MATCH(C93,#REF!,0)),\"\",IF(Q93=\"Y\",\"\",\"Y\"))","v":"Y"},null,{"$f":"IF(ISNA(MATCH(C93,#REF!,0)),IF(J93>0,\"\",1),\"\")","v":""}]
[91,"1973-12-01","De snoezige Snowijt",null,null,null,null,null,null,188,null,null,null,null,null,{"$f":"IF(ISNA(MATCH(C94,#REF!,0)),\"\",IF(Q94=\"Y\",\"\",\"Y\"))","v":"Y"},null,{"$f":"IF(ISNA(MATCH(C94,#REF!,0)),IF(J94>0,\"\",1),\"\")","v":""}]
[92,"13 maart 1974","De nare varaan",null,null,null,null,null,null,153,null,null,null,null,null,{"$f":"IF(ISNA(MATCH(C95,#REF!,0)),\"\",IF(Q95=\"Y\",\"\",\"Y\"))","v":"Y"},null,{"$f":"IF(ISNA(MATCH(C95,#REF!,0)),IF(J95>0,\"\",1),\"\")","v":""}]
[93,"1974-04-27","De mollige meivis",null,null,null,null,null,null,157,null,null,null,null,null,{"$f":"IF(ISNA(MATCH(C96,#REF!,0)),\"\",IF(Q96=\"Y\",\"\",\"Y\"))","v":"Y"},null,{"$f":"IF(ISNA(MATCH(C96,#REF!,0)),IF(J96>0,\"\",1),\"\")","v":""}]
[94,"juni 1974","De vergeten vallei",null,null,null,null,null,null,191,null,null,null,null,null,{"$f":"IF(ISNA(MATCH(C97,#REF!,0)),\"\",IF(Q97=\"Y\",\"\",\"Y\"))","v":"Y"},null,{"$f":"IF(ISNA(MATCH(C97,#REF!,0)),IF(J97>0,\"\",1),\"\")","v":""}]
[95,"25 juli 1974","De poezelige poes",null,null,null,null,null,null,155,null,null,null,null,null,{"$f":"IF(ISNA(MATCH(C98,#REF!,0)),\"\",IF(Q98=\"Y\",\"\",\"Y\"))","v":"Y"},null,{"$f":"IF(ISNA(MATCH(C98,#REF!,0)),IF(J98>0,\"\",1),\"\")","v":""}]
[96,"1974-12-05","Beminde Barabas",null,null,null,null,null,null,156,null,null,11,null,null,{"$f":"IF(ISNA(MATCH(C99,#REF!,0)),\"\",IF(Q99=\"Y\",\"\",\"Y\"))","v":"Y"},null,{"$f":"IF(ISNA(MATCH(C99,#REF!,0)),IF(J99>0,\"\",1),\"\")","v":""}]
[97,"januari 1975","Toffe Tiko",null,null,null,null,null,null,191,null,null,null,null,null,{"$f":"IF(ISNA(MATCH(C100,#REF!,0)),\"\",IF(Q100=\"Y\",\"\",\"Y\"))","v":"Y"},null,{"$f":"IF(ISNA(MATCH(C100,#REF!,0)),IF(J100>0,\"\",1),\"\")","v":""}]
[98,"januari 1975","De gouden bloem",null,null,null,null,null,null,null,null,null,null,null,null,{"$f":"IF(ISNA(MATCH(C101,#REF!,0)),\"\",IF(Q101=\"Y\",\"\",\"Y\"))","v":"Y"},null,{"$f":"IF(ISNA(MATCH(C101,#REF!,0)),IF(J101>0,\"\",1),\"\")","v":""}]
[99,"1975-04-17","De vinnige Viking",null,null,null,null,null,null,158,null,null,null,null,null,{"$f":"IF(ISNA(MATCH(C102,#REF!,0)),\"\",IF(Q102=\"Y\",\"\",\"Y\"))","v":"Y"},null,{"$f":"IF(ISNA(MATCH(C102,#REF!,0)),IF(J102>0,\"\",1),\"\")","v":""}]
[100,"17 mei 1975","De vlijtige vlinder",null,null,null,null,null,null,163,null,null,12,null,null,{"$f":"IF(ISNA(MATCH(C103,#REF!,0)),\"\",IF(Q103=\"Y\",\"\",\"Y\"))","v":"Y"},null,{"$f":"IF(ISNA(MATCH(C103,#REF!,0)),IF(J103>0,\"\",1),\"\")","v":""}]
[101,"juni 1975","Hippus het zeeveulen",null,null,null,null,null,null,193,null,null,null,null,null,{"$f":"IF(ISNA(MATCH(C104,#REF!,0)),\"\",IF(Q104=\"Y\",\"\",\"Y\"))","v":"Y"},null,{"$f":"IF(ISNA(MATCH(C104,#REF!,0)),IF(J104>0,\"\",1),\"\")","v":""}]
[102,"1975-09-01","De bokkige bombardon",null,null,null,null,null,null,160,null,null,39,null,null,{"$f":"IF(ISNA(MATCH(C105,#REF!,0)),\"\",IF(Q105=\"Y\",\"\",\"Y\"))","v":"Y"},null,{"$f":"IF(ISNA(MATCH(C105,#REF!,0)),IF(J105>0,\"\",1),\"\")","v":""}]
[103,"6 oktober 1975","De minilotten van Kokonera",null,null,null,null,null,null,159,null,null,24,null,null,{"$f":"IF(ISNA(MATCH(C106,#REF!,0)),\"\",IF(Q106=\"Y\",\"\",\"Y\"))","v":"Y"},null,{"$f":"IF(ISNA(MATCH(C106,#REF!,0)),IF(J106>0,\"\",1),\"\")","v":""}]
[104,"1975-12-01","De gouden locomotief",null,null,null,null,null,null,162,null,null,21,null,null,{"$f":"IF(ISNA(MATCH(C107,#REF!,0)),\"\",IF(Q107=\"Y\",\"\",\"Y\"))","v":"Y"},null,{"$f":"IF(ISNA(MATCH(C107,#REF!,0)),IF(J107>0,\"\",1),\"\")","v":""}]
[105,"1905-05-28","De vliegende klomp",null,null,null,null,null,null,null,null,null,null,null,null,{"$f":"IF(ISNA(MATCH(C108,#REF!,0)),\"\",IF(Q108=\"Y\",\"\",\"Y\"))","v":"Y"},null,{"$f":"IF(ISNA(MATCH(C108,#REF!,0)),IF(J108>0,\"\",1),\"\")","v":""}]
[106,"13 januari 1976","De blinkende boemerang",null,null,null,null,null,null,161,null,null,null,null,null,{"$f":"IF(ISNA(MATCH(C109,#REF!,0)),\"\",IF(Q109=\"Y\",\"\",\"Y\"))","v":"Y"},null,{"$f":"IF(ISNA(MATCH(C109,#REF!,0)),IF(J109>0,\"\",1),\"\")","v":""}]
[107,"9 februari 1976","De zingende kaars",null,null,null,null,null,null,167,null,null,26,null,null,{"$f":"IF(ISNA(MATCH(C110,#REF!,0)),\"\",IF(Q110=\"Y\",\"\",\"Y\"))","v":"Y"},null,{"$f":"IF(ISNA(MATCH(C110,#REF!,0)),IF(J110>0,\"\",1),\"\")","v":""}]
[108,"1976-04-14","Het laatste dwaallicht",null,null,null,null,null,null,172,null,null,null,null,null,{"$f":"IF(ISNA(MATCH(C111,#REF!,0)),\"\",IF(Q111=\"Y\",\"\",\"Y\"))","v":"Y"},null,{"$f":"IF(ISNA(MATCH(C111,#REF!,0)),IF(J111>0,\"\",1),\"\")","v":""}]
[109,"24 mei 1976","De raap van Rubens",null,null,null,null,null,null,164,null,null,null,null,null,{"$f":"IF(ISNA(MATCH(C112,#REF!,0)),\"\",IF(Q112=\"Y\",\"\",\"Y\"))","v":"Y"},null,{"$f":"IF(ISNA(MATCH(C112,#REF!,0)),IF(J112>0,\"\",1),\"\")","v":""}]
[110,"juni 1976","Het verborgen volk",null,null,null,null,null,null,193,null,null,null,null,null,{"$f":"IF(ISNA(MATCH(C113,#REF!,0)),\"\",IF(Q113=\"Y\",\"\",\"Y\"))","v":"Y"},null,{"$f":"IF(ISNA(MATCH(C113,#REF!,0)),IF(J113>0,\"\",1),\"\")","v":""}]
[111,"5 juni 1976","De maffe maniak",null,null,null,null,null,null,166,null,null,null,null,null,{"$f":"IF(ISNA(MATCH(C114,#REF!,0)),\"\",IF(Q114=\"Y\",\"\",\"Y\"))","v":"Y"},null,{"$f":"IF(ISNA(MATCH(C114,#REF!,0)),IF(J114>0,\"\",1),\"\")","v":""}]
[112,"10 juli 1976","De regenboogprinses",null,null,null,null,null,null,184,null,null,null,null,null,{"$f":"IF(ISNA(MATCH(C115,#REF!,0)),\"\",IF(Q115=\"Y\",\"\",\"Y\"))","v":"Y"},null,{"$f":"IF(ISNA(MATCH(C115,#REF!,0)),IF(J115>0,\"\",1),\"\")","v":""}]
[113,"6 oktober 1976","De windbrekers",null,null,null,null,null,null,179,null,null,null,null,null,{"$f":"IF(ISNA(MATCH(C116,#REF!,0)),\"\",IF(Q116=\"Y\",\"\",\"Y\"))","v":"Y"},null,{"$f":"IF(ISNA(MATCH(C116,#REF!,0)),IF(J116>0,\"\",1),\"\")","v":""}]
[114,"1976-11-30","De sputterende spuiter",null,null,null,null,null,null,165,null,null,36,null,null,{"$f":"IF(ISNA(MATCH(C117,#REF!,0)),\"\",IF(Q117=\"Y\",\"\",\"Y\"))","v":"Y"},null,{"$f":"IF(ISNA(MATCH(C117,#REF!,0)),IF(J117>0,\"\",1),\"\")","v":""}]
[115,"1977-04-12","De Efteling-elfjes",null,null,null,null,null,null,168,null,null,null,null,null,{"$f":"IF(ISNA(MATCH(C118,#REF!,0)),\"\",IF(Q118=\"Y\",\"\",\"Y\"))","v":"Y"},null,{"$f":"IF(ISNA(MATCH(C118,#REF!,0)),IF(J118>0,\"\",1),\"\")","v":""}]
[116,"25 juni 1977","De olijke olifant",null,null,null,null,null,null,170,null,null,14,null,null,{"$f":"IF(ISNA(MATCH(C119,#REF!,0)),\"\",IF(Q119=\"Y\",\"\",\"Y\"))","v":"Y"},null,{"$f":"IF(ISNA(MATCH(C119,#REF!,0)),IF(J119>0,\"\",1),\"\")","v":""}]
[117,"1 juli 1977","De lollige lakens",null,null,null,null,null,null,null,null,null,null,null,null,{"$f":"IF(ISNA(MATCH(C120,#REF!,0)),\"\",IF(Q120=\"Y\",\"\",\"Y\"))","v":"Y"},null,{"$f":"IF(ISNA(MATCH(C120,#REF!,0)),IF(J120>0,\"\",1),\"\")","v":""}]
[118,"24 augustus 1977","De amoureuze amazone",null,null,null,null,null,null,169,null,null,11,null,null,{"$f":"IF(ISNA(MATCH(C121,#REF!,0)),\"\",IF(Q121=\"Y\",\"\",\"Y\"))","v":"Y"},null,{"$f":"IF(ISNA(MATCH(C121,#REF!,0)),IF(J121>0,\"\",1),\"\")","v":""}]
[119,"5 januari 1978","Walli de walvis",null,null,null,null,null,null,171,null,null,null,null,null,{"$f":"IF(ISNA(MATCH(C122,#REF!,0)),\"\",IF(Q122=\"Y\",\"\",\"Y\"))","v":"Y"},null,{"$f":"IF(ISNA(MATCH(C122,#REF!,0)),IF(J122>0,\"\",1),\"\")","v":""}]
[120,"1978-04-01","Het monster van Loch Ness",null,null,null,null,null,null,null,null,null,null,null,null,{"$f":"IF(ISNA(MATCH(C123,#REF!,0)),\"\",IF(Q123=\"Y\",\"\",\"Y\"))","v":"Y"},null,{"$f":"IF(ISNA(MATCH(C123,#REF!,0)),IF(J123>0,\"\",1),\"\")","v":""}]
[121,"19 mei 1978","Het drijvende dorp",null,null,null,null,null,null,173,null,null,null,null,null,{"$f":"IF(ISNA(MATCH(C124,#REF!,0)),\"\",IF(Q124=\"Y\",\"\",\"Y\"))","v":"Y"},null,{"$f":"IF(ISNA(MATCH(C124,#REF!,0)),IF(J124>0,\"\",1),\"\")","v":""}]
[122,"1 juni 1978","Het geheim van de Kalmthoutse heide",null,null,null,null,null,null,null,null,null,null,null,null,{"$f":"IF(ISNA(MATCH(C125,#REF!,0)),\"\",IF(Q125=\"Y\",\"\",\"Y\"))","v":"Y"},null,{"$f":"IF(ISNA(MATCH(C125,#REF!,0)),IF(J125>0,\"\",1),\"\")","v":""}]
[123,"15 juli 1978","De kadulle Cupido",null,null,null,null,null,null,175,null,null,11,null,null,{"$f":"IF(ISNA(MATCH(C126,#REF!,0)),\"\",IF(Q126=\"Y\",\"\",\"Y\"))","v":"Y"},null,{"$f":"IF(ISNA(MATCH(C126,#REF!,0)),IF(J126>0,\"\",1),\"\")","v":""}]
[124,"1978-09-28","Het statige standbeeld",null,null,null,null,null,null,174,null,null,25,null,null,{"$f":"IF(ISNA(MATCH(C127,#REF!,0)),\"\",IF(Q127=\"Y\",\"\",\"Y\"))","v":"Y"},null,{"$f":"IF(ISNA(MATCH(C127,#REF!,0)),IF(J127>0,\"\",1),\"\")","v":""}]
[125,"9 februari 1979","De pompenplanters",null,null,null,null,null,null,176,null,null,null,null,null,{"$f":"IF(ISNA(MATCH(C128,#REF!,0)),\"\",IF(Q128=\"Y\",\"\",\"Y\"))","v":"Y"},null,{"$f":"IF(ISNA(MATCH(C128,#REF!,0)),IF(J128>0,\"\",1),\"\")","v":""}]
[126,"1 juni 1979","De witte gems",null,null,null,null,null,null,null,null,null,null,null,null,{"$f":"IF(ISNA(MATCH(C129,#REF!,0)),\"\",IF(Q129=\"Y\",\"\",\"Y\"))","v":"Y"},null,{"$f":"IF(ISNA(MATCH(C129,#REF!,0)),IF(J129>0,\"\",1),\"\")","v":""}]
[127,"23 juni 1979","De adellijke ark",null,null,null,null,null,null,177,null,null,null,null,null,{"$f":"IF(ISNA(MATCH(C130,#REF!,0)),\"\",IF(Q130=\"Y\",\"\",\"Y\"))","v":"Y"},null,{"$f":"IF(ISNA(MATCH(C130,#REF!,0)),IF(J130>0,\"\",1),\"\")","v":""}]
[128,"30 juli 1979","Het kregelige ketje",null,null,null,null,null,null,180,null,null,25,null,null,{"$f":"IF(ISNA(MATCH(C131,#REF!,0)),\"\",IF(Q131=\"Y\",\"\",\"Y\"))","v":"Y"},null,{"$f":"IF(ISNA(MATCH(C131,#REF!,0)),IF(J131>0,\"\",1),\"\")","v":""}]
[129,"1979-11-03","De stoute steenezel",null,null,null,null,null,null,178,null,null,null,null,null,{"$f":"IF(ISNA(MATCH(C132,#REF!,0)),\"\",IF(Q132=\"Y\",\"\",\"Y\"))","v":"Y"},null,{"$f":"IF(ISNA(MATCH(C132,#REF!,0)),IF(J132>0,\"\",1),\"\")","v":""}]
[130,"13 maart 1980","De perenprins",null,null,null,null,null,null,181,null,null,17,null,null,{"$f":"IF(ISNA(MATCH(C133,#REF!,0)),\"\",IF(Q133=\"Y\",\"\",\"Y\"))","v":"Y"},null,{"$f":"IF(ISNA(MATCH(C133,#REF!,0)),IF(J133>0,\"\",1),\"\")","v":""}]
[131,"1 juni 1980","Het verloren zwaard",null,null,null,null,null,null,null,null,null,null,null,null,{"$f":"IF(ISNA(MATCH(C134,#REF!,0)),\"\",IF(Q134=\"Y\",\"\",\"Y\"))","v":"Y"},null,{"$f":"IF(ISNA(MATCH(C134,#REF!,0)),IF(J134>0,\"\",1),\"\")","v":""}]
[132,"26 juli 1980","De koperen knullen",null,null,null,null,null,null,182,null,null,24,null,null,{"$f":"IF(ISNA(MATCH(C135,#REF!,0)),\"\",IF(Q135=\"Y\",\"\",\"Y\"))","v":"Y"},null,{"$f":"IF(ISNA(MATCH(C135,#REF!,0)),IF(J135>0,\"\",1),\"\")","v":""}]
[133,"18 augustus 1980","De botte botaknol",null,null,null,null,null,null,185,null,null,33,null,null,{"$f":"IF(ISNA(MATCH(C136,#REF!,0)),\"\",IF(Q136=\"Y\",\"\",\"Y\"))","v":"Y"},null,{"$f":"IF(ISNA(MATCH(C136,#REF!,0)),IF(J136>0,\"\",1),\"\")","v":""}]
[134,"1980-12-06","De toffe tamboer",null,null,null,null,null,null,183,null,null,null,null,null,{"$f":"IF(ISNA(MATCH(C137,#REF!,0)),\"\",IF(Q137=\"Y\",\"\",\"Y\"))","v":"Y"},null,{"$f":"IF(ISNA(MATCH(C137,#REF!,0)),IF(J137>0,\"\",1),\"\")","v":""}]
[135,"1981-04-17","De rosse reus",null,null,null,null,null,null,186,null,null,null,null,null,{"$f":"IF(ISNA(MATCH(C138,#REF!,0)),\"\",IF(Q138=\"Y\",\"\",\"Y\"))","v":"Y"},null,{"$f":"IF(ISNA(MATCH(C138,#REF!,0)),IF(J138>0,\"\",1),\"\")","v":""}]
[136,"1 juni 1981","De stenen broden",null,null,null,null,null,null,null,null,null,null,null,null,{"$f":"IF(ISNA(MATCH(C139,#REF!,0)),\"\",IF(Q139=\"Y\",\"\",\"Y\"))","v":"Y"},null,{"$f":"IF(ISNA(MATCH(C139,#REF!,0)),IF(J139>0,\"\",1),\"\")","v":""}]
[137,"31 augustus 1981","De droevige duif",null,null,null,null,null,null,187,null,null,12,null,null,{"$f":"IF(ISNA(MATCH(C140,#REF!,0)),\"\",IF(Q140=\"Y\",\"\",\"Y\"))","v":"Y"},null,{"$f":"IF(ISNA(MATCH(C140,#REF!,0)),IF(J140>0,\"\",1),\"\")","v":""}]
[138,"1981-09-07","De woelige wadden",null,null,null,null,null,null,190,null,null,27,null,null,{"$f":"IF(ISNA(MATCH(C141,#REF!,0)),\"\",IF(Q141=\"Y\",\"\",\"Y\"))","v":"Y"},null,{"$f":"IF(ISNA(MATCH(C141,#REF!,0)),IF(J141>0,\"\",1),\"\")","v":""}]
[139,"1905-06-03","De zilveren appels",null,null,null,null,null,null,null,null,null,null,null,null,{"$f":"IF(ISNA(MATCH(C142,#REF!,0)),\"\",IF(Q142=\"Y\",\"\",\"Y\"))","v":"Y"},null,{"$f":"IF(ISNA(MATCH(C142,#REF!,0)),IF(J142>0,\"\",1),\"\")","v":""}]
[140,"12 januari 1982","De belhamel-bende",null,null,null,null,null,null,189,null,null,31,null,null,{"$f":"IF(ISNA(MATCH(C143,#REF!,0)),\"\",IF(Q143=\"Y\",\"\",\"Y\"))","v":"Y"},null,{"$f":"IF(ISNA(MATCH(C143,#REF!,0)),IF(J143>0,\"\",1),\"\")","v":""}]
[141,"1982-04-01","De blijde broodeters",null,null,null,null,null,null,null,null,null,null,null,null,{"$f":"IF(ISNA(MATCH(C144,#REF!,0)),\"\",IF(Q144=\"Y\",\"\",\"Y\"))","v":"Y"},null,{"$f":"IF(ISNA(MATCH(C144,#REF!,0)),IF(J144>0,\"\",1),\"\")","v":""}]
[142,"24 mei 1982","Het Bretoense broertje",null,null,null,null,null,null,192,null,null,null,null,null,{"$f":"IF(ISNA(MATCH(C145,#REF!,0)),\"\",IF(Q145=\"Y\",\"\",\"Y\"))","v":"Y"},null,{"$f":"IF(ISNA(MATCH(C145,#REF!,0)),IF(J145>0,\"\",1),\"\")","v":""}]
[143,"juni 1982","Het onbekende eiland",null,null,null,null,null,null,null,null,null,null,null,null,{"$f":"IF(ISNA(MATCH(C146,#REF!,0)),\"\",IF(Q146=\"Y\",\"\",\"Y\"))","v":"Y"},null,{"$f":"IF(ISNA(MATCH(C146,#REF!,0)),IF(J146>0,\"\",1),\"\")","v":""}]
[144,"1982-09-27","De natte Navajo",null,null,null,null,null,null,196,null,null,34,null,null,{"$f":"IF(ISNA(MATCH(C147,#REF!,0)),\"\",IF(Q147=\"Y\",\"\",\"Y\"))","v":"Y"},null,{"$f":"IF(ISNA(MATCH(C147,#REF!,0)),IF(J147>0,\"\",1),\"\")","v":""}]
[145,"2 oktober 1982","De gouden ganzeveer",null,null,null,null,null,null,194,null,null,20,null,null,{"$f":"IF(ISNA(MATCH(C148,#REF!,0)),\"\",IF(Q148=\"Y\",\"\",\"Y\"))","v":"Y"},null,{"$f":"IF(ISNA(MATCH(C148,#REF!,0)),IF(J148>0,\"\",1),\"\")","v":""}]
[146,"1982-01-01","Een bij voor jou en mij",null,null,null,null,null,null,null,null,null,null,null,null,{"$f":"IF(ISNA(MATCH(C149,#REF!,0)),\"\",IF(Q149=\"Y\",\"\",\"Y\"))","v":"Y"},null,{"$f":"IF(ISNA(MATCH(C149,#REF!,0)),IF(J149>0,\"\",1),\"\")","v":""}]
[147,"14 februari 1983","De hippe heksen",null,null,null,null,null,null,195,null,null,null,null,null,{"$f":"IF(ISNA(MATCH(C150,#REF!,0)),\"\",IF(Q150=\"Y\",\"\",\"Y\"))","v":"Y"},null,{"$f":"IF(ISNA(MATCH(C150,#REF!,0)),IF(J150>0,\"\",1),\"\")","v":""}]
[148,"1983-04-01","Beter voor Bert",null,null,null,null,null,null,null,null,null,null,null,null,{"$f":"IF(ISNA(MATCH(C151,#REF!,0)),\"\",IF(Q151=\"Y\",\"\",\"Y\"))","v":"Y"},null,{"$f":"IF(ISNA(MATCH(C151,#REF!,0)),IF(J151>0,\"\",1),\"\")","v":""}]
[149,"1 mei 1983","Sprookjesnacht aan zee",null,null,null,null,null,null,null,null,null,null,null,null,{"$f":"IF(ISNA(MATCH(C152,#REF!,0)),\"\",IF(Q152=\"Y\",\"\",\"Y\"))","v":"Y"},null,{"$f":"IF(ISNA(MATCH(C152,#REF!,0)),IF(J152>0,\"\",1),\"\")","v":""}]
[150,"27 juni 1983","Het Delta duel",null,null,null,null,null,null,197,null,null,null,null,null,{"$f":"IF(ISNA(MATCH(C153,#REF!,0)),\"\",IF(Q153=\"Y\",\"\",\"Y\"))","v":"Y"},null,{"$f":"IF(ISNA(MATCH(C153,#REF!,0)),IF(J153>0,\"\",1),\"\")","v":""}]
[151,"17 oktober 1983","De tamme tumi",null,null,null,null,null,null,199,null,null,null,null,null,{"$f":"IF(ISNA(MATCH(C154,#REF!,0)),\"\",IF(Q154=\"Y\",\"\",\"Y\"))","v":"Y"},null,{"$f":"IF(ISNA(MATCH(C154,#REF!,0)),IF(J154>0,\"\",1),\"\")","v":""}]
[152,"1983-11-07","De lieve Lilleham",null,null,null,null,null,null,198,null,null,null,null,null,{"$f":"IF(ISNA(MATCH(C155,#REF!,0)),\"\",IF(Q155=\"Y\",\"\",\"Y\"))","v":"Y"},null,{"$f":"IF(ISNA(MATCH(C155,#REF!,0)),IF(J155>0,\"\",1),\"\")","v":""}]
[153,"16 maart 1984","Amoris van Amoras",null,null,null,null,null,null,200,null,null,7,null,null,{"$f":"IF(ISNA(MATCH(C156,#REF!,0)),\"\",IF(Q156=\"Y\",\"\",\"Y\"))","v":"Y"},null,{"$f":"IF(ISNA(MATCH(C156,#REF!,0)),IF(J156>0,\"\",1),\"\")","v":""}]
[154,"1 mei 1984","De bevende berken",null,null,null,null,null,null,null,null,null,null,null,null,{"$f":"IF(ISNA(MATCH(C157,#REF!,0)),\"\",IF(Q157=\"Y\",\"\",\"Y\"))","v":"Y"},null,{"$f":"IF(ISNA(MATCH(C157,#REF!,0)),IF(J157>0,\"\",1),\"\")","v":""}]
[155,"30 juli 1984","Het dreigende dinges",null,null,null,null,null,null,201,null,null,null,null,null,{"$f":"IF(ISNA(MATCH(C158,#REF!,0)),\"\",IF(Q158=\"Y\",\"\",\"Y\"))","v":"Y"},null,{"$f":"IF(ISNA(MATCH(C158,#REF!,0)),IF(J158>0,\"\",1),\"\")","v":""}]
[156,"1984-11-05","De kattige kat",null,null,null,null,null,null,205,null,null,14,null,null,{"$f":"IF(ISNA(MATCH(C159,#REF!,0)),\"\",IF(Q159=\"Y\",\"\",\"Y\"))","v":"Y"},null,{"$f":"IF(ISNA(MATCH(C159,#REF!,0)),IF(J159>0,\"\",1),\"\")","v":""}]
[157,"1984-12-08","Angst op de \"Amsterdam\"",null,null,null,null,null,null,202,null,null,19,null,null,{"$f":"IF(ISNA(MATCH(C160,#REF!,0)),\"\",IF(Q160=\"Y\",\"\",\"Y\"))","v":"Y"},null,{"$f":"IF(ISNA(MATCH(C160,#REF!,0)),IF(J160>0,\"\",1),\"\")","v":""}]
[158,"februari 1985","De tandentikkers",null,null,null,null,null,null,null,null,null,null,null,null,{"$f":"IF(ISNA(MATCH(C161,#REF!,0)),\"\",IF(Q161=\"Y\",\"\",\"Y\"))","v":"Y"},null,{"$f":"IF(ISNA(MATCH(C161,#REF!,0)),IF(J161>0,\"\",1),\"\")","v":""}]
[159,"1985-04-20","De mooie millirem",null,null,null,null,null,null,204,null,null,null,null,null,{"$f":"IF(ISNA(MATCH(C162,#REF!,0)),\"\",IF(Q162=\"Y\",\"\",\"Y\"))","v":"Y"},null,{"$f":"IF(ISNA(MATCH(C162,#REF!,0)),IF(J162>0,\"\",1),\"\")","v":""}]
[160,"1985-09-01","De ruige regen",null,null,null,null,null,null,203,null,null,null,null,null,{"$f":"IF(ISNA(MATCH(C163,#REF!,0)),\"\",IF(Q163=\"Y\",\"\",\"Y\"))","v":"Y"},null,{"$f":"IF(ISNA(MATCH(C163,#REF!,0)),IF(J163>0,\"\",1),\"\")","v":""}]
[161,"1985-09-02","De bonkige baarden",null,null,null,null,null,null,206,null,null,27,null,null,{"$f":"IF(ISNA(MATCH(C164,#REF!,0)),\"\",IF(Q164=\"Y\",\"\",\"Y\"))","v":"Y"},null,{"$f":"IF(ISNA(MATCH(C164,#REF!,0)),IF(J164>0,\"\",1),\"\")","v":""}]
[162,"1985-11-25","De kwaaie kwieten",null,null,null,null,null,null,209,null,null,null,null,null,{"$f":"IF(ISNA(MATCH(C165,#REF!,0)),\"\",IF(Q165=\"Y\",\"\",\"Y\"))","v":"Y"},null,{"$f":"IF(ISNA(MATCH(C165,#REF!,0)),IF(J165>0,\"\",1),\"\")","v":""}]
[163,"1985-12-01","De Tiroolse trawanten",null,null,null,null,null,null,null,null,null,null,null,null,{"$f":"IF(ISNA(MATCH(C166,#REF!,0)),\"\",IF(Q166=\"Y\",\"\",\"Y\"))","v":"Y"},null,{"$f":"IF(ISNA(MATCH(C166,#REF!,0)),IF(J166>0,\"\",1),\"\")","v":""}]
[164,"14 januari 1986","De glanzende gletsjer",null,null,null,null,null,null,207,null,null,null,null,null,{"$f":"IF(ISNA(MATCH(C167,#REF!,0)),\"\",IF(Q167=\"Y\",\"\",\"Y\"))","v":"Y"},null,{"$f":"IF(ISNA(MATCH(C167,#REF!,0)),IF(J167>0,\"\",1),\"\")","v":""}]
[165,"februari 1986","Sony-San",null,null,null,null,null,null,null,null,null,null,null,null,{"$f":"IF(ISNA(MATCH(C168,#REF!,0)),\"\",IF(Q168=\"Y\",\"\",\"Y\"))","v":"Y"},null,{"$f":"IF(ISNA(MATCH(C168,#REF!,0)),IF(J168>0,\"\",1),\"\")","v":""}]
[166,"28 mei 1986","De hellegathonden",null,null,null,null,null,null,208,null,null,9,null,null,{"$f":"IF(ISNA(MATCH(C169,#REF!,0)),\"\",IF(Q169=\"Y\",\"\",\"Y\"))","v":"Y"},null,{"$f":"IF(ISNA(MATCH(C169,#REF!,0)),IF(J169>0,\"\",1),\"\")","v":""}]
[167,"juni 1986","Tegen de ZZZ",null,null,null,null,null,null,null,null,null,null,null,null,{"$f":"IF(ISNA(MATCH(C170,#REF!,0)),\"\",IF(Q170=\"Y\",\"\",\"Y\"))","v":"Y"},null,{"$f":"IF(ISNA(MATCH(C170,#REF!,0)),IF(J170>0,\"\",1),\"\")","v":""},"ok, 'SW tegen'"]
[168,"7 oktober 1986","De jolige joffer",null,null,null,null,null,null,210,null,null,null,null,null,{"$f":"IF(ISNA(MATCH(C171,#REF!,0)),\"\",IF(Q171=\"Y\",\"\",\"Y\"))","v":"Y"},null,{"$f":"IF(ISNA(MATCH(C171,#REF!,0)),IF(J171>0,\"\",1),\"\")","v":""}]
[169,"1986-12-15","De eenzame eenhoorn",null,null,null,null,null,null,213,null,null,null,null,null,{"$f":"IF(ISNA(MATCH(C172,#REF!,0)),\"\",IF(Q172=\"Y\",\"\",\"Y\"))","v":"Y"},null,{"$f":"IF(ISNA(MATCH(C172,#REF!,0)),IF(J172>0,\"\",1),\"\")","v":""}]
[170,"1 januari 1987","De parel in de lotusbloem",null,null,null,null,null,null,214,null,null,31,null,null,{"$f":"IF(ISNA(MATCH(C173,#REF!,0)),\"\",IF(Q173=\"Y\",\"\",\"Y\"))","v":"Y"},null,{"$f":"IF(ISNA(MATCH(C173,#REF!,0)),IF(J173>0,\"\",1),\"\")","v":""}]
[171,"18 februari 1987","De woeste wespen",null,null,null,null,null,null,211,null,null,null,null,null,{"$f":"IF(ISNA(MATCH(C174,#REF!,0)),\"\",IF(Q174=\"Y\",\"\",\"Y\"))","v":"Y"},null,{"$f":"IF(ISNA(MATCH(C174,#REF!,0)),IF(J174>0,\"\",1),\"\")","v":""}]
[172,"1987-04-01","Witte zwanen zwarte zwanen",null,null,null,null,null,null,null,null,null,null,null,null,{"$f":"IF(ISNA(MATCH(C175,#REF!,0)),\"\",IF(Q175=\"Y\",\"\",\"Y\"))","v":"Y"},null,{"$f":"IF(ISNA(MATCH(C175,#REF!,0)),IF(J175>0,\"\",1),\"\")","v":""}]
[173,"27 juni 1987","De edele elfen",null,null,null,null,null,null,212,null,null,null,null,null,{"$f":"IF(ISNA(MATCH(C176,#REF!,0)),\"\",IF(Q176=\"Y\",\"\",\"Y\"))","v":"Y"},null,{"$f":"IF(ISNA(MATCH(C176,#REF!,0)),IF(J176>0,\"\",1),\"\")","v":""}]
[174,"1987-11-02","De Krimson-crisis",null,null,null,null,null,null,215,null,null,null,null,null,{"$f":"IF(ISNA(MATCH(C177,#REF!,0)),\"\",IF(Q177=\"Y\",\"\",\"Y\"))","v":"Y"},null,{"$f":"IF(ISNA(MATCH(C177,#REF!,0)),IF(J177>0,\"\",1),\"\")","v":""}]
[175,"1987-12-22","De krachtige krans",null,null,null,null,null,null,218,null,null,22,null,null,{"$f":"IF(ISNA(MATCH(C178,#REF!,0)),\"\",IF(Q178=\"Y\",\"\",\"Y\"))","v":"Y"},null,{"$f":"IF(ISNA(MATCH(C178,#REF!,0)),IF(J178>0,\"\",1),\"\")","v":""}]
[176,"februari 1988","Fata Morgana",null,null,null,null,null,null,null,null,null,null,null,null,{"$f":"IF(ISNA(MATCH(C179,#REF!,0)),\"\",IF(Q179=\"Y\",\"\",\"Y\"))","v":"Y"},null,{"$f":"IF(ISNA(MATCH(C179,#REF!,0)),IF(J179>0,\"\",1),\"\")","v":""}]
[177,"14 maart 1988","De dappere duinduikers",null,null,null,null,null,null,null,null,null,null,null,null,{"$f":"IF(ISNA(MATCH(C180,#REF!,0)),\"\",IF(Q180=\"Y\",\"\",\"Y\"))","v":"Y"},null,{"$f":"IF(ISNA(MATCH(C180,#REF!,0)),IF(J180>0,\"\",1),\"\")","v":""}]
[178,"21 mei 1988","De komieke Coco",null,null,null,null,null,null,217,null,null,33,null,null,{"$f":"IF(ISNA(MATCH(C181,#REF!,0)),\"\",IF(Q181=\"Y\",\"\",\"Y\"))","v":"Y"},null,{"$f":"IF(ISNA(MATCH(C181,#REF!,0)),IF(J181>0,\"\",1),\"\")","v":""}]
[179,"1 oktober 1988","De wervelende waterzak",null,null,null,null,null,null,216,null,null,null,null,null,{"$f":"IF(ISNA(MATCH(C182,#REF!,0)),\"\",IF(Q182=\"Y\",\"\",\"Y\"))","v":"Y"},null,{"$f":"IF(ISNA(MATCH(C182,#REF!,0)),IF(J182>0,\"\",1),\"\")","v":""}]
[180,"1 oktober 1988","De speelgoedspiegel",null,null,null,null,null,null,219,null,null,13,null,null,{"$f":"IF(ISNA(MATCH(C183,#REF!,0)),\"\",IF(Q183=\"Y\",\"\",\"Y\"))","v":"Y"},null,{"$f":"IF(ISNA(MATCH(C183,#REF!,0)),IF(J183>0,\"\",1),\"\")","v":""}]
[181,"9 januari 1989","De kleurenkladder",null,null,null,null,null,null,223,null,null,null,null,null,{"$f":"IF(ISNA(MATCH(C184,#REF!,0)),\"\",IF(Q184=\"Y\",\"\",\"Y\"))","v":"Y"},null,{"$f":"IF(ISNA(MATCH(C184,#REF!,0)),IF(J184>0,\"\",1),\"\")","v":""}]
[182,"januari 1989","Het gouden kuipje",null,null,null,null,null,null,null,null,null,null,null,null,{"$f":"IF(ISNA(MATCH(C185,#REF!,0)),\"\",IF(Q185=\"Y\",\"\",\"Y\"))","v":"Y"},null,{"$f":"IF(ISNA(MATCH(C185,#REF!,0)),IF(J185>0,\"\",1),\"\")","v":""}]
[183,"10 februari 1989","Sagarmatha",null,null,null,null,null,null,220,null,null,10,null,null,{"$f":"IF(ISNA(MATCH(C186,#REF!,0)),\"\",IF(Q186=\"Y\",\"\",\"Y\"))","v":"Y"},null,{"$f":"IF(ISNA(MATCH(C186,#REF!,0)),IF(J186>0,\"\",1),\"\")","v":""}]
[184,"1 juni 1989","Bosspel",null,null,null,null,null,null,null,null,null,null,null,null,{"$f":"IF(ISNA(MATCH(C187,#REF!,0)),\"\",IF(Q187=\"Y\",\"\",\"Y\"))","v":"Y"},null,{"$f":"IF(ISNA(MATCH(C187,#REF!,0)),IF(J187>0,\"\",1),\"\")","v":""}]
[185,"24 juni 1989","De bezeten bezitter",null,null,null,null,null,null,222,null,null,null,null,null,{"$f":"IF(ISNA(MATCH(C188,#REF!,0)),\"\",IF(Q188=\"Y\",\"\",\"Y\"))","v":"Y"},null,{"$f":"IF(ISNA(MATCH(C188,#REF!,0)),IF(J188>0,\"\",1),\"\")","v":""}]
[186,"1989-09-01","De rinoramp",null,null,null,null,null,null,221,null,null,6,null,null,{"$f":"IF(ISNA(MATCH(C189,#REF!,0)),\"\",IF(Q189=\"Y\",\"\",\"Y\"))","v":"Y"},null,{"$f":"IF(ISNA(MATCH(C189,#REF!,0)),IF(J189>0,\"\",1),\"\")","v":""}]
[187,"1989-11-04","De kleine postruiter",null,null,null,null,null,null,224,null,null,35,null,null,{"$f":"IF(ISNA(MATCH(C190,#REF!,0)),\"\",IF(Q190=\"Y\",\"\",\"Y\"))","v":"Y"},null,{"$f":"IF(ISNA(MATCH(C190,#REF!,0)),IF(J190>0,\"\",1),\"\")","v":""}]
[188,"januari 1990","De gouden friet",null,null,null,null,null,null,null,null,null,null,null,null,{"$f":"IF(ISNA(MATCH(C191,#REF!,0)),\"\",IF(Q191=\"Y\",\"\",\"Y\"))","v":"Y"},null,{"$f":"IF(ISNA(MATCH(C191,#REF!,0)),IF(J191>0,\"\",1),\"\")","v":""}]
[189,"26 januari 1990","Het witte wief",null,null,null,null,null,null,227,null,null,8,null,null,{"$f":"IF(ISNA(MATCH(C192,#REF!,0)),\"\",IF(Q192=\"Y\",\"\",\"Y\"))","v":"Y"},null,{"$f":"IF(ISNA(MATCH(C192,#REF!,0)),IF(J192>0,\"\",1),\"\")","v":""}]
[190,"17 maart 1990","De goalgetter",null,null,null,null,null,null,225,null,null,null,null,null,{"$f":"IF(ISNA(MATCH(C193,#REF!,0)),\"\",IF(Q193=\"Y\",\"\",\"Y\"))","v":"Y"},null,{"$f":"IF(ISNA(MATCH(C193,#REF!,0)),IF(J193>0,\"\",1),\"\")","v":""}]
[191,"1 juni 1990","Knokken in Knossos",null,null,null,null,null,null,null,null,null,null,null,null,{"$f":"IF(ISNA(MATCH(C194,#REF!,0)),\"\",IF(Q194=\"Y\",\"\",\"Y\"))","v":"Y"},null,{"$f":"IF(ISNA(MATCH(C194,#REF!,0)),IF(J194>0,\"\",1),\"\")","v":""}]
[192,"11 juli 1990","De mysterieuze mijn",null,null,null,null,null,null,226,null,null,null,null,null,{"$f":"IF(ISNA(MATCH(C195,#REF!,0)),\"\",IF(Q195=\"Y\",\"\",\"Y\"))","v":"Y"},null,{"$f":"IF(ISNA(MATCH(C195,#REF!,0)),IF(J195>0,\"\",1),\"\")","v":""}]
[193,"1990-11-02","Het wondere Wolfje",null,null,null,null,null,null,228,null,null,4,null,null,{"$f":"IF(ISNA(MATCH(C196,#REF!,0)),\"\",IF(Q196=\"Y\",\"\",\"Y\"))","v":"Y"},null,{"$f":"IF(ISNA(MATCH(C196,#REF!,0)),IF(J196>0,\"\",1),\"\")","v":""}]
[194,"18 februari 1991","De scherpe schorpioen",null,null,null,null,null,null,231,null,null,1,null,null,{"$f":"IF(ISNA(MATCH(C197,#REF!,0)),\"\",IF(Q197=\"Y\",\"\",\"Y\"))","v":"Y"},null,{"$f":"IF(ISNA(MATCH(C197,#REF!,0)),IF(J197>0,\"\",1),\"\")","v":""}]
[195,"23 februari 1991","Tazuur en Tazijn",null,null,null,null,null,null,229,null,null,null,null,null,{"$f":"IF(ISNA(MATCH(C198,#REF!,0)),\"\",IF(Q198=\"Y\",\"\",\"Y\"))","v":"Y"},null,{"$f":"IF(ISNA(MATCH(C198,#REF!,0)),IF(J198>0,\"\",1),\"\")","v":""}]
[196,"1 juni 1991","Spruiten voor Sprotje",null,null,null,null,null,null,null,null,null,null,null,null,{"$f":"IF(ISNA(MATCH(C199,#REF!,0)),\"\",IF(Q199=\"Y\",\"\",\"Y\"))","v":"Y"},null,{"$f":"IF(ISNA(MATCH(C199,#REF!,0)),IF(J199>0,\"\",1),\"\")","v":""}]
[197,"19 juni 1991","Lambik Baba",null,null,null,null,null,null,230,null,null,1,null,null,{"$f":"IF(ISNA(MATCH(C200,#REF!,0)),\"\",IF(Q200=\"Y\",\"\",\"Y\"))","v":"Y"},null,{"$f":"IF(ISNA(MATCH(C200,#REF!,0)),IF(J200>0,\"\",1),\"\")","v":""}]
[198,"10 oktober 1991","De tootootjes",null,null,null,null,null,null,232,null,null,3,null,null,{"$f":"IF(ISNA(MATCH(C201,#REF!,0)),\"\",IF(Q201=\"Y\",\"\",\"Y\"))","v":"Y"},null,{"$f":"IF(ISNA(MATCH(C201,#REF!,0)),IF(J201>0,\"\",1),\"\")","v":""}]
[199,"13 januari 1992","De krakende carcas",null,null,null,null,null,null,235,null,null,null,null,null,{"$f":"IF(ISNA(MATCH(C202,#REF!,0)),\"\",IF(Q202=\"Y\",\"\",\"Y\"))","v":"Y"},null,{"$f":"IF(ISNA(MATCH(C202,#REF!,0)),IF(J202>0,\"\",1),\"\")","v":""}]
[200,"3 februari 1992","De klinkende klokken",null,null,null,null,null,null,233,null,null,5,null,null,{"$f":"IF(ISNA(MATCH(C203,#REF!,0)),\"\",IF(Q203=\"Y\",\"\",\"Y\"))","v":"Y"},null,{"$f":"IF(ISNA(MATCH(C203,#REF!,0)),IF(J203>0,\"\",1),\"\")","v":""}]
[201,"27 februari 1992","Pezige Peekah",null,null,null,null,null,null,null,null,null,null,null,null,{"$f":"IF(ISNA(MATCH(C204,#REF!,0)),\"\",IF(Q204=\"Y\",\"\",\"Y\"))","v":"Y"},null,{"$f":"IF(ISNA(MATCH(C204,#REF!,0)),IF(J204>0,\"\",1),\"\")","v":""},"ok"]
[202,"27 mei 1992","Het kristallen kasteel",null,null,null,null,null,null,234,null,null,3,null,null,{"$f":"IF(ISNA(MATCH(C205,#REF!,0)),\"\",IF(Q205=\"Y\",\"\",\"Y\"))","v":"Y"},null,{"$f":"IF(ISNA(MATCH(C205,#REF!,0)),IF(J205>0,\"\",1),\"\")","v":""}]
[203,"1992-09-19","De gulden harpoen",null,null,null,null,null,null,236,null,null,null,null,null,{"$f":"IF(ISNA(MATCH(C206,#REF!,0)),\"\",IF(Q206=\"Y\",\"\",\"Y\"))","v":"Y"},null,{"$f":"IF(ISNA(MATCH(C206,#REF!,0)),IF(J206>0,\"\",1),\"\")","v":""}]
[204,"1992-12-07","De stervende ster",null,null,null,null,null,null,239,null,null,null,null,null,{"$f":"IF(ISNA(MATCH(C207,#REF!,0)),\"\",IF(Q207=\"Y\",\"\",\"Y\"))","v":"Y"},null,{"$f":"IF(ISNA(MATCH(C207,#REF!,0)),IF(J207>0,\"\",1),\"\")","v":""}]
[205,"12 januari 1993","De snikkende sirene",null,null,null,null,null,null,237,null,null,4,null,null,{"$f":"IF(ISNA(MATCH(C208,#REF!,0)),\"\",IF(Q208=\"Y\",\"\",\"Y\"))","v":"Y"},null,{"$f":"IF(ISNA(MATCH(C208,#REF!,0)),IF(J208>0,\"\",1),\"\")","v":""}]
[206,"20 maart 1993","De macabere macralles",null,null,null,null,null,null,null,null,null,null,null,null,{"$f":"IF(ISNA(MATCH(C209,#REF!,0)),\"\",IF(Q209=\"Y\",\"\",\"Y\"))","v":"Y"},null,{"$f":"IF(ISNA(MATCH(C209,#REF!,0)),IF(J209>0,\"\",1),\"\")","v":""}]
[207,"5 mei 1993","De slimme slapjanus",null,null,null,null,null,null,238,null,null,3,null,null,{"$f":"IF(ISNA(MATCH(C210,#REF!,0)),\"\",IF(Q210=\"Y\",\"\",\"Y\"))","v":"Y"},null,{"$f":"IF(ISNA(MATCH(C210,#REF!,0)),IF(J210>0,\"\",1),\"\")","v":""}]
[208,"juni 1993","De Galapagosgassen",null,null,null,null,null,null,null,null,null,null,null,null,{"$f":"IF(ISNA(MATCH(C211,#REF!,0)),\"\",IF(Q211=\"Y\",\"\",\"Y\"))","v":"Y"},null,{"$f":"IF(ISNA(MATCH(C211,#REF!,0)),IF(J211>0,\"\",1),\"\")","v":""}]
[209,"30 augustus 1993","De pottenproever",null,null,null,null,null,null,240,null,null,null,null,null,{"$f":"IF(ISNA(MATCH(C212,#REF!,0)),\"\",IF(Q212=\"Y\",\"\",\"Y\"))","v":"Y"},null,{"$f":"IF(ISNA(MATCH(C212,#REF!,0)),IF(J212>0,\"\",1),\"\")","v":""}]
[210,"1993-11-02","De averechtse aap",null,null,null,null,null,null,243,null,null,null,null,null,{"$f":"IF(ISNA(MATCH(C213,#REF!,0)),\"\",IF(Q213=\"Y\",\"\",\"Y\"))","v":"Y"},null,{"$f":"IF(ISNA(MATCH(C213,#REF!,0)),IF(J213>0,\"\",1),\"\")","v":""}]
[211,"1993-12-21","Het Aruba-dossier",null,null,null,null,null,null,241,null,null,7,null,null,{"$f":"IF(ISNA(MATCH(C214,#REF!,0)),\"\",IF(Q214=\"Y\",\"\",\"Y\"))","v":"Y"},null,{"$f":"IF(ISNA(MATCH(C214,#REF!,0)),IF(J214>0,\"\",1),\"\")","v":""}]
[212,"1994-04-14","Tokapua Toraja",null,null,null,null,null,null,242,null,null,1,null,null,{"$f":"IF(ISNA(MATCH(C215,#REF!,0)),\"\",IF(Q215=\"Y\",\"\",\"Y\"))","v":"Y"},null,{"$f":"IF(ISNA(MATCH(C215,#REF!,0)),IF(J215>0,\"\",1),\"\")","v":""}]
[213,"juni 1994","De mollige marmotten",null,null,null,null,null,null,null,null,null,null,null,null,{"$f":"IF(ISNA(MATCH(C216,#REF!,0)),\"\",IF(Q216=\"Y\",\"\",\"Y\"))","v":"Y"},null,{"$f":"IF(ISNA(MATCH(C216,#REF!,0)),IF(J216>0,\"\",1),\"\")","v":""}]
[214,"6 augustus 1994","De begeerde berg",null,null,null,null,null,null,244,null,null,10,null,null,{"$f":"IF(ISNA(MATCH(C217,#REF!,0)),\"\",IF(Q217=\"Y\",\"\",\"Y\"))","v":"Y"},null,{"$f":"IF(ISNA(MATCH(C217,#REF!,0)),IF(J217>0,\"\",1),\"\")","v":""}]
[215,"1994-09-01","De vonkende vuurman",null,null,null,null,null,null,246,null,null,null,null,null,{"$f":"IF(ISNA(MATCH(C218,#REF!,0)),\"\",IF(Q218=\"Y\",\"\",\"Y\"))","v":"Y"},null,{"$f":"IF(ISNA(MATCH(C218,#REF!,0)),IF(J218>0,\"\",1),\"\")","v":""}]
[216,"1994-11-29","De 7 schaken",null,null,null,null,null,null,245,null,null,null,null,null,{"$f":"IF(ISNA(MATCH(C219,#REF!,0)),\"\",IF(Q219=\"Y\",\"\",\"Y\"))","v":"Y"},null,{"$f":"IF(ISNA(MATCH(C219,#REF!,0)),IF(J219>0,\"\",1),\"\")","v":""}]
[217,"mei 1995","Geschiedenis in strip",null,null,null,null,null,null,null,null,null,null,null,null,{"$f":"IF(ISNA(MATCH(C220,#REF!,0)),\"\",IF(Q220=\"Y\",\"\",\"Y\"))","v":"Y"},null,{"$f":"IF(ISNA(MATCH(C220,#REF!,0)),IF(J220>0,\"\",1),\"\")","v":""},"ok, zonder 'de'"]
[218,"7 juni 1995","Het kostbare kader",null,null,null,null,null,null,247,null,null,null,null,null,{"$f":"IF(ISNA(MATCH(C221,#REF!,0)),\"\",IF(Q221=\"Y\",\"\",\"Y\"))","v":"Y"},null,{"$f":"IF(ISNA(MATCH(C221,#REF!,0)),IF(J221>0,\"\",1),\"\")","v":""}]
[219,"augustus 1995","De razende race",null,null,null,null,null,null,249,null,null,null,null,null,{"$f":"IF(ISNA(MATCH(C222,#REF!,0)),\"\",IF(Q222=\"Y\",\"\",\"Y\"))","v":"Y"},null,{"$f":"IF(ISNA(MATCH(C222,#REF!,0)),IF(J222>0,\"\",1),\"\")","v":""}]
[220,"1995-09-28","Robotkop",null,null,null,null,null,null,248,null,null,null,null,null,{"$f":"IF(ISNA(MATCH(C223,#REF!,0)),\"\",IF(Q223=\"Y\",\"\",\"Y\"))","v":"Y"},null,{"$f":"IF(ISNA(MATCH(C223,#REF!,0)),IF(J223>0,\"\",1),\"\")","v":""}]
[221,"22 januari 1996","Het grote gat",null,null,null,null,null,null,250,null,null,null,null,null,{"$f":"IF(ISNA(MATCH(C224,#REF!,0)),\"\",IF(Q224=\"Y\",\"\",\"Y\"))","v":"Y"},null,{"$f":"IF(ISNA(MATCH(C224,#REF!,0)),IF(J224>0,\"\",1),\"\")","v":""}]
[222,"14 mei 1996","De verraderlijke Vinson",null,null,null,null,null,null,251,null,null,9,null,null,{"$f":"IF(ISNA(MATCH(C225,#REF!,0)),\"\",IF(Q225=\"Y\",\"\",\"Y\"))","v":"Y"},null,{"$f":"IF(ISNA(MATCH(C225,#REF!,0)),IF(J225>0,\"\",1),\"\")","v":""}]
[223,"juli 1996","Prachtige Pjotr",null,null,null,null,null,null,253,null,null,4,null,null,{"$f":"IF(ISNA(MATCH(C226,#REF!,0)),\"\",IF(Q226=\"Y\",\"\",\"Y\"))","v":"Y"},null,{"$f":"IF(ISNA(MATCH(C226,#REF!,0)),IF(J226>0,\"\",1),\"\")","v":""}]
[224,"1996-09-06","Volle maan",null,null,null,null,null,null,252,null,null,5,null,null,{"$f":"IF(ISNA(MATCH(C227,#REF!,0)),\"\",IF(Q227=\"Y\",\"\",\"Y\"))","v":"Y"},null,{"$f":"IF(ISNA(MATCH(C227,#REF!,0)),IF(J227>0,\"\",1),\"\")","v":""}]
[225,"1996-12-30","Tex en Terry",null,null,null,null,null,null,254,null,null,6,null,null,{"$f":"IF(ISNA(MATCH(C228,#REF!,0)),\"\",IF(Q228=\"Y\",\"\",\"Y\"))","v":"Y"},null,{"$f":"IF(ISNA(MATCH(C228,#REF!,0)),IF(J228>0,\"\",1),\"\")","v":""}]
[226,"1997-04-24","De mompelende mummie",null,null,null,null,null,null,255,null,null,2,null,null,{"$f":"IF(ISNA(MATCH(C229,#REF!,0)),\"\",IF(Q229=\"Y\",\"\",\"Y\"))","v":"Y"},null,{"$f":"IF(ISNA(MATCH(C229,#REF!,0)),IF(J229>0,\"\",1),\"\")","v":""}]
[227,"juni 1997","De gevederde slang",null,null,null,null,null,null,258,null,null,null,null,null,{"$f":"IF(ISNA(MATCH(C230,#REF!,0)),\"\",IF(Q230=\"Y\",\"\",\"Y\"))","v":"Y"},null,{"$f":"IF(ISNA(MATCH(C230,#REF!,0)),IF(J230>0,\"\",1),\"\")","v":""}]
[228,"1997-11-12","De vogels der goden",null,null,null,null,null,null,256,null,null,2,null,null,{"$f":"IF(ISNA(MATCH(C231,#REF!,0)),\"\",IF(Q231=\"Y\",\"\",\"Y\"))","v":"Y"},null,{"$f":"IF(ISNA(MATCH(C231,#REF!,0)),IF(J231>0,\"\",1),\"\")","v":""}]
[229,"1997-12-08","Amber",null,null,null,null,null,null,259,null,null,null,null,null,{"$f":"IF(ISNA(MATCH(C232,#REF!,0)),\"\",IF(Q232=\"Y\",\"\",\"Y\"))","v":"Y"},null,{"$f":"IF(ISNA(MATCH(C232,#REF!,0)),IF(J232>0,\"\",1),\"\")","v":""}]
[230,"31 maart 1998","De rebelse Reinaert",null,null,null,null,null,null,257,null,null,8,null,null,{"$f":"IF(ISNA(MATCH(C233,#REF!,0)),\"\",IF(Q233=\"Y\",\"\",\"Y\"))","v":"Y"},null,{"$f":"IF(ISNA(MATCH(C233,#REF!,0)),IF(J233>0,\"\",1),\"\")","v":""}]
[231,"1998-04-01","Het berenbeklag",null,null,null,null,null,null,261,null,null,null,null,null,{"$f":"IF(ISNA(MATCH(C234,#REF!,0)),\"\",IF(Q234=\"Y\",\"\",\"Y\"))","v":"Y"},null,{"$f":"IF(ISNA(MATCH(C234,#REF!,0)),IF(J234>0,\"\",1),\"\")","v":""}]
[232,"22 juli 1998","De bonte bollen",null,null,null,null,null,null,260,null,null,null,null,null,{"$f":"IF(ISNA(MATCH(C235,#REF!,0)),\"\",IF(Q235=\"Y\",\"\",\"Y\"))","v":"Y"},null,{"$f":"IF(ISNA(MATCH(C235,#REF!,0)),IF(J235>0,\"\",1),\"\")","v":""}]
[233,"1998-11-10","Het enge eiland",null,null,null,null,null,null,262,null,null,null,null,null,{"$f":"IF(ISNA(MATCH(C236,#REF!,0)),\"\",IF(Q236=\"Y\",\"\",\"Y\"))","v":"Y"},null,{"$f":"IF(ISNA(MATCH(C236,#REF!,0)),IF(J236>0,\"\",1),\"\")","v":""}]
[234,"2 maart 1999","Het verdronken land",null,null,null,null,null,null,263,null,null,null,null,null,{"$f":"IF(ISNA(MATCH(C237,#REF!,0)),\"\",IF(Q237=\"Y\",\"\",\"Y\"))","v":"Y"},null,{"$f":"IF(ISNA(MATCH(C237,#REF!,0)),IF(J237>0,\"\",1),\"\")","v":""}]
[235,"maart 1999","Papa Razzi",null,null,null,null,null,null,265,null,null,null,null,null,{"$f":"IF(ISNA(MATCH(C238,#REF!,0)),\"\",IF(Q238=\"Y\",\"\",\"Y\"))","v":"Y"},null,{"$f":"IF(ISNA(MATCH(C238,#REF!,0)),IF(J238>0,\"\",1),\"\")","v":""}]
[236,"23 juni 1999","Jeanne Panne",null,null,null,null,null,null,264,null,null,5,null,null,{"$f":"IF(ISNA(MATCH(C239,#REF!,0)),\"\",IF(Q239=\"Y\",\"\",\"Y\"))","v":"Y"},null,{"$f":"IF(ISNA(MATCH(C239,#REF!,0)),IF(J239>0,\"\",1),\"\")","v":""}]
[237,"11 oktober 1999","De kernmonsters",null,null,null,null,null,null,266,null,null,null,null,null,{"$f":"IF(ISNA(MATCH(C240,#REF!,0)),\"\",IF(Q240=\"Y\",\"\",\"Y\"))","v":"Y"},null,{"$f":"IF(ISNA(MATCH(C240,#REF!,0)),IF(J240>0,\"\",1),\"\")","v":""}]
[238,"1 februari 2000","Lilli Natal",null,null,null,null,null,null,267,null,null,2,null,null,{"$f":"IF(ISNA(MATCH(C241,#REF!,0)),\"\",IF(Q241=\"Y\",\"\",\"Y\"))","v":"Y"},null,{"$f":"IF(ISNA(MATCH(C241,#REF!,0)),IF(J241>0,\"\",1),\"\")","v":""}]
[239,"februari 2000","De stugge Stuyvesant",null,null,null,null,null,null,269,null,null,null,null,null,{"$f":"IF(ISNA(MATCH(C242,#REF!,0)),\"\",IF(Q242=\"Y\",\"\",\"Y\"))","v":"Y"},null,{"$f":"IF(ISNA(MATCH(C242,#REF!,0)),IF(J242>0,\"\",1),\"\")","v":""}]
[240,"22 mei 2000","De koeiencommissie",null,null,null,null,null,null,268,null,null,null,null,null,{"$f":"IF(ISNA(MATCH(C243,#REF!,0)),\"\",IF(Q243=\"Y\",\"\",\"Y\"))","v":"Y"},null,{"$f":"IF(ISNA(MATCH(C243,#REF!,0)),IF(J243>0,\"\",1),\"\")","v":""}]
[241,"2000-09-12","De ongelooflijke Thomas",null,null,null,null,null,null,270,null,null,null,null,null,{"$f":"IF(ISNA(MATCH(C244,#REF!,0)),\"\",IF(Q244=\"Y\",\"\",\"Y\"))","v":"Y"},null,{"$f":"IF(ISNA(MATCH(C244,#REF!,0)),IF(J244>0,\"\",1),\"\")","v":""}]
[242,"3 januari 2001","Big Mother",null,null,null,null,null,null,271,null,null,null,null,null,{"$f":"IF(ISNA(MATCH(C245,#REF!,0)),\"\",IF(Q245=\"Y\",\"\",\"Y\"))","v":"Y"},null,{"$f":"IF(ISNA(MATCH(C245,#REF!,0)),IF(J245>0,\"\",1),\"\")","v":""}]
[243,"3 januari 2001","De europummel",null,null,null,null,null,null,273,null,null,null,null,null,{"$f":"IF(ISNA(MATCH(C246,#REF!,0)),\"\",IF(Q246=\"Y\",\"\",\"Y\"))","v":"Y"},null,{"$f":"IF(ISNA(MATCH(C246,#REF!,0)),IF(J246>0,\"\",1),\"\")","v":""}]
[244,"2001-04-09","De blote Belg",null,null,null,null,null,null,272,null,null,null,null,null,{"$f":"IF(ISNA(MATCH(C247,#REF!,0)),\"\",IF(Q247=\"Y\",\"\",\"Y\"))","v":"Y"},null,{"$f":"IF(ISNA(MATCH(C247,#REF!,0)),IF(J247>0,\"\",1),\"\")","v":""}]
[245,"1905-06-23","De olijke opruimers",null,null,null,null,null,null,null,null,null,null,null,null,{"$f":"IF(ISNA(MATCH(C248,#REF!,0)),\"\",IF(Q248=\"Y\",\"\",\"Y\"))","v":"Y"},null,{"$f":"IF(ISNA(MATCH(C248,#REF!,0)),IF(J248>0,\"\",1),\"\")","v":""}]
[246,"2 augustus 2001","De fleurige Floriade",null,null,null,null,null,null,274,null,null,null,null,null,{"$f":"IF(ISNA(MATCH(C249,#REF!,0)),\"\",IF(Q249=\"Y\",\"\",\"Y\"))","v":"Y"},null,{"$f":"IF(ISNA(MATCH(C249,#REF!,0)),IF(J249>0,\"\",1),\"\")","v":""}]
[247,"2001-11-19","De kunstkraker",null,null,null,null,null,null,278,null,null,null,null,null,{"$f":"IF(ISNA(MATCH(C250,#REF!,0)),\"\",IF(Q250=\"Y\",\"\",\"Y\"))","v":"Y"},null,{"$f":"IF(ISNA(MATCH(C250,#REF!,0)),IF(J250>0,\"\",1),\"\")","v":""}]
[248,"2001-11-21","Heilig bloed",null,null,null,null,null,null,275,null,null,null,null,null,{"$f":"IF(ISNA(MATCH(C251,#REF!,0)),\"\",IF(Q251=\"Y\",\"\",\"Y\"))","v":"Y"},null,{"$f":"IF(ISNA(MATCH(C251,#REF!,0)),IF(J251>0,\"\",1),\"\")","v":""}]
[249,"12 maart 2002","In de ban van de Milt",null,null,null,null,null,null,276,null,null,null,null,null,{"$f":"IF(ISNA(MATCH(C252,#REF!,0)),\"\",IF(Q252=\"Y\",\"\",\"Y\"))","v":"Y"},null,{"$f":"IF(ISNA(MATCH(C252,#REF!,0)),IF(J252>0,\"\",1),\"\")","v":""}]
[250,"3 juli 2002","De verdwenen verteller",null,null,null,null,null,null,277,null,null,null,null,null,{"$f":"IF(ISNA(MATCH(C253,#REF!,0)),\"\",IF(Q253=\"Y\",\"\",\"Y\"))","v":"Y"},null,{"$f":"IF(ISNA(MATCH(C253,#REF!,0)),IF(J253>0,\"\",1),\"\")","v":""}]
[251,"2002-09-09","De ludieke les",null,null,null,null,null,null,null,null,null,null,null,null,{"$f":"IF(ISNA(MATCH(C254,#REF!,0)),\"\",IF(Q254=\"Y\",\"\",\"Y\"))","v":"Y"},null,{"$f":"IF(ISNA(MATCH(C254,#REF!,0)),IF(J254>0,\"\",1),\"\")","v":""}]
[252,"21 oktober 2002","De laatste vloek",null,null,null,null,null,null,279,null,null,null,null,null,{"$f":"IF(ISNA(MATCH(C255,#REF!,0)),\"\",IF(Q255=\"Y\",\"\",\"Y\"))","v":"Y"},null,{"$f":"IF(ISNA(MATCH(C255,#REF!,0)),IF(J255>0,\"\",1),\"\")","v":""}]
[253,"11 februari 2003","De kus van Odfella",null,null,null,null,null,null,280,null,null,null,null,null,{"$f":"IF(ISNA(MATCH(C256,#REF!,0)),\"\",IF(Q256=\"Y\",\"\",\"Y\"))","v":"Y"},null,{"$f":"IF(ISNA(MATCH(C256,#REF!,0)),IF(J256>0,\"\",1),\"\")","v":""}]
[254,"3 juni 2003","De gevangene van Prisonov",null,null,null,null,null,null,281,null,null,null,null,null,{"$f":"IF(ISNA(MATCH(C257,#REF!,0)),\"\",IF(Q257=\"Y\",\"\",\"Y\"))","v":"Y"},null,{"$f":"IF(ISNA(MATCH(C257,#REF!,0)),IF(J257>0,\"\",1),\"\")","v":""}]
[255,"2003-09-23","De breinbrekers",null,null,null,null,null,null,282,null,null,null,null,null,{"$f":"IF(ISNA(MATCH(C258,#REF!,0)),\"\",IF(Q258=\"Y\",\"\",\"Y\"))","v":"Y"},null,{"$f":"IF(ISNA(MATCH(C258,#REF!,0)),IF(J258>0,\"\",1),\"\")","v":""}]
[256,"14 januari 2004","Paniek in Palermo",null,null,null,null,null,null,283,null,null,null,null,null,{"$f":"IF(ISNA(MATCH(C259,#REF!,0)),\"\",IF(Q259=\"Y\",\"\",\"Y\"))","v":"Y"},null,{"$f":"IF(ISNA(MATCH(C259,#REF!,0)),IF(J259>0,\"\",1),\"\")","v":""}]
[257,"februari 2004","De koppige kluizenaar",null,null,null,null,null,null,null,null,null,null,null,null,{"$f":"IF(ISNA(MATCH(C260,#REF!,0)),\"\",IF(Q260=\"Y\",\"\",\"Y\"))","v":"Y"}]
[258,"4 mei 2004","Kaapse kaalkoppen",null,null,null,null,null,null,284,null,null,null,null,null,{"$f":"IF(ISNA(MATCH(C261,#REF!,0)),\"\",IF(Q261=\"Y\",\"\",\"Y\"))","v":"Y"}]
[259,"14 mei 2004","De guitige gast",null,null,null,null,null,null,null,null,null,null,null,null,{"$f":"IF(ISNA(MATCH(C262,#REF!,0)),\"\",IF(Q262=\"Y\",\"\",\"Y\"))","v":"Y"},null,{"$f":"IF(ISNA(MATCH(C262,#REF!,0)),IF(J262>0,\"\",1),\"\")","v":""}]
[260,"24 augustus 2004","Verraad op de Veluwe",null,null,null,null,null,null,285,null,null,null,null,null,{"$f":"IF(ISNA(MATCH(C263,#REF!,0)),\"\",IF(Q263=\"Y\",\"\",\"Y\"))","v":"Y"},null,{"$f":"IF(ISNA(MATCH(C263,#REF!,0)),IF(J263>0,\"\",1),\"\")","v":""}]
[261,"30 oktober 2004","De razende rentmeester",null,null,null,null,null,null,null,null,null,null,null,null,{"$f":"IF(ISNA(MATCH(C264,#REF!,0)),\"\",IF(Q264=\"Y\",\"\",\"Y\"))","v":"Y"},null,{"$f":"IF(ISNA(MATCH(C264,#REF!,0)),IF(J264>0,\"\",1),\"\")","v":""}]
[262,"2004-12-13","De flierende fluiter",null,null,null,null,null,null,286,null,null,null,null,null,{"$f":"IF(ISNA(MATCH(C265,#REF!,0)),\"\",IF(Q265=\"Y\",\"\",\"Y\"))","v":"Y"},null,{"$f":"IF(ISNA(MATCH(C265,#REF!,0)),IF(J265>0,\"\",1),\"\")","v":""}]
[263,"2005-04-04","De formidabele fantast",null,null,null,null,null,null,287,null,null,null,null,null,{"$f":"IF(ISNA(MATCH(C266,#REF!,0)),\"\",IF(Q266=\"Y\",\"\",\"Y\"))","v":"Y"},null,{"$f":"IF(ISNA(MATCH(C266,#REF!,0)),IF(J266>0,\"\",1),\"\")","v":""}]
[264,"2005-04-23","Het mopperende masker",null,null,null,null,null,null,290,null,null,null,null,null,{"$f":"IF(ISNA(MATCH(C267,#REF!,0)),\"\",IF(Q267=\"Y\",\"\",\"Y\"))","v":"Y"},null,{"$f":"IF(ISNA(MATCH(C267,#REF!,0)),IF(J267>0,\"\",1),\"\")","v":""}]
[265,"25 juli 2005","Het slapende goud",null,null,null,null,null,null,288,null,null,null,null,null,{"$f":"IF(ISNA(MATCH(C268,#REF!,0)),\"\",IF(Q268=\"Y\",\"\",\"Y\"))","v":"Y"},null,{"$f":"IF(ISNA(MATCH(C268,#REF!,0)),IF(J268>0,\"\",1),\"\")","v":""}]
[266,"2005-09-01","De lepe luis",null,null,null,null,null,null,null,null,null,null,null,null,{"$f":"IF(ISNA(MATCH(C269,#REF!,0)),\"\",IF(Q269=\"Y\",\"\",\"Y\"))","v":"Y"},null,{"$f":"IF(ISNA(MATCH(C269,#REF!,0)),IF(J269>0,\"\",1),\"\")","v":""}]
[267,"2005-09-24","De energieke guiten",null,null,null,null,null,null,null,null,null,null,null,null,{"$f":"IF(ISNA(MATCH(C270,#REF!,0)),\"\",IF(Q270=\"Y\",\"\",\"Y\"))","v":"Y"},null,{"$f":"IF(ISNA(MATCH(C270,#REF!,0)),IF(J270>0,\"\",1),\"\")","v":""}]
[268,"1 oktober 2005","De blikken blutser",null,null,null,null,null,null,290,null,null,null,null,null,{"$f":"IF(ISNA(MATCH(C271,#REF!,0)),\"\",IF(Q271=\"Y\",\"\",\"Y\"))","v":"Y"},null,{"$f":"IF(ISNA(MATCH(C271,#REF!,0)),IF(J271>0,\"\",1),\"\")","v":""}]
[269,"2005-11-14","De kaduke klonen",null,null,null,null,null,null,289,null,null,null,null,null,{"$f":"IF(ISNA(MATCH(C272,#REF!,0)),\"\",IF(Q272=\"Y\",\"\",\"Y\"))","v":"Y"},null,{"$f":"IF(ISNA(MATCH(C272,#REF!,0)),IF(J272>0,\"\",1),\"\")","v":""}]
[270,"2005-12-01","De sinistere site",null,null,null,null,null,null,null,null,null,null,null,null,{"$f":"IF(ISNA(MATCH(C273,#REF!,0)),\"\",IF(Q273=\"Y\",\"\",\"Y\"))","v":"Y"},null,{"$f":"IF(ISNA(MATCH(C273,#REF!,0)),IF(J273>0,\"\",1),\"\")","v":""}]
[271,"2 maart 2006","De bangeschieters",null,null,null,null,null,null,291,null,null,21,null,null,{"$f":"IF(ISNA(MATCH(C274,#REF!,0)),\"\",IF(Q274=\"Y\",\"\",\"Y\"))","v":"Y"},null,{"$f":"IF(ISNA(MATCH(C274,#REF!,0)),IF(J274>0,\"\",1),\"\")","v":""}]
[272,"4 maart 2006","De primitieve paljassen",null,null,null,null,null,null,null,null,null,null,null,null,{"$f":"IF(ISNA(MATCH(C275,#REF!,0)),\"\",IF(Q275=\"Y\",\"\",\"Y\"))","v":"Y"},null,{"$f":"IF(ISNA(MATCH(C275,#REF!,0)),IF(J275>0,\"\",1),\"\")","v":""}]
[273,"9 juni 2006","De pronte professor",null,null,null,null,null,null,null,null,null,null,null,null,{"$f":"IF(ISNA(MATCH(C276,#REF!,0)),\"\",IF(Q276=\"Y\",\"\",\"Y\"))","v":"Y"},null,{"$f":"IF(ISNA(MATCH(C276,#REF!,0)),IF(J276>0,\"\",1),\"\")","v":""}]
[274,"22 juni 2006","De nachtwachtbrigade",null,null,null,null,null,null,292,null,null,null,null,null,{"$f":"IF(ISNA(MATCH(C277,#REF!,0)),\"\",IF(Q277=\"Y\",\"\",\"Y\"))","v":"Y"},null,{"$f":"IF(ISNA(MATCH(C277,#REF!,0)),IF(J277>0,\"\",1),\"\")","v":""}]
[275,"5 augustus 2006","Sinjeur Stekkepoot",null,null,null,null,null,null,null,null,null,null,null,null,{"$f":"IF(ISNA(MATCH(C278,#REF!,0)),\"\",IF(Q278=\"Y\",\"\",\"Y\"))","v":"Y"},null,{"$f":"IF(ISNA(MATCH(C278,#REF!,0)),IF(J278>0,\"\",1),\"\")","v":""}]
[276,"26 augustus 2006","De vergeten vluchtelingen",null,null,null,null,null,null,null,null,null,null,null,null,{"$f":"IF(ISNA(MATCH(C279,#REF!,0)),\"\",IF(Q279=\"Y\",\"\",\"Y\"))","v":"Y"},null,{"$f":"IF(ISNA(MATCH(C279,#REF!,0)),IF(J279>0,\"\",1),\"\")","v":""}]
[277,"augustus 2006","De terugkeer van de lepe luis",null,null,null,null,null,null,null,null,null,null,null,null,{"$f":"IF(ISNA(MATCH(C280,#REF!,0)),\"\",IF(Q280=\"Y\",\"\",\"Y\"))","v":"Y"},null,{"$f":"IF(ISNA(MATCH(C280,#REF!,0)),IF(J280>0,\"\",1),\"\")","v":""}]
[278,"2006-09-17","Het rinkelende raderwerk",null,null,null,null,null,null,null,null,null,null,null,null,{"$f":"IF(ISNA(MATCH(C281,#REF!,0)),\"\",IF(Q281=\"Y\",\"\",\"Y\"))","v":"Y"},null,{"$f":"IF(ISNA(MATCH(C281,#REF!,0)),IF(J281>0,\"\",1),\"\")","v":""}]
[279,"11 oktober 2006","De kaperkoters",null,null,null,null,null,null,293,null,null,null,null,null,{"$f":"IF(ISNA(MATCH(C282,#REF!,0)),\"\",IF(Q282=\"Y\",\"\",\"Y\"))","v":"Y"},null,{"$f":"IF(ISNA(MATCH(C282,#REF!,0)),IF(J282>0,\"\",1),\"\")","v":""}]
[280,"2006-11-26","De weerwaterman",null,null,null,null,null,null,null,null,null,null,null,null,{"$f":"IF(ISNA(MATCH(C283,#REF!,0)),\"\",IF(Q283=\"Y\",\"\",\"Y\"))","v":"Y"},null,{"$f":"IF(ISNA(MATCH(C283,#REF!,0)),IF(J283>0,\"\",1),\"\")","v":""}]
[281,"6 januari 2007","De microkomiek",null,null,null,null,null,null,null,null,null,null,null,null,{"$f":"IF(ISNA(MATCH(C284,#REF!,0)),\"\",IF(Q284=\"Y\",\"\",\"Y\"))","v":"Y"},null,{"$f":"IF(ISNA(MATCH(C284,#REF!,0)),IF(J284>0,\"\",1),\"\")","v":""}]
[282,"1 februari 2007","De tikkende tinkan",null,null,null,null,null,null,294,null,null,null,null,null,{"$f":"IF(ISNA(MATCH(C285,#REF!,0)),\"\",IF(Q285=\"Y\",\"\",\"Y\"))","v":"Y"},null,{"$f":"IF(ISNA(MATCH(C285,#REF!,0)),IF(J285>0,\"\",1),\"\")","v":""}]
[283,"2 mei 2007","De krasse kroko",null,null,null,null,null,null,295,null,null,null,null,null,{"$f":"IF(ISNA(MATCH(C286,#REF!,0)),\"\",IF(Q286=\"Y\",\"\",\"Y\"))","v":"Y"},null,{"$f":"IF(ISNA(MATCH(C286,#REF!,0)),IF(J286>0,\"\",1),\"\")","v":""}]
[284,"24 mei 2007","De curieuze neuzen",null,null,null,null,null,null,296,null,null,null,null,null,{"$f":"IF(ISNA(MATCH(C287,#REF!,0)),\"\",IF(Q287=\"Y\",\"\",\"Y\"))","v":"Y"},null,{"$f":"IF(ISNA(MATCH(C287,#REF!,0)),IF(J287>0,\"\",1),\"\")","v":""}]
[285,"9 juni 2007","De venijnige vanger",null,null,null,null,null,null,null,null,null,null,null,null,{"$f":"IF(ISNA(MATCH(C288,#REF!,0)),\"\",IF(Q288=\"Y\",\"\",\"Y\"))","v":"Y"},null,{"$f":"IF(ISNA(MATCH(C288,#REF!,0)),IF(J288>0,\"\",1),\"\")","v":""}]
[286,"2007-09-13","De joviale Gille",null,null,null,null,null,null,297,null,null,null,null,null,{"$f":"IF(ISNA(MATCH(C289,#REF!,0)),\"\",IF(Q289=\"Y\",\"\",\"Y\"))","v":"Y"},null,{"$f":"IF(ISNA(MATCH(C289,#REF!,0)),IF(J289>0,\"\",1),\"\")","v":""}]
[287,"2007-11-10","De treiterende trien",null,null,null,null,null,null,null,null,null,null,null,null,{"$f":"IF(ISNA(MATCH(C290,#REF!,0)),\"\",IF(Q290=\"Y\",\"\",\"Y\"))","v":"Y"},null,{"$f":"IF(ISNA(MATCH(C290,#REF!,0)),IF(J290>0,\"\",1),\"\")","v":""}]
[288,"2007-12-12","De elfstedenstunt",null,null,null,null,null,null,298,null,null,null,null,null,{"$f":"IF(ISNA(MATCH(C291,#REF!,0)),\"\",IF(Q291=\"Y\",\"\",\"Y\"))","v":"Y"},null,{"$f":"IF(ISNA(MATCH(C291,#REF!,0)),IF(J291>0,\"\",1),\"\")","v":""}]
[289,"12 maart 2008","Het babbelende bad",null,null,null,null,null,null,299,null,null,null,null,null,{"$f":"IF(ISNA(MATCH(C292,#REF!,0)),\"\",IF(Q292=\"Y\",\"\",\"Y\"))","v":"Y"},null,{"$f":"IF(ISNA(MATCH(C292,#REF!,0)),IF(J292>0,\"\",1),\"\")","v":""}]
[290,"2008-04-01","De toetercup",null,null,null,null,null,null,null,null,null,null,null,null,{"$f":"IF(ISNA(MATCH(C293,#REF!,0)),\"\",IF(Q293=\"Y\",\"\",\"Y\"))","v":"Y"},null,{"$f":"IF(ISNA(MATCH(C293,#REF!,0)),IF(J293>0,\"\",1),\"\")","v":""}]
[291,"2008-04-22","Het machtige monument",null,null,null,null,null,null,300,null,null,null,null,null,{"$f":"IF(ISNA(MATCH(C294,#REF!,0)),\"\",IF(Q294=\"Y\",\"\",\"Y\"))","v":"Y"},null,{"$f":"IF(ISNA(MATCH(C294,#REF!,0)),IF(J294>0,\"\",1),\"\")","v":""}]
[292,"2008-04-01","De bosbollebozen",null,null,null,null,null,null,null,null,null,null,null,null,{"$f":"IF(ISNA(MATCH(C295,#REF!,0)),\"\",IF(Q295=\"Y\",\"\",\"Y\"))","v":"Y"},null,{"$f":"IF(ISNA(MATCH(C295,#REF!,0)),IF(J295>0,\"\",1),\"\")","v":""}]
[293,"12 augustus 2008","De dartele draak",null,null,null,null,null,null,301,null,null,null,null,null,{"$f":"IF(ISNA(MATCH(C296,#REF!,0)),\"\",IF(Q296=\"Y\",\"\",\"Y\"))","v":"Y"},null,{"$f":"IF(ISNA(MATCH(C296,#REF!,0)),IF(J296>0,\"\",1),\"\")","v":""}]
[294,"2008-09-13","De kribbige krab",null,null,null,null,null,null,null,null,null,null,null,null,{"$f":"IF(ISNA(MATCH(C297,#REF!,0)),\"\",IF(Q297=\"Y\",\"\",\"Y\"))","v":"Y"},null,{"$f":"IF(ISNA(MATCH(C297,#REF!,0)),IF(J297>0,\"\",1),\"\")","v":""}]
[295,"2008-12-02","De knikkende knoken",null,null,null,null,null,null,303,null,null,null,null,null,{"$f":"IF(ISNA(MATCH(C298,#REF!,0)),\"\",IF(Q298=\"Y\",\"\",\"Y\"))","v":"Y"},null,{"$f":"IF(ISNA(MATCH(C298,#REF!,0)),IF(J298>0,\"\",1),\"\")","v":""}]
[296,"2008-12-12","De sterrensteen",null,null,null,null,null,null,302,null,null,null,null,null,{"$f":"IF(ISNA(MATCH(C299,#REF!,0)),\"\",IF(Q299=\"Y\",\"\",\"Y\"))","v":"Y"},null,{"$f":"IF(ISNA(MATCH(C299,#REF!,0)),IF(J299>0,\"\",1),\"\")","v":""}]
[297,"14 februari 2009","De werken van Lambik",null,null,null,null,null,null,null,null,null,null,null,null,{"$f":"IF(ISNA(MATCH(C300,#REF!,0)),\"\",IF(Q300=\"Y\",\"\",\"Y\"))","v":"Y"},null,{"$f":"IF(ISNA(MATCH(C300,#REF!,0)),IF(J300>0,\"\",1),\"\")","v":""}]
[298,"20 mei 2009","De jokkende joker",null,null,null,null,null,null,304,null,null,null,null,null,{"$f":"IF(ISNA(MATCH(C301,#REF!,0)),\"\",IF(Q301=\"Y\",\"\",\"Y\"))","v":"Y"},null,{"$f":"IF(ISNA(MATCH(C301,#REF!,0)),IF(J301>0,\"\",1),\"\")","v":""}]
[299,"14 juli 2009","De tijdbobijn",null,null,null,null,null,null,305,null,null,null,null,null,{"$f":"IF(ISNA(MATCH(C302,#REF!,0)),\"\",IF(Q302=\"Y\",\"\",\"Y\"))","v":"Y"},null,{"$f":"IF(ISNA(MATCH(C302,#REF!,0)),IF(J302>0,\"\",1),\"\")","v":""}]
[300,"18 juli 2009","De kokende kei",null,null,null,null,null,null,null,null,null,null,null,null,{"$f":"IF(ISNA(MATCH(C303,#REF!,0)),\"\",IF(Q303=\"Y\",\"\",\"Y\"))","v":"Y"},null,{"$f":"IF(ISNA(MATCH(C303,#REF!,0)),IF(J303>0,\"\",1),\"\")","v":""}]
[301,"2009-11-02","De rillende rots",null,null,null,null,null,null,307,null,null,null,null,null,{"$f":"IF(ISNA(MATCH(C304,#REF!,0)),\"\",IF(Q304=\"Y\",\"\",\"Y\"))","v":"Y"},null,{"$f":"IF(ISNA(MATCH(C304,#REF!,0)),IF(J304>0,\"\",1),\"\")","v":""}]
[302,"2009-11-18","De stralende staf",null,null,null,null,null,null,306,null,null,null,null,null,{"$f":"IF(ISNA(MATCH(C305,#REF!,0)),\"\",IF(Q305=\"Y\",\"\",\"Y\"))","v":"Y"},null,{"$f":"IF(ISNA(MATCH(C305,#REF!,0)),IF(J305>0,\"\",1),\"\")","v":""}]
[303,"2009-12-19","Krimson break",null,null,null,null,null,null,null,null,null,null,null,null,{"$f":"IF(ISNA(MATCH(C306,#REF!,0)),\"\",IF(Q306=\"Y\",\"\",\"Y\"))","v":"Y"},null,{"$f":"IF(ISNA(MATCH(C306,#REF!,0)),IF(J306>0,\"\",1),\"\")","v":""}]
[304,"22 februari 2010","De gamegoeroe",null,null,null,null,null,null,308,null,null,null,null,null,{"$f":"IF(ISNA(MATCH(C307,#REF!,0)),\"\",IF(Q307=\"Y\",\"\",\"Y\"))","v":"Y"},null,{"$f":"IF(ISNA(MATCH(C307,#REF!,0)),IF(J307>0,\"\",1),\"\")","v":""}]
[305,"22 mei 2010","Juffertje Janboel",null,null,null,null,null,null,null,null,null,null,null,null,{"$f":"IF(ISNA(MATCH(C308,#REF!,0)),\"\",IF(Q308=\"Y\",\"\",\"Y\"))","v":"Y"},null,{"$f":"IF(ISNA(MATCH(C308,#REF!,0)),IF(J308>0,\"\",1),\"\")","v":""}]
[306,"15 juni 2010","De halve Havelaar",null,null,null,null,null,null,310,null,null,null,null,null,{"$f":"IF(ISNA(MATCH(C309,#REF!,0)),\"\",IF(Q309=\"Y\",\"\",\"Y\"))","v":"Y"},null,{"$f":"IF(ISNA(MATCH(C309,#REF!,0)),IF(J309>0,\"\",1),\"\")","v":""}]
[307,"13 juli 2010","De meteomachine",null,null,null,null,null,null,null,null,null,null,null,null,{"$f":"IF(ISNA(MATCH(C310,#REF!,0)),\"\",IF(Q310=\"Y\",\"\",\"Y\"))","v":"Y"},null,{"$f":"IF(ISNA(MATCH(C310,#REF!,0)),IF(J310>0,\"\",1),\"\")","v":""},"ok met spatie"]
[308,"14 juli 2010","De watersater",null,null,null,null,null,null,309,null,null,null,null,null,{"$f":"IF(ISNA(MATCH(C311,#REF!,0)),\"\",IF(Q311=\"Y\",\"\",\"Y\"))","v":"Y"},null,{"$f":"IF(ISNA(MATCH(C311,#REF!,0)),IF(J311>0,\"\",1),\"\")","v":""}]
[309,"2010-09-01","De barre bacterie",null,null,null,null,null,null,null,null,null,null,null,null,{"$f":"IF(ISNA(MATCH(C312,#REF!,0)),\"\",IF(Q312=\"Y\",\"\",\"Y\"))","v":"Y"},null,{"$f":"IF(ISNA(MATCH(C312,#REF!,0)),IF(J312>0,\"\",1),\"\")","v":""}]
[310,"2 oktober 2010","De stuivende stad",null,null,null,null,null,null,311,null,null,null,null,null,{"$f":"IF(ISNA(MATCH(C313,#REF!,0)),\"\",IF(Q313=\"Y\",\"\",\"Y\"))","v":"Y"},null,{"$f":"IF(ISNA(MATCH(C313,#REF!,0)),IF(J313>0,\"\",1),\"\")","v":""}]
[311,"23 oktober 2010","Taxi Tata",null,null,null,null,null,null,334,null,null,null,null,null,{"$f":"IF(ISNA(MATCH(C314,#REF!,0)),\"\",IF(Q314=\"Y\",\"\",\"Y\"))","v":"Y"},null,{"$f":"IF(ISNA(MATCH(C314,#REF!,0)),IF(J314>0,\"\",1),\"\")","v":""}]
[312,"24 januari 2011","De kwakende queen",null,null,null,null,null,null,313,null,null,null,null,null,{"$f":"IF(ISNA(MATCH(C315,#REF!,0)),\"\",IF(Q315=\"Y\",\"\",\"Y\"))","v":"Y"},null,{"$f":"IF(ISNA(MATCH(C315,#REF!,0)),IF(J315>0,\"\",1),\"\")","v":""}]
[313,"9 maart 2011","De zappende ziel",null,null,null,null,null,null,312,null,null,null,null,null,{"$f":"IF(ISNA(MATCH(C316,#REF!,0)),\"\",IF(Q316=\"Y\",\"\",\"Y\"))","v":"Y"},null,{"$f":"IF(ISNA(MATCH(C316,#REF!,0)),IF(J316>0,\"\",1),\"\")","v":""}]
[314,"26 maart 2011","Expeditie Robikson",null,null,null,null,null,null,334,null,null,null,null,null,{"$f":"IF(ISNA(MATCH(C317,#REF!,0)),\"\",IF(Q317=\"Y\",\"\",\"Y\"))","v":"Y"},null,{"$f":"IF(ISNA(MATCH(C317,#REF!,0)),IF(J317>0,\"\",1),\"\")","v":""}]
[315,"13 mei 2011","Het lijdende Leiden",null,null,null,null,null,null,314,null,null,null,null,null,{"$f":"IF(ISNA(MATCH(C318,#REF!,0)),\"\",IF(Q318=\"Y\",\"\",\"Y\"))","v":"Y"},null,{"$f":"IF(ISNA(MATCH(C318,#REF!,0)),IF(J318>0,\"\",1),\"\")","v":""}]
[316,"27 augustus 2011","De spottende spiegel",null,null,null,null,null,null,null,null,null,null,null,null,{"$f":"IF(ISNA(MATCH(C319,#REF!,0)),\"\",IF(Q319=\"Y\",\"\",\"Y\"))","v":"Y"},null,{"$f":"IF(ISNA(MATCH(C319,#REF!,0)),IF(J319>0,\"\",1),\"\")","v":""}]
[317,"2011-09-03","De bananenzangers",null,null,null,null,null,null,315,null,null,null,null,null,{"$f":"IF(ISNA(MATCH(C320,#REF!,0)),\"\",IF(Q320=\"Y\",\"\",\"Y\"))","v":"Y"},null,{"$f":"IF(ISNA(MATCH(C320,#REF!,0)),IF(J320>0,\"\",1),\"\")","v":""}]
[318,"2011-12-23","Krimsonia",null,null,null,null,null,null,316,null,null,null,null,null,{"$f":"IF(ISNA(MATCH(C321,#REF!,0)),\"\",IF(Q321=\"Y\",\"\",\"Y\"))","v":"Y"},null,{"$f":"IF(ISNA(MATCH(C321,#REF!,0)),IF(J321>0,\"\",1),\"\")","v":""}]
[319,"1905-07-03","De laaiende linies",null,null,null,null,null,null,null,null,null,null,null,null,{"$f":"IF(ISNA(MATCH(C322,#REF!,0)),\"\",IF(Q322=\"Y\",\"\",\"Y\"))","v":"Y"},null,{"$f":"IF(ISNA(MATCH(C322,#REF!,0)),IF(J322>0,\"\",1),\"\")","v":""}]
[320,"28 januari 2012","Het vurige Vitamitje",null,null,null,null,null,null,null,null,null,null,null,null,{"$f":"IF(ISNA(MATCH(C323,#REF!,0)),\"\",IF(Q323=\"Y\",\"\",\"Y\"))","v":"Y"},null,{"$f":"IF(ISNA(MATCH(C323,#REF!,0)),IF(J323>0,\"\",1),\"\")","v":""}]
[321,"2012-04-11","Het bizarre blok",null,null,null,null,null,null,317,null,null,null,null,null,{"$f":"IF(ISNA(MATCH(C324,#REF!,0)),\"\",IF(Q324=\"Y\",\"\",\"Y\"))","v":"Y"},null,{"$f":"IF(ISNA(MATCH(C324,#REF!,0)),IF(J324>0,\"\",1),\"\")","v":""}]
[322,"30 juni 2012","De coole Kastaar",null,null,null,null,null,null,null,null,null,null,null,null,{"$f":"IF(ISNA(MATCH(C325,#REF!,0)),\"\",IF(Q325=\"Y\",\"\",\"Y\"))","v":"Y"},null,{"$f":"IF(ISNA(MATCH(C325,#REF!,0)),IF(J325>0,\"\",1),\"\")","v":""}]
[323,"2 augustus 2012","Suske de rat",null,null,null,null,null,null,319,null,null,null,null,null,{"$f":"IF(ISNA(MATCH(C326,#REF!,0)),\"\",IF(Q326=\"Y\",\"\",\"Y\"))","v":"Y"},null,{"$f":"IF(ISNA(MATCH(C326,#REF!,0)),IF(J326>0,\"\",1),\"\")","v":""}]
[324,"8 augustus 2012","De suikerslaven",null,null,null,null,null,null,318,null,null,null,null,null,{"$f":"IF(ISNA(MATCH(C327,#REF!,0)),\"\",IF(Q327=\"Y\",\"\",\"Y\"))","v":"Y"},null,{"$f":"IF(ISNA(MATCH(C327,#REF!,0)),IF(J327>0,\"\",1),\"\")","v":""}]
[325,"2012-11-13","De tirannieke tor",null,null,null,null,null,null,320,null,null,null,null,null,{"$f":"IF(ISNA(MATCH(C328,#REF!,0)),\"\",IF(Q328=\"Y\",\"\",\"Y\"))","v":"Y"},null,{"$f":"IF(ISNA(MATCH(C328,#REF!,0)),IF(J328>0,\"\",1),\"\")","v":""}]
[326,"2012-11-21","Het ijzeren duel",null,null,null,null,null,null,321,null,null,null,null,null,{"$f":"IF(ISNA(MATCH(C329,#REF!,0)),\"\",IF(Q329=\"Y\",\"\",\"Y\"))","v":"Y"},null,{"$f":"IF(ISNA(MATCH(C329,#REF!,0)),IF(J329>0,\"\",1),\"\")","v":""}]
[327,"15 juni 2013","De witte wraak",null,null,null,null,null,null,null,null,null,null,null,null,{"$f":"IF(ISNA(MATCH(C330,#REF!,0)),\"\",IF(Q330=\"Y\",\"\",\"Y\"))","v":"Y"},null,{"$f":"IF(ISNA(MATCH(C330,#REF!,0)),IF(J330>0,\"\",1),\"\")","v":""}]
[328,"19 juni 2013","De vliegende rivier",null,null,null,null,null,null,322,null,null,null,null,null,{"$f":"IF(ISNA(MATCH(C331,#REF!,0)),\"\",IF(Q331=\"Y\",\"\",\"Y\"))","v":"Y"},null,{"$f":"IF(ISNA(MATCH(C331,#REF!,0)),IF(J331>0,\"\",1),\"\")","v":""}]
[329,"juni 2013","De bloedbroeder",null,null,null,null,null,null,null,null,null,null,null,null,{"$f":"IF(ISNA(MATCH(C332,#REF!,0)),\"\",IF(Q332=\"Y\",\"\",\"Y\"))","v":"Y"},null,{"$f":"IF(ISNA(MATCH(C332,#REF!,0)),IF(J332>0,\"\",1),\"\")","v":""}]
[330,"2013-09-11","Barabas de Balorige",null,null,null,null,null,null,323,null,null,null,null,null,{"$f":"IF(ISNA(MATCH(C333,#REF!,0)),\"\",IF(Q333=\"Y\",\"\",\"Y\"))","v":"Y"},null,{"$f":"IF(ISNA(MATCH(C333,#REF!,0)),IF(J333>0,\"\",1),\"\")","v":""}]
[331,"24 oktober 2013","Het oog van Ra",null,null,null,null,null,null,null,null,null,null,null,null,{"$f":"IF(ISNA(MATCH(C334,#REF!,0)),\"\",IF(Q334=\"Y\",\"\",\"Y\"))","v":"Y"},null,{"$f":"IF(ISNA(MATCH(C334,#REF!,0)),IF(J334>0,\"\",1),\"\")","v":""}]
[332,"31 oktober 2013","De krijgers van Sekhmet",null,null,null,null,null,null,null,null,null,null,null,null,{"$f":"IF(ISNA(MATCH(C335,#REF!,0)),\"\",IF(Q335=\"Y\",\"\",\"Y\"))","v":"Y"},null,{"$f":"IF(ISNA(MATCH(C335,#REF!,0)),IF(J335>0,\"\",1),\"\")","v":""}]
[333,"2013-11-07","De verboden tempel",null,null,null,null,null,null,null,null,null,null,null,null,{"$f":"IF(ISNA(MATCH(C336,#REF!,0)),\"\",IF(Q336=\"Y\",\"\",\"Y\"))","v":"Y"},null,{"$f":"IF(ISNA(MATCH(C336,#REF!,0)),IF(J336>0,\"\",1),\"\")","v":""}]
[334,"2013-12-11","De royale ruiter",null,null,null,null,null,null,324,null,null,null,null,null,{"$f":"IF(ISNA(MATCH(C337,#REF!,0)),\"\",IF(Q337=\"Y\",\"\",\"Y\"))","v":"Y"},null,{"$f":"IF(ISNA(MATCH(C337,#REF!,0)),IF(J337>0,\"\",1),\"\")","v":""}]
[335,"12 februari 2014","Het schrikkelspook",null,null,null,null,null,null,325,null,null,null,null,null,{"$f":"IF(ISNA(MATCH(C338,#REF!,0)),\"\",IF(Q338=\"Y\",\"\",\"Y\"))","v":"Y"},null,{"$f":"IF(ISNA(MATCH(C338,#REF!,0)),IF(J338>0,\"\",1),\"\")","v":""}]
[336,"2014-04-06","Het vervloekte venster",null,null,null,null,null,null,null,null,null,null,null,null,{"$f":"IF(ISNA(MATCH(C339,#REF!,0)),\"\",IF(Q339=\"Y\",\"\",\"Y\"))","v":"Y"},null,{"$f":"IF(ISNA(MATCH(C339,#REF!,0)),IF(J339>0,\"\",1),\"\")","v":""}]
[337,"1905-07-06","De tragische tante",null,null,null,null,null,null,null,null,null,null,null,null,{"$f":"IF(ISNA(MATCH(C340,#REF!,0)),\"\",IF(Q340=\"Y\",\"\",\"Y\"))","v":"Y"},null,{"$f":"IF(ISNA(MATCH(C340,#REF!,0)),IF(J340>0,\"\",1),\"\")","v":""}]
[338,"17 juni 2014","De zwarte tulp",null,null,null,null,null,null,326,null,null,null,null,null,{"$f":"IF(ISNA(MATCH(C341,#REF!,0)),\"\",IF(Q341=\"Y\",\"\",\"Y\"))","v":"Y"},null,{"$f":"IF(ISNA(MATCH(C341,#REF!,0)),IF(J341>0,\"\",1),\"\")","v":""}]
[339,"2014-09-09","Het gebroken dorp",null,null,null,null,null,null,327,null,null,null,null,null,{"$f":"IF(ISNA(MATCH(C342,#REF!,0)),\"\",IF(Q342=\"Y\",\"\",\"Y\"))","v":"Y"},null,{"$f":"IF(ISNA(MATCH(C342,#REF!,0)),IF(J342>0,\"\",1),\"\")","v":""}]
[340,"2014-12-01","Tante Biotica",null,null,null,null,null,null,null,null,null,null,null,null,{"$f":"IF(ISNA(MATCH(C343,#REF!,0)),\"\",IF(Q343=\"Y\",\"\",\"Y\"))","v":"Y"},null,{"$f":"IF(ISNA(MATCH(C343,#REF!,0)),IF(J343>0,\"\",1),\"\")","v":""}]
[341,"2014-12-19","Sterrenrood",null,null,null,null,null,null,328,null,null,null,null,null,{"$f":"IF(ISNA(MATCH(C344,#REF!,0)),\"\",IF(Q344=\"Y\",\"\",\"Y\"))","v":"Y"},null,{"$f":"IF(ISNA(MATCH(C344,#REF!,0)),IF(J344>0,\"\",1),\"\")","v":""}]
[342,"13 maart 2015","De beestige brug",null,null,null,null,null,null,null,null,null,null,null,null,{"$f":"IF(ISNA(MATCH(C345,#REF!,0)),\"\",IF(Q345=\"Y\",\"\",\"Y\"))","v":"Y"},null,{"$f":"IF(ISNA(MATCH(C345,#REF!,0)),IF(J345>0,\"\",1),\"\")","v":""}]
[343,"18 maart 2015","Suskewiet",null,null,null,null,null,null,329,null,null,null,null,null,{"$f":"IF(ISNA(MATCH(C346,#REF!,0)),\"\",IF(Q346=\"Y\",\"\",\"Y\"))","v":"Y"},null,{"$f":"IF(ISNA(MATCH(C346,#REF!,0)),IF(J346>0,\"\",1),\"\")","v":""}]
[344,"16 juni 2015","De fabuleuze freak",null,null,null,null,null,null,330,null,null,null,null,null,{"$f":"IF(ISNA(MATCH(C347,#REF!,0)),\"\",IF(Q347=\"Y\",\"\",\"Y\"))","v":"Y"},null,{"$f":"IF(ISNA(MATCH(C347,#REF!,0)),IF(J347>0,\"\",1),\"\")","v":""}]
[345,"2015-09-09","Sooi en Sientje",null,null,null,null,null,null,331,null,null,null,null,null,{"$f":"IF(ISNA(MATCH(C348,#REF!,0)),\"\",IF(Q348=\"Y\",\"\",\"Y\"))","v":"Y"},null,{"$f":"IF(ISNA(MATCH(C348,#REF!,0)),IF(J348>0,\"\",1),\"\")","v":""}]
[346,"2015-09-26","De spitse bergen",null,null,null,null,null,null,null,null,null,null,null,null,{"$f":"IF(ISNA(MATCH(C349,#REF!,0)),\"\",IF(Q349=\"Y\",\"\",\"Y\"))","v":""},{"$f":"IF(ISNA(MATCH(D349,#REF!,0)),\"\",IF(R349=\"Y\",\"\",\"Y\"))","v":"Y"},{"$f":"IF(ISNA(MATCH(C349,#REF!,0)),IF(J349>0,\"\",1),\"\")","v":""},"ok"]
[347,"3 oktober 2015","De verwoede verzamelaar",null,null,null,null,null,null,null,null,null,null,null,null,{"$f":"IF(ISNA(MATCH(C350,#REF!,0)),\"\",IF(Q350=\"Y\",\"\",\"Y\"))","v":""},{"$f":"IF(ISNA(MATCH(D350,#REF!,0)),\"\",IF(R350=\"Y\",\"\",\"Y\"))","v":"Y"},{"$f":"IF(ISNA(MATCH(C350,#REF!,0)),IF(J350>0,\"\",1),\"\")","v":""}]
[348,"10 oktober 2015","Vredeskruid",null,null,null,null,null,null,null,null,null,null,null,null,{"$f":"IF(ISNA(MATCH(C351,#REF!,0)),\"\",IF(Q351=\"Y\",\"\",\"Y\"))","v":""},{"$f":"IF(ISNA(MATCH(D351,#REF!,0)),\"\",IF(R351=\"Y\",\"\",\"Y\"))","v":"Y"},{"$f":"IF(ISNA(MATCH(C351,#REF!,0)),IF(J351>0,\"\",1),\"\")","v":""},"ok"]
[349,"17 oktober 2015","Het naderende noodlot",null,null,null,null,null,null,null,null,null,null,null,null,{"$f":"IF(ISNA(MATCH(C352,#REF!,0)),\"\",IF(Q352=\"Y\",\"\",\"Y\"))","v":""},{"$f":"IF(ISNA(MATCH(D352,#REF!,0)),\"\",IF(R352=\"Y\",\"\",\"Y\"))","v":"Y"},{"$f":"IF(ISNA(MATCH(C352,#REF!,0)),IF(J352>0,\"\",1),\"\")","v":""},"ok"]
[350,"24 oktober 2015","De groffe grapjas",null,null,null,null,null,null,null,null,null,null,null,null,{"$f":"IF(ISNA(MATCH(C353,#REF!,0)),\"\",IF(Q353=\"Y\",\"\",\"Y\"))","v":""},{"$f":"IF(ISNA(MATCH(D353,#REF!,0)),\"\",IF(R353=\"Y\",\"\",\"Y\"))","v":"Y"},{"$f":"IF(ISNA(MATCH(C353,#REF!,0)),IF(J353>0,\"\",1),\"\")","v":""},"ok"]
[351,"31 oktober 2015","De barabass",null,null,null,null,null,null,null,null,null,null,null,null,{"$f":"IF(ISNA(MATCH(C354,#REF!,0)),\"\",IF(Q354=\"Y\",\"\",\"Y\"))","v":""},{"$f":"IF(ISNA(MATCH(D354,#REF!,0)),\"\",IF(R354=\"Y\",\"\",\"Y\"))","v":"Y"},{"$f":"IF(ISNA(MATCH(C354,#REF!,0)),IF(J354>0,\"\",1),\"\")","v":""},"ok"]
[352,"2015-12-02","Het verloren verleden",null,null,null,null,null,null,332,null,null,null,null,null,{"$f":"IF(ISNA(MATCH(C355,#REF!,0)),\"\",IF(Q355=\"Y\",\"\",\"Y\"))","v":"Y"},null,{"$f":"IF(ISNA(MATCH(C355,#REF!,0)),IF(J355>0,\"\",1),\"\")","v":""}]
[353,"9 februari 2016","De bibberende Bosch",null,null,null,null,null,null,333,null,null,null,null,null,{"$f":"IF(ISNA(MATCH(C356,#REF!,0)),\"\",IF(Q356=\"Y\",\"\",\"Y\"))","v":"Y"},null,{"$f":"IF(ISNA(MATCH(C356,#REF!,0)),IF(J356>0,\"\",1),\"\")","v":""}]
[354,"7 juni 2016","Het lederen monster",null,null,null,null,null,null,335,null,null,null,null,null,{"$f":"IF(ISNA(MATCH(C357,#REF!,0)),\"\",IF(Q357=\"Y\",\"\",\"Y\"))","v":"Y"},null,{"$f":"IF(ISNA(MATCH(C357,#REF!,0)),IF(J357>0,\"\",1),\"\")","v":""}]
[355,"2016-09-03","De grandioze gitaar",null,null,null,null,null,null,null,null,null,null,null,null,{"$f":"IF(ISNA(MATCH(C358,#REF!,0)),\"\",IF(Q358=\"Y\",\"\",\"Y\"))","v":""},{"$f":"IF(ISNA(MATCH(D358,#REF!,0)),\"\",IF(R358=\"Y\",\"\",\"Y\"))","v":"Y"},{"$f":"IF(ISNA(MATCH(C358,#REF!,0)),IF(J358>0,\"\",1),\"\")","v":""},"ok"]
[356,"2016-09-10","De schaal van moraal",null,null,null,null,null,null,null,null,null,null,null,null,{"$f":"IF(ISNA(MATCH(C359,#REF!,0)),\"\",IF(Q359=\"Y\",\"\",\"Y\"))","v":""},{"$f":"IF(ISNA(MATCH(D359,#REF!,0)),\"\",IF(R359=\"Y\",\"\",\"Y\"))","v":"Y"},{"$f":"IF(ISNA(MATCH(C359,#REF!,0)),IF(J359>0,\"\",1),\"\")","v":""},"ok"]
[357,"2016-09-17","De charmante chirurg",null,null,null,null,null,null,null,null,null,null,null,null,{"$f":"IF(ISNA(MATCH(C360,#REF!,0)),\"\",IF(Q360=\"Y\",\"\",\"Y\"))","v":""},{"$f":"IF(ISNA(MATCH(D360,#REF!,0)),\"\",IF(R360=\"Y\",\"\",\"Y\"))","v":"Y"},{"$f":"IF(ISNA(MATCH(C360,#REF!,0)),IF(J360>0,\"\",1),\"\")","v":""},"ok"]
[358,"2016-09-24","De pientere pop",null,null,null,null,null,null,null,null,null,null,null,null,{"$f":"IF(ISNA(MATCH(C361,#REF!,0)),\"\",IF(Q361=\"Y\",\"\",\"Y\"))","v":""},{"$f":"IF(ISNA(MATCH(D361,#REF!,0)),\"\",IF(R361=\"Y\",\"\",\"Y\"))","v":"Y"},{"$f":"IF(ISNA(MATCH(C361,#REF!,0)),IF(J361>0,\"\",1),\"\")","v":""},"ok"]
[359,"1 oktober 2016","De tollende toverkol",null,null,null,null,null,null,null,null,null,null,null,null,{"$f":"IF(ISNA(MATCH(C362,#REF!,0)),\"\",IF(Q362=\"Y\",\"\",\"Y\"))","v":""},{"$f":"IF(ISNA(MATCH(D362,#REF!,0)),\"\",IF(R362=\"Y\",\"\",\"Y\"))","v":"Y"},{"$f":"IF(ISNA(MATCH(C362,#REF!,0)),IF(J362>0,\"\",1),\"\")","v":""},"ok"]
[360,"8 oktober 2016","De irritante imitator",null,null,null,null,null,null,null,null,null,null,null,null,{"$f":"IF(ISNA(MATCH(C363,#REF!,0)),\"\",IF(Q363=\"Y\",\"\",\"Y\"))","v":""},{"$f":"IF(ISNA(MATCH(D363,#REF!,0)),\"\",IF(R363=\"Y\",\"\",\"Y\"))","v":"Y"},{"$f":"IF(ISNA(MATCH(C363,#REF!,0)),IF(J363>0,\"\",1),\"\")","v":""},"ok"]
[361,"2016-09-06","Het omgekeerde land",null,null,null,null,null,null,336,null,null,null,null,null,{"$f":"IF(ISNA(MATCH(C364,#REF!,0)),\"\",IF(Q364=\"Y\",\"\",\"Y\"))","v":"Y"},null,{"$f":"IF(ISNA(MATCH(C364,#REF!,0)),IF(J364>0,\"\",1),\"\")","v":""}]
[362,"2016-12-06","Game of drones",null,null,null,null,null,null,337,null,null,null,null,null,{"$f":"IF(ISNA(MATCH(C365,#REF!,0)),\"\",IF(Q365=\"Y\",\"\",\"Y\"))","v":"Y"},null,{"$f":"IF(ISNA(MATCH(C365,#REF!,0)),IF(J365>0,\"\",1),\"\")","v":""}]
[363,"14 februari 2017","De heldenmaker",null,null,null,null,null,null,338,null,null,null,null,null,{"$f":"IF(ISNA(MATCH(C366,#REF!,0)),\"\",IF(Q366=\"Y\",\"\",\"Y\"))","v":"Y"},null,{"$f":"IF(ISNA(MATCH(C366,#REF!,0)),IF(J366>0,\"\",1),\"\")","v":""}]
[364,"2017-04-28","De zorgzoekers",null,null,null,null,null,null,null,null,null,null,null,null,{"$f":"IF(ISNA(MATCH(C367,#REF!,0)),\"\",IF(Q367=\"Y\",\"\",\"Y\"))","v":"Y"},null,{"$f":"IF(ISNA(MATCH(C367,#REF!,0)),IF(J367>0,\"\",1),\"\")","v":""}]
[365,"17 mei 2017","De planeetvreter",null,null,null,null,null,null,339,null,null,null,null,null,{"$f":"IF(ISNA(MATCH(C368,#REF!,0)),\"\",IF(Q368=\"Y\",\"\",\"Y\"))","v":"Y"},null,{"$f":"IF(ISNA(MATCH(C368,#REF!,0)),IF(J368>0,\"\",1),\"\")","v":""}]
[366,"14 juni 2017","Mami Wata",null,null,null,null,null,null,340,null,null,null,null,null,{"$f":"IF(ISNA(MATCH(C369,#REF!,0)),\"\",IF(Q369=\"Y\",\"\",\"Y\"))","v":"Y"},null,{"$f":"IF(ISNA(MATCH(C369,#REF!,0)),IF(J369>0,\"\",1),\"\")","v":""}]
[367,"2017-09-12","Het Monamysterie",null,null,null,null,null,null,341,null,null,null,null,null,{"$f":"IF(ISNA(MATCH(C370,#REF!,0)),\"\",IF(Q370=\"Y\",\"\",\"Y\"))","v":"Y"},null,{"$f":"IF(ISNA(MATCH(C370,#REF!,0)),IF(J370>0,\"\",1),\"\")","v":""}]
[368,"2017-11-07","De zwarte zwevers",null,null,null,null,null,null,342,null,null,null,null,null,{"$f":"IF(ISNA(MATCH(C371,#REF!,0)),\"\",IF(Q371=\"Y\",\"\",\"Y\"))","v":"Y"},null,{"$f":"IF(ISNA(MATCH(C371,#REF!,0)),IF(J371>0,\"\",1),\"\")","v":""}]
[369,"2017-12-05","Cromimi",null,null,null,null,null,null,null,null,null,null,null,1,{"$f":"IF(ISNA(MATCH(C372,#REF!,0)),\"\",IF(Q372=\"Y\",\"\",\"Y\"))","v":""},{"$f":"IF(ISNA(MATCH(D372,#REF!,0)),\"\",IF(R372=\"Y\",\"\",\"Y\"))","v":"Y"},{"$f":"IF(ISNA(MATCH(C372,#REF!,0)),IF(J372>0,\"\",1),\"\")","v":""},"ok"]
[370,"13 maart 2018","SOS Snowbell",null,null,null,null,null,null,343,null,null,null,null,null,{"$f":"IF(ISNA(MATCH(C373,#REF!,0)),\"\",IF(Q373=\"Y\",\"\",\"Y\"))","v":"Y"},null,{"$f":"IF(ISNA(MATCH(C373,#REF!,0)),IF(J373>0,\"\",1),\"\")","v":""}]
[371,"12 juni 2018","BRBS 2.0",null,null,null,null,null,null,344,null,null,null,null,null,{"$f":"IF(ISNA(MATCH(C374,#REF!,0)),\"\",IF(Q374=\"Y\",\"\",\"Y\"))","v":"Y"},null,{"$f":"IF(ISNA(MATCH(C374,#REF!,0)),IF(J374>0,\"\",1),\"\")","v":""}]
[372,"2018-09-12","Operatie Siggy",null,null,null,null,null,null,345,null,null,null,null,null,{"$f":"IF(ISNA(MATCH(C375,#REF!,0)),\"\",IF(Q375=\"Y\",\"\",\"Y\"))","v":"Y"},null,{"$f":"IF(ISNA(MATCH(C375,#REF!,0)),IF(J375>0,\"\",1),\"\")","v":""}]
[373,"2018-11-07","Boemerang",null,null,null,null,null,null,null,null,null,null,null,2,{"$f":"IF(ISNA(MATCH(C376,#REF!,0)),\"\",IF(Q376=\"Y\",\"\",\"Y\"))","v":""},{"$f":"IF(ISNA(MATCH(D376,#REF!,0)),\"\",IF(R376=\"Y\",\"\",\"Y\"))","v":"Y"},{"$f":"IF(ISNA(MATCH(C376,#REF!,0)),IF(J376>0,\"\",1),\"\")","v":""},"ok"]
[374,"2018-12-05","Chronos en Chaos",null,null,null,null,null,null,346,null,null,null,null,null,{"$f":"IF(ISNA(MATCH(C377,#REF!,0)),\"\",IF(Q377=\"Y\",\"\",\"Y\"))","v":"Y"},null,{"$f":"IF(ISNA(MATCH(C377,#REF!,0)),IF(J377>0,\"\",1),\"\")","v":""}]
[375,"1 maart 2019","Het betoverende boek",null,null,null,null,null,null,null,null,null,null,null,null,{"$f":"IF(ISNA(MATCH(C378,#REF!,0)),\"\",IF(Q378=\"Y\",\"\",\"Y\"))","v":"Y"},null,{"$f":"IF(ISNA(MATCH(C378,#REF!,0)),IF(J378>0,\"\",1),\"\")","v":""}]
[376,"13 maart 2019","Lambik Plastiek",null,null,null,null,null,null,347,null,null,null,null,null,{"$f":"IF(ISNA(MATCH(C379,#REF!,0)),\"\",IF(Q379=\"Y\",\"\",\"Y\"))","v":"Y"},null,{"$f":"IF(ISNA(MATCH(C379,#REF!,0)),IF(J379>0,\"\",1),\"\")","v":""}]
[377,"12 juni 2019","De wrede wensput",null,null,null,null,null,null,348,null,null,null,null,null,{"$f":"IF(ISNA(MATCH(C380,#REF!,0)),\"\",IF(Q380=\"Y\",\"\",\"Y\"))","v":"Y"},null,{"$f":"IF(ISNA(MATCH(C380,#REF!,0)),IF(J380>0,\"\",1),\"\")","v":""}]
[378,"2019-09-03","Het lekkere lab",null,null,null,null,null,null,349,null,null,null,null,null,{"$f":"IF(ISNA(MATCH(C381,#REF!,0)),\"\",IF(Q381=\"Y\",\"\",\"Y\"))","v":"Y"},null,{"$f":"IF(ISNA(MATCH(C381,#REF!,0)),IF(J381>0,\"\",1),\"\")","v":""}]
[379,"2019-11-06","De kwakkelende kwakzalver",null,null,null,null,null,null,null,null,null,null,null,3,{"$f":"IF(ISNA(MATCH(C382,#REF!,0)),\"\",IF(Q382=\"Y\",\"\",\"Y\"))","v":""},{"$f":"IF(ISNA(MATCH(D382,#REF!,0)),\"\",IF(R382=\"Y\",\"\",\"Y\"))","v":"Y"},{"$f":"IF(ISNA(MATCH(C382,#REF!,0)),IF(J382>0,\"\",1),\"\")","v":""},"ok"]
[380,"2019-12-03","De nacht van de narwal",null,null,null,null,null,null,350,null,null,null,null,null,{"$f":"IF(ISNA(MATCH(C383,#REF!,0)),\"\",IF(Q383=\"Y\",\"\",\"Y\"))","v":"Y"},null,{"$f":"IF(ISNA(MATCH(C383,#REF!,0)),IF(J383>0,\"\",1),\"\")","v":""}]
[381,"11 februari 2020","De verloren Van Eyck",null,null,null,null,null,null,351,null,null,null,null,null,{"$f":"IF(ISNA(MATCH(C384,#REF!,0)),\"\",IF(Q384=\"Y\",\"\",\"Y\"))","v":"Y"},null,{"$f":"IF(ISNA(MATCH(C384,#REF!,0)),IF(J384>0,\"\",1),\"\")","v":""}]
[382,"31 maart 2020","De preutse prinses",null,null,null,null,null,null,null,null,null,null,null,4,{"$f":"IF(ISNA(MATCH(C385,#REF!,0)),\"\",IF(Q385=\"Y\",\"\",\"Y\"))","v":""},{"$f":"IF(ISNA(MATCH(D385,#REF!,0)),\"\",IF(R385=\"Y\",\"\",\"Y\"))","v":"Y"},{"$f":"IF(ISNA(MATCH(C385,#REF!,0)),IF(J385>0,\"\",1),\"\")","v":""}]
[383,"16 juni 2020","Team Krimson",null,null,null,null,null,null,352,null,null,null,null,null,{"$f":"IF(ISNA(MATCH(C386,#REF!,0)),\"\",IF(Q386=\"Y\",\"\",\"Y\"))","v":"Y"},null,"Eerst was de titel \"De Blank Bergen\", er is ook een versie met deze titel uitgekomen (heb ik)"]
[384,"2020-08-12","Het gewiste Wiske",null,null,null,null,null,null,353,null,null,null,null,null,{"$f":"IF(ISNA(MATCH(C387,#REF!,0)),\"\",IF(Q387=\"Y\",\"\",\"Y\"))","v":"Y"},null,{"$f":"IF(ISNA(MATCH(C387,#REF!,0)),IF(J387>0,\"\",1),\"\")","v":""}]
["in voorbereiding","2020-10-07","De Zwijgende Zwollem",null,null,null,null,null,null,354,null,null,null,null,null,{"$f":"IF(ISNA(MATCH(C388,#REF!,0)),\"\",IF(Q388=\"Y\",\"\",\"Y\"))","v":"Y"}]
["in voorbereiding","2020-11-04","De Sonometer",null,null,null,null,null,null,null,null,null,null,null,null,{"$f":"IF(ISNA(MATCH(C389,#REF!,0)),\"\",IF(Q389=\"Y\",\"\",\"Y\"))","v":""},{"$f":"IF(ISNA(MATCH(D389,#REF!,0)),\"\",IF(R389=\"Y\",\"\",\"Y\"))","v":"Y"},"Tekenaar Dirk Stallaert (Troskompas) en scenarist François Corteggiani werden door Standaard Uitgeverij gevraagd om het verhaal verder uit te werken."]
["in voorbereiding","2020-12-02","De Scheve Schot",null,null,null,null,null,null,355,null,null,null,null,null,{"$f":"IF(ISNA(MATCH(C390,#REF!,0)),\"\",IF(Q390=\"Y\",\"\",\"Y\"))","v":"Y"},null,"evt eerst nog 75 jaar kalmthout (6 pag)"]
["in voorbereiding","2021-02-01","De Fluitende Olifant",null,null,null,null,null,null,356,null,null,null,null,null,{"$f":"IF(ISNA(MATCH(C391,#REF!,0)),\"\",IF(Q391=\"Y\",\"\",\"Y\"))","v":"Y"}]

{"sheet":"WWWcatalogus","index":16,"n_rows":458,"n_cols":8,"rows_kept":458,"cut":false,"hidden":true,"merged":[]}
[null,"Verhalen-index, alfabetisch",null,null,null,null,null,"FK 4-1-2020"]
[]
["NR","Titel","match","Album","Al in de lijst","Pagina in SW catalogus"]
[1,"De adellijke ark",{"$f":"MATCH(B4,'Wikipedia-Alle verhalen'!C:C,0)","v":130},{"$f":"IF(ISNA(C4),\"\",IF(INDEX('Wikipedia-Alle verhalen'!J:J,WWWcatalogus!C4)>0,\"Yes\",\"No\"))","v":"Yes"},{"$f":"IF(D4=\"Yes\",\"Yes\",IF(ISNA(MATCH(B4,#REF!,0)),\"\",\"Yes!\"))","v":"Yes"}," 9, 17, 58, 64, 95, 134"]
[2,"De Alvestêdestunt",{"$f":"MATCH(B5,'Wikipedia-Alle verhalen'!C:C,0)","v":{"$error":"#N/A"}},{"$f":"IF(ISNA(C5),\"\",IF(INDEX('Wikipedia-Alle verhalen'!J:J,WWWcatalogus!C5)>0,\"Yes\",\"No\"))","v":""},{"$f":"IF(D5=\"Yes\",\"Yes\",IF(ISNA(MATCH(B5,#REF!,0)),\"\",\"Yes!\"))","v":"Yes!"},"Zie: De Elfstedenstunt"]
[3,"Amber",{"$f":"MATCH(B6,'Wikipedia-Alle verhalen'!C:C,0)","v":232},{"$f":"IF(ISNA(C6),\"\",IF(INDEX('Wikipedia-Alle verhalen'!J:J,WWWcatalogus!C6)>0,\"Yes\",\"No\"))","v":"Yes"},{"$f":"IF(D6=\"Yes\",\"Yes\",IF(ISNA(MATCH(B6,#REF!,0)),\"\",\"Yes!\"))","v":"Yes"}," 11, 18, 19, 48, 49, 57, 67, 93, 99, 160"]
[4,"Amoris van Amoras",{"$f":"MATCH(B7,'Wikipedia-Alle verhalen'!C:C,0)","v":156},{"$f":"IF(ISNA(C7),\"\",IF(INDEX('Wikipedia-Alle verhalen'!J:J,WWWcatalogus!C7)>0,\"Yes\",\"No\"))","v":"Yes"},{"$f":"IF(D7=\"Yes\",\"Yes\",IF(ISNA(MATCH(B7,#REF!,0)),\"\",\"Yes!\"))","v":"Yes"}," 10, 17, 36, 58, 65, 102, 104"]
[5,"De amoureuze amazone",{"$f":"MATCH(B8,'Wikipedia-Alle verhalen'!C:C,0)","v":121},{"$f":"IF(ISNA(C8),\"\",IF(INDEX('Wikipedia-Alle verhalen'!J:J,WWWcatalogus!C8)>0,\"Yes\",\"No\"))","v":"Yes"},{"$f":"IF(D8=\"Yes\",\"Yes\",IF(ISNA(MATCH(B8,#REF!,0)),\"\",\"Yes!\"))","v":"Yes"}," 9, 58, 64, 104"]
[6,"Angst op de “Amsterdam”",{"$f":"MATCH(B9,'Wikipedia-Alle verhalen'!C:C,0)","v":{"$error":"#N/A"}},{"$f":"IF(ISNA(C9),\"\",IF(INDEX('Wikipedia-Alle verhalen'!J:J,WWWcatalogus!C9)>0,\"Yes\",\"No\"))","v":""},{"$f":"IF(D9=\"Yes\",\"Yes\",IF(ISNA(MATCH(B9,#REF!,0)),\"\",\"Yes!\"))","v":"Yes!"}," 10, 17, 38, 50, 51, 52, 55, 56, 65, 83, 105, 110, 129"]
[7,"De apekermis",{"$f":"MATCH(B10,'Wikipedia-Alle verhalen'!C:C,0)","v":69},{"$f":"IF(ISNA(C10),\"\",IF(INDEX('Wikipedia-Alle verhalen'!J:J,WWWcatalogus!C10)>0,\"Yes\",\"No\"))","v":"Yes"},{"$f":"IF(D10=\"Yes\",\"Yes\",IF(ISNA(MATCH(B10,#REF!,0)),\"\",\"Yes!\"))","v":"Yes"}," 6, 7, 15, 38, 49, 56, 61, 71, 72, 74, 77, 78, 91, 104, 131, 137"]
[8,"Het Aruba-dossier",{"$f":"MATCH(B11,'Wikipedia-Alle verhalen'!C:C,0)","v":214},{"$f":"IF(ISNA(C11),\"\",IF(INDEX('Wikipedia-Alle verhalen'!J:J,WWWcatalogus!C11)>0,\"Yes\",\"No\"))","v":"Yes"},{"$f":"IF(D11=\"Yes\",\"Yes\",IF(ISNA(MATCH(B11,#REF!,0)),\"\",\"Yes!\"))","v":"Yes"}," 11, 18, 19, 34, 49, 66, 87, 104, 156"]
[9,"De averechtse aap",{"$f":"MATCH(B12,'Wikipedia-Alle verhalen'!C:C,0)","v":213},{"$f":"IF(ISNA(C12),\"\",IF(INDEX('Wikipedia-Alle verhalen'!J:J,WWWcatalogus!C12)>0,\"Yes\",\"No\"))","v":"Yes"},{"$f":"IF(D12=\"Yes\",\"Yes\",IF(ISNA(MATCH(B12,#REF!,0)),\"\",\"Yes!\"))","v":"Yes"}," 11, 19, 66, 156"]
[10,"De avonturen van Rikki en Wiske",{"$f":"MATCH(B13,'Wikipedia-Alle verhalen'!C:C,0)","v":{"$error":"#N/A"}},{"$f":"IF(ISNA(C13),\"\",IF(INDEX('Wikipedia-Alle verhalen'!J:J,WWWcatalogus!C13)>0,\"Yes\",\"No\"))","v":""},{"$f":"IF(D13=\"Yes\",\"Yes\",IF(ISNA(MATCH(B13,#REF!,0)),\"\",\"Yes!\"))","v":"Yes!"}," Zie: Rikki en Wiske"]
[11,"Het babbelende bad",{"$f":"MATCH(B14,'Wikipedia-Alle verhalen'!C:C,0)","v":292},{"$f":"IF(ISNA(C14),\"\",IF(INDEX('Wikipedia-Alle verhalen'!J:J,WWWcatalogus!C14)>0,\"Yes\",\"No\"))","v":"Yes"},{"$f":"IF(D14=\"Yes\",\"Yes\",IF(ISNA(MATCH(B14,#REF!,0)),\"\",\"Yes!\"))","v":"Yes"}," 12, 20, 36, 68, 95"]
[12,"De bananenzangers",{"$f":"MATCH(B15,'Wikipedia-Alle verhalen'!C:C,0)","v":320},{"$f":"IF(ISNA(C15),\"\",IF(INDEX('Wikipedia-Alle verhalen'!J:J,WWWcatalogus!C15)>0,\"Yes\",\"No\"))","v":"Yes"},{"$f":"IF(D15=\"Yes\",\"Yes\",IF(ISNA(MATCH(B15,#REF!,0)),\"\",\"Yes!\"))","v":"Yes"}," 13, 21, 57, 69"]
[13,"De bangeschieters",{"$f":"MATCH(B16,'Wikipedia-Alle verhalen'!C:C,0)","v":274},{"$f":"IF(ISNA(C16),\"\",IF(INDEX('Wikipedia-Alle verhalen'!J:J,WWWcatalogus!C16)>0,\"Yes\",\"No\"))","v":"Yes"},{"$f":"IF(D16=\"Yes\",\"Yes\",IF(ISNA(MATCH(B16,#REF!,0)),\"\",\"Yes!\"))","v":"Yes"}," 12, 20, 58, 68, 105"]
[14,"Barabas",{"$f":"MATCH(B17,'Wikipedia-Alle verhalen'!C:C,0)","v":{"$error":"#N/A"}},{"$f":"IF(ISNA(C17),\"\",IF(INDEX('Wikipedia-Alle verhalen'!J:J,WWWcatalogus!C17)>0,\"Yes\",\"No\"))","v":""},{"$f":"IF(D17=\"Yes\",\"Yes\",IF(ISNA(MATCH(B17,#REF!,0)),\"\",\"Yes!\"))","v":"Yes!"}," 27, 28, 29"]
[15,"Barabas de Balorige",{"$f":"MATCH(B18,'Wikipedia-Alle verhalen'!C:C,0)","v":333},{"$f":"IF(ISNA(C18),\"\",IF(INDEX('Wikipedia-Alle verhalen'!J:J,WWWcatalogus!C18)>0,\"Yes\",\"No\"))","v":"Yes"},{"$f":"IF(D18=\"Yes\",\"Yes\",IF(ISNA(MATCH(B18,#REF!,0)),\"\",\"Yes!\"))","v":"Yes"}," 13, 23, 24, 59, 69"]
[16,"De Barabass",{"$f":"MATCH(B19,'Wikipedia-Alle verhalen'!C:C,0)","v":354},{"$f":"IF(ISNA(C19),\"\",IF(INDEX('Wikipedia-Alle verhalen'!J:J,WWWcatalogus!C19)>0,\"Yes\",\"No\"))","v":"No"},{"$f":"IF(D19=\"Yes\",\"Yes\",IF(ISNA(MATCH(B19,#REF!,0)),\"\",\"Yes!\"))","v":"Yes!"},138]
[17,"De barre bacterie",{"$f":"MATCH(B20,'Wikipedia-Alle verhalen'!C:C,0)","v":312},{"$f":"IF(ISNA(C20),\"\",IF(INDEX('Wikipedia-Alle verhalen'!J:J,WWWcatalogus!C20)>0,\"Yes\",\"No\"))","v":"No"},{"$f":"IF(D20=\"Yes\",\"Yes\",IF(ISNA(MATCH(B20,#REF!,0)),\"\",\"Yes!\"))","v":"Yes!"}," 53, 80"]
[18,"De beestige brug",{"$f":"MATCH(B21,'Wikipedia-Alle verhalen'!C:C,0)","v":345},{"$f":"IF(ISNA(C21),\"\",IF(INDEX('Wikipedia-Alle verhalen'!J:J,WWWcatalogus!C21)>0,\"Yes\",\"No\"))","v":"No"},{"$f":"IF(D21=\"Yes\",\"Yes\",IF(ISNA(MATCH(B21,#REF!,0)),\"\",\"Yes!\"))","v":"Yes!"}," 99, 122"]
[19,"De begeerde berg",{"$f":"MATCH(B22,'Wikipedia-Alle verhalen'!C:C,0)","v":217},{"$f":"IF(ISNA(C22),\"\",IF(INDEX('Wikipedia-Alle verhalen'!J:J,WWWcatalogus!C22)>0,\"Yes\",\"No\"))","v":"Yes"},{"$f":"IF(D22=\"Yes\",\"Yes\",IF(ISNA(MATCH(B22,#REF!,0)),\"\",\"Yes!\"))","v":"Yes"}," 11, 18, 19, 58, 66, 94, 104, 156"]
[20,"De Belhamel-bende",{"$f":"MATCH(B23,'Wikipedia-Alle verhalen'!C:C,0)","v":143},{"$f":"IF(ISNA(C23),\"\",IF(INDEX('Wikipedia-Alle verhalen'!J:J,WWWcatalogus!C23)>0,\"Yes\",\"No\"))","v":"Yes"},{"$f":"IF(D23=\"Yes\",\"Yes\",IF(ISNA(MATCH(B23,#REF!,0)),\"\",\"Yes!\"))","v":"Yes"}," 9, 17, 44, 52, 56, 64, 91, 106, 108, 110, 116"]
[21,"Beminde Barabas",{"$f":"MATCH(B24,'Wikipedia-Alle verhalen'!C:C,0)","v":99},{"$f":"IF(ISNA(C24),\"\",IF(INDEX('Wikipedia-Alle verhalen'!J:J,WWWcatalogus!C24)>0,\"Yes\",\"No\"))","v":"Yes"},{"$f":"IF(D24=\"Yes\",\"Yes\",IF(ISNA(MATCH(B24,#REF!,0)),\"\",\"Yes!\"))","v":"Yes"}," 9, 16, 56, 63, 82, 83, 104"]
[22,"Het berenbeklag",{"$f":"MATCH(B25,'Wikipedia-Alle verhalen'!C:C,0)","v":234},{"$f":"IF(ISNA(C25),\"\",IF(INDEX('Wikipedia-Alle verhalen'!J:J,WWWcatalogus!C25)>0,\"Yes\",\"No\"))","v":"Yes"},{"$f":"IF(D25=\"Yes\",\"Yes\",IF(ISNA(MATCH(B25,#REF!,0)),\"\",\"Yes!\"))","v":"Yes"}," 11, 19, 38, 67, 93, 118, 161"]
[23,"Beter voor Bert",{"$f":"MATCH(B26,'Wikipedia-Alle verhalen'!C:C,0)","v":151},{"$f":"IF(ISNA(C26),\"\",IF(INDEX('Wikipedia-Alle verhalen'!J:J,WWWcatalogus!C26)>0,\"Yes\",\"No\"))","v":"No"},{"$f":"IF(D26=\"Yes\",\"Yes\",IF(ISNA(MATCH(B26,#REF!,0)),\"\",\"Yes!\"))","v":"Yes!"}," 42, 82, 108"]
[24,"Het betoverende boek",{"$f":"MATCH(B27,'Wikipedia-Alle verhalen'!C:C,0)","v":378},{"$f":"IF(ISNA(C27),\"\",IF(INDEX('Wikipedia-Alle verhalen'!J:J,WWWcatalogus!C27)>0,\"Yes\",\"No\"))","v":"No"},{"$f":"IF(D27=\"Yes\",\"Yes\",IF(ISNA(MATCH(B27,#REF!,0)),\"\",\"Yes!\"))","v":"Yes!"}," 59, 123"]
[25,"De bevende Baobab",{"$f":"MATCH(B28,'Wikipedia-Alle verhalen'!C:C,0)","v":91},{"$f":"IF(ISNA(C28),\"\",IF(INDEX('Wikipedia-Alle verhalen'!J:J,WWWcatalogus!C28)>0,\"Yes\",\"No\"))","v":"Yes"},{"$f":"IF(D28=\"Yes\",\"Yes\",IF(ISNA(MATCH(B28,#REF!,0)),\"\",\"Yes!\"))","v":"Yes"}," 8, 63, 103, 106"]
[26,"De bevende berken",{"$f":"MATCH(B29,'Wikipedia-Alle verhalen'!C:C,0)","v":157},{"$f":"IF(ISNA(C29),\"\",IF(INDEX('Wikipedia-Alle verhalen'!J:J,WWWcatalogus!C29)>0,\"Yes\",\"No\"))","v":"No"},{"$f":"IF(D29=\"Yes\",\"Yes\",IF(ISNA(MATCH(B29,#REF!,0)),\"\",\"Yes!\"))","v":"Yes!"}," 32, 42, 43, 48, 67, 83"]
[27,"Het bevroren vuur",{"$f":"MATCH(B30,'Wikipedia-Alle verhalen'!C:C,0)","v":25},{"$f":"IF(ISNA(C30),\"\",IF(INDEX('Wikipedia-Alle verhalen'!J:J,WWWcatalogus!C30)>0,\"Yes\",\"No\"))","v":"Yes"},{"$f":"IF(D30=\"Yes\",\"Yes\",IF(ISNA(MATCH(B30,#REF!,0)),\"\",\"Yes!\"))","v":"Yes"}," 5, 8, 16, 25, 63, 70, 72, 73, 94, 103, 133, 135, 136"]
[28,"De bezeten bezitter",{"$f":"MATCH(B31,'Wikipedia-Alle verhalen'!C:C,0)","v":188},{"$f":"IF(ISNA(C31),\"\",IF(INDEX('Wikipedia-Alle verhalen'!J:J,WWWcatalogus!C31)>0,\"Yes\",\"No\"))","v":"Yes"},{"$f":"IF(D31=\"Yes\",\"Yes\",IF(ISNA(MATCH(B31,#REF!,0)),\"\",\"Yes!\"))","v":"Yes"}," 10, 17, 65, 123, 130"]
[29,"De bibberende Bosch",{"$f":"MATCH(B32,'Wikipedia-Alle verhalen'!C:C,0)","v":356},{"$f":"IF(ISNA(C32),\"\",IF(INDEX('Wikipedia-Alle verhalen'!J:J,WWWcatalogus!C32)>0,\"Yes\",\"No\"))","v":"Yes"},{"$f":"IF(D32=\"Yes\",\"Yes\",IF(ISNA(MATCH(B32,#REF!,0)),\"\",\"Yes!\"))","v":"Yes"}," 13, 23, 24, 57, 69"]
[30,"Bibbergoud",{"$f":"MATCH(B33,'Wikipedia-Alle verhalen'!C:C,0)","v":16},{"$f":"IF(ISNA(C33),\"\",IF(INDEX('Wikipedia-Alle verhalen'!J:J,WWWcatalogus!C33)>0,\"Yes\",\"No\"))","v":"Yes"},{"$f":"IF(D33=\"Yes\",\"Yes\",IF(ISNA(MATCH(B33,#REF!,0)),\"\",\"Yes!\"))","v":"Yes"}," 5, 8, 16, 25, 34, 49, 50, 63, 70, 72, 73, 76, 78, 79, 105, 127, 136"]
[31,"Big Mother",{"$f":"MATCH(B34,'Wikipedia-Alle verhalen'!C:C,0)","v":245},{"$f":"IF(ISNA(C34),\"\",IF(INDEX('Wikipedia-Alle verhalen'!J:J,WWWcatalogus!C34)>0,\"Yes\",\"No\"))","v":"Yes"},{"$f":"IF(D34=\"Yes\",\"Yes\",IF(ISNA(MATCH(B34,#REF!,0)),\"\",\"Yes!\"))","v":"Yes"}," 11, 20, 67, 163"]
[32,"Een bij voor jou en mij",{"$f":"MATCH(B35,'Wikipedia-Alle verhalen'!C:C,0)","v":149},{"$f":"IF(ISNA(C35),\"\",IF(INDEX('Wikipedia-Alle verhalen'!J:J,WWWcatalogus!C35)>0,\"Yes\",\"No\"))","v":"No"},{"$f":"IF(D35=\"Yes\",\"Yes\",IF(ISNA(MATCH(B35,#REF!,0)),\"\",\"Yes!\"))","v":"Yes!"}," 42, 82, 93, 118"]
[33,"Het bizarre blok",{"$f":"MATCH(B36,'Wikipedia-Alle verhalen'!C:C,0)","v":324},{"$f":"IF(ISNA(C36),\"\",IF(INDEX('Wikipedia-Alle verhalen'!J:J,WWWcatalogus!C36)>0,\"Yes\",\"No\"))","v":"Yes"},{"$f":"IF(D36=\"Yes\",\"Yes\",IF(ISNA(MATCH(B36,#REF!,0)),\"\",\"Yes!\"))","v":"Yes"}," 13, 21, 58, 69"]
[34,"De blanke bergen",{"$f":"MATCH(B37,'Wikipedia-Alle verhalen'!C:C,0)","v":{"$error":"#N/A"}},{"$f":"IF(ISNA(C37),\"\",IF(INDEX('Wikipedia-Alle verhalen'!J:J,WWWcatalogus!C37)>0,\"Yes\",\"No\"))","v":""},{"$f":"IF(D37=\"Yes\",\"Yes\",IF(ISNA(MATCH(B37,#REF!,0)),\"\",\"Yes!\"))","v":"Yes!"}," Zie: Team Krimson"]
[35,"De blijde broodeters",{"$f":"MATCH(B38,'Wikipedia-Alle verhalen'!C:C,0)","v":144},{"$f":"IF(ISNA(C38),\"\",IF(INDEX('Wikipedia-Alle verhalen'!J:J,WWWcatalogus!C38)>0,\"Yes\",\"No\"))","v":"No"},{"$f":"IF(D38=\"Yes\",\"Yes\",IF(ISNA(MATCH(B38,#REF!,0)),\"\",\"Yes!\"))","v":"Yes!"}," 41, 42"]
[36,"De blikken blutser",{"$f":"MATCH(B39,'Wikipedia-Alle verhalen'!C:C,0)","v":271},{"$f":"IF(ISNA(C39),\"\",IF(INDEX('Wikipedia-Alle verhalen'!J:J,WWWcatalogus!C39)>0,\"Yes\",\"No\"))","v":"Yes"},{"$f":"IF(D39=\"Yes\",\"Yes\",IF(ISNA(MATCH(B39,#REF!,0)),\"\",\"Yes!\"))","v":"Yes"}," 12, 20, 68, 122"]
[37,"De blinkende boemerang",{"$f":"MATCH(B40,'Wikipedia-Alle verhalen'!C:C,0)","v":109},{"$f":"IF(ISNA(C40),\"\",IF(INDEX('Wikipedia-Alle verhalen'!J:J,WWWcatalogus!C40)>0,\"Yes\",\"No\"))","v":"Yes"},{"$f":"IF(D40=\"Yes\",\"Yes\",IF(ISNA(MATCH(B40,#REF!,0)),\"\",\"Yes!\"))","v":"Yes"}," 9, 63, 97"]
[38,"De bloedbroeder",{"$f":"MATCH(B41,'Wikipedia-Alle verhalen'!C:C,0)","v":332},{"$f":"IF(ISNA(C41),\"\",IF(INDEX('Wikipedia-Alle verhalen'!J:J,WWWcatalogus!C41)>0,\"Yes\",\"No\"))","v":"No"},{"$f":"IF(D41=\"Yes\",\"Yes\",IF(ISNA(MATCH(B41,#REF!,0)),\"\",\"Yes!\"))","v":"Yes!"}," 80, 97"]
[39,"De blote Belg",{"$f":"MATCH(B42,'Wikipedia-Alle verhalen'!C:C,0)","v":247},{"$f":"IF(ISNA(C42),\"\",IF(INDEX('Wikipedia-Alle verhalen'!J:J,WWWcatalogus!C42)>0,\"Yes\",\"No\"))","v":"Yes"},{"$f":"IF(D42=\"Yes\",\"Yes\",IF(ISNA(MATCH(B42,#REF!,0)),\"\",\"Yes!\"))","v":"Yes"}," 11, 20, 49, 67, 163"]
[40,"De boartlike boarre",{"$f":"MATCH(B43,'Wikipedia-Alle verhalen'!C:C,0)","v":{"$error":"#N/A"}},{"$f":"IF(ISNA(C43),\"\",IF(INDEX('Wikipedia-Alle verhalen'!J:J,WWWcatalogus!C43)>0,\"Yes\",\"No\"))","v":""},{"$f":"IF(D43=\"Yes\",\"Yes\",IF(ISNA(MATCH(B43,#REF!,0)),\"\",\"Yes!\"))","v":"Yes!"}," Zie: De koddige kater"]
[41,"Boemerang",{"$f":"MATCH(B44,'Wikipedia-Alle verhalen'!C:C,0)","v":376},{"$f":"IF(ISNA(C44),\"\",IF(INDEX('Wikipedia-Alle verhalen'!J:J,WWWcatalogus!C44)>0,\"Yes\",\"No\"))","v":"No"},{"$f":"IF(D44=\"Yes\",\"Yes\",IF(ISNA(MATCH(B44,#REF!,0)),\"\",\"Yes!\"))","v":"Yes!"}," 140, 141"]
[42,"De bokkeriejersj",{"$f":"MATCH(B45,'Wikipedia-Alle verhalen'!C:C,0)","v":{"$error":"#N/A"}},{"$f":"IF(ISNA(C45),\"\",IF(INDEX('Wikipedia-Alle verhalen'!J:J,WWWcatalogus!C45)>0,\"Yes\",\"No\"))","v":""},{"$f":"IF(D45=\"Yes\",\"Yes\",IF(ISNA(MATCH(B45,#REF!,0)),\"\",\"Yes!\"))","v":"Yes!"}," Zie: De bokkerijders"]
[43,"De bokkerijders",{"$f":"MATCH(B46,'Wikipedia-Alle verhalen'!C:C,0)","v":11},{"$f":"IF(ISNA(C46),\"\",IF(INDEX('Wikipedia-Alle verhalen'!J:J,WWWcatalogus!C46)>0,\"Yes\",\"No\"))","v":"Yes"},{"$f":"IF(D46=\"Yes\",\"Yes\",IF(ISNA(MATCH(B46,#REF!,0)),\"\",\"Yes!\"))","v":"Yes"}," 5, 8, 16, 55, 63, 72, 73, 77, 78, 99, 104, 126, 136, 143"]
[44,"De bokkige bombardon",{"$f":"MATCH(B47,'Wikipedia-Alle verhalen'!C:C,0)","v":105},{"$f":"IF(ISNA(C47),\"\",IF(INDEX('Wikipedia-Alle verhalen'!J:J,WWWcatalogus!C47)>0,\"Yes\",\"No\"))","v":"Yes"},{"$f":"IF(D47=\"Yes\",\"Yes\",IF(ISNA(MATCH(B47,#REF!,0)),\"\",\"Yes!\"))","v":"Yes"}," 9, 63, 83, 107, 130"]
[45,"De bonkige baarden",{"$f":"MATCH(B48,'Wikipedia-Alle verhalen'!C:C,0)","v":164},{"$f":"IF(ISNA(C48),\"\",IF(INDEX('Wikipedia-Alle verhalen'!J:J,WWWcatalogus!C48)>0,\"Yes\",\"No\"))","v":"Yes"},{"$f":"IF(D48=\"Yes\",\"Yes\",IF(ISNA(MATCH(B48,#REF!,0)),\"\",\"Yes!\"))","v":"Yes"}," 10, 17, 65, 96, 106"]
[46,"De bonte bollen",{"$f":"MATCH(B49,'Wikipedia-Alle verhalen'!C:C,0)","v":235},{"$f":"IF(ISNA(C49),\"\",IF(INDEX('Wikipedia-Alle verhalen'!J:J,WWWcatalogus!C49)>0,\"Yes\",\"No\"))","v":"Yes"},{"$f":"IF(D49=\"Yes\",\"Yes\",IF(ISNA(MATCH(B49,#REF!,0)),\"\",\"Yes!\"))","v":"Yes"}," 11, 18, 19, 48, 50, 58, 67, 160"]
[47,"De bosbollebozen",{"$f":"MATCH(B50,'Wikipedia-Alle verhalen'!C:C,0)","v":295},{"$f":"IF(ISNA(C50),\"\",IF(INDEX('Wikipedia-Alle verhalen'!J:J,WWWcatalogus!C50)>0,\"Yes\",\"No\"))","v":"No"},{"$f":"IF(D50=\"Yes\",\"Yes\",IF(ISNA(MATCH(B50,#REF!,0)),\"\",\"Yes!\"))","v":"Yes!"}," 68, 93, 119"]
[48,"Bosspel",{"$f":"MATCH(B51,'Wikipedia-Alle verhalen'!C:C,0)","v":187},{"$f":"IF(ISNA(C51),\"\",IF(INDEX('Wikipedia-Alle verhalen'!J:J,WWWcatalogus!C51)>0,\"Yes\",\"No\"))","v":"No"},{"$f":"IF(D51=\"Yes\",\"Yes\",IF(ISNA(MATCH(B51,#REF!,0)),\"\",\"Yes!\"))","v":"Yes!"}," 33, 43, 44, 65, 85, 86, 157"]
[49,"De botte botaknol",{"$f":"MATCH(B52,'Wikipedia-Alle verhalen'!C:C,0)","v":136},{"$f":"IF(ISNA(C52),\"\",IF(INDEX('Wikipedia-Alle verhalen'!J:J,WWWcatalogus!C52)>0,\"Yes\",\"No\"))","v":"Yes"},{"$f":"IF(D52=\"Yes\",\"Yes\",IF(ISNA(MATCH(B52,#REF!,0)),\"\",\"Yes!\"))","v":"Yes"}," 9, 17, 64, 92, 95, 106, 117, 134"]
[50,"De boze boomzalver",{"$f":"MATCH(B53,'Wikipedia-Alle verhalen'!C:C,0)","v":88},{"$f":"IF(ISNA(C53),\"\",IF(INDEX('Wikipedia-Alle verhalen'!J:J,WWWcatalogus!C53)>0,\"Yes\",\"No\"))","v":"Yes"},{"$f":"IF(D53=\"Yes\",\"Yes\",IF(ISNA(MATCH(B53,#REF!,0)),\"\",\"Yes!\"))","v":"Yes"}," 8, 16, 58, 63, 90, 104, 115, 164"]
[51,"BRBS 2",{"$f":"MATCH(B54,'Wikipedia-Alle verhalen'!C:C,0)","v":{"$error":"#N/A"}},{"$f":"IF(ISNA(C54),\"\",IF(INDEX('Wikipedia-Alle verhalen'!J:J,WWWcatalogus!C54)>0,\"Yes\",\"No\"))","v":""},{"$f":"IF(D54=\"Yes\",\"Yes\",IF(ISNA(MATCH(B54,#REF!,0)),\"\",\"Yes!\"))","v":"Yes!"},0," 14, 23, 24, 69"]
[52,"De breinbrekers",{"$f":"MATCH(B55,'Wikipedia-Alle verhalen'!C:C,0)","v":258},{"$f":"IF(ISNA(C55),\"\",IF(INDEX('Wikipedia-Alle verhalen'!J:J,WWWcatalogus!C55)>0,\"Yes\",\"No\"))","v":"Yes"},{"$f":"IF(D55=\"Yes\",\"Yes\",IF(ISNA(MATCH(B55,#REF!,0)),\"\",\"Yes!\"))","v":"Yes"}," 12, 18, 20, 67, 129, 165"]
[53,"Het Bretoense broertje",{"$f":"MATCH(B56,'Wikipedia-Alle verhalen'!C:C,0)","v":145},{"$f":"IF(ISNA(C56),\"\",IF(INDEX('Wikipedia-Alle verhalen'!J:J,WWWcatalogus!C56)>0,\"Yes\",\"No\"))","v":"Yes"},{"$f":"IF(D56=\"Yes\",\"Yes\",IF(ISNA(MATCH(B56,#REF!,0)),\"\",\"Yes!\"))","v":"Yes"}," 10, 17, 58, 64, 82, 96, 103, 133, 134, 165"]
[54,"De briesende bruid",{"$f":"MATCH(B57,'Wikipedia-Alle verhalen'!C:C,0)","v":78},{"$f":"IF(ISNA(C57),\"\",IF(INDEX('Wikipedia-Alle verhalen'!J:J,WWWcatalogus!C57)>0,\"Yes\",\"No\"))","v":"Yes"},{"$f":"IF(D57=\"Yes\",\"Yes\",IF(ISNA(MATCH(B57,#REF!,0)),\"\",\"Yes!\"))","v":"Yes"}," 7, 15, 56, 61, 94, 107"]
[55,"Het brommende brons",{"$f":"MATCH(B58,'Wikipedia-Alle verhalen'!C:C,0)","v":85},{"$f":"IF(ISNA(C58),\"\",IF(INDEX('Wikipedia-Alle verhalen'!J:J,WWWcatalogus!C58)>0,\"Yes\",\"No\"))","v":"Yes"},{"$f":"IF(D58=\"Yes\",\"Yes\",IF(ISNA(MATCH(B58,#REF!,0)),\"\",\"Yes!\"))","v":"Yes"}," 8, 16, 58, 62, 105"]
[56,"De bronzen sleutel",{"$f":"MATCH(B59,'Wikipedia-Alle verhalen'!C:C,0)","v":19},{"$f":"IF(ISNA(C59),\"\",IF(INDEX('Wikipedia-Alle verhalen'!J:J,WWWcatalogus!C59)>0,\"Yes\",\"No\"))","v":"Yes"},{"$f":"IF(D59=\"Yes\",\"Yes\",IF(ISNA(MATCH(B59,#REF!,0)),\"\",\"Yes!\"))","v":"Yes"}," 8, 16, 26, 53, 55, 62, 75, 78, 79, 82, 91, 93, 94, 99, 109, 128, 131, 149"]
[57,"De brullende berg",{"$f":"MATCH(B60,'Wikipedia-Alle verhalen'!C:C,0)","v":40},{"$f":"IF(ISNA(C60),\"\",IF(INDEX('Wikipedia-Alle verhalen'!J:J,WWWcatalogus!C60)>0,\"Yes\",\"No\"))","v":"Yes"},{"$f":"IF(D60=\"Yes\",\"Yes\",IF(ISNA(MATCH(B60,#REF!,0)),\"\",\"Yes!\"))","v":"Yes"}," 5, 6, 7, 15, 25, 57, 61, 71, 73, 83, 91, 104, 136"]
[58,"De charmante chirurg",{"$f":"MATCH(B61,'Wikipedia-Alle verhalen'!C:C,0)","v":360},{"$f":"IF(ISNA(C61),\"\",IF(INDEX('Wikipedia-Alle verhalen'!J:J,WWWcatalogus!C61)>0,\"Yes\",\"No\"))","v":"No"},{"$f":"IF(D61=\"Yes\",\"Yes\",IF(ISNA(MATCH(B61,#REF!,0)),\"\",\"Yes!\"))","v":"Yes!"}," 138, 139"]
[59,"De charmante koffiepot",{"$f":"MATCH(B62,'Wikipedia-Alle verhalen'!C:C,0)","v":81},{"$f":"IF(ISNA(C62),\"\",IF(INDEX('Wikipedia-Alle verhalen'!J:J,WWWcatalogus!C62)>0,\"Yes\",\"No\"))","v":"Yes"},{"$f":"IF(D62=\"Yes\",\"Yes\",IF(ISNA(MATCH(B62,#REF!,0)),\"\",\"Yes!\"))","v":"Yes"}," 8, 15, 51, 54, 56, 62, 82, 93, 107"]
[60,"Chronos en Chaos",{"$f":"MATCH(B63,'Wikipedia-Alle verhalen'!C:C,0)","v":377},{"$f":"IF(ISNA(C63),\"\",IF(INDEX('Wikipedia-Alle verhalen'!J:J,WWWcatalogus!C63)>0,\"Yes\",\"No\"))","v":"Yes"},{"$f":"IF(D63=\"Yes\",\"Yes\",IF(ISNA(MATCH(B63,#REF!,0)),\"\",\"Yes!\"))","v":"Yes"}," 14, 23, 24, 69"]
[61,"De circusbaron",{"$f":"MATCH(B64,'Wikipedia-Alle verhalen'!C:C,0)","v":34},{"$f":"IF(ISNA(C64),\"\",IF(INDEX('Wikipedia-Alle verhalen'!J:J,WWWcatalogus!C64)>0,\"Yes\",\"No\"))","v":"Yes"},{"$f":"IF(D64=\"Yes\",\"Yes\",IF(ISNA(MATCH(B64,#REF!,0)),\"\",\"Yes!\"))","v":"Yes"}," 5, 6, 7, 15, 25, 44, 52, 57, 61, 70, 72, 73, 83, 85, 91, 107, 129, 136"]
[62,"De coole Kastaar",{"$f":"MATCH(B65,'Wikipedia-Alle verhalen'!C:C,0)","v":325},{"$f":"IF(ISNA(C65),\"\",IF(INDEX('Wikipedia-Alle verhalen'!J:J,WWWcatalogus!C65)>0,\"Yes\",\"No\"))","v":"No"},{"$f":"IF(D65=\"Yes\",\"Yes\",IF(ISNA(MATCH(B65,#REF!,0)),\"\",\"Yes!\"))","v":"Yes!"}," 57, 69, 80, 121"]
[63,"Cromimi",{"$f":"MATCH(B66,'Wikipedia-Alle verhalen'!C:C,0)","v":372},{"$f":"IF(ISNA(C66),\"\",IF(INDEX('Wikipedia-Alle verhalen'!J:J,WWWcatalogus!C66)>0,\"Yes\",\"No\"))","v":"No"},{"$f":"IF(D66=\"Yes\",\"Yes\",IF(ISNA(MATCH(B66,#REF!,0)),\"\",\"Yes!\"))","v":"Yes!"}," 140, 141"]
[64,"De curieuze neuzen",{"$f":"MATCH(B67,'Wikipedia-Alle verhalen'!C:C,0)","v":287},{"$f":"IF(ISNA(C67),\"\",IF(INDEX('Wikipedia-Alle verhalen'!J:J,WWWcatalogus!C67)>0,\"Yes\",\"No\"))","v":"Yes"},{"$f":"IF(D67=\"Yes\",\"Yes\",IF(ISNA(MATCH(B67,#REF!,0)),\"\",\"Yes!\"))","v":"Yes"}," 12, 20, 68"]
[65,"De dappere Duinduikers",{"$f":"MATCH(B68,'Wikipedia-Alle verhalen'!C:C,0)","v":180},{"$f":"IF(ISNA(C68),\"\",IF(INDEX('Wikipedia-Alle verhalen'!J:J,WWWcatalogus!C68)>0,\"Yes\",\"No\"))","v":"No"},{"$f":"IF(D68=\"Yes\",\"Yes\",IF(ISNA(MATCH(B68,#REF!,0)),\"\",\"Yes!\"))","v":"Yes!"}," 11, 33, 44, 45, 46, 47, 49, 66, 83, 86"]
[66,"De dartele draak",{"$f":"MATCH(B69,'Wikipedia-Alle verhalen'!C:C,0)","v":296},{"$f":"IF(ISNA(C69),\"\",IF(INDEX('Wikipedia-Alle verhalen'!J:J,WWWcatalogus!C69)>0,\"Yes\",\"No\"))","v":"Yes"},{"$f":"IF(D69=\"Yes\",\"Yes\",IF(ISNA(MATCH(B69,#REF!,0)),\"\",\"Yes!\"))","v":"Yes"}," 12, 20, 22, 36, 38, 53, 57, 68"]
[67,"Het Delta duel",{"$f":"MATCH(B70,'Wikipedia-Alle verhalen'!C:C,0)","v":153},{"$f":"IF(ISNA(C70),\"\",IF(INDEX('Wikipedia-Alle verhalen'!J:J,WWWcatalogus!C70)>0,\"Yes\",\"No\"))","v":"Yes"},{"$f":"IF(D70=\"Yes\",\"Yes\",IF(ISNA(MATCH(B70,#REF!,0)),\"\",\"Yes!\"))","v":"Yes"}," 10, 17, 44, 50, 51, 52, 65, 82, 109"]
[68,"Nen diere velo",{"$f":"MATCH(B71,'Wikipedia-Alle verhalen'!C:C,0)","v":{"$error":"#N/A"}},{"$f":"IF(ISNA(C71),\"\",IF(INDEX('Wikipedia-Alle verhalen'!J:J,WWWcatalogus!C71)>0,\"Yes\",\"No\"))","v":""},{"$f":"IF(D71=\"Yes\",\"Yes\",IF(ISNA(MATCH(B71,#REF!,0)),\"\",\"Yes!\"))","v":"Yes!"}," Zie: Het kostbare kader"]
[69,"De dolle musketiers",{"$f":"MATCH(B72,'Wikipedia-Alle verhalen'!C:C,0)","v":29},{"$f":"IF(ISNA(C72),\"\",IF(INDEX('Wikipedia-Alle verhalen'!J:J,WWWcatalogus!C72)>0,\"Yes\",\"No\"))","v":"Yes"},{"$f":"IF(D72=\"Yes\",\"Yes\",IF(ISNA(MATCH(B72,#REF!,0)),\"\",\"Yes!\"))","v":"Yes"}," 5, 6, 7, 15, 25, 49, 50, 51, 54, 55, 61, 70, 72, 73, 101, 106, 108, 136"]
[70,"Het dreigende dinges",{"$f":"MATCH(B73,'Wikipedia-Alle verhalen'!C:C,0)","v":158},{"$f":"IF(ISNA(C73),\"\",IF(INDEX('Wikipedia-Alle verhalen'!J:J,WWWcatalogus!C73)>0,\"Yes\",\"No\"))","v":"Yes"},{"$f":"IF(D73=\"Yes\",\"Yes\",IF(ISNA(MATCH(B73,#REF!,0)),\"\",\"Yes!\"))","v":"Yes"}," 10, 17, 49, 58, 65, 98"]
[71,"Het drijvende dorp",{"$f":"MATCH(B74,'Wikipedia-Alle verhalen'!C:C,0)","v":124},{"$f":"IF(ISNA(C74),\"\",IF(INDEX('Wikipedia-Alle verhalen'!J:J,WWWcatalogus!C74)>0,\"Yes\",\"No\"))","v":"Yes"},{"$f":"IF(D74=\"Yes\",\"Yes\",IF(ISNA(MATCH(B74,#REF!,0)),\"\",\"Yes!\"))","v":"Yes"}," 9, 16, 56, 64, 94"]
[72,"De droevige duif",{"$f":"MATCH(B75,'Wikipedia-Alle verhalen'!C:C,0)","v":140},{"$f":"IF(ISNA(C75),\"\",IF(INDEX('Wikipedia-Alle verhalen'!J:J,WWWcatalogus!C75)>0,\"Yes\",\"No\"))","v":"Yes"},{"$f":"IF(D75=\"Yes\",\"Yes\",IF(ISNA(MATCH(B75,#REF!,0)),\"\",\"Yes!\"))","v":"Yes"}," 9, 17, 64, 95, 104, 134"]
[73,"De dromendiefstal",{"$f":"MATCH(B76,'Wikipedia-Alle verhalen'!C:C,0)","v":80},{"$f":"IF(ISNA(C76),\"\",IF(INDEX('Wikipedia-Alle verhalen'!J:J,WWWcatalogus!C76)>0,\"Yes\",\"No\"))","v":"Yes"},{"$f":"IF(D76=\"Yes\",\"Yes\",IF(ISNA(MATCH(B76,#REF!,0)),\"\",\"Yes!\"))","v":"Yes"}," 8, 15, 34, 61, 105"]
[74,"De duistere diamant",{"$f":"MATCH(B77,'Wikipedia-Alle verhalen'!C:C,0)","v":49},{"$f":"IF(ISNA(C77),\"\",IF(INDEX('Wikipedia-Alle verhalen'!J:J,WWWcatalogus!C77)>0,\"Yes\",\"No\"))","v":"Yes"},{"$f":"IF(D77=\"Yes\",\"Yes\",IF(ISNA(MATCH(B77,#REF!,0)),\"\",\"Yes!\"))","v":"Yes"}," 5, 8, 16, 25, 50, 56, 62, 71, 72, 73, 77, 78, 91, 133, 134, 136, 165"]
[75,"De dulle griet",{"$f":"MATCH(B78,'Wikipedia-Alle verhalen'!C:C,0)","v":71},{"$f":"IF(ISNA(C78),\"\",IF(INDEX('Wikipedia-Alle verhalen'!J:J,WWWcatalogus!C78)>0,\"Yes\",\"No\"))","v":"Yes"},{"$f":"IF(D78=\"Yes\",\"Yes\",IF(ISNA(MATCH(B78,#REF!,0)),\"\",\"Yes!\"))","v":"Yes"}," 6, 7, 15, 54, 56, 59, 61, 71, 74, 89, 91, 100, 137, 164, 165"]
[76,"De edele elfen",{"$f":"MATCH(B79,'Wikipedia-Alle verhalen'!C:C,0)","v":176},{"$f":"IF(ISNA(C79),\"\",IF(INDEX('Wikipedia-Alle verhalen'!J:J,WWWcatalogus!C79)>0,\"Yes\",\"No\"))","v":"Yes"},{"$f":"IF(D79=\"Yes\",\"Yes\",IF(ISNA(MATCH(B79,#REF!,0)),\"\",\"Yes!\"))","v":"Yes"}," 10, 17, 65, 98, 117"]
[77,"De eenzame eenhoorn",{"$f":"MATCH(B80,'Wikipedia-Alle verhalen'!C:C,0)","v":172},{"$f":"IF(ISNA(C80),\"\",IF(INDEX('Wikipedia-Alle verhalen'!J:J,WWWcatalogus!C80)>0,\"Yes\",\"No\"))","v":"Yes"},{"$f":"IF(D80=\"Yes\",\"Yes\",IF(ISNA(MATCH(B80,#REF!,0)),\"\",\"Yes!\"))","v":"Yes"}," 10, 17, 58, 65, 111"]
[78,"De Efteling-elfjes",{"$f":"MATCH(B81,'Wikipedia-Alle verhalen'!C:C,0)","v":118},{"$f":"IF(ISNA(C81),\"\",IF(INDEX('Wikipedia-Alle verhalen'!J:J,WWWcatalogus!C81)>0,\"Yes\",\"No\"))","v":"Yes"},{"$f":"IF(D81=\"Yes\",\"Yes\",IF(ISNA(MATCH(B81,#REF!,0)),\"\",\"Yes!\"))","v":"Yes"}," 9, 16, 36, 45, 48, 51, 52, 56, 64, 89, 92, 95, 108, 117, 145"]
[79,"De Efteling-èlfkes",{"$f":"MATCH(B82,'Wikipedia-Alle verhalen'!C:C,0)","v":{"$error":"#N/A"}},{"$f":"IF(ISNA(C82),\"\",IF(INDEX('Wikipedia-Alle verhalen'!J:J,WWWcatalogus!C82)>0,\"Yes\",\"No\"))","v":""},{"$f":"IF(D82=\"Yes\",\"Yes\",IF(ISNA(MATCH(B82,#REF!,0)),\"\",\"Yes!\"))","v":"Yes!"}," Zie: De Efteling-elfjes"]
[80,"Het eiland Amoras",{"$f":"MATCH(B83,'Wikipedia-Alle verhalen'!C:C,0)","v":{"$error":"#N/A"}},{"$f":"IF(ISNA(C83),\"\",IF(INDEX('Wikipedia-Alle verhalen'!J:J,WWWcatalogus!C83)>0,\"Yes\",\"No\"))","v":""},{"$f":"IF(D83=\"Yes\",\"Yes\",IF(ISNA(MATCH(B83,#REF!,0)),\"\",\"Yes!\"))","v":"Yes!"}," Zie: Op het eiland Amoras, Zie: Op het eiland Amoras"]
[81,"De Elfstedenstunt",{"$f":"MATCH(B84,'Wikipedia-Alle verhalen'!C:C,0)","v":291},{"$f":"IF(ISNA(C84),\"\",IF(INDEX('Wikipedia-Alle verhalen'!J:J,WWWcatalogus!C84)>0,\"Yes\",\"No\"))","v":"Yes"},{"$f":"IF(D84=\"Yes\",\"Yes\",IF(ISNA(MATCH(B84,#REF!,0)),\"\",\"Yes!\"))","v":"Yes"}," 12, 20, 36, 52, 68, 142"]
[82,"De energieke guiten",{"$f":"MATCH(B85,'Wikipedia-Alle verhalen'!C:C,0)","v":270},{"$f":"IF(ISNA(C85),\"\",IF(INDEX('Wikipedia-Alle verhalen'!J:J,WWWcatalogus!C85)>0,\"Yes\",\"No\"))","v":"No"},{"$f":"IF(D85=\"Yes\",\"Yes\",IF(ISNA(MATCH(B85,#REF!,0)),\"\",\"Yes!\"))","v":"Yes!"}," 49, 51, 68, 80, 117"]
[83,"Het enge eiland",{"$f":"MATCH(B86,'Wikipedia-Alle verhalen'!C:C,0)","v":236},{"$f":"IF(ISNA(C86),\"\",IF(INDEX('Wikipedia-Alle verhalen'!J:J,WWWcatalogus!C86)>0,\"Yes\",\"No\"))","v":"Yes"},{"$f":"IF(D86=\"Yes\",\"Yes\",IF(ISNA(MATCH(B86,#REF!,0)),\"\",\"Yes!\"))","v":"Yes"}," 11, 18, 19, 48, 67, 161"]
[84,"De Europummel",{"$f":"MATCH(B87,'Wikipedia-Alle verhalen'!C:C,0)","v":246},{"$f":"IF(ISNA(C87),\"\",IF(INDEX('Wikipedia-Alle verhalen'!J:J,WWWcatalogus!C87)>0,\"Yes\",\"No\"))","v":"Yes"},{"$f":"IF(D87=\"Yes\",\"Yes\",IF(ISNA(MATCH(B87,#REF!,0)),\"\",\"Yes!\"))","v":"Yes"}," 11, 20, 57, 67, 164"]
[85,"Expeditie Robikson",{"$f":"MATCH(B88,'Wikipedia-Alle verhalen'!C:C,0)","v":317},{"$f":"IF(ISNA(C88),\"\",IF(INDEX('Wikipedia-Alle verhalen'!J:J,WWWcatalogus!C88)>0,\"Yes\",\"No\"))","v":"Yes"},{"$f":"IF(D88=\"Yes\",\"Yes\",IF(ISNA(MATCH(B88,#REF!,0)),\"\",\"Yes!\"))","v":"Yes"}," 13, 23, 24, 54, 69, 120"]
[86,"De fabuleuze freak",{"$f":"MATCH(B89,'Wikipedia-Alle verhalen'!C:C,0)","v":347},{"$f":"IF(ISNA(C89),\"\",IF(INDEX('Wikipedia-Alle verhalen'!J:J,WWWcatalogus!C89)>0,\"Yes\",\"No\"))","v":"Yes"},{"$f":"IF(D89=\"Yes\",\"Yes\",IF(ISNA(MATCH(B89,#REF!,0)),\"\",\"Yes!\"))","v":"Yes"}," 13, 23, 24, 59, 69"]
[87,"Fata Morgana",{"$f":"MATCH(B90,'Wikipedia-Alle verhalen'!C:C,0)","v":179},{"$f":"IF(ISNA(C90),\"\",IF(INDEX('Wikipedia-Alle verhalen'!J:J,WWWcatalogus!C90)>0,\"Yes\",\"No\"))","v":"No"},{"$f":"IF(D90=\"Yes\",\"Yes\",IF(ISNA(MATCH(B90,#REF!,0)),\"\",\"Yes!\"))","v":"Yes!"}," 33, 65, 85, 87, 93, 130"]
[88,"De fleurige Floriade",{"$f":"MATCH(B91,'Wikipedia-Alle verhalen'!C:C,0)","v":249},{"$f":"IF(ISNA(C91),\"\",IF(INDEX('Wikipedia-Alle verhalen'!J:J,WWWcatalogus!C91)>0,\"Yes\",\"No\"))","v":"Yes"},{"$f":"IF(D91=\"Yes\",\"Yes\",IF(ISNA(MATCH(B91,#REF!,0)),\"\",\"Yes!\"))","v":"Yes"}," 12, 20, 49, 58, 67, 128, 164"]
[89,"De flierende fluiter",{"$f":"MATCH(B92,'Wikipedia-Alle verhalen'!C:C,0)","v":265},{"$f":"IF(ISNA(C92),\"\",IF(INDEX('Wikipedia-Alle verhalen'!J:J,WWWcatalogus!C92)>0,\"Yes\",\"No\"))","v":"Yes"},{"$f":"IF(D92=\"Yes\",\"Yes\",IF(ISNA(MATCH(B92,#REF!,0)),\"\",\"Yes!\"))","v":"Yes"}," 12, 20, 57, 67"]
[90,"De formidabele fantast",{"$f":"MATCH(B93,'Wikipedia-Alle verhalen'!C:C,0)","v":266},{"$f":"IF(ISNA(C93),\"\",IF(INDEX('Wikipedia-Alle verhalen'!J:J,WWWcatalogus!C93)>0,\"Yes\",\"No\"))","v":"Yes"},{"$f":"IF(D93=\"Yes\",\"Yes\",IF(ISNA(MATCH(B93,#REF!,0)),\"\",\"Yes!\"))","v":"Yes"}," 12, 20, 58, 67, 92, 117"]
[91,"De Galapagosgassen",{"$f":"MATCH(B94,'Wikipedia-Alle verhalen'!C:C,0)","v":211},{"$f":"IF(ISNA(C94),\"\",IF(INDEX('Wikipedia-Alle verhalen'!J:J,WWWcatalogus!C94)>0,\"Yes\",\"No\"))","v":"No"},{"$f":"IF(D94=\"Yes\",\"Yes\",IF(ISNA(MATCH(B94,#REF!,0)),\"\",\"Yes!\"))","v":"Yes!"}," 33, 47, 66, 93"]
[92,"Game of drones",{"$f":"MATCH(B95,'Wikipedia-Alle verhalen'!C:C,0)","v":365},{"$f":"IF(ISNA(C95),\"\",IF(INDEX('Wikipedia-Alle verhalen'!J:J,WWWcatalogus!C95)>0,\"Yes\",\"No\"))","v":"Yes"},{"$f":"IF(D95=\"Yes\",\"Yes\",IF(ISNA(MATCH(B95,#REF!,0)),\"\",\"Yes!\"))","v":"Yes"}," 13, 23, 24, 69"]
[93,"De gamegoeroe",{"$f":"MATCH(B96,'Wikipedia-Alle verhalen'!C:C,0)","v":307},{"$f":"IF(ISNA(C96),\"\",IF(INDEX('Wikipedia-Alle verhalen'!J:J,WWWcatalogus!C96)>0,\"Yes\",\"No\"))","v":"Yes"},{"$f":"IF(D96=\"Yes\",\"Yes\",IF(ISNA(MATCH(B96,#REF!,0)),\"\",\"Yes!\"))","v":"Yes"}," 13, 20, 57, 68"]
[94,"Gardavu!",{"$f":"MATCH(B97,'Wikipedia-Alle verhalen'!C:C,0)","v":{"$error":"#N/A"}},{"$f":"IF(ISNA(C97),\"\",IF(INDEX('Wikipedia-Alle verhalen'!J:J,WWWcatalogus!C97)>0,\"Yes\",\"No\"))","v":""},{"$f":"IF(D97=\"Yes\",\"Yes\",IF(ISNA(MATCH(B97,#REF!,0)),\"\",\"Yes!\"))","v":"Yes!"}," 30, 31"]
[95,"Het gebroken dorp",{"$f":"MATCH(B98,'Wikipedia-Alle verhalen'!C:C,0)","v":342},{"$f":"IF(ISNA(C98),\"\",IF(INDEX('Wikipedia-Alle verhalen'!J:J,WWWcatalogus!C98)>0,\"Yes\",\"No\"))","v":"Yes"},{"$f":"IF(D98=\"Yes\",\"Yes\",IF(ISNA(MATCH(B98,#REF!,0)),\"\",\"Yes!\"))","v":"Yes"}," 13, 23, 24, 69"]
[96,"De gegaste gasten",{"$f":"MATCH(B99,'Wikipedia-Alle verhalen'!C:C,0)","v":{"$error":"#N/A"}},{"$f":"IF(ISNA(C99),\"\",IF(INDEX('Wikipedia-Alle verhalen'!J:J,WWWcatalogus!C99)>0,\"Yes\",\"No\"))","v":""},{"$f":"IF(D99=\"Yes\",\"Yes\",IF(ISNA(MATCH(B99,#REF!,0)),\"\",\"Yes!\"))","v":"Yes!"},98]
[97,"Het geheim der gladiatoren",{"$f":"MATCH(B100,'Wikipedia-Alle verhalen'!C:C,0)","v":{"$error":"#N/A"}},{"$f":"IF(ISNA(C100),\"\",IF(INDEX('Wikipedia-Alle verhalen'!J:J,WWWcatalogus!C100)>0,\"Yes\",\"No\"))","v":""},{"$f":"IF(D100=\"Yes\",\"Yes\",IF(ISNA(MATCH(B100,#REF!,0)),\"\",\"Yes!\"))","v":"Yes!"}," 8, 15, 26, 38, 53, 62, 72, 75, 77, 78, 82, 90, 105, 109, 126, 131"]
[98,"Het geheim van de Kalmthoutse Heide",{"$f":"MATCH(B101,'Wikipedia-Alle verhalen'!C:C,0)","v":125},{"$f":"IF(ISNA(C101),\"\",IF(INDEX('Wikipedia-Alle verhalen'!J:J,WWWcatalogus!C101)>0,\"Yes\",\"No\"))","v":"No"},{"$f":"IF(D101=\"Yes\",\"Yes\",IF(ISNA(MATCH(B101,#REF!,0)),\"\",\"Yes!\"))","v":"Yes!"}," 32, 40, 46, 47, 66, 83, 93, 145"]
[99,"Het geheim van de kousenband",{"$f":"MATCH(B102,'Wikipedia-Alle verhalen'!C:C,0)","v":{"$error":"#N/A"}},{"$f":"IF(ISNA(C102),\"\",IF(INDEX('Wikipedia-Alle verhalen'!J:J,WWWcatalogus!C102)>0,\"Yes\",\"No\"))","v":""},{"$f":"IF(D102=\"Yes\",\"Yes\",IF(ISNA(MATCH(B102,#REF!,0)),\"\",\"Yes!\"))","v":"Yes!"},90]
[100,"De gekaapte kies",{"$f":"MATCH(B103,'Wikipedia-Alle verhalen'!C:C,0)","v":{"$error":"#N/A"}},{"$f":"IF(ISNA(C103),\"\",IF(INDEX('Wikipedia-Alle verhalen'!J:J,WWWcatalogus!C103)>0,\"Yes\",\"No\"))","v":""},{"$f":"IF(D103=\"Yes\",\"Yes\",IF(ISNA(MATCH(B103,#REF!,0)),\"\",\"Yes!\"))","v":"Yes!"},42]
[101,"De gekalibreerde kwibus",{"$f":"MATCH(B104,'Wikipedia-Alle verhalen'!C:C,0)","v":14},{"$f":"IF(ISNA(C104),\"\",IF(INDEX('Wikipedia-Alle verhalen'!J:J,WWWcatalogus!C104)>0,\"Yes\",\"No\"))","v":"No"},{"$f":"IF(D104=\"Yes\",\"Yes\",IF(ISNA(MATCH(B104,#REF!,0)),\"\",\"Yes!\"))","v":"Yes!"}," 33, 70, 73, 76, 81, 146"]
[102,"De gekke gokker",{"$f":"MATCH(B105,'Wikipedia-Alle verhalen'!C:C,0)","v":87},{"$f":"IF(ISNA(C105),\"\",IF(INDEX('Wikipedia-Alle verhalen'!J:J,WWWcatalogus!C105)>0,\"Yes\",\"No\"))","v":"Yes"},{"$f":"IF(D105=\"Yes\",\"Yes\",IF(ISNA(MATCH(B105,#REF!,0)),\"\",\"Yes!\"))","v":"Yes"}," 8, 16, 36, 49, 56, 63, 102, 106, 113, 133, 135"]
[103,"De gestolen schoen",{"$f":"MATCH(B106,'Wikipedia-Alle verhalen'!C:C,0)","v":{"$error":"#N/A"}},{"$f":"IF(ISNA(C106),\"\",IF(INDEX('Wikipedia-Alle verhalen'!J:J,WWWcatalogus!C106)>0,\"Yes\",\"No\"))","v":""},{"$f":"IF(D106=\"Yes\",\"Yes\",IF(ISNA(MATCH(B106,#REF!,0)),\"\",\"Yes!\"))","v":"Yes!"}," 109, 115, 147"]
[104,"Gestoorde rust",{"$f":"MATCH(B107,'Wikipedia-Alle verhalen'!C:C,0)","v":{"$error":"#N/A"}},{"$f":"IF(ISNA(C107),\"\",IF(INDEX('Wikipedia-Alle verhalen'!J:J,WWWcatalogus!C107)>0,\"Yes\",\"No\"))","v":""},{"$f":"IF(D107=\"Yes\",\"Yes\",IF(ISNA(MATCH(B107,#REF!,0)),\"\",\"Yes!\"))","v":"Yes!"},41]
[105,"De gevangene van Prisonov",{"$f":"MATCH(B108,'Wikipedia-Alle verhalen'!C:C,0)","v":257},{"$f":"IF(ISNA(C108),\"\",IF(INDEX('Wikipedia-Alle verhalen'!J:J,WWWcatalogus!C108)>0,\"Yes\",\"No\"))","v":"Yes"},{"$f":"IF(D108=\"Yes\",\"Yes\",IF(ISNA(MATCH(B108,#REF!,0)),\"\",\"Yes!\"))","v":"Yes"}," 12, 20, 67, 165"]
[106,"De gevederde slang",{"$f":"MATCH(B109,'Wikipedia-Alle verhalen'!C:C,0)","v":230},{"$f":"IF(ISNA(C109),\"\",IF(INDEX('Wikipedia-Alle verhalen'!J:J,WWWcatalogus!C109)>0,\"Yes\",\"No\"))","v":"Yes"},{"$f":"IF(D109=\"Yes\",\"Yes\",IF(ISNA(MATCH(B109,#REF!,0)),\"\",\"Yes!\"))","v":"Yes"}," 11, 18, 19, 36, 38, 67, 95, 160"]
[107,"De geverniste zeerovers",{"$f":"MATCH(B110,'Wikipedia-Alle verhalen'!C:C,0)","v":46},{"$f":"IF(ISNA(C110),\"\",IF(INDEX('Wikipedia-Alle verhalen'!J:J,WWWcatalogus!C110)>0,\"Yes\",\"No\"))","v":"Yes"},{"$f":"IF(D110=\"Yes\",\"Yes\",IF(ISNA(MATCH(B110,#REF!,0)),\"\",\"Yes!\"))","v":"Yes"}," 5, 8, 16, 25, 62, 71, 72, 73, 81, 95, 98, 105, 133, 134, 135, 136"]
[108,"De gezanten van Mars",{"$f":"MATCH(B111,'Wikipedia-Alle verhalen'!C:C,0)","v":37},{"$f":"IF(ISNA(C111),\"\",IF(INDEX('Wikipedia-Alle verhalen'!J:J,WWWcatalogus!C111)>0,\"Yes\",\"No\"))","v":"Yes"},{"$f":"IF(D111=\"Yes\",\"Yes\",IF(ISNA(MATCH(B111,#REF!,0)),\"\",\"Yes!\"))","v":"Yes"}," 8, 15, 26, 49, 53, 55, 62, 72, 75, 77, 78, 82, 94, 106, 109, 129, 131"]
[109,"Het gheim van de Kalmthoutse Haai",{"$f":"MATCH(B112,'Wikipedia-Alle verhalen'!C:C,0)","v":{"$error":"#N/A"}},{"$f":"IF(ISNA(C112),\"\",IF(INDEX('Wikipedia-Alle verhalen'!J:J,WWWcatalogus!C112)>0,\"Yes\",\"No\"))","v":""},{"$f":"IF(D112=\"Yes\",\"Yes\",IF(ISNA(MATCH(B112,#REF!,0)),\"\",\"Yes!\"))","v":"Yes!"}," Zie: Het geheim van de Kalmthoutse Heide"]
[110,"De gladde glipper",{"$f":"MATCH(B113,'Wikipedia-Alle verhalen'!C:C,0)","v":92},{"$f":"IF(ISNA(C113),\"\",IF(INDEX('Wikipedia-Alle verhalen'!J:J,WWWcatalogus!C113)>0,\"Yes\",\"No\"))","v":"Yes"},{"$f":"IF(D113=\"Yes\",\"Yes\",IF(ISNA(MATCH(B113,#REF!,0)),\"\",\"Yes!\"))","v":"Yes"}," 8, 16, 56, 63, 106, 118, 130"]
[111,"De glanzende gletsjer",{"$f":"MATCH(B114,'Wikipedia-Alle verhalen'!C:C,0)","v":167},{"$f":"IF(ISNA(C114),\"\",IF(INDEX('Wikipedia-Alle verhalen'!J:J,WWWcatalogus!C114)>0,\"Yes\",\"No\"))","v":"Yes"},{"$f":"IF(D114=\"Yes\",\"Yes\",IF(ISNA(MATCH(B114,#REF!,0)),\"\",\"Yes!\"))","v":"Yes"}," 10, 17, 65, 96, 98"]
[112,"De goalgetter",{"$f":"MATCH(B115,'Wikipedia-Alle verhalen'!C:C,0)","v":193},{"$f":"IF(ISNA(C115),\"\",IF(INDEX('Wikipedia-Alle verhalen'!J:J,WWWcatalogus!C115)>0,\"Yes\",\"No\"))","v":"Yes"},{"$f":"IF(D115=\"Yes\",\"Yes\",IF(ISNA(MATCH(B115,#REF!,0)),\"\",\"Yes!\"))","v":"Yes"}," 10, 17, 34, 36, 51, 65, 112, 128, 134, 142"]
[113,"Goud voor Rome",{"$f":"MATCH(B116,'Wikipedia-Alle verhalen'!C:C,0)","v":{"$error":"#N/A"}},{"$f":"IF(ISNA(C116),\"\",IF(INDEX('Wikipedia-Alle verhalen'!J:J,WWWcatalogus!C116)>0,\"Yes\",\"No\"))","v":""},{"$f":"IF(D116=\"Yes\",\"Yes\",IF(ISNA(MATCH(B116,#REF!,0)),\"\",\"Yes!\"))","v":"Yes!"},"Zie: Het geheim der gladiatoren"]
[114,"De gouden bloem",{"$f":"MATCH(B117,'Wikipedia-Alle verhalen'!C:C,0)","v":101},{"$f":"IF(ISNA(C117),\"\",IF(INDEX('Wikipedia-Alle verhalen'!J:J,WWWcatalogus!C117)>0,\"Yes\",\"No\"))","v":"No"},{"$f":"IF(D117=\"Yes\",\"Yes\",IF(ISNA(MATCH(B117,#REF!,0)),\"\",\"Yes!\"))","v":"Yes!"}," 34, 39, 47, 48, 60, 67, 83, 86, 156"]
[115,"De gouden cirkel",{"$f":"MATCH(B118,'Wikipedia-Alle verhalen'!C:C,0)","v":54},{"$f":"IF(ISNA(C118),\"\",IF(INDEX('Wikipedia-Alle verhalen'!J:J,WWWcatalogus!C118)>0,\"Yes\",\"No\"))","v":"Yes"},{"$f":"IF(D118=\"Yes\",\"Yes\",IF(ISNA(MATCH(B118,#REF!,0)),\"\",\"Yes!\"))","v":"Yes"}," 6, 8, 16, 25, 38, 54, 56, 62, 71, 72, 73, 81, 103, 105, 129, 133, 134, 137, 165"]
[116,"De gouden friet",{"$f":"MATCH(B119,'Wikipedia-Alle verhalen'!C:C,0)","v":191},{"$f":"IF(ISNA(C119),\"\",IF(INDEX('Wikipedia-Alle verhalen'!J:J,WWWcatalogus!C119)>0,\"Yes\",\"No\"))","v":"No"},{"$f":"IF(D119=\"Yes\",\"Yes\",IF(ISNA(MATCH(B119,#REF!,0)),\"\",\"Yes!\"))","v":"Yes!"},43]
[117,"De gouden ganzeveer",{"$f":"MATCH(B120,'Wikipedia-Alle verhalen'!C:C,0)","v":148},{"$f":"IF(ISNA(C120),\"\",IF(INDEX('Wikipedia-Alle verhalen'!J:J,WWWcatalogus!C120)>0,\"Yes\",\"No\"))","v":"Yes"},{"$f":"IF(D120=\"Yes\",\"Yes\",IF(ISNA(MATCH(B120,#REF!,0)),\"\",\"Yes!\"))","v":"Yes"}," 10, 17, 64, 96, 105"]
[118,"Het gouden kuipje",{"$f":"MATCH(B121,'Wikipedia-Alle verhalen'!C:C,0)","v":185},{"$f":"IF(ISNA(C121),\"\",IF(INDEX('Wikipedia-Alle verhalen'!J:J,WWWcatalogus!C121)>0,\"Yes\",\"No\"))","v":"No"},{"$f":"IF(D121=\"Yes\",\"Yes\",IF(ISNA(MATCH(B121,#REF!,0)),\"\",\"Yes!\"))","v":"Yes!"}," 43, 111"]
[119,"De gouden locomotief",{"$f":"MATCH(B122,'Wikipedia-Alle verhalen'!C:C,0)","v":107},{"$f":"IF(ISNA(C122),\"\",IF(INDEX('Wikipedia-Alle verhalen'!J:J,WWWcatalogus!C122)>0,\"Yes\",\"No\"))","v":"Yes"},{"$f":"IF(D122=\"Yes\",\"Yes\",IF(ISNA(MATCH(B122,#REF!,0)),\"\",\"Yes!\"))","v":"Yes"}," 9, 16, 34, 55, 56, 63, 96, 105, 120"]
[120,"Het gouden paard",{"$f":"MATCH(B123,'Wikipedia-Alle verhalen'!C:C,0)","v":48},{"$f":"IF(ISNA(C123),\"\",IF(INDEX('Wikipedia-Alle verhalen'!J:J,WWWcatalogus!C123)>0,\"Yes\",\"No\"))","v":"Yes"},{"$f":"IF(D123=\"Yes\",\"Yes\",IF(ISNA(MATCH(B123,#REF!,0)),\"\",\"Yes!\"))","v":"Yes"}," 7, 15, 26, 34, 49, 53, 55, 61, 72, 75, 77, 78, 102, 105, 110, 129, 131, 148"]
[121,"De gramme huurling",{"$f":"MATCH(B124,'Wikipedia-Alle verhalen'!C:C,0)","v":76},{"$f":"IF(ISNA(C124),\"\",IF(INDEX('Wikipedia-Alle verhalen'!J:J,WWWcatalogus!C124)>0,\"Yes\",\"No\"))","v":"Yes"},{"$f":"IF(D124=\"Yes\",\"Yes\",IF(ISNA(MATCH(B124,#REF!,0)),\"\",\"Yes!\"))","v":"Yes"}," 7, 15, 44, 61, 85, 91"]
[122,"De grandioze gitaar",{"$f":"MATCH(B125,'Wikipedia-Alle verhalen'!C:C,0)","v":358},{"$f":"IF(ISNA(C125),\"\",IF(INDEX('Wikipedia-Alle verhalen'!J:J,WWWcatalogus!C125)>0,\"Yes\",\"No\"))","v":"No"},{"$f":"IF(D125=\"Yes\",\"Yes\",IF(ISNA(MATCH(B125,#REF!,0)),\"\",\"Yes!\"))","v":"Yes!"}," 138, 139"]
[123,"De groene splinter",{"$f":"MATCH(B126,'Wikipedia-Alle verhalen'!C:C,0)","v":42},{"$f":"IF(ISNA(C126),\"\",IF(INDEX('Wikipedia-Alle verhalen'!J:J,WWWcatalogus!C126)>0,\"Yes\",\"No\"))","v":"Yes"},{"$f":"IF(D126=\"Yes\",\"Yes\",IF(ISNA(MATCH(B126,#REF!,0)),\"\",\"Yes!\"))","v":"Yes"}," 8, 15, 26, 53, 56, 62, 72, 75, 77, 78, 81, 94, 105, 129, 131"]
[124,"De groffe grapjas",{"$f":"MATCH(B127,'Wikipedia-Alle verhalen'!C:C,0)","v":353},{"$f":"IF(ISNA(C127),\"\",IF(INDEX('Wikipedia-Alle verhalen'!J:J,WWWcatalogus!C127)>0,\"Yes\",\"No\"))","v":"No"},{"$f":"IF(D127=\"Yes\",\"Yes\",IF(ISNA(MATCH(B127,#REF!,0)),\"\",\"Yes!\"))","v":"Yes!"},138]
[125,"Het grote gat",{"$f":"MATCH(B128,'Wikipedia-Alle verhalen'!C:C,0)","v":224},{"$f":"IF(ISNA(C128),\"\",IF(INDEX('Wikipedia-Alle verhalen'!J:J,WWWcatalogus!C128)>0,\"Yes\",\"No\"))","v":"Yes"},{"$f":"IF(D128=\"Yes\",\"Yes\",IF(ISNA(MATCH(B128,#REF!,0)),\"\",\"Yes!\"))","v":"Yes"}," 11, 18, 19, 66, 89, 114, 115, 158"]
[126,"De guitige gast",{"$f":"MATCH(B129,'Wikipedia-Alle verhalen'!C:C,0)","v":262},{"$f":"IF(ISNA(C129),\"\",IF(INDEX('Wikipedia-Alle verhalen'!J:J,WWWcatalogus!C129)>0,\"Yes\",\"No\"))","v":"No"},{"$f":"IF(D129=\"Yes\",\"Yes\",IF(ISNA(MATCH(B129,#REF!,0)),\"\",\"Yes!\"))","v":"Yes!"}," 34, 49, 68, 80, 116"]
[127,"De gulden harpoen",{"$f":"MATCH(B130,'Wikipedia-Alle verhalen'!C:C,0)","v":206},{"$f":"IF(ISNA(C130),\"\",IF(INDEX('Wikipedia-Alle verhalen'!J:J,WWWcatalogus!C130)>0,\"Yes\",\"No\"))","v":"Yes"},{"$f":"IF(D130=\"Yes\",\"Yes\",IF(ISNA(MATCH(B130,#REF!,0)),\"\",\"Yes!\"))","v":"Yes"}," 11, 18, 19, 52, 58, 66, 86, 91, 95, 117, 151"]
[128,"De halve Havelaar",{"$f":"MATCH(B131,'Wikipedia-Alle verhalen'!C:C,0)","v":309},{"$f":"IF(ISNA(C131),\"\",IF(INDEX('Wikipedia-Alle verhalen'!J:J,WWWcatalogus!C131)>0,\"Yes\",\"No\"))","v":"Yes"},{"$f":"IF(D131=\"Yes\",\"Yes\",IF(ISNA(MATCH(B131,#REF!,0)),\"\",\"Yes!\"))","v":"Yes"}," 13, 20, 36, 68, 95"]
[129,"De hamer van Thor",{"$f":"MATCH(B132,'Wikipedia-Alle verhalen'!C:C,0)","v":{"$error":"#N/A"}},{"$f":"IF(ISNA(C132),\"\",IF(INDEX('Wikipedia-Alle verhalen'!J:J,WWWcatalogus!C132)>0,\"Yes\",\"No\"))","v":""},{"$f":"IF(D132=\"Yes\",\"Yes\",IF(ISNA(MATCH(B132,#REF!,0)),\"\",\"Yes!\"))","v":"Yes!"},45]
[130,"De heikneuters",{"$f":"MATCH(B133,'Wikipedia-Alle verhalen'!C:C,0)","v":{"$error":"#N/A"}},{"$f":"IF(ISNA(C133),\"\",IF(INDEX('Wikipedia-Alle verhalen'!J:J,WWWcatalogus!C133)>0,\"Yes\",\"No\"))","v":""},{"$f":"IF(D133=\"Yes\",\"Yes\",IF(ISNA(MATCH(B133,#REF!,0)),\"\",\"Yes!\"))","v":"Yes!"}," Zie: Het geheim van de Kalmthoutse heide"]
[131,"Heilig bloed",{"$f":"MATCH(B134,'Wikipedia-Alle verhalen'!C:C,0)","v":251},{"$f":"IF(ISNA(C134),\"\",IF(INDEX('Wikipedia-Alle verhalen'!J:J,WWWcatalogus!C134)>0,\"Yes\",\"No\"))","v":"Yes"},{"$f":"IF(D134=\"Yes\",\"Yes\",IF(ISNA(MATCH(B134,#REF!,0)),\"\",\"Yes!\"))","v":"Yes"}," 12, 20, 67, 90, 128, 164"]
[132,"De Heldenmaker",{"$f":"MATCH(B135,'Wikipedia-Alle verhalen'!C:C,0)","v":366},{"$f":"IF(ISNA(C135),\"\",IF(INDEX('Wikipedia-Alle verhalen'!J:J,WWWcatalogus!C135)>0,\"Yes\",\"No\"))","v":"Yes"},{"$f":"IF(D135=\"Yes\",\"Yes\",IF(ISNA(MATCH(B135,#REF!,0)),\"\",\"Yes!\"))","v":"Yes"}," 13, 23, 24, 69"]
[133,"De Hellegathonden",{"$f":"MATCH(B136,'Wikipedia-Alle verhalen'!C:C,0)","v":169},{"$f":"IF(ISNA(C136),\"\",IF(INDEX('Wikipedia-Alle verhalen'!J:J,WWWcatalogus!C136)>0,\"Yes\",\"No\"))","v":"Yes"},{"$f":"IF(D136=\"Yes\",\"Yes\",IF(ISNA(MATCH(B136,#REF!,0)),\"\",\"Yes!\"))","v":"Yes"}," 10, 17, 56, 65, 94, 99, 104, 110"]
[134,"Het gewiste Wiske",{"$f":"MATCH(B137,'Wikipedia-Alle verhalen'!C:C,0)","v":387},{"$f":"IF(ISNA(C137),\"\",IF(INDEX('Wikipedia-Alle verhalen'!J:J,WWWcatalogus!C137)>0,\"Yes\",\"No\"))","v":"Yes"},{"$f":"IF(D137=\"Yes\",\"Yes\",IF(ISNA(MATCH(B137,#REF!,0)),\"\",\"Yes!\"))","v":"Yes"}," 14, 23, 24"]
[135,"De hippe heksen",{"$f":"MATCH(B138,'Wikipedia-Alle verhalen'!C:C,0)","v":150},{"$f":"IF(ISNA(C138),\"\",IF(INDEX('Wikipedia-Alle verhalen'!J:J,WWWcatalogus!C138)>0,\"Yes\",\"No\"))","v":"Yes"},{"$f":"IF(D138=\"Yes\",\"Yes\",IF(ISNA(MATCH(B138,#REF!,0)),\"\",\"Yes!\"))","v":"Yes"}," 10, 17, 34, 56, 65, 91, 96, 97"]
[136,"Hippus het zeeveulen",{"$f":"MATCH(B139,'Wikipedia-Alle verhalen'!C:C,0)","v":104},{"$f":"IF(ISNA(C139),\"\",IF(INDEX('Wikipedia-Alle verhalen'!J:J,WWWcatalogus!C139)>0,\"Yes\",\"No\"))","v":"Yes"},{"$f":"IF(D139=\"Yes\",\"Yes\",IF(ISNA(MATCH(B139,#REF!,0)),\"\",\"Yes!\"))","v":"Yes"}," 10, 32, 34, 40, 46, 47, 48, 64, 83"]
[137,"Het hondenparadijs",{"$f":"MATCH(B140,'Wikipedia-Alle verhalen'!C:C,0)","v":59},{"$f":"IF(ISNA(C140),\"\",IF(INDEX('Wikipedia-Alle verhalen'!J:J,WWWcatalogus!C140)>0,\"Yes\",\"No\"))","v":"Yes"},{"$f":"IF(D140=\"Yes\",\"Yes\",IF(ISNA(MATCH(B140,#REF!,0)),\"\",\"Yes!\"))","v":"Yes"}," 6, 7, 15, 25, 49, 61, 71, 72, 74, 77, 78, 94, 105, 133, 134, 137, 144"]
[138,"'t hondenparredies",{"$f":"MATCH(B141,'Wikipedia-Alle verhalen'!C:C,0)","v":{"$error":"#N/A"}},{"$f":"IF(ISNA(C141),\"\",IF(INDEX('Wikipedia-Alle verhalen'!J:J,WWWcatalogus!C141)>0,\"Yes\",\"No\"))","v":""},{"$f":"IF(D141=\"Yes\",\"Yes\",IF(ISNA(MATCH(B141,#REF!,0)),\"\",\"Yes!\"))","v":"Yes!"}," Zie: Het hondenparadijs"]
[139,"Het hondeparadies",{"$f":"MATCH(B142,'Wikipedia-Alle verhalen'!C:C,0)","v":{"$error":"#N/A"}},{"$f":"IF(ISNA(C142),\"\",IF(INDEX('Wikipedia-Alle verhalen'!J:J,WWWcatalogus!C142)>0,\"Yes\",\"No\"))","v":""},{"$f":"IF(D142=\"Yes\",\"Yes\",IF(ISNA(MATCH(B142,#REF!,0)),\"\",\"Yes!\"))","v":"Yes!"}," Zie: Het hondenparadijs"]
[140,"Het ijzeren duel",{"$f":"MATCH(B143,'Wikipedia-Alle verhalen'!C:C,0)","v":329},{"$f":"IF(ISNA(C143),\"\",IF(INDEX('Wikipedia-Alle verhalen'!J:J,WWWcatalogus!C143)>0,\"Yes\",\"No\"))","v":"Yes"},{"$f":"IF(D143=\"Yes\",\"Yes\",IF(ISNA(MATCH(B143,#REF!,0)),\"\",\"Yes!\"))","v":"Yes"}," 13, 23, 24, 69, 98"]
[141,"De ijzeren schelvis",{"$f":"MATCH(B144,'Wikipedia-Alle verhalen'!C:C,0)","v":36},{"$f":"IF(ISNA(C144),\"\",IF(INDEX('Wikipedia-Alle verhalen'!J:J,WWWcatalogus!C144)>0,\"Yes\",\"No\"))","v":"Yes"},{"$f":"IF(D144=\"Yes\",\"Yes\",IF(ISNA(MATCH(B144,#REF!,0)),\"\",\"Yes!\"))","v":"Yes"}," 5, 6, 7, 15, 25, 55, 56, 61, 71, 72, 73, 91, 103, 106, 136"]
[142,"In de ban van de milt",{"$f":"MATCH(B145,'Wikipedia-Alle verhalen'!C:C,0)","v":252},{"$f":"IF(ISNA(C145),\"\",IF(INDEX('Wikipedia-Alle verhalen'!J:J,WWWcatalogus!C145)>0,\"Yes\",\"No\"))","v":"Yes"},{"$f":"IF(D145=\"Yes\",\"Yes\",IF(ISNA(MATCH(B145,#REF!,0)),\"\",\"Yes!\"))","v":"Yes"}," 12, 20, 67, 128, 164"]
[143,"De irritante imitator",{"$f":"MATCH(B146,'Wikipedia-Alle verhalen'!C:C,0)","v":363},{"$f":"IF(ISNA(C146),\"\",IF(INDEX('Wikipedia-Alle verhalen'!J:J,WWWcatalogus!C146)>0,\"Yes\",\"No\"))","v":"No"},{"$f":"IF(D146=\"Yes\",\"Yes\",IF(ISNA(MATCH(B146,#REF!,0)),\"\",\"Yes!\"))","v":"Yes!"}," 138, 139"]
[144,"Jeanne Panne",{"$f":"MATCH(B147,'Wikipedia-Alle verhalen'!C:C,0)","v":239},{"$f":"IF(ISNA(C147),\"\",IF(INDEX('Wikipedia-Alle verhalen'!J:J,WWWcatalogus!C147)>0,\"Yes\",\"No\"))","v":"Yes"},{"$f":"IF(D147=\"Yes\",\"Yes\",IF(ISNA(MATCH(B147,#REF!,0)),\"\",\"Yes!\"))","v":"Yes"}," 11, 19, 58, 67, 89, 98, 104, 115, 162"]
[145,"Jeminee, echte helden!",{"$f":"MATCH(B148,'Wikipedia-Alle verhalen'!C:C,0)","v":{"$error":"#N/A"}},{"$f":"IF(ISNA(C148),\"\",IF(INDEX('Wikipedia-Alle verhalen'!J:J,WWWcatalogus!C148)>0,\"Yes\",\"No\"))","v":""},{"$f":"IF(D148=\"Yes\",\"Yes\",IF(ISNA(MATCH(B148,#REF!,0)),\"\",\"Yes!\"))","v":"Yes!"},27]
[146,"Jeromba de Griek",{"$f":"MATCH(B149,'Wikipedia-Alle verhalen'!C:C,0)","v":70},{"$f":"IF(ISNA(C149),\"\",IF(INDEX('Wikipedia-Alle verhalen'!J:J,WWWcatalogus!C149)>0,\"Yes\",\"No\"))","v":"Yes"},{"$f":"IF(D149=\"Yes\",\"Yes\",IF(ISNA(MATCH(B149,#REF!,0)),\"\",\"Yes!\"))","v":"Yes"}," 6, 7, 15, 37, 38, 58, 61, 71, 74, 78, 79, 85, 91, 106, 133, 134, 137"]
[147,"Jérusalem",{"$f":"MATCH(B150,'Wikipedia-Alle verhalen'!C:C,0)","v":{"$error":"#N/A"}},{"$f":"IF(ISNA(C150),\"\",IF(INDEX('Wikipedia-Alle verhalen'!J:J,WWWcatalogus!C150)>0,\"Yes\",\"No\"))","v":""},{"$f":"IF(D150=\"Yes\",\"Yes\",IF(ISNA(MATCH(B150,#REF!,0)),\"\",\"Yes!\"))","v":"Yes!"}," 27, 28, 29, 30"]
[148,"De joker aafgetroef",{"$f":"MATCH(B151,'Wikipedia-Alle verhalen'!C:C,0)","v":{"$error":"#N/A"}},{"$f":"IF(ISNA(C151),\"\",IF(INDEX('Wikipedia-Alle verhalen'!J:J,WWWcatalogus!C151)>0,\"Yes\",\"No\"))","v":""},{"$f":"IF(D151=\"Yes\",\"Yes\",IF(ISNA(MATCH(B151,#REF!,0)),\"\",\"Yes!\"))","v":"Yes!"}," Zie: De kaartendans"]
[149,"De jokkende joker",{"$f":"MATCH(B152,'Wikipedia-Alle verhalen'!C:C,0)","v":301},{"$f":"IF(ISNA(C152),\"\",IF(INDEX('Wikipedia-Alle verhalen'!J:J,WWWcatalogus!C152)>0,\"Yes\",\"No\"))","v":"Yes"},{"$f":"IF(D152=\"Yes\",\"Yes\",IF(ISNA(MATCH(B152,#REF!,0)),\"\",\"Yes!\"))","v":"Yes"}," 12, 20, 36, 38, 53, 68"]
[150,"De jolige joffer",{"$f":"MATCH(B153,'Wikipedia-Alle verhalen'!C:C,0)","v":171},{"$f":"IF(ISNA(C153),\"\",IF(INDEX('Wikipedia-Alle verhalen'!J:J,WWWcatalogus!C153)>0,\"Yes\",\"No\"))","v":"Yes"},{"$f":"IF(D153=\"Yes\",\"Yes\",IF(ISNA(MATCH(B153,#REF!,0)),\"\",\"Yes!\"))","v":"Yes"}," 10, 17, 52, 57, 65, 110"]
[151,"De joviale Gille",{"$f":"MATCH(B154,'Wikipedia-Alle verhalen'!C:C,0)","v":289},{"$f":"IF(ISNA(C154),\"\",IF(INDEX('Wikipedia-Alle verhalen'!J:J,WWWcatalogus!C154)>0,\"Yes\",\"No\"))","v":"Yes"},{"$f":"IF(D154=\"Yes\",\"Yes\",IF(ISNA(MATCH(B154,#REF!,0)),\"\",\"Yes!\"))","v":"Yes"}," 12, 20, 57, 68"]
[152,"Juffertje Janboel",{"$f":"MATCH(B155,'Wikipedia-Alle verhalen'!C:C,0)","v":308},{"$f":"IF(ISNA(C155),\"\",IF(INDEX('Wikipedia-Alle verhalen'!J:J,WWWcatalogus!C155)>0,\"Yes\",\"No\"))","v":"No"},{"$f":"IF(D155=\"Yes\",\"Yes\",IF(ISNA(MATCH(B155,#REF!,0)),\"\",\"Yes!\"))","v":"Yes!"}," 55, 80, 99, 120"]
[153,"De junglebloem",{"$f":"MATCH(B156,'Wikipedia-Alle verhalen'!C:C,0)","v":79},{"$f":"IF(ISNA(C156),\"\",IF(INDEX('Wikipedia-Alle verhalen'!J:J,WWWcatalogus!C156)>0,\"Yes\",\"No\"))","v":"Yes"},{"$f":"IF(D156=\"Yes\",\"Yes\",IF(ISNA(MATCH(B156,#REF!,0)),\"\",\"Yes!\"))","v":"Yes"}," 7, 15, 58, 61, 106"]
[154,"Kaapse kaalkoppen",{"$f":"MATCH(B157,'Wikipedia-Alle verhalen'!C:C,0)","v":261},{"$f":"IF(ISNA(C157),\"\",IF(INDEX('Wikipedia-Alle verhalen'!J:J,WWWcatalogus!C157)>0,\"Yes\",\"No\"))","v":"Yes"},{"$f":"IF(D157=\"Yes\",\"Yes\",IF(ISNA(MATCH(B157,#REF!,0)),\"\",\"Yes!\"))","v":"Yes"}," 12, 20, 58, 67"]
[155,"De kaartendans",{"$f":"MATCH(B158,'Wikipedia-Alle verhalen'!C:C,0)","v":60},{"$f":"IF(ISNA(C158),\"\",IF(INDEX('Wikipedia-Alle verhalen'!J:J,WWWcatalogus!C158)>0,\"Yes\",\"No\"))","v":"Yes"},{"$f":"IF(D158=\"Yes\",\"Yes\",IF(ISNA(MATCH(B158,#REF!,0)),\"\",\"Yes!\"))","v":"Yes"}," 6, 8, 15, 25, 55, 56, 61, 71, 72, 74, 89, 93, 95, 115, 130, 133, 137, 143, 165"]
[156,"De kaduke klonen",{"$f":"MATCH(B159,'Wikipedia-Alle verhalen'!C:C,0)","v":272},{"$f":"IF(ISNA(C159),\"\",IF(INDEX('Wikipedia-Alle verhalen'!J:J,WWWcatalogus!C159)>0,\"Yes\",\"No\"))","v":"Yes"},{"$f":"IF(D159=\"Yes\",\"Yes\",IF(ISNA(MATCH(B159,#REF!,0)),\"\",\"Yes!\"))","v":"Yes"}," 12, 20, 50, 68, 95"]
[157,"De kadulle Cupido",{"$f":"MATCH(B160,'Wikipedia-Alle verhalen'!C:C,0)","v":126},{"$f":"IF(ISNA(C160),\"\",IF(INDEX('Wikipedia-Alle verhalen'!J:J,WWWcatalogus!C160)>0,\"Yes\",\"No\"))","v":"Yes"},{"$f":"IF(D160=\"Yes\",\"Yes\",IF(ISNA(MATCH(B160,#REF!,0)),\"\",\"Yes!\"))","v":"Yes"}," 9, 16, 40, 64, 104"]
[158,"De kale kapper",{"$f":"MATCH(B161,'Wikipedia-Alle verhalen'!C:C,0)","v":84},{"$f":"IF(ISNA(C161),\"\",IF(INDEX('Wikipedia-Alle verhalen'!J:J,WWWcatalogus!C161)>0,\"Yes\",\"No\"))","v":"Yes"},{"$f":"IF(D161=\"Yes\",\"Yes\",IF(ISNA(MATCH(B161,#REF!,0)),\"\",\"Yes!\"))","v":"Yes"}," 8, 16, 36, 38, 58, 62, 94, 106"]
[159,"De kaperkoters",{"$f":"MATCH(B162,'Wikipedia-Alle verhalen'!C:C,0)","v":282},{"$f":"IF(ISNA(C162),\"\",IF(INDEX('Wikipedia-Alle verhalen'!J:J,WWWcatalogus!C162)>0,\"Yes\",\"No\"))","v":"Yes"},{"$f":"IF(D162=\"Yes\",\"Yes\",IF(ISNA(MATCH(B162,#REF!,0)),\"\",\"Yes!\"))","v":"Yes"}," 12, 18, 20, 57, 68, 95, 97, 130"]
[160,"De kattige kat",{"$f":"MATCH(B163,'Wikipedia-Alle verhalen'!C:C,0)","v":159},{"$f":"IF(ISNA(C163),\"\",IF(INDEX('Wikipedia-Alle verhalen'!J:J,WWWcatalogus!C163)>0,\"Yes\",\"No\"))","v":"Yes"},{"$f":"IF(D163=\"Yes\",\"Yes\",IF(ISNA(MATCH(B163,#REF!,0)),\"\",\"Yes!\"))","v":"Yes"}," 10, 17, 58, 65, 96, 105"]
[161,"De kernmonsters",{"$f":"MATCH(B164,'Wikipedia-Alle verhalen'!C:C,0)","v":240},{"$f":"IF(ISNA(C164),\"\",IF(INDEX('Wikipedia-Alle verhalen'!J:J,WWWcatalogus!C164)>0,\"Yes\",\"No\"))","v":"Yes"},{"$f":"IF(D164=\"Yes\",\"Yes\",IF(ISNA(MATCH(B164,#REF!,0)),\"\",\"Yes!\"))","v":"Yes"}," 11, 19, 67, 162"]
[162,"De kiezenpikker",{"$f":"MATCH(B165,'Wikipedia-Alle verhalen'!C:C,0)","v":{"$error":"#N/A"}},{"$f":"IF(ISNA(C165),\"\",IF(INDEX('Wikipedia-Alle verhalen'!J:J,WWWcatalogus!C165)>0,\"Yes\",\"No\"))","v":""},{"$f":"IF(D165=\"Yes\",\"Yes\",IF(ISNA(MATCH(B165,#REF!,0)),\"\",\"Yes!\"))","v":"Yes!"},42]
[163,"De klankentapper",{"$f":"MATCH(B166,'Wikipedia-Alle verhalen'!C:C,0)","v":57},{"$f":"IF(ISNA(C166),\"\",IF(INDEX('Wikipedia-Alle verhalen'!J:J,WWWcatalogus!C166)>0,\"Yes\",\"No\"))","v":"Yes"},{"$f":"IF(D166=\"Yes\",\"Yes\",IF(ISNA(MATCH(B166,#REF!,0)),\"\",\"Yes!\"))","v":"Yes"}," 6, 8, 15, 25, 58, 62, 71, 72, 73, 94, 137"]
[164,"De kleine postruiter",{"$f":"MATCH(B167,'Wikipedia-Alle verhalen'!C:C,0)","v":190},{"$f":"IF(ISNA(C167),\"\",IF(INDEX('Wikipedia-Alle verhalen'!J:J,WWWcatalogus!C167)>0,\"Yes\",\"No\"))","v":"Yes"},{"$f":"IF(D167=\"Yes\",\"Yes\",IF(ISNA(MATCH(B167,#REF!,0)),\"\",\"Yes!\"))","v":"Yes"}," 10, 17, 56, 65, 106, 112, 134"]
[165,"De kleppende klipper",{"$f":"MATCH(B168,'Wikipedia-Alle verhalen'!C:C,0)","v":38},{"$f":"IF(ISNA(C168),\"\",IF(INDEX('Wikipedia-Alle verhalen'!J:J,WWWcatalogus!C168)>0,\"Yes\",\"No\"))","v":"Yes"},{"$f":"IF(D168=\"Yes\",\"Yes\",IF(ISNA(MATCH(B168,#REF!,0)),\"\",\"Yes!\"))","v":"Yes"}," 5, 7, 15, 25, 50, 54, 57, 61, 71, 72, 73, 105, 108, 133, 136"]
[166,"De kleurenkladder",{"$f":"MATCH(B169,'Wikipedia-Alle verhalen'!C:C,0)","v":184},{"$f":"IF(ISNA(C169),\"\",IF(INDEX('Wikipedia-Alle verhalen'!J:J,WWWcatalogus!C169)>0,\"Yes\",\"No\"))","v":"Yes"},{"$f":"IF(D169=\"Yes\",\"Yes\",IF(ISNA(MATCH(B169,#REF!,0)),\"\",\"Yes!\"))","v":"Yes"}," 10, 17, 37, 52, 55, 58, 65, 90, 102, 134"]
[167,"De klinkende klokken",{"$f":"MATCH(B170,'Wikipedia-Alle verhalen'!C:C,0)","v":203},{"$f":"IF(ISNA(C170),\"\",IF(INDEX('Wikipedia-Alle verhalen'!J:J,WWWcatalogus!C170)>0,\"Yes\",\"No\"))","v":"Yes"},{"$f":"IF(D170=\"Yes\",\"Yes\",IF(ISNA(MATCH(B170,#REF!,0)),\"\",\"Yes!\"))","v":"Yes"}," 11, 17, 19, 66, 104"]
[168,"De knikkende knoken",{"$f":"MATCH(B171,'Wikipedia-Alle verhalen'!C:C,0)","v":298},{"$f":"IF(ISNA(C171),\"\",IF(INDEX('Wikipedia-Alle verhalen'!J:J,WWWcatalogus!C171)>0,\"Yes\",\"No\"))","v":"Yes"},{"$f":"IF(D171=\"Yes\",\"Yes\",IF(ISNA(MATCH(B171,#REF!,0)),\"\",\"Yes!\"))","v":"Yes"}," 12, 20, 22, 53, 58, 68, 97, 99"]
[169,"Knokken in Knossos",{"$f":"MATCH(B172,'Wikipedia-Alle verhalen'!C:C,0)","v":194},{"$f":"IF(ISNA(C172),\"\",IF(INDEX('Wikipedia-Alle verhalen'!J:J,WWWcatalogus!C172)>0,\"Yes\",\"No\"))","v":"No"},{"$f":"IF(D172=\"Yes\",\"Yes\",IF(ISNA(MATCH(B172,#REF!,0)),\"\",\"Yes!\"))","v":"Yes!"}," 33, 45, 46, 48, 65, 86, 87, 156"]
[170,"De Knokkersburcht",{"$f":"MATCH(B173,'Wikipedia-Alle verhalen'!C:C,0)","v":32},{"$f":"IF(ISNA(C173),\"\",IF(INDEX('Wikipedia-Alle verhalen'!J:J,WWWcatalogus!C173)>0,\"Yes\",\"No\"))","v":"Yes"},{"$f":"IF(D173=\"Yes\",\"Yes\",IF(ISNA(MATCH(B173,#REF!,0)),\"\",\"Yes!\"))","v":"Yes"}," 5, 8, 16, 25, 35, 57, 62, 70, 72, 73, 101, 106, 127, 136"]
[171,"De koddige kater",{"$f":"MATCH(B174,'Wikipedia-Alle verhalen'!C:C,0)","v":67},{"$f":"IF(ISNA(C174),\"\",IF(INDEX('Wikipedia-Alle verhalen'!J:J,WWWcatalogus!C174)>0,\"Yes\",\"No\"))","v":"Yes"},{"$f":"IF(D174=\"Yes\",\"Yes\",IF(ISNA(MATCH(B174,#REF!,0)),\"\",\"Yes!\"))","v":"Yes"}," 6, 7, 15, 58, 61, 71, 74, 78, 79, 82, 91, 137, 142"]
[172,"De koeiencommissie",{"$f":"MATCH(B175,'Wikipedia-Alle verhalen'!C:C,0)","v":243},{"$f":"IF(ISNA(C175),\"\",IF(INDEX('Wikipedia-Alle verhalen'!J:J,WWWcatalogus!C175)>0,\"Yes\",\"No\"))","v":"Yes"},{"$f":"IF(D175=\"Yes\",\"Yes\",IF(ISNA(MATCH(B175,#REF!,0)),\"\",\"Yes!\"))","v":"Yes"}," 11, 19, 67"]
[173,"De kokende kei",{"$f":"MATCH(B176,'Wikipedia-Alle verhalen'!C:C,0)","v":303},{"$f":"IF(ISNA(C176),\"\",IF(INDEX('Wikipedia-Alle verhalen'!J:J,WWWcatalogus!C176)>0,\"Yes\",\"No\"))","v":"No"},{"$f":"IF(D176=\"Yes\",\"Yes\",IF(ISNA(MATCH(B176,#REF!,0)),\"\",\"Yes!\"))","v":"Yes!"}," 54, 69, 80, 120"]
[174,"De komieke Coco",{"$f":"MATCH(B177,'Wikipedia-Alle verhalen'!C:C,0)","v":181},{"$f":"IF(ISNA(C177),\"\",IF(INDEX('Wikipedia-Alle verhalen'!J:J,WWWcatalogus!C177)>0,\"Yes\",\"No\"))","v":"Yes"},{"$f":"IF(D177=\"Yes\",\"Yes\",IF(ISNA(MATCH(B177,#REF!,0)),\"\",\"Yes!\"))","v":"Yes"}," 10, 17, 50, 65, 106"]
[175,"De koning drinkt",{"$f":"MATCH(B178,'Wikipedia-Alle verhalen'!C:C,0)","v":9},{"$f":"IF(ISNA(C178),\"\",IF(INDEX('Wikipedia-Alle verhalen'!J:J,WWWcatalogus!C178)>0,\"Yes\",\"No\"))","v":"Yes"},{"$f":"IF(D178=\"Yes\",\"Yes\",IF(ISNA(MATCH(B178,#REF!,0)),\"\",\"Yes!\"))","v":"Yes"}," 5, 8, 15, 36, 54, 55, 57, 62, 70, 72, 73, 76, 77, 78, 82, 101, 105, 126, 136"]
[176,"De koperen knullen",{"$f":"MATCH(B179,'Wikipedia-Alle verhalen'!C:C,0)","v":135},{"$f":"IF(ISNA(C179),\"\",IF(INDEX('Wikipedia-Alle verhalen'!J:J,WWWcatalogus!C179)>0,\"Yes\",\"No\"))","v":"Yes"},{"$f":"IF(D179=\"Yes\",\"Yes\",IF(ISNA(MATCH(B179,#REF!,0)),\"\",\"Yes!\"))","v":"Yes"}," 9, 17, 38, 53, 56, 64, 94, 105, 134"]
[177,"De koppige kluizenaar",{"$f":"MATCH(B180,'Wikipedia-Alle verhalen'!C:C,0)","v":260},{"$f":"IF(ISNA(C180),\"\",IF(INDEX('Wikipedia-Alle verhalen'!J:J,WWWcatalogus!C180)>0,\"Yes\",\"No\"))","v":"No"},{"$f":"IF(D180=\"Yes\",\"Yes\",IF(ISNA(MATCH(B180,#REF!,0)),\"\",\"Yes!\"))","v":"Yes!"}," 34, 47, 68, 80"]
[178,"Het kostbare kader",{"$f":"MATCH(B181,'Wikipedia-Alle verhalen'!C:C,0)","v":221},{"$f":"IF(ISNA(C181),\"\",IF(INDEX('Wikipedia-Alle verhalen'!J:J,WWWcatalogus!C181)>0,\"Yes\",\"No\"))","v":"Yes"},{"$f":"IF(D181=\"Yes\",\"Yes\",IF(ISNA(MATCH(B181,#REF!,0)),\"\",\"Yes!\"))","v":"Yes"}," 11, 18, 19, 58, 66, 93, 94, 96, 120, 145, 157"]
[179,"De krachtige krans",{"$f":"MATCH(B182,'Wikipedia-Alle verhalen'!C:C,0)","v":178},{"$f":"IF(ISNA(C182),\"\",IF(INDEX('Wikipedia-Alle verhalen'!J:J,WWWcatalogus!C182)>0,\"Yes\",\"No\"))","v":"Yes"},{"$f":"IF(D182=\"Yes\",\"Yes\",IF(ISNA(MATCH(B182,#REF!,0)),\"\",\"Yes!\"))","v":"Yes"}," 10, 17, 38, 44, 65, 99, 105, 112"]
[180,"De krakende Carcas",{"$f":"MATCH(B183,'Wikipedia-Alle verhalen'!C:C,0)","v":202},{"$f":"IF(ISNA(C183),\"\",IF(INDEX('Wikipedia-Alle verhalen'!J:J,WWWcatalogus!C183)>0,\"Yes\",\"No\"))","v":"Yes"},{"$f":"IF(D183=\"Yes\",\"Yes\",IF(ISNA(MATCH(B183,#REF!,0)),\"\",\"Yes!\"))","v":"Yes"}," 11, 19, 66"]
[181,"De krasse Kroko",{"$f":"MATCH(B184,'Wikipedia-Alle verhalen'!C:C,0)","v":286},{"$f":"IF(ISNA(C184),\"\",IF(INDEX('Wikipedia-Alle verhalen'!J:J,WWWcatalogus!C184)>0,\"Yes\",\"No\"))","v":"Yes"},{"$f":"IF(D184=\"Yes\",\"Yes\",IF(ISNA(MATCH(B184,#REF!,0)),\"\",\"Yes!\"))","v":"Yes"}," 12, 20, 58, 68, 102"]
[182,"Het kregelige ketje",{"$f":"MATCH(B185,'Wikipedia-Alle verhalen'!C:C,0)","v":131},{"$f":"IF(ISNA(C185),\"\",IF(INDEX('Wikipedia-Alle verhalen'!J:J,WWWcatalogus!C185)>0,\"Yes\",\"No\"))","v":"Yes"},{"$f":"IF(D185=\"Yes\",\"Yes\",IF(ISNA(MATCH(B185,#REF!,0)),\"\",\"Yes!\"))","v":"Yes"}," 9, 33, 55, 56, 64, 105, 119"]
[183,"De kribbige krab",{"$f":"MATCH(B186,'Wikipedia-Alle verhalen'!C:C,0)","v":297},{"$f":"IF(ISNA(C186),\"\",IF(INDEX('Wikipedia-Alle verhalen'!J:J,WWWcatalogus!C186)>0,\"Yes\",\"No\"))","v":"No"},{"$f":"IF(D186=\"Yes\",\"Yes\",IF(ISNA(MATCH(B186,#REF!,0)),\"\",\"Yes!\"))","v":"Yes!"}," 53, 59, 68, 80, 119"]
[184,"De Krijgers van Sekhmet",{"$f":"MATCH(B187,'Wikipedia-Alle verhalen'!C:C,0)","v":335},{"$f":"IF(ISNA(C187),\"\",IF(INDEX('Wikipedia-Alle verhalen'!J:J,WWWcatalogus!C187)>0,\"Yes\",\"No\"))","v":"No"},{"$f":"IF(D187=\"Yes\",\"Yes\",IF(ISNA(MATCH(B187,#REF!,0)),\"\",\"Yes!\"))","v":"Yes!"},54]
[185,"Krimso Break",{"$f":"MATCH(B188,'Wikipedia-Alle verhalen'!C:C,0)","v":{"$error":"#N/A"}},{"$f":"IF(ISNA(C188),\"\",IF(INDEX('Wikipedia-Alle verhalen'!J:J,WWWcatalogus!C188)>0,\"Yes\",\"No\"))","v":""},{"$f":"IF(D188=\"Yes\",\"Yes\",IF(ISNA(MATCH(B188,#REF!,0)),\"\",\"Yes!\"))","v":"Yes!"},80]
[186,"Krimson",{"$f":"MATCH(B189,'Wikipedia-Alle verhalen'!C:C,0)","v":{"$error":"#N/A"}},{"$f":"IF(ISNA(C189),\"\",IF(INDEX('Wikipedia-Alle verhalen'!J:J,WWWcatalogus!C189)>0,\"Yes\",\"No\"))","v":""},{"$f":"IF(D189=\"Yes\",\"Yes\",IF(ISNA(MATCH(B189,#REF!,0)),\"\",\"Yes!\"))","v":"Yes!"}," 27, 28, 29"]
[187,"Krimson Break",{"$f":"MATCH(B190,'Wikipedia-Alle verhalen'!C:C,0)","v":306},{"$f":"IF(ISNA(C190),\"\",IF(INDEX('Wikipedia-Alle verhalen'!J:J,WWWcatalogus!C190)>0,\"Yes\",\"No\"))","v":"No"},{"$f":"IF(D190=\"Yes\",\"Yes\",IF(ISNA(MATCH(B190,#REF!,0)),\"\",\"Yes!\"))","v":"Yes!"}," 54, 69, 120"]
[188,"De Krimson-crisis",{"$f":"MATCH(B191,'Wikipedia-Alle verhalen'!C:C,0)","v":177},{"$f":"IF(ISNA(C191),\"\",IF(INDEX('Wikipedia-Alle verhalen'!J:J,WWWcatalogus!C191)>0,\"Yes\",\"No\"))","v":"Yes"},{"$f":"IF(D191=\"Yes\",\"Yes\",IF(ISNA(MATCH(B191,#REF!,0)),\"\",\"Yes!\"))","v":"Yes"}," 10, 17, 34, 56, 65, 129"]
[189,"Krimsonia",{"$f":"MATCH(B192,'Wikipedia-Alle verhalen'!C:C,0)","v":321},{"$f":"IF(ISNA(C192),\"\",IF(INDEX('Wikipedia-Alle verhalen'!J:J,WWWcatalogus!C192)>0,\"Yes\",\"No\"))","v":"Yes"},{"$f":"IF(D192=\"Yes\",\"Yes\",IF(ISNA(MATCH(B192,#REF!,0)),\"\",\"Yes!\"))","v":"Yes"}," 13, 21, 57, 69"]
[190,"Het kristallen kasteel",{"$f":"MATCH(B193,'Wikipedia-Alle verhalen'!C:C,0)","v":205},{"$f":"IF(ISNA(C193),\"\",IF(INDEX('Wikipedia-Alle verhalen'!J:J,WWWcatalogus!C193)>0,\"Yes\",\"No\"))","v":"Yes"},{"$f":"IF(D193=\"Yes\",\"Yes\",IF(ISNA(MATCH(B193,#REF!,0)),\"\",\"Yes!\"))","v":"Yes"}," 11, 18, 19, 66, 86, 88, 89, 104, 113, 134"]
[191,"De kunstkraker",{"$f":"MATCH(B194,'Wikipedia-Alle verhalen'!C:C,0)","v":250},{"$f":"IF(ISNA(C194),\"\",IF(INDEX('Wikipedia-Alle verhalen'!J:J,WWWcatalogus!C194)>0,\"Yes\",\"No\"))","v":"Yes"},{"$f":"IF(D194=\"Yes\",\"Yes\",IF(ISNA(MATCH(B194,#REF!,0)),\"\",\"Yes!\"))","v":"Yes"}," 12, 20, 57, 69, 165"]
[192,"De kus van Odfella",{"$f":"MATCH(B195,'Wikipedia-Alle verhalen'!C:C,0)","v":256},{"$f":"IF(ISNA(C195),\"\",IF(INDEX('Wikipedia-Alle verhalen'!J:J,WWWcatalogus!C195)>0,\"Yes\",\"No\"))","v":"Yes"},{"$f":"IF(D195=\"Yes\",\"Yes\",IF(ISNA(MATCH(B195,#REF!,0)),\"\",\"Yes!\"))","v":"Yes"}," 12, 20, 67, 165"]
[193,"De kwaaie kwieten",{"$f":"MATCH(B196,'Wikipedia-Alle verhalen'!C:C,0)","v":165},{"$f":"IF(ISNA(C196),\"\",IF(INDEX('Wikipedia-Alle verhalen'!J:J,WWWcatalogus!C196)>0,\"Yes\",\"No\"))","v":"Yes"},{"$f":"IF(D196=\"Yes\",\"Yes\",IF(ISNA(MATCH(B196,#REF!,0)),\"\",\"Yes!\"))","v":"Yes"}," 10, 17, 65"]
[194,"De kwakende Queen",{"$f":"MATCH(B197,'Wikipedia-Alle verhalen'!C:C,0)","v":315},{"$f":"IF(ISNA(C197),\"\",IF(INDEX('Wikipedia-Alle verhalen'!J:J,WWWcatalogus!C197)>0,\"Yes\",\"No\"))","v":"Yes"},{"$f":"IF(D197=\"Yes\",\"Yes\",IF(ISNA(MATCH(B197,#REF!,0)),\"\",\"Yes!\"))","v":"Yes"}," 13, 20, 36, 57, 69"]
[195,"De kwakkelende kwakzalver",{"$f":"MATCH(B198,'Wikipedia-Alle verhalen'!C:C,0)","v":382},{"$f":"IF(ISNA(C198),\"\",IF(INDEX('Wikipedia-Alle verhalen'!J:J,WWWcatalogus!C198)>0,\"Yes\",\"No\"))","v":"No"},{"$f":"IF(D198=\"Yes\",\"Yes\",IF(ISNA(MATCH(B198,#REF!,0)),\"\",\"Yes!\"))","v":"Yes!"},140]
[196,"De kwakstralen",{"$f":"MATCH(B199,'Wikipedia-Alle verhalen'!C:C,0)","v":61},{"$f":"IF(ISNA(C199),\"\",IF(INDEX('Wikipedia-Alle verhalen'!J:J,WWWcatalogus!C199)>0,\"Yes\",\"No\"))","v":"Yes"},{"$f":"IF(D199=\"Yes\",\"Yes\",IF(ISNA(MATCH(B199,#REF!,0)),\"\",\"Yes!\"))","v":"Yes"}," 6, 7, 15, 25, 52, 58, 61, 71, 74, 88, 94, 106, 137"]
[197,"De laaiende linies",{"$f":"MATCH(B200,'Wikipedia-Alle verhalen'!C:C,0)","v":322},{"$f":"IF(ISNA(C200),\"\",IF(INDEX('Wikipedia-Alle verhalen'!J:J,WWWcatalogus!C200)>0,\"Yes\",\"No\"))","v":"No"},{"$f":"IF(D200=\"Yes\",\"Yes\",IF(ISNA(MATCH(B200,#REF!,0)),\"\",\"Yes!\"))","v":"Yes!"}," 69, 96"]
[198,"Het laatste dwaallicht",{"$f":"MATCH(B201,'Wikipedia-Alle verhalen'!C:C,0)","v":111},{"$f":"IF(ISNA(C201),\"\",IF(INDEX('Wikipedia-Alle verhalen'!J:J,WWWcatalogus!C201)>0,\"Yes\",\"No\"))","v":"Yes"},{"$f":"IF(D201=\"Yes\",\"Yes\",IF(ISNA(MATCH(B201,#REF!,0)),\"\",\"Yes!\"))","v":"Yes"}," 9, 16, 44, 64, 133, 134"]
[199,"De laatste vloek",{"$f":"MATCH(B202,'Wikipedia-Alle verhalen'!C:C,0)","v":255},{"$f":"IF(ISNA(C202),\"\",IF(INDEX('Wikipedia-Alle verhalen'!J:J,WWWcatalogus!C202)>0,\"Yes\",\"No\"))","v":"Yes"},{"$f":"IF(D202=\"Yes\",\"Yes\",IF(ISNA(MATCH(B202,#REF!,0)),\"\",\"Yes!\"))","v":"Yes"}," 12, 18, 20, 58, 67, 165"]
[200,"Het labyrint van de leeuw",{"$f":"MATCH(B203,'Wikipedia-Alle verhalen'!C:C,0)","v":{"$error":"#N/A"}},{"$f":"IF(ISNA(C203),\"\",IF(INDEX('Wikipedia-Alle verhalen'!J:J,WWWcatalogus!C203)>0,\"Yes\",\"No\"))","v":""},{"$f":"IF(D203=\"Yes\",\"Yes\",IF(ISNA(MATCH(B203,#REF!,0)),\"\",\"Yes!\"))","v":"Yes!"},54]
[201,"De lachende wolf",{"$f":"MATCH(B204,'Wikipedia-Alle verhalen'!C:C,0)","v":27},{"$f":"IF(ISNA(C204),\"\",IF(INDEX('Wikipedia-Alle verhalen'!J:J,WWWcatalogus!C204)>0,\"Yes\",\"No\"))","v":"Yes"},{"$f":"IF(D204=\"Yes\",\"Yes\",IF(ISNA(MATCH(B204,#REF!,0)),\"\",\"Yes!\"))","v":"Yes"}," 5, 8, 16, 57, 63, 70, 72, 73, 106, 136"]
[202,"De lallende libel",{"$f":"MATCH(B205,'Wikipedia-Alle verhalen'!C:C,0)","v":{"$error":"#N/A"}},{"$f":"IF(ISNA(C205),\"\",IF(INDEX('Wikipedia-Alle verhalen'!J:J,WWWcatalogus!C205)>0,\"Yes\",\"No\"))","v":""},{"$f":"IF(D205=\"Yes\",\"Yes\",IF(ISNA(MATCH(B205,#REF!,0)),\"\",\"Yes!\"))","v":"Yes!"},49]
[203,"Lambik",{"$f":"MATCH(B206,'Wikipedia-Alle verhalen'!C:C,0)","v":{"$error":"#N/A"}},{"$f":"IF(ISNA(C206),\"\",IF(INDEX('Wikipedia-Alle verhalen'!J:J,WWWcatalogus!C206)>0,\"Yes\",\"No\"))","v":""},{"$f":"IF(D206=\"Yes\",\"Yes\",IF(ISNA(MATCH(B206,#REF!,0)),\"\",\"Yes!\"))","v":"Yes!"}," 27, 28, 29"]
[204,"Lambik Baba",{"$f":"MATCH(B207,'Wikipedia-Alle verhalen'!C:C,0)","v":200},{"$f":"IF(ISNA(C207),\"\",IF(INDEX('Wikipedia-Alle verhalen'!J:J,WWWcatalogus!C207)>0,\"Yes\",\"No\"))","v":"Yes"},{"$f":"IF(D207=\"Yes\",\"Yes\",IF(ISNA(MATCH(B207,#REF!,0)),\"\",\"Yes!\"))","v":"Yes"}," 11, 17, 19, 56, 65, 104"]
[205,"Lambik maakt kiekjes",{"$f":"MATCH(B208,'Wikipedia-Alle verhalen'!C:C,0)","v":{"$error":"#N/A"}},{"$f":"IF(ISNA(C208),\"\",IF(INDEX('Wikipedia-Alle verhalen'!J:J,WWWcatalogus!C208)>0,\"Yes\",\"No\"))","v":""},{"$f":"IF(D208=\"Yes\",\"Yes\",IF(ISNA(MATCH(B208,#REF!,0)),\"\",\"Yes!\"))","v":"Yes!"}," 40, 41"]
[206,"Lambik Plastiek",{"$f":"MATCH(B209,'Wikipedia-Alle verhalen'!C:C,0)","v":379},{"$f":"IF(ISNA(C209),\"\",IF(INDEX('Wikipedia-Alle verhalen'!J:J,WWWcatalogus!C209)>0,\"Yes\",\"No\"))","v":"Yes"},{"$f":"IF(D209=\"Yes\",\"Yes\",IF(ISNA(MATCH(B209,#REF!,0)),\"\",\"Yes!\"))","v":"Yes"}," 14, 23, 24"]
[207,"Lambiks geheimzinnige pak",{"$f":"MATCH(B210,'Wikipedia-Alle verhalen'!C:C,0)","v":{"$error":"#N/A"}},{"$f":"IF(ISNA(C210),\"\",IF(INDEX('Wikipedia-Alle verhalen'!J:J,WWWcatalogus!C210)>0,\"Yes\",\"No\"))","v":""},{"$f":"IF(D210=\"Yes\",\"Yes\",IF(ISNA(MATCH(B210,#REF!,0)),\"\",\"Yes!\"))","v":"Yes!"}," 40, 41"]
[208,"Lambiorix",{"$f":"MATCH(B211,'Wikipedia-Alle verhalen'!C:C,0)","v":17},{"$f":"IF(ISNA(C211),\"\",IF(INDEX('Wikipedia-Alle verhalen'!J:J,WWWcatalogus!C211)>0,\"Yes\",\"No\"))","v":"Yes"},{"$f":"IF(D211=\"Yes\",\"Yes\",IF(ISNA(MATCH(B211,#REF!,0)),\"\",\"Yes!\"))","v":"Yes"}," 5, 8, 16, 25, 38, 54, 56, 63, 70, 72, 73, 76, 77, 78, 105, 136"]
[209,"Het lederen monster",{"$f":"MATCH(B212,'Wikipedia-Alle verhalen'!C:C,0)","v":357},{"$f":"IF(ISNA(C212),\"\",IF(INDEX('Wikipedia-Alle verhalen'!J:J,WWWcatalogus!C212)>0,\"Yes\",\"No\"))","v":"Yes"},{"$f":"IF(D212=\"Yes\",\"Yes\",IF(ISNA(MATCH(B212,#REF!,0)),\"\",\"Yes!\"))","v":"Yes"}," 13, 23, 24, 69"]
[210,"Het lekkere lab",{"$f":"MATCH(B213,'Wikipedia-Alle verhalen'!C:C,0)","v":381},{"$f":"IF(ISNA(C213),\"\",IF(INDEX('Wikipedia-Alle verhalen'!J:J,WWWcatalogus!C213)>0,\"Yes\",\"No\"))","v":"Yes"},{"$f":"IF(D213=\"Yes\",\"Yes\",IF(ISNA(MATCH(B213,#REF!,0)),\"\",\"Yes!\"))","v":"Yes"}," 14, 23, 24"]
[211,"De lepe luis",{"$f":"MATCH(B214,'Wikipedia-Alle verhalen'!C:C,0)","v":269},{"$f":"IF(ISNA(C214),\"\",IF(INDEX('Wikipedia-Alle verhalen'!J:J,WWWcatalogus!C214)>0,\"Yes\",\"No\"))","v":"No"},{"$f":"IF(D214=\"Yes\",\"Yes\",IF(ISNA(MATCH(B214,#REF!,0)),\"\",\"Yes!\"))","v":"Yes!"}," 49, 68, 80"]
[212,"De lieve Lilleham",{"$f":"MATCH(B215,'Wikipedia-Alle verhalen'!C:C,0)","v":155},{"$f":"IF(ISNA(C215),\"\",IF(INDEX('Wikipedia-Alle verhalen'!J:J,WWWcatalogus!C215)>0,\"Yes\",\"No\"))","v":"Yes"},{"$f":"IF(D215=\"Yes\",\"Yes\",IF(ISNA(MATCH(B215,#REF!,0)),\"\",\"Yes!\"))","v":"Yes"}," 10, 17, 44, 65, 98"]
[213,"Het lijdende Leiden",{"$f":"MATCH(B216,'Wikipedia-Alle verhalen'!C:C,0)","v":318},{"$f":"IF(ISNA(C216),\"\",IF(INDEX('Wikipedia-Alle verhalen'!J:J,WWWcatalogus!C216)>0,\"Yes\",\"No\"))","v":"Yes"},{"$f":"IF(D216=\"Yes\",\"Yes\",IF(ISNA(MATCH(B216,#REF!,0)),\"\",\"Yes!\"))","v":"Yes"}," 13, 20, 69, 96"]
[214,"Lilli Natal",{"$f":"MATCH(B217,'Wikipedia-Alle verhalen'!C:C,0)","v":241},{"$f":"IF(ISNA(C217),\"\",IF(INDEX('Wikipedia-Alle verhalen'!J:J,WWWcatalogus!C217)>0,\"Yes\",\"No\"))","v":"Yes"},{"$f":"IF(D217=\"Yes\",\"Yes\",IF(ISNA(MATCH(B217,#REF!,0)),\"\",\"Yes!\"))","v":"Yes"}," 11, 18, 19, 48, 67, 93, 99, 104, 162"]
[215,"De lollige lakens",{"$f":"MATCH(B218,'Wikipedia-Alle verhalen'!C:C,0)","v":120},{"$f":"IF(ISNA(C218),\"\",IF(INDEX('Wikipedia-Alle verhalen'!J:J,WWWcatalogus!C218)>0,\"Yes\",\"No\"))","v":"No"},{"$f":"IF(D218=\"Yes\",\"Yes\",IF(ISNA(MATCH(B218,#REF!,0)),\"\",\"Yes!\"))","v":"Yes!"}," 32, 40, 47, 49, 66, 83, 84, 108, 157"]
[216,"De lotgevallen van Meneer Lambik",{"$f":"MATCH(B219,'Wikipedia-Alle verhalen'!C:C,0)","v":{"$error":"#N/A"}},{"$f":"IF(ISNA(C219),\"\",IF(INDEX('Wikipedia-Alle verhalen'!J:J,WWWcatalogus!C219)>0,\"Yes\",\"No\"))","v":""},{"$f":"IF(D219=\"Yes\",\"Yes\",IF(ISNA(MATCH(B219,#REF!,0)),\"\",\"Yes!\"))","v":"Yes!"},75]
[217,"De ludieke les",{"$f":"MATCH(B220,'Wikipedia-Alle verhalen'!C:C,0)","v":254},{"$f":"IF(ISNA(C220),\"\",IF(INDEX('Wikipedia-Alle verhalen'!J:J,WWWcatalogus!C220)>0,\"Yes\",\"No\"))","v":"No"},{"$f":"IF(D220=\"Yes\",\"Yes\",IF(ISNA(MATCH(B220,#REF!,0)),\"\",\"Yes!\"))","v":"Yes!"},47]
[218,"De macabere Macralles",{"$f":"MATCH(B221,'Wikipedia-Alle verhalen'!C:C,0)","v":209},{"$f":"IF(ISNA(C221),\"\",IF(INDEX('Wikipedia-Alle verhalen'!J:J,WWWcatalogus!C221)>0,\"Yes\",\"No\"))","v":"No"},{"$f":"IF(D221=\"Yes\",\"Yes\",IF(ISNA(MATCH(B221,#REF!,0)),\"\",\"Yes!\"))","v":"Yes!"}," 33, 44, 46, 47, 48, 66, 113"]
[219,"Het machtige monopoly",{"$f":"MATCH(B222,'Wikipedia-Alle verhalen'!C:C,0)","v":{"$error":"#N/A"}},{"$f":"IF(ISNA(C222),\"\",IF(INDEX('Wikipedia-Alle verhalen'!J:J,WWWcatalogus!C222)>0,\"Yes\",\"No\"))","v":""},{"$f":"IF(D222=\"Yes\",\"Yes\",IF(ISNA(MATCH(B222,#REF!,0)),\"\",\"Yes!\"))","v":"Yes!"},46]
[220,"Het machtige monument",{"$f":"MATCH(B223,'Wikipedia-Alle verhalen'!C:C,0)","v":294},{"$f":"IF(ISNA(C223),\"\",IF(INDEX('Wikipedia-Alle verhalen'!J:J,WWWcatalogus!C223)>0,\"Yes\",\"No\"))","v":"Yes"},{"$f":"IF(D223=\"Yes\",\"Yes\",IF(ISNA(MATCH(B223,#REF!,0)),\"\",\"Yes!\"))","v":"Yes"}," 12, 20, 22, 51, 58, 68, 102, 119"]
[221,"De maffe maniak",{"$f":"MATCH(B224,'Wikipedia-Alle verhalen'!C:C,0)","v":114},{"$f":"IF(ISNA(C224),\"\",IF(INDEX('Wikipedia-Alle verhalen'!J:J,WWWcatalogus!C224)>0,\"Yes\",\"No\"))","v":"Yes"},{"$f":"IF(D224=\"Yes\",\"Yes\",IF(ISNA(MATCH(B224,#REF!,0)),\"\",\"Yes!\"))","v":"Yes"}," 9, 16, 63"]
[222,"De magnifieke metamorfose",{"$f":"MATCH(B225,'Wikipedia-Alle verhalen'!C:C,0)","v":{"$error":"#N/A"}},{"$f":"IF(ISNA(C225),\"\",IF(INDEX('Wikipedia-Alle verhalen'!J:J,WWWcatalogus!C225)>0,\"Yes\",\"No\"))","v":""},{"$f":"IF(D225=\"Yes\",\"Yes\",IF(ISNA(MATCH(B225,#REF!,0)),\"\",\"Yes!\"))","v":"Yes!"}," 12, 153"]
[223,"Maken sneeuwpoppen",{"$f":"MATCH(B226,'Wikipedia-Alle verhalen'!C:C,0)","v":{"$error":"#N/A"}},{"$f":"IF(ISNA(C226),\"\",IF(INDEX('Wikipedia-Alle verhalen'!J:J,WWWcatalogus!C226)>0,\"Yes\",\"No\"))","v":""},{"$f":"IF(D226=\"Yes\",\"Yes\",IF(ISNA(MATCH(B226,#REF!,0)),\"\",\"Yes!\"))","v":"Yes!"}," 40, 41"]
[224,"De malle mergpijp",{"$f":"MATCH(B227,'Wikipedia-Alle verhalen'!C:C,0)","v":89},{"$f":"IF(ISNA(C227),\"\",IF(INDEX('Wikipedia-Alle verhalen'!J:J,WWWcatalogus!C227)>0,\"Yes\",\"No\"))","v":"Yes"},{"$f":"IF(D227=\"Yes\",\"Yes\",IF(ISNA(MATCH(B227,#REF!,0)),\"\",\"Yes!\"))","v":"Yes"}," 8, 16, 36, 56, 63, 81, 94, 105, 133, 135"]
[225,"Mami Wata",{"$f":"MATCH(B228,'Wikipedia-Alle verhalen'!C:C,0)","v":369},{"$f":"IF(ISNA(C228),\"\",IF(INDEX('Wikipedia-Alle verhalen'!J:J,WWWcatalogus!C228)>0,\"Yes\",\"No\"))","v":"Yes"},{"$f":"IF(D228=\"Yes\",\"Yes\",IF(ISNA(MATCH(B228,#REF!,0)),\"\",\"Yes!\"))","v":"Yes"}," 14, 23, 24, 69"]
[226,"De meteo machine",{"$f":"MATCH(B229,'Wikipedia-Alle verhalen'!C:C,0)","v":{"$error":"#N/A"}},{"$f":"IF(ISNA(C229),\"\",IF(INDEX('Wikipedia-Alle verhalen'!J:J,WWWcatalogus!C229)>0,\"Yes\",\"No\"))","v":""},{"$f":"IF(D229=\"Yes\",\"Yes\",IF(ISNA(MATCH(B229,#REF!,0)),\"\",\"Yes!\"))","v":"Yes!"},166]
[227,"De microkomiek",{"$f":"MATCH(B230,'Wikipedia-Alle verhalen'!C:C,0)","v":284},{"$f":"IF(ISNA(C230),\"\",IF(INDEX('Wikipedia-Alle verhalen'!J:J,WWWcatalogus!C230)>0,\"Yes\",\"No\"))","v":"No"},{"$f":"IF(D230=\"Yes\",\"Yes\",IF(ISNA(MATCH(B230,#REF!,0)),\"\",\"Yes!\"))","v":"Yes!"}," 47, 55, 68, 80, 118"]
[228,"Het mini mierennest",{"$f":"MATCH(B231,'Wikipedia-Alle verhalen'!C:C,0)","v":{"$error":"#N/A"}},{"$f":"IF(ISNA(C231),\"\",IF(INDEX('Wikipedia-Alle verhalen'!J:J,WWWcatalogus!C231)>0,\"Yes\",\"No\"))","v":""},{"$f":"IF(D231=\"Yes\",\"Yes\",IF(ISNA(MATCH(B231,#REF!,0)),\"\",\"Yes!\"))","v":"Yes!"}," 7, 15, 37, 49, 61, 91, 106"]
[229,"De minilotten van Kokonera",{"$f":"MATCH(B232,'Wikipedia-Alle verhalen'!C:C,0)","v":106},{"$f":"IF(ISNA(C232),\"\",IF(INDEX('Wikipedia-Alle verhalen'!J:J,WWWcatalogus!C232)>0,\"Yes\",\"No\"))","v":"Yes"},{"$f":"IF(D232=\"Yes\",\"Yes\",IF(ISNA(MATCH(B232,#REF!,0)),\"\",\"Yes!\"))","v":"Yes"}," 9, 16, 44, 63, 98, 105"]
[230,"Misbruik van plichtsbesef",{"$f":"MATCH(B233,'Wikipedia-Alle verhalen'!C:C,0)","v":{"$error":"#N/A"}},{"$f":"IF(ISNA(C233),\"\",IF(INDEX('Wikipedia-Alle verhalen'!J:J,WWWcatalogus!C233)>0,\"Yes\",\"No\"))","v":""},{"$f":"IF(D233=\"Yes\",\"Yes\",IF(ISNA(MATCH(B233,#REF!,0)),\"\",\"Yes!\"))","v":"Yes!"},41]
[231,"De missende Marc",{"$f":"MATCH(B234,'Wikipedia-Alle verhalen'!C:C,0)","v":{"$error":"#N/A"}},{"$f":"IF(ISNA(C234),\"\",IF(INDEX('Wikipedia-Alle verhalen'!J:J,WWWcatalogus!C234)>0,\"Yes\",\"No\"))","v":""},{"$f":"IF(D234=\"Yes\",\"Yes\",IF(ISNA(MATCH(B234,#REF!,0)),\"\",\"Yes!\"))","v":"Yes!"},116]
[232,"De mol",{"$f":"MATCH(B235,'Wikipedia-Alle verhalen'!C:C,0)","v":{"$error":"#N/A"}},{"$f":"IF(ISNA(C235),\"\",IF(INDEX('Wikipedia-Alle verhalen'!J:J,WWWcatalogus!C235)>0,\"Yes\",\"No\"))","v":""},{"$f":"IF(D235=\"Yes\",\"Yes\",IF(ISNA(MATCH(B235,#REF!,0)),\"\",\"Yes!\"))","v":"Yes!"},41]
[233,"De mollige marmotten",{"$f":"MATCH(B236,'Wikipedia-Alle verhalen'!C:C,0)","v":216},{"$f":"IF(ISNA(C236),\"\",IF(INDEX('Wikipedia-Alle verhalen'!J:J,WWWcatalogus!C236)>0,\"Yes\",\"No\"))","v":"No"},{"$f":"IF(D236=\"Yes\",\"Yes\",IF(ISNA(MATCH(B236,#REF!,0)),\"\",\"Yes!\"))","v":"Yes!"}," 33, 45, 46, 47, 66"]
[234,"De mollige meivis",{"$f":"MATCH(B237,'Wikipedia-Alle verhalen'!C:C,0)","v":96},{"$f":"IF(ISNA(C237),\"\",IF(INDEX('Wikipedia-Alle verhalen'!J:J,WWWcatalogus!C237)>0,\"Yes\",\"No\"))","v":"Yes"},{"$f":"IF(D237=\"Yes\",\"Yes\",IF(ISNA(MATCH(B237,#REF!,0)),\"\",\"Yes!\"))","v":"Yes"}," 9, 16, 35, 63, 83, 98"]
[235,"De mompelende mummie",{"$f":"MATCH(B238,'Wikipedia-Alle verhalen'!C:C,0)","v":229},{"$f":"IF(ISNA(C238),\"\",IF(INDEX('Wikipedia-Alle verhalen'!J:J,WWWcatalogus!C238)>0,\"Yes\",\"No\"))","v":"Yes"},{"$f":"IF(D238=\"Yes\",\"Yes\",IF(ISNA(MATCH(B238,#REF!,0)),\"\",\"Yes!\"))","v":"Yes"}," 11, 18, 19, 58, 66, 94, 104, 124, 159"]
[236,"Het Monamysterie",{"$f":"MATCH(B239,'Wikipedia-Alle verhalen'!C:C,0)","v":370},{"$f":"IF(ISNA(C239),\"\",IF(INDEX('Wikipedia-Alle verhalen'!J:J,WWWcatalogus!C239)>0,\"Yes\",\"No\"))","v":"Yes"},{"$f":"IF(D239=\"Yes\",\"Yes\",IF(ISNA(MATCH(B239,#REF!,0)),\"\",\"Yes!\"))","v":"Yes"}," 14, 23, 24, 69"]
[237,"Het monster van Loch Ness",{"$f":"MATCH(B240,'Wikipedia-Alle verhalen'!C:C,0)","v":123},{"$f":"IF(ISNA(C240),\"\",IF(INDEX('Wikipedia-Alle verhalen'!J:J,WWWcatalogus!C240)>0,\"Yes\",\"No\"))","v":"No"},{"$f":"IF(D240=\"Yes\",\"Yes\",IF(ISNA(MATCH(B240,#REF!,0)),\"\",\"Yes!\"))","v":"Yes!"}," 33, 40, 47, 67, 83, 87, 161"]
[238,"De mooie Millirem",{"$f":"MATCH(B241,'Wikipedia-Alle verhalen'!C:C,0)","v":162},{"$f":"IF(ISNA(C241),\"\",IF(INDEX('Wikipedia-Alle verhalen'!J:J,WWWcatalogus!C241)>0,\"Yes\",\"No\"))","v":"Yes"},{"$f":"IF(D241=\"Yes\",\"Yes\",IF(ISNA(MATCH(B241,#REF!,0)),\"\",\"Yes!\"))","v":"Yes"}," 10, 17, 65, 96, 103"]
[239,"Het mopperende masker",{"$f":"MATCH(B242,'Wikipedia-Alle verhalen'!C:C,0)","v":267},{"$f":"IF(ISNA(C242),\"\",IF(INDEX('Wikipedia-Alle verhalen'!J:J,WWWcatalogus!C242)>0,\"Yes\",\"No\"))","v":"Yes"},{"$f":"IF(D242=\"Yes\",\"Yes\",IF(ISNA(MATCH(B242,#REF!,0)),\"\",\"Yes!\"))","v":"Yes"}," 12, 20, 68, 92, 122"]
[240,"De mottenvanger",{"$f":"MATCH(B243,'Wikipedia-Alle verhalen'!C:C,0)","v":15},{"$f":"IF(ISNA(C243),\"\",IF(INDEX('Wikipedia-Alle verhalen'!J:J,WWWcatalogus!C243)>0,\"Yes\",\"No\"))","v":"Yes"},{"$f":"IF(D243=\"Yes\",\"Yes\",IF(ISNA(MATCH(B243,#REF!,0)),\"\",\"Yes!\"))","v":"Yes"}," 5, 8, 16, 63, 70, 73, 78, 79, 81, 94, 105, 136, 146"]
[241,"De mysterieuze mijn",{"$f":"MATCH(B244,'Wikipedia-Alle verhalen'!C:C,0)","v":195},{"$f":"IF(ISNA(C244),\"\",IF(INDEX('Wikipedia-Alle verhalen'!J:J,WWWcatalogus!C244)>0,\"Yes\",\"No\"))","v":"Yes"},{"$f":"IF(D244=\"Yes\",\"Yes\",IF(ISNA(MATCH(B244,#REF!,0)),\"\",\"Yes!\"))","v":"Yes"}," 10, 17, 34, 65, 91, 95, 99"]
[242,"De nacht van de narwal",{"$f":"MATCH(B245,'Wikipedia-Alle verhalen'!C:C,0)","v":383},{"$f":"IF(ISNA(C245),\"\",IF(INDEX('Wikipedia-Alle verhalen'!J:J,WWWcatalogus!C245)>0,\"Yes\",\"No\"))","v":"Yes"},{"$f":"IF(D245=\"Yes\",\"Yes\",IF(ISNA(MATCH(B245,#REF!,0)),\"\",\"Yes!\"))","v":"Yes"}," 14, 23, 24"]
[243,"Nachtelijke storing",{"$f":"MATCH(B246,'Wikipedia-Alle verhalen'!C:C,0)","v":{"$error":"#N/A"}},{"$f":"IF(ISNA(C246),\"\",IF(INDEX('Wikipedia-Alle verhalen'!J:J,WWWcatalogus!C246)>0,\"Yes\",\"No\"))","v":""},{"$f":"IF(D246=\"Yes\",\"Yes\",IF(ISNA(MATCH(B246,#REF!,0)),\"\",\"Yes!\"))","v":"Yes!"}," 40, 41"]
[244,"De nachtwachtbrigade",{"$f":"MATCH(B247,'Wikipedia-Alle verhalen'!C:C,0)","v":277},{"$f":"IF(ISNA(C247),\"\",IF(INDEX('Wikipedia-Alle verhalen'!J:J,WWWcatalogus!C247)>0,\"Yes\",\"No\"))","v":"Yes"},{"$f":"IF(D247=\"Yes\",\"Yes\",IF(ISNA(MATCH(B247,#REF!,0)),\"\",\"Yes!\"))","v":"Yes"}," 12, 20, 52, 68, 102"]
[245,"Het naderende noodlot",{"$f":"MATCH(B248,'Wikipedia-Alle verhalen'!C:C,0)","v":352},{"$f":"IF(ISNA(C248),\"\",IF(INDEX('Wikipedia-Alle verhalen'!J:J,WWWcatalogus!C248)>0,\"Yes\",\"No\"))","v":"No"},{"$f":"IF(D248=\"Yes\",\"Yes\",IF(ISNA(MATCH(B248,#REF!,0)),\"\",\"Yes!\"))","v":"Yes!"},138]
[246,"De nare varaan",{"$f":"MATCH(B249,'Wikipedia-Alle verhalen'!C:C,0)","v":95},{"$f":"IF(ISNA(C249),\"\",IF(INDEX('Wikipedia-Alle verhalen'!J:J,WWWcatalogus!C249)>0,\"Yes\",\"No\"))","v":"Yes"},{"$f":"IF(D249=\"Yes\",\"Yes\",IF(ISNA(MATCH(B249,#REF!,0)),\"\",\"Yes!\"))","v":"Yes"}," 9, 16, 58, 63, 97, 98, 133, 134"]
[247,"De natte Navajo",{"$f":"MATCH(B250,'Wikipedia-Alle verhalen'!C:C,0)","v":147},{"$f":"IF(ISNA(C250),\"\",IF(INDEX('Wikipedia-Alle verhalen'!J:J,WWWcatalogus!C250)>0,\"Yes\",\"No\"))","v":"Yes"},{"$f":"IF(D250=\"Yes\",\"Yes\",IF(ISNA(MATCH(B250,#REF!,0)),\"\",\"Yes!\"))","v":"Yes"}," 10, 17, 65, 106, 108"]
[248,"Natuurgeheimen",{"$f":"MATCH(B251,'Wikipedia-Alle verhalen'!C:C,0)","v":{"$error":"#N/A"}},{"$f":"IF(ISNA(C251),\"\",IF(INDEX('Wikipedia-Alle verhalen'!J:J,WWWcatalogus!C251)>0,\"Yes\",\"No\"))","v":""},{"$f":"IF(D251=\"Yes\",\"Yes\",IF(ISNA(MATCH(B251,#REF!,0)),\"\",\"Yes!\"))","v":"Yes!"},41]
[249,"De nerveuze Nerviërs",{"$f":"MATCH(B252,'Wikipedia-Alle verhalen'!C:C,0)","v":65},{"$f":"IF(ISNA(C252),\"\",IF(INDEX('Wikipedia-Alle verhalen'!J:J,WWWcatalogus!C252)>0,\"Yes\",\"No\"))","v":"Yes"},{"$f":"IF(D252=\"Yes\",\"Yes\",IF(ISNA(MATCH(B252,#REF!,0)),\"\",\"Yes!\"))","v":"Yes"}," 6, 7, 15, 53, 54, 56, 61, 71, 74, 91, 105, 132, 137"]
[250,"De olijke olifant",{"$f":"MATCH(B253,'Wikipedia-Alle verhalen'!C:C,0)","v":119},{"$f":"IF(ISNA(C253),\"\",IF(INDEX('Wikipedia-Alle verhalen'!J:J,WWWcatalogus!C253)>0,\"Yes\",\"No\"))","v":"Yes"},{"$f":"IF(D253=\"Yes\",\"Yes\",IF(ISNA(MATCH(B253,#REF!,0)),\"\",\"Yes!\"))","v":"Yes"}," 9, 16, 37, 64, 94, 105, 133, 134"]
[251,"De olijke opruimers",{"$f":"MATCH(B254,'Wikipedia-Alle verhalen'!C:C,0)","v":248},{"$f":"IF(ISNA(C254),\"\",IF(INDEX('Wikipedia-Alle verhalen'!J:J,WWWcatalogus!C254)>0,\"Yes\",\"No\"))","v":"No"},{"$f":"IF(D254=\"Yes\",\"Yes\",IF(ISNA(MATCH(B254,#REF!,0)),\"\",\"Yes!\"))","v":"Yes!"},46]
[252,"Het omgekeerde land",{"$f":"MATCH(B255,'Wikipedia-Alle verhalen'!C:C,0)","v":364},{"$f":"IF(ISNA(C255),\"\",IF(INDEX('Wikipedia-Alle verhalen'!J:J,WWWcatalogus!C255)>0,\"Yes\",\"No\"))","v":"Yes"},{"$f":"IF(D255=\"Yes\",\"Yes\",IF(ISNA(MATCH(B255,#REF!,0)),\"\",\"Yes!\"))","v":"Yes"}," 13, 23, 24, 69"]
[253,"Het onbekende eiland",{"$f":"MATCH(B256,'Wikipedia-Alle verhalen'!C:C,0)","v":146},{"$f":"IF(ISNA(C256),\"\",IF(INDEX('Wikipedia-Alle verhalen'!J:J,WWWcatalogus!C256)>0,\"Yes\",\"No\"))","v":"No"},{"$f":"IF(D256=\"Yes\",\"Yes\",IF(ISNA(MATCH(B256,#REF!,0)),\"\",\"Yes!\"))","v":"Yes!"}," 32, 41, 44, 46, 47, 67, 83, 86"]
[254,"De ongelooflijke Thomas",{"$f":"MATCH(B257,'Wikipedia-Alle verhalen'!C:C,0)","v":244},{"$f":"IF(ISNA(C257),\"\",IF(INDEX('Wikipedia-Alle verhalen'!J:J,WWWcatalogus!C257)>0,\"Yes\",\"No\"))","v":"Yes"},{"$f":"IF(D257=\"Yes\",\"Yes\",IF(ISNA(MATCH(B257,#REF!,0)),\"\",\"Yes!\"))","v":"Yes"}," 11, 20, 58, 67, 163"]
[255,"Het Oog van Ra",{"$f":"MATCH(B258,'Wikipedia-Alle verhalen'!C:C,0)","v":334},{"$f":"IF(ISNA(C258),\"\",IF(INDEX('Wikipedia-Alle verhalen'!J:J,WWWcatalogus!C258)>0,\"Yes\",\"No\"))","v":"No"},{"$f":"IF(D258=\"Yes\",\"Yes\",IF(ISNA(MATCH(B258,#REF!,0)),\"\",\"Yes!\"))","v":"Yes!"},54]
[256,"Op het eiland Amoras",{"$f":"MATCH(B259,'Wikipedia-Alle verhalen'!C:C,0)","v":{"$error":"#N/A"}},{"$f":"IF(ISNA(C259),\"\",IF(INDEX('Wikipedia-Alle verhalen'!J:J,WWWcatalogus!C259)>0,\"Yes\",\"No\"))","v":""},{"$f":"IF(D259=\"Yes\",\"Yes\",IF(ISNA(MATCH(B259,#REF!,0)),\"\",\"Yes!\"))","v":"Yes!"}," 5, 7, 15, 25, 33, 44, 50, 51, 54, 55, 56, 61, 70, 72, 73, 76, 85, 91, 99, 101, 121, 126, 130, 136"]
[257,"Operatie Siggy",{"$f":"MATCH(B260,'Wikipedia-Alle verhalen'!C:C,0)","v":375},{"$f":"IF(ISNA(C260),\"\",IF(INDEX('Wikipedia-Alle verhalen'!J:J,WWWcatalogus!C260)>0,\"Yes\",\"No\"))","v":"Yes"},{"$f":"IF(D260=\"Yes\",\"Yes\",IF(ISNA(MATCH(B260,#REF!,0)),\"\",\"Yes!\"))","v":"Yes"}," 14, 23, 24, 69"]
[258,"Paniek in Palermo",{"$f":"MATCH(B261,'Wikipedia-Alle verhalen'!C:C,0)","v":259},{"$f":"IF(ISNA(C261),\"\",IF(INDEX('Wikipedia-Alle verhalen'!J:J,WWWcatalogus!C261)>0,\"Yes\",\"No\"))","v":"Yes"},{"$f":"IF(D261=\"Yes\",\"Yes\",IF(ISNA(MATCH(B261,#REF!,0)),\"\",\"Yes!\"))","v":"Yes"}," 12, 18, 20, 57, 67"]
[259,"Papa Razzi",{"$f":"MATCH(B262,'Wikipedia-Alle verhalen'!C:C,0)","v":238},{"$f":"IF(ISNA(C262),\"\",IF(INDEX('Wikipedia-Alle verhalen'!J:J,WWWcatalogus!C262)>0,\"Yes\",\"No\"))","v":"Yes"},{"$f":"IF(D262=\"Yes\",\"Yes\",IF(ISNA(MATCH(B262,#REF!,0)),\"\",\"Yes!\"))","v":"Yes"}," 11, 19, 48, 50, 57, 67"]
[260,"De parel in de lotusbloem",{"$f":"MATCH(B263,'Wikipedia-Alle verhalen'!C:C,0)","v":173},{"$f":"IF(ISNA(C263),\"\",IF(INDEX('Wikipedia-Alle verhalen'!J:J,WWWcatalogus!C263)>0,\"Yes\",\"No\"))","v":"Yes"},{"$f":"IF(D263=\"Yes\",\"Yes\",IF(ISNA(MATCH(B263,#REF!,0)),\"\",\"Yes!\"))","v":"Yes"}," 10, 17, 50, 51, 56, 65, 84, 88, 99, 102, 106, 110, 112, 114, 127, 134"]
[261,"De perenprins",{"$f":"MATCH(B264,'Wikipedia-Alle verhalen'!C:C,0)","v":133},{"$f":"IF(ISNA(C264),\"\",IF(INDEX('Wikipedia-Alle verhalen'!J:J,WWWcatalogus!C264)>0,\"Yes\",\"No\"))","v":"Yes"},{"$f":"IF(D264=\"Yes\",\"Yes\",IF(ISNA(MATCH(B264,#REF!,0)),\"\",\"Yes!\"))","v":"Yes"}," 9, 17, 34, 64, 98, 105"]
[262,"Pezige Peekah",{"$f":"MATCH(B265,'Wikipedia-Alle verhalen'!C:C,0)","v":204},{"$f":"IF(ISNA(C265),\"\",IF(INDEX('Wikipedia-Alle verhalen'!J:J,WWWcatalogus!C265)>0,\"Yes\",\"No\"))","v":"No"},{"$f":"IF(D265=\"Yes\",\"Yes\",IF(ISNA(MATCH(B265,#REF!,0)),\"\",\"Yes!\"))","v":"Yes!"}," 33, 47, 48, 66, 88, 93"]
[263,"De pientere pop",{"$f":"MATCH(B266,'Wikipedia-Alle verhalen'!C:C,0)","v":361},{"$f":"IF(ISNA(C266),\"\",IF(INDEX('Wikipedia-Alle verhalen'!J:J,WWWcatalogus!C266)>0,\"Yes\",\"No\"))","v":"No"},{"$f":"IF(D266=\"Yes\",\"Yes\",IF(ISNA(MATCH(B266,#REF!,0)),\"\",\"Yes!\"))","v":"Yes!"}," 138, 139"]
[264,"De planeetvreter",{"$f":"MATCH(B267,'Wikipedia-Alle verhalen'!C:C,0)","v":368},{"$f":"IF(ISNA(C267),\"\",IF(INDEX('Wikipedia-Alle verhalen'!J:J,WWWcatalogus!C267)>0,\"Yes\",\"No\"))","v":"Yes"},{"$f":"IF(D267=\"Yes\",\"Yes\",IF(ISNA(MATCH(B267,#REF!,0)),\"\",\"Yes!\"))","v":"Yes"}," 14, 23, 24, 69, 123"]
[265,"De poenschepper",{"$f":"MATCH(B268,'Wikipedia-Alle verhalen'!C:C,0)","v":72},{"$f":"IF(ISNA(C268),\"\",IF(INDEX('Wikipedia-Alle verhalen'!J:J,WWWcatalogus!C268)>0,\"Yes\",\"No\"))","v":"Yes"},{"$f":"IF(D268=\"Yes\",\"Yes\",IF(ISNA(MATCH(B268,#REF!,0)),\"\",\"Yes!\"))","v":"Yes"}," 7, 15, 55, 56, 61, 72, 91, 106, 133, 134"]
[266,"De poezelige poes",{"$f":"MATCH(B269,'Wikipedia-Alle verhalen'!C:C,0)","v":98},{"$f":"IF(ISNA(C269),\"\",IF(INDEX('Wikipedia-Alle verhalen'!J:J,WWWcatalogus!C269)>0,\"Yes\",\"No\"))","v":"Yes"},{"$f":"IF(D269=\"Yes\",\"Yes\",IF(ISNA(MATCH(B269,#REF!,0)),\"\",\"Yes!\"))","v":"Yes"}," 9, 16, 34, 63, 82, 94, 133, 134"]
[267,"De pompenplanters",{"$f":"MATCH(B270,'Wikipedia-Alle verhalen'!C:C,0)","v":128},{"$f":"IF(ISNA(C270),\"\",IF(INDEX('Wikipedia-Alle verhalen'!J:J,WWWcatalogus!C270)>0,\"Yes\",\"No\"))","v":"Yes"},{"$f":"IF(D270=\"Yes\",\"Yes\",IF(ISNA(MATCH(B270,#REF!,0)),\"\",\"Yes!\"))","v":"Yes"}," 9, 16, 38, 45, 64, 94, 142"]
[268,"De pompesetters",{"$f":"MATCH(B271,'Wikipedia-Alle verhalen'!C:C,0)","v":{"$error":"#N/A"}},{"$f":"IF(ISNA(C271),\"\",IF(INDEX('Wikipedia-Alle verhalen'!J:J,WWWcatalogus!C271)>0,\"Yes\",\"No\"))","v":""},{"$f":"IF(D271=\"Yes\",\"Yes\",IF(ISNA(MATCH(B271,#REF!,0)),\"\",\"Yes!\"))","v":"Yes!"}," Zie: De pompenplanters"]
[269,"De poppenpakker",{"$f":"MATCH(B272,'Wikipedia-Alle verhalen'!C:C,0)","v":90},{"$f":"IF(ISNA(C272),\"\",IF(INDEX('Wikipedia-Alle verhalen'!J:J,WWWcatalogus!C272)>0,\"Yes\",\"No\"))","v":"Yes"},{"$f":"IF(D272=\"Yes\",\"Yes\",IF(ISNA(MATCH(B272,#REF!,0)),\"\",\"Yes!\"))","v":"Yes"}," 8, 16, 36, 57, 63, 103, 105"]
[270,"De pottenproever",{"$f":"MATCH(B273,'Wikipedia-Alle verhalen'!C:C,0)","v":212},{"$f":"IF(ISNA(C273),\"\",IF(INDEX('Wikipedia-Alle verhalen'!J:J,WWWcatalogus!C273)>0,\"Yes\",\"No\"))","v":"Yes"},{"$f":"IF(D273=\"Yes\",\"Yes\",IF(ISNA(MATCH(B273,#REF!,0)),\"\",\"Yes!\"))","v":"Yes"}," 11, 19, 56, 66, 87, 89, 99, 156"]
[271,"Prachtige Pjotr",{"$f":"MATCH(B274,'Wikipedia-Alle verhalen'!C:C,0)","v":226},{"$f":"IF(ISNA(C274),\"\",IF(INDEX('Wikipedia-Alle verhalen'!J:J,WWWcatalogus!C274)>0,\"Yes\",\"No\"))","v":"Yes"},{"$f":"IF(D274=\"Yes\",\"Yes\",IF(ISNA(MATCH(B274,#REF!,0)),\"\",\"Yes!\"))","v":"Yes"}," 11, 18, 19, 66, 93, 99, 104, 159"]
[272,"De preutse prinses",{"$f":"MATCH(B275,'Wikipedia-Alle verhalen'!C:C,0)","v":385},{"$f":"IF(ISNA(C275),\"\",IF(INDEX('Wikipedia-Alle verhalen'!J:J,WWWcatalogus!C275)>0,\"Yes\",\"No\"))","v":"No"},{"$f":"IF(D275=\"Yes\",\"Yes\",IF(ISNA(MATCH(B275,#REF!,0)),\"\",\"Yes!\"))","v":"Yes!"},140]
[273,"De primitieve paljassen",{"$f":"MATCH(B276,'Wikipedia-Alle verhalen'!C:C,0)","v":275},{"$f":"IF(ISNA(C276),\"\",IF(INDEX('Wikipedia-Alle verhalen'!J:J,WWWcatalogus!C276)>0,\"Yes\",\"No\"))","v":"No"},{"$f":"IF(D276=\"Yes\",\"Yes\",IF(ISNA(MATCH(B276,#REF!,0)),\"\",\"Yes!\"))","v":"Yes!"}," 47, 68, 93, 118"]
[274,"Prinses Zagemeel",{"$f":"MATCH(B277,'Wikipedia-Alle verhalen'!C:C,0)","v":10},{"$f":"IF(ISNA(C277),\"\",IF(INDEX('Wikipedia-Alle verhalen'!J:J,WWWcatalogus!C277)>0,\"Yes\",\"No\"))","v":"Yes"},{"$f":"IF(D277=\"Yes\",\"Yes\",IF(ISNA(MATCH(B277,#REF!,0)),\"\",\"Yes!\"))","v":"Yes"}," 5, 8, 16, 34, 54, 62, 70, 73, 76, 77, 78, 136"]
[275,"De pronte professor",{"$f":"MATCH(B278,'Wikipedia-Alle verhalen'!C:C,0)","v":276},{"$f":"IF(ISNA(C278),\"\",IF(INDEX('Wikipedia-Alle verhalen'!J:J,WWWcatalogus!C278)>0,\"Yes\",\"No\"))","v":"No"},{"$f":"IF(D278=\"Yes\",\"Yes\",IF(ISNA(MATCH(B278,#REF!,0)),\"\",\"Yes!\"))","v":"Yes!"}," 68, 80, 92, 118"]
[276,"De raap van Rubens",{"$f":"MATCH(B279,'Wikipedia-Alle verhalen'!C:C,0)","v":112},{"$f":"IF(ISNA(C279),\"\",IF(INDEX('Wikipedia-Alle verhalen'!J:J,WWWcatalogus!C279)>0,\"Yes\",\"No\"))","v":"Yes"},{"$f":"IF(D279=\"Yes\",\"Yes\",IF(ISNA(MATCH(B279,#REF!,0)),\"\",\"Yes!\"))","v":"Yes"}," 9, 16, 19, 56, 63, 80, 102, 108, 129, 131, 145"]
[277,"De rammelende rally",{"$f":"MATCH(B280,'Wikipedia-Alle verhalen'!C:C,0)","v":47},{"$f":"IF(ISNA(C280),\"\",IF(INDEX('Wikipedia-Alle verhalen'!J:J,WWWcatalogus!C280)>0,\"Yes\",\"No\"))","v":"No"},{"$f":"IF(D280=\"Yes\",\"Yes\",IF(ISNA(MATCH(B280,#REF!,0)),\"\",\"Yes!\"))","v":"Yes!"}," 32, 39, 45, 90, 116"]
[278,"Een rare ontmoeting",{"$f":"MATCH(B281,'Wikipedia-Alle verhalen'!C:C,0)","v":{"$error":"#N/A"}},{"$f":"IF(ISNA(C281),\"\",IF(INDEX('Wikipedia-Alle verhalen'!J:J,WWWcatalogus!C281)>0,\"Yes\",\"No\"))","v":""},{"$f":"IF(D281=\"Yes\",\"Yes\",IF(ISNA(MATCH(B281,#REF!,0)),\"\",\"Yes!\"))","v":"Yes!"}," 40, 41"]
[279,"Een rare vogel",{"$f":"MATCH(B282,'Wikipedia-Alle verhalen'!C:C,0)","v":{"$error":"#N/A"}},{"$f":"IF(ISNA(C282),\"\",IF(INDEX('Wikipedia-Alle verhalen'!J:J,WWWcatalogus!C282)>0,\"Yes\",\"No\"))","v":""},{"$f":"IF(D282=\"Yes\",\"Yes\",IF(ISNA(MATCH(B282,#REF!,0)),\"\",\"Yes!\"))","v":"Yes!"}," 40, 41"]
[280,"De razende race",{"$f":"MATCH(B283,'Wikipedia-Alle verhalen'!C:C,0)","v":222},{"$f":"IF(ISNA(C283),\"\",IF(INDEX('Wikipedia-Alle verhalen'!J:J,WWWcatalogus!C283)>0,\"Yes\",\"No\"))","v":"Yes"},{"$f":"IF(D283=\"Yes\",\"Yes\",IF(ISNA(MATCH(B283,#REF!,0)),\"\",\"Yes!\"))","v":"Yes"}," 11, 18, 19, 66, 123, 158"]
[281,"De razende rentmeester",{"$f":"MATCH(B284,'Wikipedia-Alle verhalen'!C:C,0)","v":264},{"$f":"IF(ISNA(C284),\"\",IF(INDEX('Wikipedia-Alle verhalen'!J:J,WWWcatalogus!C284)>0,\"Yes\",\"No\"))","v":"No"},{"$f":"IF(D284=\"Yes\",\"Yes\",IF(ISNA(MATCH(B284,#REF!,0)),\"\",\"Yes!\"))","v":"Yes!"}," 68, 80, 92, 116"]
[282,"De rebelse Reinaert",{"$f":"MATCH(B285,'Wikipedia-Alle verhalen'!C:C,0)","v":233},{"$f":"IF(ISNA(C285),\"\",IF(INDEX('Wikipedia-Alle verhalen'!J:J,WWWcatalogus!C285)>0,\"Yes\",\"No\"))","v":"Yes"},{"$f":"IF(D285=\"Yes\",\"Yes\",IF(ISNA(MATCH(B285,#REF!,0)),\"\",\"Yes!\"))","v":"Yes"}," 11, 18, 19, 52, 57, 67, 95, 104, 160"]
[283,"De regenboogprinses",{"$f":"MATCH(B286,'Wikipedia-Alle verhalen'!C:C,0)","v":115},{"$f":"IF(ISNA(C286),\"\",IF(INDEX('Wikipedia-Alle verhalen'!J:J,WWWcatalogus!C286)>0,\"Yes\",\"No\"))","v":"Yes"},{"$f":"IF(D286=\"Yes\",\"Yes\",IF(ISNA(MATCH(B286,#REF!,0)),\"\",\"Yes!\"))","v":"Yes"}," 9, 17, 34, 36, 64, 97, 129, 134"]
[284,"Het rijmende paard",{"$f":"MATCH(B287,'Wikipedia-Alle verhalen'!C:C,0)","v":62},{"$f":"IF(ISNA(C287),\"\",IF(INDEX('Wikipedia-Alle verhalen'!J:J,WWWcatalogus!C287)>0,\"Yes\",\"No\"))","v":"Yes"},{"$f":"IF(D287=\"Yes\",\"Yes\",IF(ISNA(MATCH(B287,#REF!,0)),\"\",\"Yes!\"))","v":"Yes"}," 6, 7, 15, 25, 61, 71, 74, 91, 105, 108, 116, 129, 137"]
[285,"Rikki en Wiske",{"$f":"MATCH(B288,'Wikipedia-Alle verhalen'!C:C,0)","v":{"$error":"#N/A"}},{"$f":"IF(ISNA(C288),\"\",IF(INDEX('Wikipedia-Alle verhalen'!J:J,WWWcatalogus!C288)>0,\"Yes\",\"No\"))","v":""},{"$f":"IF(D288=\"Yes\",\"Yes\",IF(ISNA(MATCH(B288,#REF!,0)),\"\",\"Yes!\"))","v":"Yes!"}," 5, 9, 16, 36, 50, 51, 56, 63, 70, 73, 81, 86, 111, 114, 147, 149, 157"]
[286,"De rillende rots",{"$f":"MATCH(B289,'Wikipedia-Alle verhalen'!C:C,0)","v":304},{"$f":"IF(ISNA(C289),\"\",IF(INDEX('Wikipedia-Alle verhalen'!J:J,WWWcatalogus!C289)>0,\"Yes\",\"No\"))","v":"Yes"},{"$f":"IF(D289=\"Yes\",\"Yes\",IF(ISNA(MATCH(B289,#REF!,0)),\"\",\"Yes!\"))","v":"Yes"}," 12, 20, 36, 53, 55, 58, 68, 95"]
[287,"De Ringelingschat",{"$f":"MATCH(B290,'Wikipedia-Alle verhalen'!C:C,0)","v":22},{"$f":"IF(ISNA(C290),\"\",IF(INDEX('Wikipedia-Alle verhalen'!J:J,WWWcatalogus!C290)>0,\"Yes\",\"No\"))","v":"Yes"},{"$f":"IF(D290=\"Yes\",\"Yes\",IF(ISNA(MATCH(B290,#REF!,0)),\"\",\"Yes!\"))","v":"Yes"}," 5, 8, 16, 25, 54, 56, 63, 70, 72, 73, 101, 103, 105, 113, 136, 144"]
[288,"De Ringelingschat",{"$f":"MATCH(B291,'Wikipedia-Alle verhalen'!C:C,0)","v":22},{"$f":"IF(ISNA(C291),\"\",IF(INDEX('Wikipedia-Alle verhalen'!J:J,WWWcatalogus!C291)>0,\"Yes\",\"No\"))","v":"Yes"},{"$f":"IF(D291=\"Yes\",\"Yes\",IF(ISNA(MATCH(B291,#REF!,0)),\"\",\"Yes!\"))","v":"Yes"},55]
[289,"Het rinkelende raderwerk",{"$f":"MATCH(B292,'Wikipedia-Alle verhalen'!C:C,0)","v":281},{"$f":"IF(ISNA(C292),\"\",IF(INDEX('Wikipedia-Alle verhalen'!J:J,WWWcatalogus!C292)>0,\"Yes\",\"No\"))","v":"No"},{"$f":"IF(D292=\"Yes\",\"Yes\",IF(ISNA(MATCH(B292,#REF!,0)),\"\",\"Yes!\"))","v":"Yes!"}," 50, 68, 80, 118"]
[290,"De rinkelende taart",{"$f":"MATCH(B293,'Wikipedia-Alle verhalen'!C:C,0)","v":{"$error":"#N/A"}},{"$f":"IF(ISNA(C293),\"\",IF(INDEX('Wikipedia-Alle verhalen'!J:J,WWWcatalogus!C293)>0,\"Yes\",\"No\"))","v":""},{"$f":"IF(D293=\"Yes\",\"Yes\",IF(ISNA(MATCH(B293,#REF!,0)),\"\",\"Yes!\"))","v":"Yes!"},42]
[291,"De rinoramp",{"$f":"MATCH(B294,'Wikipedia-Alle verhalen'!C:C,0)","v":189},{"$f":"IF(ISNA(C294),\"\",IF(INDEX('Wikipedia-Alle verhalen'!J:J,WWWcatalogus!C294)>0,\"Yes\",\"No\"))","v":"Yes"},{"$f":"IF(D294=\"Yes\",\"Yes\",IF(ISNA(MATCH(B294,#REF!,0)),\"\",\"Yes!\"))","v":"Yes"}," 10, 17, 58, 65, 104, 111, 113, 128"]
[292,"De roaap van Rubbes",{"$f":"MATCH(B295,'Wikipedia-Alle verhalen'!C:C,0)","v":{"$error":"#N/A"}},{"$f":"IF(ISNA(C295),\"\",IF(INDEX('Wikipedia-Alle verhalen'!J:J,WWWcatalogus!C295)>0,\"Yes\",\"No\"))","v":""},{"$f":"IF(D295=\"Yes\",\"Yes\",IF(ISNA(MATCH(B295,#REF!,0)),\"\",\"Yes!\"))","v":"Yes!"}," Zie: De raap van Rubens"]
[293,"Robotkop",{"$f":"MATCH(B296,'Wikipedia-Alle verhalen'!C:C,0)","v":223},{"$f":"IF(ISNA(C296),\"\",IF(INDEX('Wikipedia-Alle verhalen'!J:J,WWWcatalogus!C296)>0,\"Yes\",\"No\"))","v":"Yes"},{"$f":"IF(D296=\"Yes\",\"Yes\",IF(ISNA(MATCH(B296,#REF!,0)),\"\",\"Yes!\"))","v":"Yes"}," 11, 19, 38, 49, 56, 66, 95, 158"]
[294,"Het ros Bazhaar",{"$f":"MATCH(B297,'Wikipedia-Alle verhalen'!C:C,0)","v":93},{"$f":"IF(ISNA(C297),\"\",IF(INDEX('Wikipedia-Alle verhalen'!J:J,WWWcatalogus!C297)>0,\"Yes\",\"No\"))","v":"Yes"},{"$f":"IF(D297=\"Yes\",\"Yes\",IF(ISNA(MATCH(B297,#REF!,0)),\"\",\"Yes!\"))","v":"Yes"}," 8, 16, 37, 50, 51, 58, 63, 105, 109, 133, 134"]
[295,"De rosse reus",{"$f":"MATCH(B298,'Wikipedia-Alle verhalen'!C:C,0)","v":138},{"$f":"IF(ISNA(C298),\"\",IF(INDEX('Wikipedia-Alle verhalen'!J:J,WWWcatalogus!C298)>0,\"Yes\",\"No\"))","v":"Yes"},{"$f":"IF(D298=\"Yes\",\"Yes\",IF(ISNA(MATCH(B298,#REF!,0)),\"\",\"Yes!\"))","v":"Yes"}," 9, 17, 50, 51, 58, 64, 94, 134"]
[296,"De royale ruiter",{"$f":"MATCH(B299,'Wikipedia-Alle verhalen'!C:C,0)","v":337},{"$f":"IF(ISNA(C299),\"\",IF(INDEX('Wikipedia-Alle verhalen'!J:J,WWWcatalogus!C299)>0,\"Yes\",\"No\"))","v":"Yes"},{"$f":"IF(D299=\"Yes\",\"Yes\",IF(ISNA(MATCH(B299,#REF!,0)),\"\",\"Yes!\"))","v":"Yes"}," 13, 23, 24, 69"]
[297,"De ruige regen",{"$f":"MATCH(B300,'Wikipedia-Alle verhalen'!C:C,0)","v":163},{"$f":"IF(ISNA(C300),\"\",IF(INDEX('Wikipedia-Alle verhalen'!J:J,WWWcatalogus!C300)>0,\"Yes\",\"No\"))","v":"Yes"},{"$f":"IF(D300=\"Yes\",\"Yes\",IF(ISNA(MATCH(B300,#REF!,0)),\"\",\"Yes!\"))","v":"Yes"}," 10, 17, 65, 82, 96"]
[298,"Sagarmatha",{"$f":"MATCH(B301,'Wikipedia-Alle verhalen'!C:C,0)","v":186},{"$f":"IF(ISNA(C301),\"\",IF(INDEX('Wikipedia-Alle verhalen'!J:J,WWWcatalogus!C301)>0,\"Yes\",\"No\"))","v":"Yes"},{"$f":"IF(D301=\"Yes\",\"Yes\",IF(ISNA(MATCH(B301,#REF!,0)),\"\",\"Yes!\"))","v":"Yes"}," 10, 17, 56, 65, 94, 104, 111, 134"]
[299,"De schaal van moraal",{"$f":"MATCH(B302,'Wikipedia-Alle verhalen'!C:C,0)","v":359},{"$f":"IF(ISNA(C302),\"\",IF(INDEX('Wikipedia-Alle verhalen'!J:J,WWWcatalogus!C302)>0,\"Yes\",\"No\"))","v":"No"},{"$f":"IF(D302=\"Yes\",\"Yes\",IF(ISNA(MATCH(B302,#REF!,0)),\"\",\"Yes!\"))","v":"Yes!"}," 138, 139"]
[300,"De schat van Beersel",{"$f":"MATCH(B303,'Wikipedia-Alle verhalen'!C:C,0)","v":28},{"$f":"IF(ISNA(C303),\"\",IF(INDEX('Wikipedia-Alle verhalen'!J:J,WWWcatalogus!C303)>0,\"Yes\",\"No\"))","v":"Yes"},{"$f":"IF(D303=\"Yes\",\"Yes\",IF(ISNA(MATCH(B303,#REF!,0)),\"\",\"Yes!\"))","v":"Yes"}," 8, 15, 26, 43, 53, 55, 56, 62, 72, 75, 77, 78, 82, 90, 91, 109, 115, 126, 128, 131"]
[301,"De scherpe schorpioen",{"$f":"MATCH(B304,'Wikipedia-Alle verhalen'!C:C,0)","v":197},{"$f":"IF(ISNA(C304),\"\",IF(INDEX('Wikipedia-Alle verhalen'!J:J,WWWcatalogus!C304)>0,\"Yes\",\"No\"))","v":"Yes"},{"$f":"IF(D304=\"Yes\",\"Yes\",IF(ISNA(MATCH(B304,#REF!,0)),\"\",\"Yes!\"))","v":"Yes"}," 11, 17, 19, 58, 65, 94, 98, 104, 134"]
[302,"De schone slaper",{"$f":"MATCH(B305,'Wikipedia-Alle verhalen'!C:C,0)","v":68},{"$f":"IF(ISNA(C305),\"\",IF(INDEX('Wikipedia-Alle verhalen'!J:J,WWWcatalogus!C305)>0,\"Yes\",\"No\"))","v":"Yes"},{"$f":"IF(D305=\"Yes\",\"Yes\",IF(ISNA(MATCH(B305,#REF!,0)),\"\",\"Yes!\"))","v":"Yes"}," 6, 7, 15, 36, 61, 71, 74, 78, 79, 89, 104, 115, 137"]
[303,"Het schrikkelspook",{"$f":"MATCH(B306,'Wikipedia-Alle verhalen'!C:C,0)","v":338},{"$f":"IF(ISNA(C306),\"\",IF(INDEX('Wikipedia-Alle verhalen'!J:J,WWWcatalogus!C306)>0,\"Yes\",\"No\"))","v":"Yes"},{"$f":"IF(D306=\"Yes\",\"Yes\",IF(ISNA(MATCH(B306,#REF!,0)),\"\",\"Yes!\"))","v":"Yes"}," 13, 23, 24, 59, 69, 121, 131"]
[304,"De sinistere site",{"$f":"MATCH(B307,'Wikipedia-Alle verhalen'!C:C,0)","v":273},{"$f":"IF(ISNA(C307),\"\",IF(INDEX('Wikipedia-Alle verhalen'!J:J,WWWcatalogus!C307)>0,\"Yes\",\"No\"))","v":"No"},{"$f":"IF(D307=\"Yes\",\"Yes\",IF(ISNA(MATCH(B307,#REF!,0)),\"\",\"Yes!\"))","v":"Yes!"}," 51, 68, 80, 92, 93, 96, 118"]
[305,"Sinjeur Stekkepoot",{"$f":"MATCH(B308,'Wikipedia-Alle verhalen'!C:C,0)","v":278},{"$f":"IF(ISNA(C308),\"\",IF(INDEX('Wikipedia-Alle verhalen'!J:J,WWWcatalogus!C308)>0,\"Yes\",\"No\"))","v":"No"},{"$f":"IF(D308=\"Yes\",\"Yes\",IF(ISNA(MATCH(B308,#REF!,0)),\"\",\"Yes!\"))","v":"Yes!"}," 47, 51, 68, 99, 119"]
[306,"De sissende sampan",{"$f":"MATCH(B309,'Wikipedia-Alle verhalen'!C:C,0)","v":63},{"$f":"IF(ISNA(C309),\"\",IF(INDEX('Wikipedia-Alle verhalen'!J:J,WWWcatalogus!C309)>0,\"Yes\",\"No\"))","v":"Yes"},{"$f":"IF(D309=\"Yes\",\"Yes\",IF(ISNA(MATCH(B309,#REF!,0)),\"\",\"Yes!\"))","v":"Yes"}," 6, 7, 15, 25, 49, 56, 61, 71, 72, 74, 105, 129, 137"]
[307,"Sjeik El Ro-jenbiet",{"$f":"MATCH(B310,'Wikipedia-Alle verhalen'!C:C,0)","v":{"$error":"#N/A"}},{"$f":"IF(ISNA(C310),\"\",IF(INDEX('Wikipedia-Alle verhalen'!J:J,WWWcatalogus!C310)>0,\"Yes\",\"No\"))","v":""},{"$f":"IF(D310=\"Yes\",\"Yes\",IF(ISNA(MATCH(B310,#REF!,0)),\"\",\"Yes!\"))","v":"Yes!"}," 6, 7, 15, 25, 50, 58, 61, 71, 72, 74, 81, 105, 121, 132, 133, 134, 137"]
[308,"Het slapende goud",{"$f":"MATCH(B311,'Wikipedia-Alle verhalen'!C:C,0)","v":268},{"$f":"IF(ISNA(C311),\"\",IF(INDEX('Wikipedia-Alle verhalen'!J:J,WWWcatalogus!C311)>0,\"Yes\",\"No\"))","v":"Yes"},{"$f":"IF(D311=\"Yes\",\"Yes\",IF(ISNA(MATCH(B311,#REF!,0)),\"\",\"Yes!\"))","v":"Yes"}," 12, 20, 67"]
[309,"De slimme slapjanus",{"$f":"MATCH(B312,'Wikipedia-Alle verhalen'!C:C,0)","v":210},{"$f":"IF(ISNA(C312),\"\",IF(INDEX('Wikipedia-Alle verhalen'!J:J,WWWcatalogus!C312)>0,\"Yes\",\"No\"))","v":"Yes"},{"$f":"IF(D312=\"Yes\",\"Yes\",IF(ISNA(MATCH(B312,#REF!,0)),\"\",\"Yes!\"))","v":"Yes"}," 11, 18, 19, 56, 66, 104, 155"]
[310,"De snikkende sirene",{"$f":"MATCH(B313,'Wikipedia-Alle verhalen'!C:C,0)","v":208},{"$f":"IF(ISNA(C313),\"\",IF(INDEX('Wikipedia-Alle verhalen'!J:J,WWWcatalogus!C313)>0,\"Yes\",\"No\"))","v":"Yes"},{"$f":"IF(D313=\"Yes\",\"Yes\",IF(ISNA(MATCH(B313,#REF!,0)),\"\",\"Yes!\"))","v":"Yes"}," 11, 18, 19, 66, 94, 104, 155"]
[311,"Snoeven is geen kunst",{"$f":"MATCH(B314,'Wikipedia-Alle verhalen'!C:C,0)","v":{"$error":"#N/A"}},{"$f":"IF(ISNA(C314),\"\",IF(INDEX('Wikipedia-Alle verhalen'!J:J,WWWcatalogus!C314)>0,\"Yes\",\"No\"))","v":""},{"$f":"IF(D314=\"Yes\",\"Yes\",IF(ISNA(MATCH(B314,#REF!,0)),\"\",\"Yes!\"))","v":"Yes!"},41]
[312,"De snoezige Snowijt",{"$f":"MATCH(B315,'Wikipedia-Alle verhalen'!C:C,0)","v":94},{"$f":"IF(ISNA(C315),\"\",IF(INDEX('Wikipedia-Alle verhalen'!J:J,WWWcatalogus!C315)>0,\"Yes\",\"No\"))","v":"Yes"},{"$f":"IF(D315=\"Yes\",\"Yes\",IF(ISNA(MATCH(B315,#REF!,0)),\"\",\"Yes!\"))","v":"Yes"}," 9, 17, 32, 39, 44, 47, 60, 64, 83, 84, 86, 157"]
[313,"De snorrende snor",{"$f":"MATCH(B316,'Wikipedia-Alle verhalen'!C:C,0)","v":43},{"$f":"IF(ISNA(C316),\"\",IF(INDEX('Wikipedia-Alle verhalen'!J:J,WWWcatalogus!C316)>0,\"Yes\",\"No\"))","v":"Yes"},{"$f":"IF(D316=\"Yes\",\"Yes\",IF(ISNA(MATCH(B316,#REF!,0)),\"\",\"Yes!\"))","v":"Yes"}," 5, 6, 7, 15, 25, 61, 71, 73, 95, 106, 136"]
[314,"De sonometer",{"$f":"MATCH(B317,'Wikipedia-Alle verhalen'!C:C,0)","v":389},{"$f":"IF(ISNA(C317),\"\",IF(INDEX('Wikipedia-Alle verhalen'!J:J,WWWcatalogus!C317)>0,\"Yes\",\"No\"))","v":"No"},{"$f":"IF(D317=\"Yes\",\"Yes\",IF(ISNA(MATCH(B317,#REF!,0)),\"\",\"Yes!\"))","v":"Yes!"},26]
[315,"Sony-San",{"$f":"MATCH(B318,'Wikipedia-Alle verhalen'!C:C,0)","v":168},{"$f":"IF(ISNA(C318),\"\",IF(INDEX('Wikipedia-Alle verhalen'!J:J,WWWcatalogus!C318)>0,\"Yes\",\"No\"))","v":"No"},{"$f":"IF(D318=\"Yes\",\"Yes\",IF(ISNA(MATCH(B318,#REF!,0)),\"\",\"Yes!\"))","v":"Yes!"}," 42, 110"]
[316,"Sooi en Sientje",{"$f":"MATCH(B319,'Wikipedia-Alle verhalen'!C:C,0)","v":348},{"$f":"IF(ISNA(C319),\"\",IF(INDEX('Wikipedia-Alle verhalen'!J:J,WWWcatalogus!C319)>0,\"Yes\",\"No\"))","v":"Yes"},{"$f":"IF(D319=\"Yes\",\"Yes\",IF(ISNA(MATCH(B319,#REF!,0)),\"\",\"Yes!\"))","v":"Yes"}," 13, 23, 24, 69"]
[317,"SOS Snowbell",{"$f":"MATCH(B320,'Wikipedia-Alle verhalen'!C:C,0)","v":373},{"$f":"IF(ISNA(C320),\"\",IF(INDEX('Wikipedia-Alle verhalen'!J:J,WWWcatalogus!C320)>0,\"Yes\",\"No\"))","v":"Yes"},{"$f":"IF(D320=\"Yes\",\"Yes\",IF(ISNA(MATCH(B320,#REF!,0)),\"\",\"Yes!\"))","v":"Yes"}," 14, 23, 24, 69"]
[318,"Het Spaanse spook",{"$f":"MATCH(B321,'Wikipedia-Alle verhalen'!C:C,0)","v":13},{"$f":"IF(ISNA(C321),\"\",IF(INDEX('Wikipedia-Alle verhalen'!J:J,WWWcatalogus!C321)>0,\"Yes\",\"No\"))","v":"Yes"},{"$f":"IF(D321=\"Yes\",\"Yes\",IF(ISNA(MATCH(B321,#REF!,0)),\"\",\"Yes!\"))","v":"Yes"}," 8, 16, 26, 53, 55, 56, 63, 75, 78, 79, 81, 82, 91, 94, 109, 112, 127, 131"]
[319,"Een spannend boek",{"$f":"MATCH(B322,'Wikipedia-Alle verhalen'!C:C,0)","v":{"$error":"#N/A"}},{"$f":"IF(ISNA(C322),\"\",IF(INDEX('Wikipedia-Alle verhalen'!J:J,WWWcatalogus!C322)>0,\"Yes\",\"No\"))","v":""},{"$f":"IF(D322=\"Yes\",\"Yes\",IF(ISNA(MATCH(B322,#REF!,0)),\"\",\"Yes!\"))","v":"Yes!"}," 40, 41"]
[320,"De speelgoedspiegel",{"$f":"MATCH(B323,'Wikipedia-Alle verhalen'!C:C,0)","v":183},{"$f":"IF(ISNA(C323),\"\",IF(INDEX('Wikipedia-Alle verhalen'!J:J,WWWcatalogus!C323)>0,\"Yes\",\"No\"))","v":"Yes"},{"$f":"IF(D323=\"Yes\",\"Yes\",IF(ISNA(MATCH(B323,#REF!,0)),\"\",\"Yes!\"))","v":"Yes"}," 10, 17, 44, 65, 105, 112"]
[321,"De speelgoedzaaier",{"$f":"MATCH(B324,'Wikipedia-Alle verhalen'!C:C,0)","v":35},{"$f":"IF(ISNA(C324),\"\",IF(INDEX('Wikipedia-Alle verhalen'!J:J,WWWcatalogus!C324)>0,\"Yes\",\"No\"))","v":"Yes"},{"$f":"IF(D324=\"Yes\",\"Yes\",IF(ISNA(MATCH(B324,#REF!,0)),\"\",\"Yes!\"))","v":"Yes"}," 5, 6, 7, 15, 25, 61, 70, 73, 81, 94, 136"]
[322,"De spitse bergen",{"$f":"MATCH(B325,'Wikipedia-Alle verhalen'!C:C,0)","v":349},{"$f":"IF(ISNA(C325),\"\",IF(INDEX('Wikipedia-Alle verhalen'!J:J,WWWcatalogus!C325)>0,\"Yes\",\"No\"))","v":"No"},{"$f":"IF(D325=\"Yes\",\"Yes\",IF(ISNA(MATCH(B325,#REF!,0)),\"\",\"Yes!\"))","v":"Yes!"},138]
[323,"De spokenjagers",{"$f":"MATCH(B326,'Wikipedia-Alle verhalen'!C:C,0)","v":41},{"$f":"IF(ISNA(C326),\"\",IF(INDEX('Wikipedia-Alle verhalen'!J:J,WWWcatalogus!C326)>0,\"Yes\",\"No\"))","v":"Yes"},{"$f":"IF(D326=\"Yes\",\"Yes\",IF(ISNA(MATCH(B326,#REF!,0)),\"\",\"Yes!\"))","v":"Yes"}," 5, 6, 7, 15, 25, 49, 56, 61, 71, 72, 73, 90, 91, 98, 101, 105, 133, 136, 164"]
[324,"De spottende spiegel",{"$f":"MATCH(B327,'Wikipedia-Alle verhalen'!C:C,0)","v":319},{"$f":"IF(ISNA(C327),\"\",IF(INDEX('Wikipedia-Alle verhalen'!J:J,WWWcatalogus!C327)>0,\"Yes\",\"No\"))","v":"No"},{"$f":"IF(D327=\"Yes\",\"Yes\",IF(ISNA(MATCH(B327,#REF!,0)),\"\",\"Yes!\"))","v":"Yes!"}," 69, 80, 120"]
[325,"De sprekende circushond",{"$f":"MATCH(B328,'Wikipedia-Alle verhalen'!C:C,0)","v":{"$error":"#N/A"}},{"$f":"IF(ISNA(C328),\"\",IF(INDEX('Wikipedia-Alle verhalen'!J:J,WWWcatalogus!C328)>0,\"Yes\",\"No\"))","v":""},{"$f":"IF(D328=\"Yes\",\"Yes\",IF(ISNA(MATCH(B328,#REF!,0)),\"\",\"Yes!\"))","v":"Yes!"}," 40, 41"]
[326,"Het sprekende testament",{"$f":"MATCH(B329,'Wikipedia-Alle verhalen'!C:C,0)","v":45},{"$f":"IF(ISNA(C329),\"\",IF(INDEX('Wikipedia-Alle verhalen'!J:J,WWWcatalogus!C329)>0,\"Yes\",\"No\"))","v":"Yes"},{"$f":"IF(D329=\"Yes\",\"Yes\",IF(ISNA(MATCH(B329,#REF!,0)),\"\",\"Yes!\"))","v":"Yes"}," 5, 8, 16, 25, 36, 50, 51, 57, 62, 71, 72, 73, 96, 120, 130, 133, 134, 135, 136"]
[327,"De sprietatoom",{"$f":"MATCH(B330,'Wikipedia-Alle verhalen'!C:C,0)","v":6},{"$f":"IF(ISNA(C330),\"\",IF(INDEX('Wikipedia-Alle verhalen'!J:J,WWWcatalogus!C330)>0,\"Yes\",\"No\"))","v":"Yes"},{"$f":"IF(D330=\"Yes\",\"Yes\",IF(ISNA(MATCH(B330,#REF!,0)),\"\",\"Yes!\"))","v":"Yes"}," 5, 6, 8, 15, 25, 50, 51, 57, 62, 70, 73, 76, 82, 86, 101, 107, 115, 136, 147, 158"]
[328,"Sprookjesnacht aan zee",{"$f":"MATCH(B331,'Wikipedia-Alle verhalen'!C:C,0)","v":152},{"$f":"IF(ISNA(C331),\"\",IF(INDEX('Wikipedia-Alle verhalen'!J:J,WWWcatalogus!C331)>0,\"Yes\",\"No\"))","v":"No"},{"$f":"IF(D331=\"Yes\",\"Yes\",IF(ISNA(MATCH(B331,#REF!,0)),\"\",\"Yes!\"))","v":"Yes!"}," 32, 33, 44, 46, 48, 65, 83"]
[329,"Spruiten voor Sprotje",{"$f":"MATCH(B332,'Wikipedia-Alle verhalen'!C:C,0)","v":199},{"$f":"IF(ISNA(C332),\"\",IF(INDEX('Wikipedia-Alle verhalen'!J:J,WWWcatalogus!C332)>0,\"Yes\",\"No\"))","v":"No"},{"$f":"IF(D332=\"Yes\",\"Yes\",IF(ISNA(MATCH(B332,#REF!,0)),\"\",\"Yes!\"))","v":"Yes!"}," 33, 47, 65, 86, 87, 160"]
[330,"De sputterende spuiter",{"$f":"MATCH(B333,'Wikipedia-Alle verhalen'!C:C,0)","v":117},{"$f":"IF(ISNA(C333),\"\",IF(INDEX('Wikipedia-Alle verhalen'!J:J,WWWcatalogus!C333)>0,\"Yes\",\"No\"))","v":"Yes"},{"$f":"IF(D333=\"Yes\",\"Yes\",IF(ISNA(MATCH(B333,#REF!,0)),\"\",\"Yes!\"))","v":"Yes"}," 9, 63, 106"]
[331,"De stalen bloempot",{"$f":"MATCH(B334,'Wikipedia-Alle verhalen'!C:C,0)","v":20},{"$f":"IF(ISNA(C334),\"\",IF(INDEX('Wikipedia-Alle verhalen'!J:J,WWWcatalogus!C334)>0,\"Yes\",\"No\"))","v":"Yes"},{"$f":"IF(D334=\"Yes\",\"Yes\",IF(ISNA(MATCH(B334,#REF!,0)),\"\",\"Yes!\"))","v":"Yes"}," 5, 8, 16, 49, 55, 57, 63, 70, 72, 73, 77, 78, 94, 133, 135, 136"]
[332,"Het statige standbeeld",{"$f":"MATCH(B335,'Wikipedia-Alle verhalen'!C:C,0)","v":127},{"$f":"IF(ISNA(C335),\"\",IF(INDEX('Wikipedia-Alle verhalen'!J:J,WWWcatalogus!C335)>0,\"Yes\",\"No\"))","v":"Yes"},{"$f":"IF(D335=\"Yes\",\"Yes\",IF(ISNA(MATCH(B335,#REF!,0)),\"\",\"Yes!\"))","v":"Yes"}," 9, 64, 97, 105"]
[333,"De steensnoepers",{"$f":"MATCH(B336,'Wikipedia-Alle verhalen'!C:C,0)","v":86},{"$f":"IF(ISNA(C336),\"\",IF(INDEX('Wikipedia-Alle verhalen'!J:J,WWWcatalogus!C336)>0,\"Yes\",\"No\"))","v":"Yes"},{"$f":"IF(D336=\"Yes\",\"Yes\",IF(ISNA(MATCH(B336,#REF!,0)),\"\",\"Yes!\"))","v":"Yes"}," 8, 16, 34, 62, 105, 133, 134"]
[334,"De stemmenrover",{"$f":"MATCH(B337,'Wikipedia-Alle verhalen'!C:C,0)","v":44},{"$f":"IF(ISNA(C337),\"\",IF(INDEX('Wikipedia-Alle verhalen'!J:J,WWWcatalogus!C337)>0,\"Yes\",\"No\"))","v":"Yes"},{"$f":"IF(D337=\"Yes\",\"Yes\",IF(ISNA(MATCH(B337,#REF!,0)),\"\",\"Yes!\"))","v":"Yes"}," 5, 6, 7, 15, 25, 44, 49, 53, 57, 61, 71, 73, 105, 136"]
[335,"De stenen broden",{"$f":"MATCH(B338,'Wikipedia-Alle verhalen'!C:C,0)","v":139},{"$f":"IF(ISNA(C338),\"\",IF(INDEX('Wikipedia-Alle verhalen'!J:J,WWWcatalogus!C338)>0,\"Yes\",\"No\"))","v":"No"},{"$f":"IF(D338=\"Yes\",\"Yes\",IF(ISNA(MATCH(B338,#REF!,0)),\"\",\"Yes!\"))","v":"Yes!"}," 32, 33, 42, 47, 67, 83, 158"]
[336,"De sterrenplukkers",{"$f":"MATCH(B339,'Wikipedia-Alle verhalen'!C:C,0)","v":26},{"$f":"IF(ISNA(C339),\"\",IF(INDEX('Wikipedia-Alle verhalen'!J:J,WWWcatalogus!C339)>0,\"Yes\",\"No\"))","v":"Yes"},{"$f":"IF(D339=\"Yes\",\"Yes\",IF(ISNA(MATCH(B339,#REF!,0)),\"\",\"Yes!\"))","v":"Yes"}," 5, 8, 16, 25, 63, 70, 72, 73, 76, 101, 106, 127, 130, 133, 135, 136"]
[337,"Sterrenrood",{"$f":"MATCH(B340,'Wikipedia-Alle verhalen'!C:C,0)","v":344},{"$f":"IF(ISNA(C340),\"\",IF(INDEX('Wikipedia-Alle verhalen'!J:J,WWWcatalogus!C340)>0,\"Yes\",\"No\"))","v":"Yes"},{"$f":"IF(D340=\"Yes\",\"Yes\",IF(ISNA(MATCH(B340,#REF!,0)),\"\",\"Yes!\"))","v":"Yes"}," 13, 23, 24, 57, 69, 122, 132"]
[338,"De sterrensteen",{"$f":"MATCH(B341,'Wikipedia-Alle verhalen'!C:C,0)","v":299},{"$f":"IF(ISNA(C341),\"\",IF(INDEX('Wikipedia-Alle verhalen'!J:J,WWWcatalogus!C341)>0,\"Yes\",\"No\"))","v":"Yes"},{"$f":"IF(D341=\"Yes\",\"Yes\",IF(ISNA(MATCH(B341,#REF!,0)),\"\",\"Yes!\"))","v":"Yes"}," 12, 20, 22, 36, 52, 68, 95"]
[339,"De stervende ster",{"$f":"MATCH(B342,'Wikipedia-Alle verhalen'!C:C,0)","v":207},{"$f":"IF(ISNA(C342),\"\",IF(INDEX('Wikipedia-Alle verhalen'!J:J,WWWcatalogus!C342)>0,\"Yes\",\"No\"))","v":"Yes"},{"$f":"IF(D342=\"Yes\",\"Yes\",IF(ISNA(MATCH(B342,#REF!,0)),\"\",\"Yes!\"))","v":"Yes"}," 11, 19, 58, 66, 89, 155"]
[340,"De stierentemmer",{"$f":"MATCH(B343,'Wikipedia-Alle verhalen'!C:C,0)","v":18},{"$f":"IF(ISNA(C343),\"\",IF(INDEX('Wikipedia-Alle verhalen'!J:J,WWWcatalogus!C343)>0,\"Yes\",\"No\"))","v":"Yes"},{"$f":"IF(D343=\"Yes\",\"Yes\",IF(ISNA(MATCH(B343,#REF!,0)),\"\",\"Yes!\"))","v":"Yes"}," 5, 8, 16, 25, 34, 50, 62, 70, 73, 81, 136"]
[341,"Stilte de vis bijt",{"$f":"MATCH(B344,'Wikipedia-Alle verhalen'!C:C,0)","v":{"$error":"#N/A"}},{"$f":"IF(ISNA(C344),\"\",IF(INDEX('Wikipedia-Alle verhalen'!J:J,WWWcatalogus!C344)>0,\"Yes\",\"No\"))","v":""},{"$f":"IF(D344=\"Yes\",\"Yes\",IF(ISNA(MATCH(B344,#REF!,0)),\"\",\"Yes!\"))","v":"Yes!"},149]
[342,"De stoute steenezel",{"$f":"MATCH(B345,'Wikipedia-Alle verhalen'!C:C,0)","v":132},{"$f":"IF(ISNA(C345),\"\",IF(INDEX('Wikipedia-Alle verhalen'!J:J,WWWcatalogus!C345)>0,\"Yes\",\"No\"))","v":"Yes"},{"$f":"IF(D345=\"Yes\",\"Yes\",IF(ISNA(MATCH(B345,#REF!,0)),\"\",\"Yes!\"))","v":"Yes"}," 9, 17, 64"]
[343,"De straatridder",{"$f":"MATCH(B346,'Wikipedia-Alle verhalen'!C:C,0)","v":39},{"$f":"IF(ISNA(C346),\"\",IF(INDEX('Wikipedia-Alle verhalen'!J:J,WWWcatalogus!C346)>0,\"Yes\",\"No\"))","v":"Yes"},{"$f":"IF(D346=\"Yes\",\"Yes\",IF(ISNA(MATCH(B346,#REF!,0)),\"\",\"Yes!\"))","v":"Yes"}," 5, 7, 15, 25, 61, 71, 72, 73, 85, 106, 136"]
[344,"De stralende staf",{"$f":"MATCH(B347,'Wikipedia-Alle verhalen'!C:C,0)","v":305},{"$f":"IF(ISNA(C347),\"\",IF(INDEX('Wikipedia-Alle verhalen'!J:J,WWWcatalogus!C347)>0,\"Yes\",\"No\"))","v":"Yes"},{"$f":"IF(D347=\"Yes\",\"Yes\",IF(ISNA(MATCH(B347,#REF!,0)),\"\",\"Yes!\"))","v":"Yes"}," 12, 20, 68, 98"]
[345,"De stugge Stuyvesant",{"$f":"MATCH(B348,'Wikipedia-Alle verhalen'!C:C,0)","v":242},{"$f":"IF(ISNA(C348),\"\",IF(INDEX('Wikipedia-Alle verhalen'!J:J,WWWcatalogus!C348)>0,\"Yes\",\"No\"))","v":"Yes"},{"$f":"IF(D348=\"Yes\",\"Yes\",IF(ISNA(MATCH(B348,#REF!,0)),\"\",\"Yes!\"))","v":"Yes"}," 11, 19, 49, 57, 67, 163"]
[346,"De stuivende stad",{"$f":"MATCH(B349,'Wikipedia-Alle verhalen'!C:C,0)","v":313},{"$f":"IF(ISNA(C349),\"\",IF(INDEX('Wikipedia-Alle verhalen'!J:J,WWWcatalogus!C349)>0,\"Yes\",\"No\"))","v":"Yes"},{"$f":"IF(D349=\"Yes\",\"Yes\",IF(ISNA(MATCH(B349,#REF!,0)),\"\",\"Yes!\"))","v":"Yes"}," 13, 20, 57, 68, 95"]
[347,"De suikerslaven",{"$f":"MATCH(B350,'Wikipedia-Alle verhalen'!C:C,0)","v":327},{"$f":"IF(ISNA(C350),\"\",IF(INDEX('Wikipedia-Alle verhalen'!J:J,WWWcatalogus!C350)>0,\"Yes\",\"No\"))","v":"Yes"},{"$f":"IF(D350=\"Yes\",\"Yes\",IF(ISNA(MATCH(B350,#REF!,0)),\"\",\"Yes!\"))","v":"Yes"}," 13, 21, 69"]
[348,"Suske",{"$f":"MATCH(B351,'Wikipedia-Alle verhalen'!C:C,0)","v":{"$error":"#N/A"}},{"$f":"IF(ISNA(C351),\"\",IF(INDEX('Wikipedia-Alle verhalen'!J:J,WWWcatalogus!C351)>0,\"Yes\",\"No\"))","v":""},{"$f":"IF(D351=\"Yes\",\"Yes\",IF(ISNA(MATCH(B351,#REF!,0)),\"\",\"Yes!\"))","v":"Yes!"}," 27, 28, 29, 30"]
[349,"Suske de rat",{"$f":"MATCH(B352,'Wikipedia-Alle verhalen'!C:C,0)","v":326},{"$f":"IF(ISNA(C352),\"\",IF(INDEX('Wikipedia-Alle verhalen'!J:J,WWWcatalogus!C352)>0,\"Yes\",\"No\"))","v":"Yes"},{"$f":"IF(D352=\"Yes\",\"Yes\",IF(ISNA(MATCH(B352,#REF!,0)),\"\",\"Yes!\"))","v":"Yes"}," 13, 21, 69, 98"]
[350,"Suske en Wiske tegen de ZZZ",{"$f":"MATCH(B353,'Wikipedia-Alle verhalen'!C:C,0)","v":{"$error":"#N/A"}},{"$f":"IF(ISNA(C353),\"\",IF(INDEX('Wikipedia-Alle verhalen'!J:J,WWWcatalogus!C353)>0,\"Yes\",\"No\"))","v":""},{"$f":"IF(D353=\"Yes\",\"Yes\",IF(ISNA(MATCH(B353,#REF!,0)),\"\",\"Yes!\"))","v":"Yes!"}," 32, 42, 43, 44, 65, 85, 86, 164"]
[351,"Suskewiet",{"$f":"MATCH(B354,'Wikipedia-Alle verhalen'!C:C,0)","v":346},{"$f":"IF(ISNA(C354),\"\",IF(INDEX('Wikipedia-Alle verhalen'!J:J,WWWcatalogus!C354)>0,\"Yes\",\"No\"))","v":"Yes"},{"$f":"IF(D354=\"Yes\",\"Yes\",IF(ISNA(MATCH(B354,#REF!,0)),\"\",\"Yes!\"))","v":"Yes"}," 13, 23, 24, 69"]
[352,"De tamme Tumi",{"$f":"MATCH(B355,'Wikipedia-Alle verhalen'!C:C,0)","v":154},{"$f":"IF(ISNA(C355),\"\",IF(INDEX('Wikipedia-Alle verhalen'!J:J,WWWcatalogus!C355)>0,\"Yes\",\"No\"))","v":"Yes"},{"$f":"IF(D355=\"Yes\",\"Yes\",IF(ISNA(MATCH(B355,#REF!,0)),\"\",\"Yes!\"))","v":"Yes"}," 10, 17, 38, 44, 56, 65, 94, 109"]
[353,"De tamtamklopper",{"$f":"MATCH(B356,'Wikipedia-Alle verhalen'!C:C,0)","v":{"$error":"#N/A"}},{"$f":"IF(ISNA(C356),\"\",IF(INDEX('Wikipedia-Alle verhalen'!J:J,WWWcatalogus!C356)>0,\"Yes\",\"No\"))","v":""},{"$f":"IF(D356=\"Yes\",\"Yes\",IF(ISNA(MATCH(B356,#REF!,0)),\"\",\"Yes!\"))","v":"Yes!"}," 5, 7, 15, 25, 61, 70, 73, 77, 78, 94, 101, 103, 109, 136"]
[354,"De tandentikkers",{"$f":"MATCH(B357,'Wikipedia-Alle verhalen'!C:C,0)","v":161},{"$f":"IF(ISNA(C357),\"\",IF(INDEX('Wikipedia-Alle verhalen'!J:J,WWWcatalogus!C357)>0,\"Yes\",\"No\"))","v":"No"},{"$f":"IF(D357=\"Yes\",\"Yes\",IF(ISNA(MATCH(B357,#REF!,0)),\"\",\"Yes!\"))","v":"Yes!"},42]
[355,"Tante Biotica",{"$f":"MATCH(B358,'Wikipedia-Alle verhalen'!C:C,0)","v":343},{"$f":"IF(ISNA(C358),\"\",IF(INDEX('Wikipedia-Alle verhalen'!J:J,WWWcatalogus!C358)>0,\"Yes\",\"No\"))","v":"No"},{"$f":"IF(D358=\"Yes\",\"Yes\",IF(ISNA(MATCH(B358,#REF!,0)),\"\",\"Yes!\"))","v":"Yes!"}," 98, 122"]
[356,"De Tartaarse helm",{"$f":"MATCH(B359,'Wikipedia-Alle verhalen'!C:C,0)","v":23},{"$f":"IF(ISNA(C359),\"\",IF(INDEX('Wikipedia-Alle verhalen'!J:J,WWWcatalogus!C359)>0,\"Yes\",\"No\"))","v":"Yes"},{"$f":"IF(D359=\"Yes\",\"Yes\",IF(ISNA(MATCH(B359,#REF!,0)),\"\",\"Yes!\"))","v":"Yes"}," 8, 15, 26, 53, 55, 56, 62, 69, 72, 75, 78, 79, 82, 91, 109, 126, 128, 131, 133, 134, 135, 149"]
[357,"Het taterende testament",{"$f":"MATCH(B360,'Wikipedia-Alle verhalen'!C:C,0)","v":{"$error":"#N/A"}},{"$f":"IF(ISNA(C360),\"\",IF(INDEX('Wikipedia-Alle verhalen'!J:J,WWWcatalogus!C360)>0,\"Yes\",\"No\"))","v":""},{"$f":"IF(D360=\"Yes\",\"Yes\",IF(ISNA(MATCH(B360,#REF!,0)),\"\",\"Yes!\"))","v":"Yes!"}," Zie: Het sprekende testament"]
[358,"Taxi Tata",{"$f":"MATCH(B361,'Wikipedia-Alle verhalen'!C:C,0)","v":314},{"$f":"IF(ISNA(C361),\"\",IF(INDEX('Wikipedia-Alle verhalen'!J:J,WWWcatalogus!C361)>0,\"Yes\",\"No\"))","v":"Yes"},{"$f":"IF(D361=\"Yes\",\"Yes\",IF(ISNA(MATCH(B361,#REF!,0)),\"\",\"Yes!\"))","v":"Yes"}," 13, 23, 24, 69, 120"]
[359,"Tazuur en Tazijn",{"$f":"MATCH(B362,'Wikipedia-Alle verhalen'!C:C,0)","v":198},{"$f":"IF(ISNA(C362),\"\",IF(INDEX('Wikipedia-Alle verhalen'!J:J,WWWcatalogus!C362)>0,\"Yes\",\"No\"))","v":"Yes"},{"$f":"IF(D362=\"Yes\",\"Yes\",IF(ISNA(MATCH(B362,#REF!,0)),\"\",\"Yes!\"))","v":"Yes"}," 11, 17, 19, 58, 65, 112"]
[360,"Team Krimson",{"$f":"MATCH(B363,'Wikipedia-Alle verhalen'!C:C,0)","v":386},{"$f":"IF(ISNA(C363),\"\",IF(INDEX('Wikipedia-Alle verhalen'!J:J,WWWcatalogus!C363)>0,\"Yes\",\"No\"))","v":"Yes"},{"$f":"IF(D363=\"Yes\",\"Yes\",IF(ISNA(MATCH(B363,#REF!,0)),\"\",\"Yes!\"))","v":"Yes"}," 14, 23, 24"]
[361,"Tedere Tronica",{"$f":"MATCH(B364,'Wikipedia-Alle verhalen'!C:C,0)","v":77},{"$f":"IF(ISNA(C364),\"\",IF(INDEX('Wikipedia-Alle verhalen'!J:J,WWWcatalogus!C364)>0,\"Yes\",\"No\"))","v":"Yes"},{"$f":"IF(D364=\"Yes\",\"Yes\",IF(ISNA(MATCH(B364,#REF!,0)),\"\",\"Yes!\"))","v":"Yes"}," 7, 15, 56, 61, 94, 106"]
[362,"De terugkeer van de lepe luis",{"$f":"MATCH(B365,'Wikipedia-Alle verhalen'!C:C,0)","v":280},{"$f":"IF(ISNA(C365),\"\",IF(INDEX('Wikipedia-Alle verhalen'!J:J,WWWcatalogus!C365)>0,\"Yes\",\"No\"))","v":"No"},{"$f":"IF(D365=\"Yes\",\"Yes\",IF(ISNA(MATCH(B365,#REF!,0)),\"\",\"Yes!\"))","v":"Yes!"}," 50, 68, 80"]
[363,"Tex en Terry",{"$f":"MATCH(B366,'Wikipedia-Alle verhalen'!C:C,0)","v":228},{"$f":"IF(ISNA(C366),\"\",IF(INDEX('Wikipedia-Alle verhalen'!J:J,WWWcatalogus!C366)>0,\"Yes\",\"No\"))","v":"Yes"},{"$f":"IF(D366=\"Yes\",\"Yes\",IF(ISNA(MATCH(B366,#REF!,0)),\"\",\"Yes!\"))","v":"Yes"}," 11, 18, 19, 33, 66, 95, 104, 159"]
[364,"De Texasrakkers",{"$f":"MATCH(B367,'Wikipedia-Alle verhalen'!C:C,0)","v":52},{"$f":"IF(ISNA(C367),\"\",IF(INDEX('Wikipedia-Alle verhalen'!J:J,WWWcatalogus!C367)>0,\"Yes\",\"No\"))","v":"Yes"},{"$f":"IF(D367=\"Yes\",\"Yes\",IF(ISNA(MATCH(B367,#REF!,0)),\"\",\"Yes!\"))","v":"Yes"}," 6, 8, 16, 25, 49, 52, 56, 62, 71, 72, 73, 94, 105, 114, 128, 137"]
[365,"De tijdbobijn",{"$f":"MATCH(B368,'Wikipedia-Alle verhalen'!C:C,0)","v":302},{"$f":"IF(ISNA(C368),\"\",IF(INDEX('Wikipedia-Alle verhalen'!J:J,WWWcatalogus!C368)>0,\"Yes\",\"No\"))","v":"Yes"},{"$f":"IF(D368=\"Yes\",\"Yes\",IF(ISNA(MATCH(B368,#REF!,0)),\"\",\"Yes!\"))","v":"Yes"}," 12, 20, 57, 68"]
[366,"tikkende Tinkan",{"$f":"MATCH(B369,'Wikipedia-Alle verhalen'!C:C,0)","v":{"$error":"#N/A"}},{"$f":"IF(ISNA(C369),\"\",IF(INDEX('Wikipedia-Alle verhalen'!J:J,WWWcatalogus!C369)>0,\"Yes\",\"No\"))","v":""},{"$f":"IF(D369=\"Yes\",\"Yes\",IF(ISNA(MATCH(B369,#REF!,0)),\"\",\"Yes!\"))","v":"Yes!"}," 12, 20, 68"]
[367,"De tirannieke tor",{"$f":"MATCH(B370,'Wikipedia-Alle verhalen'!C:C,0)","v":328},{"$f":"IF(ISNA(C370),\"\",IF(INDEX('Wikipedia-Alle verhalen'!J:J,WWWcatalogus!C370)>0,\"Yes\",\"No\"))","v":"Yes"},{"$f":"IF(D370=\"Yes\",\"Yes\",IF(ISNA(MATCH(B370,#REF!,0)),\"\",\"Yes!\"))","v":"Yes"}," 13, 21, 69"]
[368,"De Tiroolse trawanten",{"$f":"MATCH(B371,'Wikipedia-Alle verhalen'!C:C,0)","v":166},{"$f":"IF(ISNA(C371),\"\",IF(INDEX('Wikipedia-Alle verhalen'!J:J,WWWcatalogus!C371)>0,\"Yes\",\"No\"))","v":"No"},{"$f":"IF(D371=\"Yes\",\"Yes\",IF(ISNA(MATCH(B371,#REF!,0)),\"\",\"Yes!\"))","v":"Yes!"}," 32, 43, 65"]
[369,"De toetercup",{"$f":"MATCH(B372,'Wikipedia-Alle verhalen'!C:C,0)","v":293},{"$f":"IF(ISNA(C372),\"\",IF(INDEX('Wikipedia-Alle verhalen'!J:J,WWWcatalogus!C372)>0,\"Yes\",\"No\"))","v":"No"},{"$f":"IF(D372=\"Yes\",\"Yes\",IF(ISNA(MATCH(B372,#REF!,0)),\"\",\"Yes!\"))","v":"Yes!"}," 53, 59, 68, 119"]
[370,"De toffe tamboer",{"$f":"MATCH(B373,'Wikipedia-Alle verhalen'!C:C,0)","v":137},{"$f":"IF(ISNA(C373),\"\",IF(INDEX('Wikipedia-Alle verhalen'!J:J,WWWcatalogus!C373)>0,\"Yes\",\"No\"))","v":"Yes"},{"$f":"IF(D373=\"Yes\",\"Yes\",IF(ISNA(MATCH(B373,#REF!,0)),\"\",\"Yes!\"))","v":"Yes"}," 9, 17, 58, 64, 95, 98"]
[371,"Toffe Tiko",{"$f":"MATCH(B374,'Wikipedia-Alle verhalen'!C:C,0)","v":100},{"$f":"IF(ISNA(C374),\"\",IF(INDEX('Wikipedia-Alle verhalen'!J:J,WWWcatalogus!C374)>0,\"Yes\",\"No\"))","v":"Yes"},{"$f":"IF(D374=\"Yes\",\"Yes\",IF(ISNA(MATCH(B374,#REF!,0)),\"\",\"Yes!\"))","v":"Yes"}," 10, 32, 39, 46, 47, 48, 60, 64, 83, 84, 147"]
[372,"Tokapua Toraja",{"$f":"MATCH(B375,'Wikipedia-Alle verhalen'!C:C,0)","v":215},{"$f":"IF(ISNA(C375),\"\",IF(INDEX('Wikipedia-Alle verhalen'!J:J,WWWcatalogus!C375)>0,\"Yes\",\"No\"))","v":"Yes"},{"$f":"IF(D375=\"Yes\",\"Yes\",IF(ISNA(MATCH(B375,#REF!,0)),\"\",\"Yes!\"))","v":"Yes"}," 11, 18, 19, 66, 87, 97, 104, 156"]
[373,"De tollende toverkol",{"$f":"MATCH(B376,'Wikipedia-Alle verhalen'!C:C,0)","v":362},{"$f":"IF(ISNA(C376),\"\",IF(INDEX('Wikipedia-Alle verhalen'!J:J,WWWcatalogus!C376)>0,\"Yes\",\"No\"))","v":"No"},{"$f":"IF(D376=\"Yes\",\"Yes\",IF(ISNA(MATCH(B376,#REF!,0)),\"\",\"Yes!\"))","v":"Yes!"}," 138, 139"]
[374,"De toornige Tjiftjaf",{"$f":"MATCH(B377,'Wikipedia-Alle verhalen'!C:C,0)","v":83},{"$f":"IF(ISNA(C377),\"\",IF(INDEX('Wikipedia-Alle verhalen'!J:J,WWWcatalogus!C377)>0,\"Yes\",\"No\"))","v":"Yes"},{"$f":"IF(D377=\"Yes\",\"Yes\",IF(ISNA(MATCH(B377,#REF!,0)),\"\",\"Yes!\"))","v":"Yes"}," 8, 16, 36, 56, 62, 104, 133, 134"]
[375,"De Tootootjes",{"$f":"MATCH(B378,'Wikipedia-Alle verhalen'!C:C,0)","v":201},{"$f":"IF(ISNA(C378),\"\",IF(INDEX('Wikipedia-Alle verhalen'!J:J,WWWcatalogus!C378)>0,\"Yes\",\"No\"))","v":"Yes"},{"$f":"IF(D378=\"Yes\",\"Yes\",IF(ISNA(MATCH(B378,#REF!,0)),\"\",\"Yes!\"))","v":"Yes"}," 11, 17, 19, 38, 45, 46, 56, 66, 104"]
[376,"De tragische tante",{"$f":"MATCH(B379,'Wikipedia-Alle verhalen'!C:C,0)","v":340},{"$f":"IF(ISNA(C379),\"\",IF(INDEX('Wikipedia-Alle verhalen'!J:J,WWWcatalogus!C379)>0,\"Yes\",\"No\"))","v":"No"},{"$f":"IF(D379=\"Yes\",\"Yes\",IF(ISNA(MATCH(B379,#REF!,0)),\"\",\"Yes!\"))","v":"Yes!"}," 55, 59, 122"]
[377,"De treiterende trien",{"$f":"MATCH(B380,'Wikipedia-Alle verhalen'!C:C,0)","v":290},{"$f":"IF(ISNA(C380),\"\",IF(INDEX('Wikipedia-Alle verhalen'!J:J,WWWcatalogus!C380)>0,\"Yes\",\"No\"))","v":"No"},{"$f":"IF(D380=\"Yes\",\"Yes\",IF(ISNA(MATCH(B380,#REF!,0)),\"\",\"Yes!\"))","v":"Yes!"}," 47, 68, 80, 119"]
[378,"De Tuftuf-club",{"$f":"MATCH(B381,'Wikipedia-Alle verhalen'!C:C,0)","v":24},{"$f":"IF(ISNA(C381),\"\",IF(INDEX('Wikipedia-Alle verhalen'!J:J,WWWcatalogus!C381)>0,\"Yes\",\"No\"))","v":"Yes"},{"$f":"IF(D381=\"Yes\",\"Yes\",IF(ISNA(MATCH(B381,#REF!,0)),\"\",\"Yes!\"))","v":"Yes"}," 5, 8, 16, 25, 46, 50, 51, 55, 57, 62, 70, 72, 73, 81, 101, 106, 114, 115, 133, 134, 136"]
[379,"Turn je wurm",{"$f":"MATCH(B382,'Wikipedia-Alle verhalen'!C:C,0)","v":{"$error":"#N/A"}},{"$f":"IF(ISNA(C382),\"\",IF(INDEX('Wikipedia-Alle verhalen'!J:J,WWWcatalogus!C382)>0,\"Yes\",\"No\"))","v":""},{"$f":"IF(D382=\"Yes\",\"Yes\",IF(ISNA(MATCH(B382,#REF!,0)),\"\",\"Yes!\"))","v":"Yes!"},42]
[380,"Tussen droom en werkelijkheid",{"$f":"MATCH(B383,'Wikipedia-Alle verhalen'!C:C,0)","v":{"$error":"#N/A"}},{"$f":"IF(ISNA(C383),\"\",IF(INDEX('Wikipedia-Alle verhalen'!J:J,WWWcatalogus!C383)>0,\"Yes\",\"No\"))","v":""},{"$f":"IF(D383=\"Yes\",\"Yes\",IF(ISNA(MATCH(B383,#REF!,0)),\"\",\"Yes!\"))","v":"Yes!"},41]
[381,"Twee toffe totems",{"$f":"MATCH(B384,'Wikipedia-Alle verhalen'!C:C,0)","v":82},{"$f":"IF(ISNA(C384),\"\",IF(INDEX('Wikipedia-Alle verhalen'!J:J,WWWcatalogus!C384)>0,\"Yes\",\"No\"))","v":"Yes"},{"$f":"IF(D384=\"Yes\",\"Yes\",IF(ISNA(MATCH(B384,#REF!,0)),\"\",\"Yes!\"))","v":"Yes"}," 8, 15, 54, 58, 62, 82, 106"]
[382,"Twijfel",{"$f":"MATCH(B385,'Wikipedia-Alle verhalen'!C:C,0)","v":{"$error":"#N/A"}},{"$f":"IF(ISNA(C385),\"\",IF(INDEX('Wikipedia-Alle verhalen'!J:J,WWWcatalogus!C385)>0,\"Yes\",\"No\"))","v":""},{"$f":"IF(D385=\"Yes\",\"Yes\",IF(ISNA(MATCH(B385,#REF!,0)),\"\",\"Yes!\"))","v":"Yes!"},41]
[383,"De venijnige vanger",{"$f":"MATCH(B386,'Wikipedia-Alle verhalen'!C:C,0)","v":288},{"$f":"IF(ISNA(C386),\"\",IF(INDEX('Wikipedia-Alle verhalen'!J:J,WWWcatalogus!C386)>0,\"Yes\",\"No\"))","v":"No"},{"$f":"IF(D386=\"Yes\",\"Yes\",IF(ISNA(MATCH(B386,#REF!,0)),\"\",\"Yes!\"))","v":"Yes!"}," 47, 52, 68, 80, 119"]
[384,"De verboden tempel",{"$f":"MATCH(B387,'Wikipedia-Alle verhalen'!C:C,0)","v":336},{"$f":"IF(ISNA(C387),\"\",IF(INDEX('Wikipedia-Alle verhalen'!J:J,WWWcatalogus!C387)>0,\"Yes\",\"No\"))","v":"No"},{"$f":"IF(D387=\"Yes\",\"Yes\",IF(ISNA(MATCH(B387,#REF!,0)),\"\",\"Yes!\"))","v":"Yes!"},54]
[385,"Het verborgen volk",{"$f":"MATCH(B388,'Wikipedia-Alle verhalen'!C:C,0)","v":113},{"$f":"IF(ISNA(C388),\"\",IF(INDEX('Wikipedia-Alle verhalen'!J:J,WWWcatalogus!C388)>0,\"Yes\",\"No\"))","v":"Yes"},{"$f":"IF(D388=\"Yes\",\"Yes\",IF(ISNA(MATCH(B388,#REF!,0)),\"\",\"Yes!\"))","v":"Yes"}," 10, 32, 39, 46, 47, 49, 64, 83, 84, 147"]
[386,"Het verdronken land",{"$f":"MATCH(B389,'Wikipedia-Alle verhalen'!C:C,0)","v":237},{"$f":"IF(ISNA(C389),\"\",IF(INDEX('Wikipedia-Alle verhalen'!J:J,WWWcatalogus!C389)>0,\"Yes\",\"No\"))","v":"Yes"},{"$f":"IF(D389=\"Yes\",\"Yes\",IF(ISNA(MATCH(B389,#REF!,0)),\"\",\"Yes!\"))","v":"Yes"}," 11, 19, 67, 161"]
[387,"De verdwenen verteller",{"$f":"MATCH(B390,'Wikipedia-Alle verhalen'!C:C,0)","v":253},{"$f":"IF(ISNA(C390),\"\",IF(INDEX('Wikipedia-Alle verhalen'!J:J,WWWcatalogus!C390)>0,\"Yes\",\"No\"))","v":"Yes"},{"$f":"IF(D390=\"Yes\",\"Yes\",IF(ISNA(MATCH(B390,#REF!,0)),\"\",\"Yes!\"))","v":"Yes"}," 12, 20, 48, 67, 116, 164"]
[388,"Vergeet niet te lezen",{"$f":"MATCH(B391,'Wikipedia-Alle verhalen'!C:C,0)","v":{"$error":"#N/A"}},{"$f":"IF(ISNA(C391),\"\",IF(INDEX('Wikipedia-Alle verhalen'!J:J,WWWcatalogus!C391)>0,\"Yes\",\"No\"))","v":""},{"$f":"IF(D391=\"Yes\",\"Yes\",IF(ISNA(MATCH(B391,#REF!,0)),\"\",\"Yes!\"))","v":"Yes!"},41]
[389,"De vergeten vallei",{"$f":"MATCH(B392,'Wikipedia-Alle verhalen'!C:C,0)","v":97},{"$f":"IF(ISNA(C392),\"\",IF(INDEX('Wikipedia-Alle verhalen'!J:J,WWWcatalogus!C392)>0,\"Yes\",\"No\"))","v":"Yes"},{"$f":"IF(D392=\"Yes\",\"Yes\",IF(ISNA(MATCH(B392,#REF!,0)),\"\",\"Yes!\"))","v":"Yes"}," 10, 32, 39, 40, 43, 46, 47, 48, 64, 83, 84, 108"]
[390,"De vergeten vluchtelingen",{"$f":"MATCH(B393,'Wikipedia-Alle verhalen'!C:C,0)","v":279},{"$f":"IF(ISNA(C393),\"\",IF(INDEX('Wikipedia-Alle verhalen'!J:J,WWWcatalogus!C393)>0,\"Yes\",\"No\"))","v":"No"},{"$f":"IF(D393=\"Yes\",\"Yes\",IF(ISNA(MATCH(B393,#REF!,0)),\"\",\"Yes!\"))","v":"Yes!"}," 50, 68, 80, 118"]
[391,"De verloren stroken",{"$f":"MATCH(B394,'Wikipedia-Alle verhalen'!C:C,0)","v":{"$error":"#N/A"}},{"$f":"IF(ISNA(C394),\"\",IF(INDEX('Wikipedia-Alle verhalen'!J:J,WWWcatalogus!C394)>0,\"Yes\",\"No\"))","v":""},{"$f":"IF(D394=\"Yes\",\"Yes\",IF(ISNA(MATCH(B394,#REF!,0)),\"\",\"Yes!\"))","v":"Yes!"},121]
[392,"De verloren Van Eyck",{"$f":"MATCH(B395,'Wikipedia-Alle verhalen'!C:C,0)","v":384},{"$f":"IF(ISNA(C395),\"\",IF(INDEX('Wikipedia-Alle verhalen'!J:J,WWWcatalogus!C395)>0,\"Yes\",\"No\"))","v":"Yes"},{"$f":"IF(D395=\"Yes\",\"Yes\",IF(ISNA(MATCH(B395,#REF!,0)),\"\",\"Yes!\"))","v":"Yes"}," 14, 23, 24"]
[393,"Het verloren verleden",{"$f":"MATCH(B396,'Wikipedia-Alle verhalen'!C:C,0)","v":355},{"$f":"IF(ISNA(C396),\"\",IF(INDEX('Wikipedia-Alle verhalen'!J:J,WWWcatalogus!C396)>0,\"Yes\",\"No\"))","v":"Yes"},{"$f":"IF(D396=\"Yes\",\"Yes\",IF(ISNA(MATCH(B396,#REF!,0)),\"\",\"Yes!\"))","v":"Yes"}," 13, 23, 24, 69, 122"]
[394,"Het verloren zwaard",{"$f":"MATCH(B397,'Wikipedia-Alle verhalen'!C:C,0)","v":134},{"$f":"IF(ISNA(C397),\"\",IF(INDEX('Wikipedia-Alle verhalen'!J:J,WWWcatalogus!C397)>0,\"Yes\",\"No\"))","v":"No"},{"$f":"IF(D397=\"Yes\",\"Yes\",IF(ISNA(MATCH(B397,#REF!,0)),\"\",\"Yes!\"))","v":"Yes!"}," 32, 41, 44, 46, 47, 67, 83"]
[395,"Verraad op de Veluwe",{"$f":"MATCH(B398,'Wikipedia-Alle verhalen'!C:C,0)","v":263},{"$f":"IF(ISNA(C398),\"\",IF(INDEX('Wikipedia-Alle verhalen'!J:J,WWWcatalogus!C398)>0,\"Yes\",\"No\"))","v":"Yes"},{"$f":"IF(D398=\"Yes\",\"Yes\",IF(ISNA(MATCH(B398,#REF!,0)),\"\",\"Yes!\"))","v":"Yes"}," 12, 18, 20, 49, 51, 52, 54, 67, 116, 132"]
[396,"De verraderlijke Vinson",{"$f":"MATCH(B399,'Wikipedia-Alle verhalen'!C:C,0)","v":225},{"$f":"IF(ISNA(C399),\"\",IF(INDEX('Wikipedia-Alle verhalen'!J:J,WWWcatalogus!C399)>0,\"Yes\",\"No\"))","v":"Yes"},{"$f":"IF(D399=\"Yes\",\"Yes\",IF(ISNA(MATCH(B399,#REF!,0)),\"\",\"Yes!\"))","v":"Yes"}," 11, 19, 58, 66, 88, 104, 114, 158"]
[397,"De verstrooide",{"$f":"MATCH(B400,'Wikipedia-Alle verhalen'!C:C,0)","v":{"$error":"#N/A"}},{"$f":"IF(ISNA(C400),\"\",IF(INDEX('Wikipedia-Alle verhalen'!J:J,WWWcatalogus!C400)>0,\"Yes\",\"No\"))","v":""},{"$f":"IF(D400=\"Yes\",\"Yes\",IF(ISNA(MATCH(B400,#REF!,0)),\"\",\"Yes!\"))","v":"Yes!"},41]
[398,"Het vervloekte venster",{"$f":"MATCH(B401,'Wikipedia-Alle verhalen'!C:C,0)","v":339},{"$f":"IF(ISNA(C401),\"\",IF(INDEX('Wikipedia-Alle verhalen'!J:J,WWWcatalogus!C401)>0,\"Yes\",\"No\"))","v":"No"},{"$f":"IF(D401=\"Yes\",\"Yes\",IF(ISNA(MATCH(B401,#REF!,0)),\"\",\"Yes!\"))","v":"Yes!"}," 55, 69, 121"]
[399,"De verwoede verzamelaar",{"$f":"MATCH(B402,'Wikipedia-Alle verhalen'!C:C,0)","v":350},{"$f":"IF(ISNA(C402),\"\",IF(INDEX('Wikipedia-Alle verhalen'!J:J,WWWcatalogus!C402)>0,\"Yes\",\"No\"))","v":"No"},{"$f":"IF(D402=\"Yes\",\"Yes\",IF(ISNA(MATCH(B402,#REF!,0)),\"\",\"Yes!\"))","v":"Yes!"},138]
[400,"De vieze kies",{"$f":"MATCH(B403,'Wikipedia-Alle verhalen'!C:C,0)","v":{"$error":"#N/A"}},{"$f":"IF(ISNA(C403),\"\",IF(INDEX('Wikipedia-Alle verhalen'!J:J,WWWcatalogus!C403)>0,\"Yes\",\"No\"))","v":""},{"$f":"IF(D403=\"Yes\",\"Yes\",IF(ISNA(MATCH(B403,#REF!,0)),\"\",\"Yes!\"))","v":"Yes!"},42]
[401,"50 jaar avontuur",{"$f":"MATCH(B404,'Wikipedia-Alle verhalen'!C:C,0)","v":{"$error":"#N/A"}},{"$f":"IF(ISNA(C404),\"\",IF(INDEX('Wikipedia-Alle verhalen'!J:J,WWWcatalogus!C404)>0,\"Yes\",\"No\"))","v":""},{"$f":"IF(D404=\"Yes\",\"Yes\",IF(ISNA(MATCH(B404,#REF!,0)),\"\",\"Yes!\"))","v":"Yes!"}," 66, 87"]
[402,"De vinnige Viking",{"$f":"MATCH(B405,'Wikipedia-Alle verhalen'!C:C,0)","v":102},{"$f":"IF(ISNA(C405),\"\",IF(INDEX('Wikipedia-Alle verhalen'!J:J,WWWcatalogus!C405)>0,\"Yes\",\"No\"))","v":"Yes"},{"$f":"IF(D405=\"Yes\",\"Yes\",IF(ISNA(MATCH(B405,#REF!,0)),\"\",\"Yes!\"))","v":"Yes"}," 9, 16, 58, 63, 94, 133, 134"]
[403,"De vliegende aap",{"$f":"MATCH(B406,'Wikipedia-Alle verhalen'!C:C,0)","v":7},{"$f":"IF(ISNA(C406),\"\",IF(INDEX('Wikipedia-Alle verhalen'!J:J,WWWcatalogus!C406)>0,\"Yes\",\"No\"))","v":"Yes"},{"$f":"IF(D406=\"Yes\",\"Yes\",IF(ISNA(MATCH(B406,#REF!,0)),\"\",\"Yes!\"))","v":"Yes"}," 5, 6, 7, 15, 56, 61, 70, 72, 73, 76, 77, 78, 82, 101, 103, 106, 126, 136"]
[404,"Het vliegende bed",{"$f":"MATCH(B407,'Wikipedia-Alle verhalen'!C:C,0)","v":51},{"$f":"IF(ISNA(C407),\"\",IF(INDEX('Wikipedia-Alle verhalen'!J:J,WWWcatalogus!C407)>0,\"Yes\",\"No\"))","v":"Yes"},{"$f":"IF(D407=\"Yes\",\"Yes\",IF(ISNA(MATCH(B407,#REF!,0)),\"\",\"Yes!\"))","v":"Yes"}," 6, 8, 16, 25, 34, 62, 71, 73, 94, 103, 106, 133, 134, 135, 137"]
[405,"Het vliegende hart",{"$f":"MATCH(B408,'Wikipedia-Alle verhalen'!C:C,0)","v":30},{"$f":"IF(ISNA(C408),\"\",IF(INDEX('Wikipedia-Alle verhalen'!J:J,WWWcatalogus!C408)>0,\"Yes\",\"No\"))","v":"Yes"},{"$f":"IF(D408=\"Yes\",\"Yes\",IF(ISNA(MATCH(B408,#REF!,0)),\"\",\"Yes!\"))","v":"Yes"}," 9, 17, 32, 39, 64, 73, 81, 84"]
[406,"De vliegende klomp",{"$f":"MATCH(B409,'Wikipedia-Alle verhalen'!C:C,0)","v":108},{"$f":"IF(ISNA(C409),\"\",IF(INDEX('Wikipedia-Alle verhalen'!J:J,WWWcatalogus!C409)>0,\"Yes\",\"No\"))","v":"No"},{"$f":"IF(D409=\"Yes\",\"Yes\",IF(ISNA(MATCH(B409,#REF!,0)),\"\",\"Yes!\"))","v":"Yes!"}," 39, 40, 89, 96, 99, 114, 120"]
[407,"De vliegende rivier",{"$f":"MATCH(B410,'Wikipedia-Alle verhalen'!C:C,0)","v":331},{"$f":"IF(ISNA(C410),\"\",IF(INDEX('Wikipedia-Alle verhalen'!J:J,WWWcatalogus!C410)>0,\"Yes\",\"No\"))","v":"Yes"},{"$f":"IF(D410=\"Yes\",\"Yes\",IF(ISNA(MATCH(B410,#REF!,0)),\"\",\"Yes!\"))","v":"Yes"}," 13, 23, 24, 57, 69"]
[408,"De vlijtige vlinder",{"$f":"MATCH(B411,'Wikipedia-Alle verhalen'!C:C,0)","v":103},{"$f":"IF(ISNA(C411),\"\",IF(INDEX('Wikipedia-Alle verhalen'!J:J,WWWcatalogus!C411)>0,\"Yes\",\"No\"))","v":"Yes"},{"$f":"IF(D411=\"Yes\",\"Yes\",IF(ISNA(MATCH(B411,#REF!,0)),\"\",\"Yes!\"))","v":"Yes"}," 9, 16, 36, 44, 58, 63, 98, 104"]
[409,"Voederen vogeltjes",{"$f":"MATCH(B412,'Wikipedia-Alle verhalen'!C:C,0)","v":{"$error":"#N/A"}},{"$f":"IF(ISNA(C412),\"\",IF(INDEX('Wikipedia-Alle verhalen'!J:J,WWWcatalogus!C412)>0,\"Yes\",\"No\"))","v":""},{"$f":"IF(D412=\"Yes\",\"Yes\",IF(ISNA(MATCH(B412,#REF!,0)),\"\",\"Yes!\"))","v":"Yes!"}," 40, 41"]
[410,"De vogels der goden",{"$f":"MATCH(B413,'Wikipedia-Alle verhalen'!C:C,0)","v":231},{"$f":"IF(ISNA(C413),\"\",IF(INDEX('Wikipedia-Alle verhalen'!J:J,WWWcatalogus!C413)>0,\"Yes\",\"No\"))","v":"Yes"},{"$f":"IF(D413=\"Yes\",\"Yes\",IF(ISNA(MATCH(B413,#REF!,0)),\"\",\"Yes!\"))","v":"Yes"}," 11, 18, 19, 58, 67, 104, 124, 159"]
[411,"Volle maan",{"$f":"MATCH(B414,'Wikipedia-Alle verhalen'!C:C,0)","v":227},{"$f":"IF(ISNA(C414),\"\",IF(INDEX('Wikipedia-Alle verhalen'!J:J,WWWcatalogus!C414)>0,\"Yes\",\"No\"))","v":"Yes"},{"$f":"IF(D414=\"Yes\",\"Yes\",IF(ISNA(MATCH(B414,#REF!,0)),\"\",\"Yes!\"))","v":"Yes"}," 11, 18, 19, 49, 52, 56, 66, 88, 99, 104, 143, 158"]
[412,"De vonkende vuurman",{"$f":"MATCH(B415,'Wikipedia-Alle verhalen'!C:C,0)","v":218},{"$f":"IF(ISNA(C415),\"\",IF(INDEX('Wikipedia-Alle verhalen'!J:J,WWWcatalogus!C415)>0,\"Yes\",\"No\"))","v":"Yes"},{"$f":"IF(D415=\"Yes\",\"Yes\",IF(ISNA(MATCH(B415,#REF!,0)),\"\",\"Yes!\"))","v":"Yes"}," 11, 19, 66, 88, 157"]
[413,"Vredeskruid",{"$f":"MATCH(B416,'Wikipedia-Alle verhalen'!C:C,0)","v":351},{"$f":"IF(ISNA(C416),\"\",IF(INDEX('Wikipedia-Alle verhalen'!J:J,WWWcatalogus!C416)>0,\"Yes\",\"No\"))","v":"No"},{"$f":"IF(D416=\"Yes\",\"Yes\",IF(ISNA(MATCH(B416,#REF!,0)),\"\",\"Yes!\"))","v":"Yes!"},138]
[414,"De vrolijke bengels",{"$f":"MATCH(B417,'Wikipedia-Alle verhalen'!C:C,0)","v":{"$error":"#N/A"}},{"$f":"IF(ISNA(C417),\"\",IF(INDEX('Wikipedia-Alle verhalen'!J:J,WWWcatalogus!C417)>0,\"Yes\",\"No\"))","v":""},{"$f":"IF(D417=\"Yes\",\"Yes\",IF(ISNA(MATCH(B417,#REF!,0)),\"\",\"Yes!\"))","v":"Yes!"}," 75, 98, 149"]
[415,"Het vurige Vitamitje",{"$f":"MATCH(B418,'Wikipedia-Alle verhalen'!C:C,0)","v":323},{"$f":"IF(ISNA(C418),\"\",IF(INDEX('Wikipedia-Alle verhalen'!J:J,WWWcatalogus!C418)>0,\"Yes\",\"No\"))","v":"No"},{"$f":"IF(D418=\"Yes\",\"Yes\",IF(ISNA(MATCH(B418,#REF!,0)),\"\",\"Yes!\"))","v":"Yes!"}," 57, 69, 80, 121"]
[416,"De waerwouf van leëtselder",{"$f":"MATCH(B419,'Wikipedia-Alle verhalen'!C:C,0)","v":{"$error":"#N/A"}},{"$f":"IF(ISNA(C419),\"\",IF(INDEX('Wikipedia-Alle verhalen'!J:J,WWWcatalogus!C419)>0,\"Yes\",\"No\"))","v":""},{"$f":"IF(D419=\"Yes\",\"Yes\",IF(ISNA(MATCH(B419,#REF!,0)),\"\",\"Yes!\"))","v":"Yes!"},"Zie: Volle maan"]
[417,"Walli de walvis",{"$f":"MATCH(B420,'Wikipedia-Alle verhalen'!C:C,0)","v":122},{"$f":"IF(ISNA(C420),\"\",IF(INDEX('Wikipedia-Alle verhalen'!J:J,WWWcatalogus!C420)>0,\"Yes\",\"No\"))","v":"Yes"},{"$f":"IF(D420=\"Yes\",\"Yes\",IF(ISNA(MATCH(B420,#REF!,0)),\"\",\"Yes!\"))","v":"Yes"}," 9, 44, 58, 64, 133, 134"]
[418,"De watersater",{"$f":"MATCH(B421,'Wikipedia-Alle verhalen'!C:C,0)","v":311},{"$f":"IF(ISNA(C421),\"\",IF(INDEX('Wikipedia-Alle verhalen'!J:J,WWWcatalogus!C421)>0,\"Yes\",\"No\"))","v":"Yes"},{"$f":"IF(D421=\"Yes\",\"Yes\",IF(ISNA(MATCH(B421,#REF!,0)),\"\",\"Yes!\"))","v":"Yes"}," 13, 20, 54, 68"]
[419,"Wattman",{"$f":"MATCH(B422,'Wikipedia-Alle verhalen'!C:C,0)","v":73},{"$f":"IF(ISNA(C422),\"\",IF(INDEX('Wikipedia-Alle verhalen'!J:J,WWWcatalogus!C422)>0,\"Yes\",\"No\"))","v":"Yes"},{"$f":"IF(D422=\"Yes\",\"Yes\",IF(ISNA(MATCH(B422,#REF!,0)),\"\",\"Yes!\"))","v":"Yes"}," 7, 15, 53, 55, 58, 61, 72, 85, 91, 94, 106, 133"]
[420,"De weerwaterman",{"$f":"MATCH(B423,'Wikipedia-Alle verhalen'!C:C,0)","v":283},{"$f":"IF(ISNA(C423),\"\",IF(INDEX('Wikipedia-Alle verhalen'!J:J,WWWcatalogus!C423)>0,\"Yes\",\"No\"))","v":"No"},{"$f":"IF(D423=\"Yes\",\"Yes\",IF(ISNA(MATCH(B423,#REF!,0)),\"\",\"Yes!\"))","v":"Yes!"}," 68, 93, 118"]
[421,"De werken van Lambik",{"$f":"MATCH(B424,'Wikipedia-Alle verhalen'!C:C,0)","v":300},{"$f":"IF(ISNA(C424),\"\",IF(INDEX('Wikipedia-Alle verhalen'!J:J,WWWcatalogus!C424)>0,\"Yes\",\"No\"))","v":"No"},{"$f":"IF(D424=\"Yes\",\"Yes\",IF(ISNA(MATCH(B424,#REF!,0)),\"\",\"Yes!\"))","v":"Yes!"}," 53, 55, 59, 68, 119"]
[422,"De wervelende waterzak",{"$f":"MATCH(B425,'Wikipedia-Alle verhalen'!C:C,0)","v":182},{"$f":"IF(ISNA(C425),\"\",IF(INDEX('Wikipedia-Alle verhalen'!J:J,WWWcatalogus!C425)>0,\"Yes\",\"No\"))","v":"Yes"},{"$f":"IF(D425=\"Yes\",\"Yes\",IF(ISNA(MATCH(B425,#REF!,0)),\"\",\"Yes!\"))","v":"Yes"}," 10, 17, 50, 65, 85, 111, 132"]
[423,"De wilde weldoener",{"$f":"MATCH(B426,'Wikipedia-Alle verhalen'!C:C,0)","v":58},{"$f":"IF(ISNA(C426),\"\",IF(INDEX('Wikipedia-Alle verhalen'!J:J,WWWcatalogus!C426)>0,\"Yes\",\"No\"))","v":"Yes"},{"$f":"IF(D426=\"Yes\",\"Yes\",IF(ISNA(MATCH(B426,#REF!,0)),\"\",\"Yes!\"))","v":"Yes"}," 6, 8, 15, 25, 53, 58, 62, 71, 74, 77, 78, 106, 117, 129, 137"]
[424,"De windbrekers",{"$f":"MATCH(B427,'Wikipedia-Alle verhalen'!C:C,0)","v":116},{"$f":"IF(ISNA(C427),\"\",IF(INDEX('Wikipedia-Alle verhalen'!J:J,WWWcatalogus!C427)>0,\"Yes\",\"No\"))","v":"Yes"},{"$f":"IF(D427=\"Yes\",\"Yes\",IF(ISNA(MATCH(B427,#REF!,0)),\"\",\"Yes!\"))","v":"Yes"}," 9, 17, 64, 97"]
[425,"De windmakers",{"$f":"MATCH(B428,'Wikipedia-Alle verhalen'!C:C,0)","v":53},{"$f":"IF(ISNA(C428),\"\",IF(INDEX('Wikipedia-Alle verhalen'!J:J,WWWcatalogus!C428)>0,\"Yes\",\"No\"))","v":"Yes"},{"$f":"IF(D428=\"Yes\",\"Yes\",IF(ISNA(MATCH(B428,#REF!,0)),\"\",\"Yes!\"))","v":"Yes"}," 6, 8, 16, 25, 58, 62, 71, 73, 77, 78, 130, 137"]
[426,"Wiske",{"$f":"MATCH(B429,'Wikipedia-Alle verhalen'!C:C,0)","v":{"$error":"#N/A"}},{"$f":"IF(ISNA(C429),\"\",IF(INDEX('Wikipedia-Alle verhalen'!J:J,WWWcatalogus!C429)>0,\"Yes\",\"No\"))","v":""},{"$f":"IF(D429=\"Yes\",\"Yes\",IF(ISNA(MATCH(B429,#REF!,0)),\"\",\"Yes!\"))","v":"Yes!"}," 27, 28, 29"]
[427,"Wiske Jong Kajotster",{"$f":"MATCH(B430,'Wikipedia-Alle verhalen'!C:C,0)","v":{"$error":"#N/A"}},{"$f":"IF(ISNA(C430),\"\",IF(INDEX('Wikipedia-Alle verhalen'!J:J,WWWcatalogus!C430)>0,\"Yes\",\"No\"))","v":""},{"$f":"IF(D430=\"Yes\",\"Yes\",IF(ISNA(MATCH(B430,#REF!,0)),\"\",\"Yes!\"))","v":"Yes!"},75]
[428,"De witte gems",{"$f":"MATCH(B431,'Wikipedia-Alle verhalen'!C:C,0)","v":129},{"$f":"IF(ISNA(C431),\"\",IF(INDEX('Wikipedia-Alle verhalen'!J:J,WWWcatalogus!C431)>0,\"Yes\",\"No\"))","v":"No"},{"$f":"IF(D431=\"Yes\",\"Yes\",IF(ISNA(MATCH(B431,#REF!,0)),\"\",\"Yes!\"))","v":"Yes!"}," 32, 41, 44, 45, 46, 47, 67, 83, 86, 87, 88"]
[429,"De witte uil",{"$f":"MATCH(B432,'Wikipedia-Alle verhalen'!C:C,0)","v":12},{"$f":"IF(ISNA(C432),\"\",IF(INDEX('Wikipedia-Alle verhalen'!J:J,WWWcatalogus!C432)>0,\"Yes\",\"No\"))","v":"Yes"},{"$f":"IF(D432=\"Yes\",\"Yes\",IF(ISNA(MATCH(B432,#REF!,0)),\"\",\"Yes!\"))","v":"Yes"}," 5, 8, 16, 36, 57, 62, 70, 72, 73, 76, 82, 94, 106, 133, 134, 135, 136"]
[430,"Het witte wief",{"$f":"MATCH(B433,'Wikipedia-Alle verhalen'!C:C,0)","v":192},{"$f":"IF(ISNA(C433),\"\",IF(INDEX('Wikipedia-Alle verhalen'!J:J,WWWcatalogus!C433)>0,\"Yes\",\"No\"))","v":"Yes"},{"$f":"IF(D433=\"Yes\",\"Yes\",IF(ISNA(MATCH(B433,#REF!,0)),\"\",\"Yes!\"))","v":"Yes"}," 10, 17, 52, 65, 104, 144"]
[431,"De witte wraak",{"$f":"MATCH(B434,'Wikipedia-Alle verhalen'!C:C,0)","v":330},{"$f":"IF(ISNA(C434),\"\",IF(INDEX('Wikipedia-Alle verhalen'!J:J,WWWcatalogus!C434)>0,\"Yes\",\"No\"))","v":"No"},{"$f":"IF(D434=\"Yes\",\"Yes\",IF(ISNA(MATCH(B434,#REF!,0)),\"\",\"Yes!\"))","v":"Yes!"}," 97, 99, 100"]
[432,"Witte zwanen zwarte zwanen",{"$f":"MATCH(B435,'Wikipedia-Alle verhalen'!C:C,0)","v":175},{"$f":"IF(ISNA(C435),\"\",IF(INDEX('Wikipedia-Alle verhalen'!J:J,WWWcatalogus!C435)>0,\"Yes\",\"No\"))","v":"No"},{"$f":"IF(D435=\"Yes\",\"Yes\",IF(ISNA(MATCH(B435,#REF!,0)),\"\",\"Yes!\"))","v":"Yes!"}," 33, 42, 65, 95, 110, 119"]
[433,"It woelige Waad",{"$f":"MATCH(B436,'Wikipedia-Alle verhalen'!C:C,0)","v":{"$error":"#N/A"}},{"$f":"IF(ISNA(C436),\"\",IF(INDEX('Wikipedia-Alle verhalen'!J:J,WWWcatalogus!C436)>0,\"Yes\",\"No\"))","v":""},{"$f":"IF(D436=\"Yes\",\"Yes\",IF(ISNA(MATCH(B436,#REF!,0)),\"\",\"Yes!\"))","v":"Yes!"}," Zie: De woelige Wadden"]
[434,"De woelige Wadden",{"$f":"MATCH(B437,'Wikipedia-Alle verhalen'!C:C,0)","v":141},{"$f":"IF(ISNA(C437),\"\",IF(INDEX('Wikipedia-Alle verhalen'!J:J,WWWcatalogus!C437)>0,\"Yes\",\"No\"))","v":"Yes"},{"$f":"IF(D437=\"Yes\",\"Yes\",IF(ISNA(MATCH(B437,#REF!,0)),\"\",\"Yes!\"))","v":"Yes"}," 9, 34, 44, 50, 51, 52, 64, 97, 106, 142"]
[435,"De woeste wespen",{"$f":"MATCH(B438,'Wikipedia-Alle verhalen'!C:C,0)","v":174},{"$f":"IF(ISNA(C438),\"\",IF(INDEX('Wikipedia-Alle verhalen'!J:J,WWWcatalogus!C438)>0,\"Yes\",\"No\"))","v":"Yes"},{"$f":"IF(D438=\"Yes\",\"Yes\",IF(ISNA(MATCH(B438,#REF!,0)),\"\",\"Yes!\"))","v":"Yes"}," 10, 17, 52, 58, 65, 110"]
[436,"De wolkeneters",{"$f":"MATCH(B439,'Wikipedia-Alle verhalen'!C:C,0)","v":56},{"$f":"IF(ISNA(C439),\"\",IF(INDEX('Wikipedia-Alle verhalen'!J:J,WWWcatalogus!C439)>0,\"Yes\",\"No\"))","v":"Yes"},{"$f":"IF(D439=\"Yes\",\"Yes\",IF(ISNA(MATCH(B439,#REF!,0)),\"\",\"Yes!\"))","v":"Yes"}," 6, 8, 15, 25, 56, 62, 71, 73, 77, 78, 106, 131, 133, 134, 135, 137"]
[437,"Het wondere Wolfje",{"$f":"MATCH(B440,'Wikipedia-Alle verhalen'!C:C,0)","v":196},{"$f":"IF(ISNA(C440),\"\",IF(INDEX('Wikipedia-Alle verhalen'!J:J,WWWcatalogus!C440)>0,\"Yes\",\"No\"))","v":"Yes"},{"$f":"IF(D440=\"Yes\",\"Yes\",IF(ISNA(MATCH(B440,#REF!,0)),\"\",\"Yes!\"))","v":"Yes"}," 11, 17, 19, 65, 85, 104, 134"]
[438,"De wrede wensput",{"$f":"MATCH(B441,'Wikipedia-Alle verhalen'!C:C,0)","v":380},{"$f":"IF(ISNA(C441),\"\",IF(INDEX('Wikipedia-Alle verhalen'!J:J,WWWcatalogus!C441)>0,\"Yes\",\"No\"))","v":"Yes"},{"$f":"IF(D441=\"Yes\",\"Yes\",IF(ISNA(MATCH(B441,#REF!,0)),\"\",\"Yes!\"))","v":"Yes"}," 14, 23, 24"]
[439,"De zaak Krimson",{"$f":"MATCH(B442,'Wikipedia-Alle verhalen'!C:C,0)","v":{"$error":"#N/A"}},{"$f":"IF(ISNA(C442),\"\",IF(INDEX('Wikipedia-Alle verhalen'!J:J,WWWcatalogus!C442)>0,\"Yes\",\"No\"))","v":""},{"$f":"IF(D442=\"Yes\",\"Yes\",IF(ISNA(MATCH(B442,#REF!,0)),\"\",\"Yes!\"))","v":"Yes!"}," 30, 31",null,"Kronieken van Amoras"]
[440,"De zappende ziel",{"$f":"MATCH(B443,'Wikipedia-Alle verhalen'!C:C,0)","v":316},{"$f":"IF(ISNA(C443),\"\",IF(INDEX('Wikipedia-Alle verhalen'!J:J,WWWcatalogus!C443)>0,\"Yes\",\"No\"))","v":"Yes"},{"$f":"IF(D443=\"Yes\",\"Yes\",IF(ISNA(MATCH(B443,#REF!,0)),\"\",\"Yes!\"))","v":"Yes"}," 13, 20, 58, 69"]
[441,"De 7 schaken",{"$f":"MATCH(B444,'Wikipedia-Alle verhalen'!C:C,0)","v":219},{"$f":"IF(ISNA(C444),\"\",IF(INDEX('Wikipedia-Alle verhalen'!J:J,WWWcatalogus!C444)>0,\"Yes\",\"No\"))","v":"Yes"},{"$f":"IF(D444=\"Yes\",\"Yes\",IF(ISNA(MATCH(B444,#REF!,0)),\"\",\"Yes!\"))","v":"Yes"}," 11, 18, 19, 56, 66, 90, 127, 131, 157"]
[442,"De zeven snaren",{"$f":"MATCH(B445,'Wikipedia-Alle verhalen'!C:C,0)","v":75},{"$f":"IF(ISNA(C445),\"\",IF(INDEX('Wikipedia-Alle verhalen'!J:J,WWWcatalogus!C445)>0,\"Yes\",\"No\"))","v":"Yes"},{"$f":"IF(D445=\"Yes\",\"Yes\",IF(ISNA(MATCH(B445,#REF!,0)),\"\",\"Yes!\"))","v":"Yes"}," 7, 15, 34, 58, 61, 83, 91, 103"]
[443,"De zilveren appels",{"$f":"MATCH(B446,'Wikipedia-Alle verhalen'!C:C,0)","v":142},{"$f":"IF(ISNA(C446),\"\",IF(INDEX('Wikipedia-Alle verhalen'!J:J,WWWcatalogus!C446)>0,\"Yes\",\"No\"))","v":"No"},{"$f":"IF(D446=\"Yes\",\"Yes\",IF(ISNA(MATCH(B446,#REF!,0)),\"\",\"Yes!\"))","v":"Yes!"}," 40, 43, 67, 83"]
[444,"De zingende kaars",{"$f":"MATCH(B447,'Wikipedia-Alle verhalen'!C:C,0)","v":110},{"$f":"IF(ISNA(C447),\"\",IF(INDEX('Wikipedia-Alle verhalen'!J:J,WWWcatalogus!C447)>0,\"Yes\",\"No\"))","v":"Yes"},{"$f":"IF(D447=\"Yes\",\"Yes\",IF(ISNA(MATCH(B447,#REF!,0)),\"\",\"Yes!\"))","v":"Yes"}," 9, 16, 64, 106, 130"]
[445,"Het zingende nijlpaard",{"$f":"MATCH(B448,'Wikipedia-Alle verhalen'!C:C,0)","v":21},{"$f":"IF(ISNA(C448),\"\",IF(INDEX('Wikipedia-Alle verhalen'!J:J,WWWcatalogus!C448)>0,\"Yes\",\"No\"))","v":"Yes"},{"$f":"IF(D448=\"Yes\",\"Yes\",IF(ISNA(MATCH(B448,#REF!,0)),\"\",\"Yes!\"))","v":"Yes"}," 5, 8, 16, 25, 34, 54, 62, 70, 73, 89, 106, 126, 136"]
[446,"De zingende zwammen",{"$f":"MATCH(B449,'Wikipedia-Alle verhalen'!C:C,0)","v":55},{"$f":"IF(ISNA(C449),\"\",IF(INDEX('Wikipedia-Alle verhalen'!J:J,WWWcatalogus!C449)>0,\"Yes\",\"No\"))","v":"Yes"},{"$f":"IF(D449=\"Yes\",\"Yes\",IF(ISNA(MATCH(B449,#REF!,0)),\"\",\"Yes!\"))","v":"Yes"}," 6, 8, 15, 25, 35, 49, 62, 71, 72, 73, 95, 106, 137"]
[447,"Het zoemende ei",{"$f":"MATCH(B450,'Wikipedia-Alle verhalen'!C:C,0)","v":66},{"$f":"IF(ISNA(C450),\"\",IF(INDEX('Wikipedia-Alle verhalen'!J:J,WWWcatalogus!C450)>0,\"Yes\",\"No\"))","v":"Yes"},{"$f":"IF(D450=\"Yes\",\"Yes\",IF(ISNA(MATCH(B450,#REF!,0)),\"\",\"Yes!\"))","v":"Yes"}," 6, 7, 15, 53, 61, 71, 74, 85, 91, 94, 107, 133, 137"]
[448,"Zonderlinge vogelverschrikkers",{"$f":"MATCH(B451,'Wikipedia-Alle verhalen'!C:C,0)","v":{"$error":"#N/A"}},{"$f":"IF(ISNA(C451),\"\",IF(INDEX('Wikipedia-Alle verhalen'!J:J,WWWcatalogus!C451)>0,\"Yes\",\"No\"))","v":""},{"$f":"IF(D451=\"Yes\",\"Yes\",IF(ISNA(MATCH(B451,#REF!,0)),\"\",\"Yes!\"))","v":"Yes!"}," 40, 41"]
[449,"De zonnige zageman",{"$f":"MATCH(B452,'Wikipedia-Alle verhalen'!C:C,0)","v":{"$error":"#N/A"}},{"$f":"IF(ISNA(C452),\"\",IF(INDEX('Wikipedia-Alle verhalen'!J:J,WWWcatalogus!C452)>0,\"Yes\",\"No\"))","v":""},{"$f":"IF(D452=\"Yes\",\"Yes\",IF(ISNA(MATCH(B452,#REF!,0)),\"\",\"Yes!\"))","v":"Yes!"}," Zie: De geverniste zeerovers"]
[450,"De zorgzoekers",{"$f":"MATCH(B453,'Wikipedia-Alle verhalen'!C:C,0)","v":367},{"$f":"IF(ISNA(C453),\"\",IF(INDEX('Wikipedia-Alle verhalen'!J:J,WWWcatalogus!C453)>0,\"Yes\",\"No\"))","v":"No"},{"$f":"IF(D453=\"Yes\",\"Yes\",IF(ISNA(MATCH(B453,#REF!,0)),\"\",\"Yes!\"))","v":"Yes!"}," 59, 80, 122, 123"]
[451,"'t zulveren heurnke",{"$f":"MATCH(B454,'Wikipedia-Alle verhalen'!C:C,0)","v":{"$error":"#N/A"}},{"$f":"IF(ISNA(C454),\"\",IF(INDEX('Wikipedia-Alle verhalen'!J:J,WWWcatalogus!C454)>0,\"Yes\",\"No\"))","v":""},{"$f":"IF(D454=\"Yes\",\"Yes\",IF(ISNA(MATCH(B454,#REF!,0)),\"\",\"Yes!\"))","v":"Yes!"}," Zie: De Ringelingschat"]
[452,"De Zwarte Madam",{"$f":"MATCH(B455,'Wikipedia-Alle verhalen'!C:C,0)","v":8},{"$f":"IF(ISNA(C455),\"\",IF(INDEX('Wikipedia-Alle verhalen'!J:J,WWWcatalogus!C455)>0,\"Yes\",\"No\"))","v":"Yes"},{"$f":"IF(D455=\"Yes\",\"Yes\",IF(ISNA(MATCH(B455,#REF!,0)),\"\",\"Yes!\"))","v":"Yes"}," 5, 8, 16, 34, 56, 63, 70, 73, 76, 77, 78, 91, 99, 101, 105, 126, 136, 146"]
[453,"De zwarte tulp",{"$f":"MATCH(B456,'Wikipedia-Alle verhalen'!C:C,0)","v":341},{"$f":"IF(ISNA(C456),\"\",IF(INDEX('Wikipedia-Alle verhalen'!J:J,WWWcatalogus!C456)>0,\"Yes\",\"No\"))","v":"Yes"},{"$f":"IF(D456=\"Yes\",\"Yes\",IF(ISNA(MATCH(B456,#REF!,0)),\"\",\"Yes!\"))","v":"Yes"}," 13, 23, 24, 69"]
[454,"De zwarte zwaan",{"$f":"MATCH(B457,'Wikipedia-Alle verhalen'!C:C,0)","v":50},{"$f":"IF(ISNA(C457),\"\",IF(INDEX('Wikipedia-Alle verhalen'!J:J,WWWcatalogus!C457)>0,\"Yes\",\"No\"))","v":"Yes"},{"$f":"IF(D457=\"Yes\",\"Yes\",IF(ISNA(MATCH(B457,#REF!,0)),\"\",\"Yes!\"))","v":"Yes"}," 5, 8, 16, 25, 35, 38, 57, 62, 71, 73, 77, 78, 81, 106, 133, 134, 135, 136"]
[455,"De zwarte zwevers",{"$f":"MATCH(B458,'Wikipedia-Alle verhalen'!C:C,0)","v":371},{"$f":"IF(ISNA(C458),\"\",IF(INDEX('Wikipedia-Alle verhalen'!J:J,WWWcatalogus!C458)>0,\"Yes\",\"No\"))","v":"Yes"},{"$f":"IF(D458=\"Yes\",\"Yes\",IF(ISNA(MATCH(B458,#REF!,0)),\"\",\"Yes!\"))","v":"Yes"}," 14, 23, 24, 69, 123"]

{"sheet":"Comicweb lang","index":17,"n_rows":430,"n_cols":12,"rows_kept":430,"cut":false,"hidden":true,"merged":[[3,6,429,6],[392,0,392,5],[393,0,393,5],[396,0,396,5],[397,0,397,5],[411,0,411,5],[412,0,412,5],[416,0,416,5],[417,0,417,5]]}
["http://www.comicweb.nl/zzstripverhalenseries/Suske+en+Wiske.html"]
[]
["nr.","datum","titel","lengte","Code/Pub","1e Ref.",null,"Album","Andere titel"]
["V1","1945-03-01","Rikki en Wiske (in Chocowakije)",55,"NS 30-03-45/15-12-45",1.1000000000000001,null,{"$f":"IF(ISNA(MATCH(C4,'Wikipedia-Alle verhalen'!C:C,0)),\"\",IF(INDEX('Wikipedia-Alle verhalen'!J:J,MATCH(C4,'Wikipedia-Alle verhalen'!C:C,0))>0,\"Yes\",\"No\"))","v":"Yes"}]
["V2a","1945-12-01","(Op) Het eiland Amoras",55,"NS 20-12-45/13-05-46",2.1,null,{"$f":"IF(ISNA(MATCH(C5,'Wikipedia-Alle verhalen'!C:C,0)),\"\",IF(INDEX('Wikipedia-Alle verhalen'!J:J,MATCH(C5,'Wikipedia-Alle verhalen'!C:C,0))>0,\"Yes\",\"No\"))","v":"Yes"}]
["V2b","1967-03-01",{"$f":"+C5","v":"(Op) Het eiland Amoras"},54,null,8.68,null,{"$f":"IF(ISNA(MATCH(C6,'Wikipedia-Alle verhalen'!C:C,0)),\"\",IF(INDEX('Wikipedia-Alle verhalen'!J:J,MATCH(C6,'Wikipedia-Alle verhalen'!C:C,0))>0,\"Yes\",\"No\"))","v":"Yes"}]
["V3a","1946-05-01","De sprietatoom",56.5,"NS 16-05-46/27-09-46",2.2999999999999998,null,{"$f":"IF(ISNA(MATCH(C7,'Wikipedia-Alle verhalen'!C:C,0)),\"\",IF(INDEX('Wikipedia-Alle verhalen'!J:J,MATCH(C7,'Wikipedia-Alle verhalen'!C:C,0))>0,\"Yes\",\"No\"))","v":"Yes"}]
["V3b","1970-09-01","De sprietatoom",55,null,5.42,null,{"$f":"IF(ISNA(MATCH(C8,'Wikipedia-Alle verhalen'!C:C,0)),\"\",IF(INDEX('Wikipedia-Alle verhalen'!J:J,MATCH(C8,'Wikipedia-Alle verhalen'!C:C,0))>0,\"Yes\",\"No\"))","v":"Yes"}]
["V4a","1946-09-01","De vliegende aap",55,"NS 30-09-46/12-02-47",2.2000000000000002,null,{"$f":"IF(ISNA(MATCH(C9,'Wikipedia-Alle verhalen'!C:C,0)),\"\",IF(INDEX('Wikipedia-Alle verhalen'!J:J,MATCH(C9,'Wikipedia-Alle verhalen'!C:C,0))>0,\"Yes\",\"No\"))","v":"Yes"}]
["V4b","1966-01-01","De vliegende aap",55,null,7.65,null,{"$f":"IF(ISNA(MATCH(C10,'Wikipedia-Alle verhalen'!C:C,0)),\"\",IF(INDEX('Wikipedia-Alle verhalen'!J:J,MATCH(C10,'Wikipedia-Alle verhalen'!C:C,0))>0,\"Yes\",\"No\"))","v":"Yes"}]
["V5","1947-02-01","De Zwarte Madam",54.5,"NS 14-02-47/01-07-47",2.6,null,{"$f":"IF(ISNA(MATCH(C11,'Wikipedia-Alle verhalen'!C:C,0)),\"\",IF(INDEX('Wikipedia-Alle verhalen'!J:J,MATCH(C11,'Wikipedia-Alle verhalen'!C:C,0))>0,\"Yes\",\"No\"))","v":"Yes"}]
["V6a","1947-07-01","De koning drinkt",55,"NS 02-07-47/07-11-47",2.4,null,{"$f":"IF(ISNA(MATCH(C12,'Wikipedia-Alle verhalen'!C:C,0)),\"\",IF(INDEX('Wikipedia-Alle verhalen'!J:J,MATCH(C12,'Wikipedia-Alle verhalen'!C:C,0))>0,\"Yes\",\"No\"))","v":"Yes"}]
["V6b","1970-06-01","De koning drinkt",55,null,8.1050000000000004,null,{"$f":"IF(ISNA(MATCH(C13,'Wikipedia-Alle verhalen'!C:C,0)),\"\",IF(INDEX('Wikipedia-Alle verhalen'!J:J,MATCH(C13,'Wikipedia-Alle verhalen'!C:C,0))>0,\"Yes\",\"No\"))","v":"Yes"}]
["V7","1947-11-01","Prinses Zagemeel",55,"S 10-11-47/19-03-48",2.5,null,{"$f":"IF(ISNA(MATCH(C14,'Wikipedia-Alle verhalen'!C:C,0)),\"\",IF(INDEX('Wikipedia-Alle verhalen'!J:J,MATCH(C14,'Wikipedia-Alle verhalen'!C:C,0))>0,\"Yes\",\"No\"))","v":"Yes"}]
["V8","1948-03-01","De bokkerijders",55,"S 22-03-48/28-07-48",2.2599999999999998,null,{"$f":"IF(ISNA(MATCH(C15,'Wikipedia-Alle verhalen'!C:C,0)),\"\",IF(INDEX('Wikipedia-Alle verhalen'!J:J,MATCH(C15,'Wikipedia-Alle verhalen'!C:C,0))>0,\"Yes\",\"No\"))","v":"Yes"}]
["V9a","1948-07-01","De witte uil",55,"S 30-07-48/07-12-48",2.7,null,{"$f":"IF(ISNA(MATCH(C16,'Wikipedia-Alle verhalen'!C:C,0)),\"\",IF(INDEX('Wikipedia-Alle verhalen'!J:J,MATCH(C16,'Wikipedia-Alle verhalen'!C:C,0))>0,\"Yes\",\"No\"))","v":"Yes"}]
["V9b","1972-08-01","De witte uil",55,null,8.1340000000000003,null,{"$f":"IF(ISNA(MATCH(C17,'Wikipedia-Alle verhalen'!C:C,0)),\"\",IF(INDEX('Wikipedia-Alle verhalen'!J:J,MATCH(C17,'Wikipedia-Alle verhalen'!C:C,0))>0,\"Yes\",\"No\"))","v":"Yes"}]
["V10a","1948-09-01","Het Spaanse spook",69,"KW 48-38/50-5",10.210000000000001,null,{"$f":"IF(ISNA(MATCH(C18,'Wikipedia-Alle verhalen'!C:C,0)),\"\",IF(INDEX('Wikipedia-Alle verhalen'!J:J,MATCH(C18,'Wikipedia-Alle verhalen'!C:C,0))>0,\"Yes\",\"No\"))","v":"Yes"}]
["V10b","1952-06-01","Het Spaanse spook",70,null,3,null,{"$f":"IF(ISNA(MATCH(C19,'Wikipedia-Alle verhalen'!C:C,0)),\"\",IF(INDEX('Wikipedia-Alle verhalen'!J:J,MATCH(C19,'Wikipedia-Alle verhalen'!C:C,0))>0,\"Yes\",\"No\"))","v":"Yes"}]
["V11","1948-10-01","De gekalibreerde kwibus",44,"KL 31-10-48/15-10-1950","17.3+4",null,{"$f":"IF(ISNA(MATCH(C20,'Wikipedia-Alle verhalen'!C:C,0)),\"\",IF(INDEX('Wikipedia-Alle verhalen'!J:J,MATCH(C20,'Wikipedia-Alle verhalen'!C:C,0))>0,\"Yes\",\"No\"))","v":"No"}]
["V12","1948-12-01","De mottenvanger",55,"S 09-12-48/15-04-49",2.31,null,{"$f":"IF(ISNA(MATCH(C21,'Wikipedia-Alle verhalen'!C:C,0)),\"\",IF(INDEX('Wikipedia-Alle verhalen'!J:J,MATCH(C21,'Wikipedia-Alle verhalen'!C:C,0))>0,\"Yes\",\"No\"))","v":"Yes"}]
["V13","1949-04-01","Bibbergoud",55,"S 18-04-49/24-08-49",2.8,null,{"$f":"IF(ISNA(MATCH(C22,'Wikipedia-Alle verhalen'!C:C,0)),\"\",IF(INDEX('Wikipedia-Alle verhalen'!J:J,MATCH(C22,'Wikipedia-Alle verhalen'!C:C,0))>0,\"Yes\",\"No\"))","v":"Yes"}]
["V14a","1949-08-01","Lambiorix",55,"S 26-08-49/04-01-50",2.9,null,{"$f":"IF(ISNA(MATCH(C23,'Wikipedia-Alle verhalen'!C:C,0)),\"\",IF(INDEX('Wikipedia-Alle verhalen'!J:J,MATCH(C23,'Wikipedia-Alle verhalen'!C:C,0))>0,\"Yes\",\"No\"))","v":"Yes"}]
["V14b","1972-03-01","Lambiorix",55,"E 72-10/73-12",8.1440000000000001,null,{"$f":"IF(ISNA(MATCH(C24,'Wikipedia-Alle verhalen'!C:C,0)),\"\",IF(INDEX('Wikipedia-Alle verhalen'!J:J,MATCH(C24,'Wikipedia-Alle verhalen'!C:C,0))>0,\"Yes\",\"No\"))","v":"Yes"}]
["V15","1950-01-01","De stierentemmer",55,"S 06-01-50/15-05-50",2.1,null,{"$f":"IF(ISNA(MATCH(C25,'Wikipedia-Alle verhalen'!C:C,0)),\"\",IF(INDEX('Wikipedia-Alle verhalen'!J:J,MATCH(C25,'Wikipedia-Alle verhalen'!C:C,0))>0,\"Yes\",\"No\"))","v":"Yes"}]
["V16","1950-03-01","De bronzen sleutel",62,"KW 50-9/51-18",3.1,null,{"$f":"IF(ISNA(MATCH(C26,'Wikipedia-Alle verhalen'!C:C,0)),\"\",IF(INDEX('Wikipedia-Alle verhalen'!J:J,MATCH(C26,'Wikipedia-Alle verhalen'!C:C,0))>0,\"Yes\",\"No\"))","v":"Yes"}]
["V17","1950-05-01","De stalen bloempot",55,"S 17-05-50/22-09-50",2.11,null,{"$f":"IF(ISNA(MATCH(C27,'Wikipedia-Alle verhalen'!C:C,0)),\"\",IF(INDEX('Wikipedia-Alle verhalen'!J:J,MATCH(C27,'Wikipedia-Alle verhalen'!C:C,0))>0,\"Yes\",\"No\"))","v":"Yes"}]
["V18","1950-09-01","Het zingende nijlpaard",55,"S 25-09-50/01-02-51",2.12,null,{"$f":"IF(ISNA(MATCH(C28,'Wikipedia-Alle verhalen'!C:C,0)),\"\",IF(INDEX('Wikipedia-Alle verhalen'!J:J,MATCH(C28,'Wikipedia-Alle verhalen'!C:C,0))>0,\"Yes\",\"No\"))","v":"Yes"}]
["V19a","1951-02-01","De ringelingschat",55,"S 03-02-51/12-06-51",2.13,null,{"$f":"IF(ISNA(MATCH(C29,'Wikipedia-Alle verhalen'!C:C,0)),\"\",IF(INDEX('Wikipedia-Alle verhalen'!J:J,MATCH(C29,'Wikipedia-Alle verhalen'!C:C,0))>0,\"Yes\",\"No\"))","v":"Yes"}]
["V19b","1972-06-01","De ringelingschat",55,null,5.7,null,{"$f":"IF(ISNA(MATCH(C30,'Wikipedia-Alle verhalen'!C:C,0)),\"\",IF(INDEX('Wikipedia-Alle verhalen'!J:J,MATCH(C30,'Wikipedia-Alle verhalen'!C:C,0))>0,\"Yes\",\"No\"))","v":"Yes"}]
["V20","1951-05-01","De tartaarse helm",62,"KW 51-20/52-29",3.2,null,{"$f":"IF(ISNA(MATCH(C31,'Wikipedia-Alle verhalen'!C:C,0)),\"\",IF(INDEX('Wikipedia-Alle verhalen'!J:J,MATCH(C31,'Wikipedia-Alle verhalen'!C:C,0))>0,\"Yes\",\"No\"))","v":"Yes"}]
["V21","1951-06-01","De tuftuf-club",55,"S 14-06-51/27-10-51",2.14,null,{"$f":"IF(ISNA(MATCH(C32,'Wikipedia-Alle verhalen'!C:C,0)),\"\",IF(INDEX('Wikipedia-Alle verhalen'!J:J,MATCH(C32,'Wikipedia-Alle verhalen'!C:C,0))>0,\"Yes\",\"No\"))","v":"Yes"}]
["V22","1951-10-01","Het bevroren vuur",55,"S 30-10-51/08-03-52",2.15,null,{"$f":"IF(ISNA(MATCH(C33,'Wikipedia-Alle verhalen'!C:C,0)),\"\",IF(INDEX('Wikipedia-Alle verhalen'!J:J,MATCH(C33,'Wikipedia-Alle verhalen'!C:C,0))>0,\"Yes\",\"No\"))","v":"Yes"}]
["V23","1952-03-01","De sterrenplukkers",55,"S 11-03-52/18-07-52",2.16,null,{"$f":"IF(ISNA(MATCH(C34,'Wikipedia-Alle verhalen'!C:C,0)),\"\",IF(INDEX('Wikipedia-Alle verhalen'!J:J,MATCH(C34,'Wikipedia-Alle verhalen'!C:C,0))>0,\"Yes\",\"No\"))","v":"Yes"}]
["V24","1952-07-01","De lachende wolf",54.75,"S 21-07-52/25-11-52",2.17,null,{"$f":"IF(ISNA(MATCH(C35,'Wikipedia-Alle verhalen'!C:C,0)),\"\",IF(INDEX('Wikipedia-Alle verhalen'!J:J,MATCH(C35,'Wikipedia-Alle verhalen'!C:C,0))>0,\"Yes\",\"No\"))","v":"Yes"}]
["V25","1952-07-01","De schat van Beersel",64,"KW 52-30/53-40",3.3,null,{"$f":"IF(ISNA(MATCH(C36,'Wikipedia-Alle verhalen'!C:C,0)),\"\",IF(INDEX('Wikipedia-Alle verhalen'!J:J,MATCH(C36,'Wikipedia-Alle verhalen'!C:C,0))>0,\"Yes\",\"No\"))","v":"Yes"}]
["V26a","1952-11-01","De dolle musketiers",55,"S 27-11-52/06-04-53",2.1800000000000002,null,{"$f":"IF(ISNA(MATCH(C37,'Wikipedia-Alle verhalen'!C:C,0)),\"\",IF(INDEX('Wikipedia-Alle verhalen'!J:J,MATCH(C37,'Wikipedia-Alle verhalen'!C:C,0))>0,\"Yes\",\"No\"))","v":"Yes"}]
["V26b","1965-01-01","De dolle musketiers",55,null,7.59,null,{"$f":"IF(ISNA(MATCH(C38,'Wikipedia-Alle verhalen'!C:C,0)),\"\",IF(INDEX('Wikipedia-Alle verhalen'!J:J,MATCH(C38,'Wikipedia-Alle verhalen'!C:C,0))>0,\"Yes\",\"No\"))","v":"Yes"}]
["V27","1952-12-01","Het vliegende hart",25,"B 14-12-52/27-12-53","8.188+2",null,{"$f":"IF(ISNA(MATCH(C39,'Wikipedia-Alle verhalen'!C:C,0)),\"\",IF(INDEX('Wikipedia-Alle verhalen'!J:J,MATCH(C39,'Wikipedia-Alle verhalen'!C:C,0))>0,\"Yes\",\"No\"))","v":"Yes"}]
["V28a","1953-04-01","De tamtamklopper",55,"S 08-04-53/13-08-53",2.19,null,"ok"]
["V28b","1969-01-01","De tamtamkloppers",55,null,5.19,null,{"$f":"IF(ISNA(MATCH(C41,'Wikipedia-Alle verhalen'!C:C,0)),\"\",IF(INDEX('Wikipedia-Alle verhalen'!J:J,MATCH(C41,'Wikipedia-Alle verhalen'!C:C,0))>0,\"Yes\",\"No\"))","v":"Yes"}]
["V29a","1953-08-01","De knokkersburcht",55.5,"S 19-08-53/28-12-53",2.2000000000000002,null,{"$f":"IF(ISNA(MATCH(C42,'Wikipedia-Alle verhalen'!C:C,0)),\"\",IF(INDEX('Wikipedia-Alle verhalen'!J:J,MATCH(C42,'Wikipedia-Alle verhalen'!C:C,0))>0,\"Yes\",\"No\"))","v":"Yes"}]
["V29b","1972-01-01","De knokkersburcht",55,null,5.2,null,{"$f":"IF(ISNA(MATCH(C43,'Wikipedia-Alle verhalen'!C:C,0)),\"\",IF(INDEX('Wikipedia-Alle verhalen'!J:J,MATCH(C43,'Wikipedia-Alle verhalen'!C:C,0))>0,\"Yes\",\"No\"))","v":"Yes"}]
["V30","1953-10-01","Het geheim van de gladiatoren",61,"KW 53-41/54-50",3.4,null,{"$f":"IF(ISNA(MATCH(C44,'Wikipedia-Alle verhalen'!C:C,0)),\"\",IF(INDEX('Wikipedia-Alle verhalen'!J:J,MATCH(C44,'Wikipedia-Alle verhalen'!C:C,0))>0,\"Yes\",\"No\"))","v":"Yes"}]
["V31a","1954-01-01","De circusbaron",55,"S 01-01-54/11-05-54",2.21,null,{"$f":"IF(ISNA(MATCH(C45,'Wikipedia-Alle verhalen'!C:C,0)),\"\",IF(INDEX('Wikipedia-Alle verhalen'!J:J,MATCH(C45,'Wikipedia-Alle verhalen'!C:C,0))>0,\"Yes\",\"No\"))","v":"Yes"}]
["V31b","1965-06-01","De circusbaron",55,null,7.56,null,{"$f":"IF(ISNA(MATCH(C46,'Wikipedia-Alle verhalen'!C:C,0)),\"\",IF(INDEX('Wikipedia-Alle verhalen'!J:J,MATCH(C46,'Wikipedia-Alle verhalen'!C:C,0))>0,\"Yes\",\"No\"))","v":"Yes"}]
["V32a","1954-05-01","De speelgoedzaaier",55,"S 17-05-54/24-09-54",2.2200000000000002,null,{"$f":"IF(ISNA(MATCH(C47,'Wikipedia-Alle verhalen'!C:C,0)),\"\",IF(INDEX('Wikipedia-Alle verhalen'!J:J,MATCH(C47,'Wikipedia-Alle verhalen'!C:C,0))>0,\"Yes\",\"No\"))","v":"Yes"}]
["V32b","1965-06-01","De speelgoedzaaier",55,null,7.55,null,{"$f":"IF(ISNA(MATCH(C48,'Wikipedia-Alle verhalen'!C:C,0)),\"\",IF(INDEX('Wikipedia-Alle verhalen'!J:J,MATCH(C48,'Wikipedia-Alle verhalen'!C:C,0))>0,\"Yes\",\"No\"))","v":"Yes"}]
["V32c","1969-06-01","De speelgoedzaaier",55,null,8.91,null,{"$f":"IF(ISNA(MATCH(C49,'Wikipedia-Alle verhalen'!C:C,0)),\"\",IF(INDEX('Wikipedia-Alle verhalen'!J:J,MATCH(C49,'Wikipedia-Alle verhalen'!C:C,0))>0,\"Yes\",\"No\"))","v":"Yes"}]
["V33a","1954-09-01","De IJzeren Schelvis",55,"S 28-09-54/07-02-55",2.23,null,{"$f":"IF(ISNA(MATCH(C50,'Wikipedia-Alle verhalen'!C:C,0)),\"\",IF(INDEX('Wikipedia-Alle verhalen'!J:J,MATCH(C50,'Wikipedia-Alle verhalen'!C:C,0))>0,\"Yes\",\"No\"))","v":"Yes"}]
["V33b","1965-06-01","De IJzeren Schelvis",55,null,7.6,null,{"$f":"IF(ISNA(MATCH(C51,'Wikipedia-Alle verhalen'!C:C,0)),\"\",IF(INDEX('Wikipedia-Alle verhalen'!J:J,MATCH(C51,'Wikipedia-Alle verhalen'!C:C,0))>0,\"Yes\",\"No\"))","v":"Yes"}]
["V34","1955-02-01","De gezanten van Mars",62,"KW 55-5/56-14",3.5,null,{"$f":"IF(ISNA(MATCH(C52,'Wikipedia-Alle verhalen'!C:C,0)),\"\",IF(INDEX('Wikipedia-Alle verhalen'!J:J,MATCH(C52,'Wikipedia-Alle verhalen'!C:C,0))>0,\"Yes\",\"No\"))","v":"Yes"}]
["V35a","1955-02-01","De kleppende klipper",55,"S 12-02-55/27-06-55",2.2400000000000002,null,{"$f":"IF(ISNA(MATCH(C53,'Wikipedia-Alle verhalen'!C:C,0)),\"\",IF(INDEX('Wikipedia-Alle verhalen'!J:J,MATCH(C53,'Wikipedia-Alle verhalen'!C:C,0))>0,\"Yes\",\"No\"))","v":"Yes"}]
["V35b","1969-06-01","De kleppende klipper",55,null,8.9499999999999993,null,{"$f":"IF(ISNA(MATCH(C54,'Wikipedia-Alle verhalen'!C:C,0)),\"\",IF(INDEX('Wikipedia-Alle verhalen'!J:J,MATCH(C54,'Wikipedia-Alle verhalen'!C:C,0))>0,\"Yes\",\"No\"))","v":"Yes"}]
["V36a","1955-07-01","De straatridder",55,"S 04-07-55/14-11-55",2.25,null,{"$f":"IF(ISNA(MATCH(C55,'Wikipedia-Alle verhalen'!C:C,0)),\"\",IF(INDEX('Wikipedia-Alle verhalen'!J:J,MATCH(C55,'Wikipedia-Alle verhalen'!C:C,0))>0,\"Yes\",\"No\"))","v":"Yes"}]
["V36b","1968-06-01","De straatridder",55,null,8.83,null,{"$f":"IF(ISNA(MATCH(C56,'Wikipedia-Alle verhalen'!C:C,0)),\"\",IF(INDEX('Wikipedia-Alle verhalen'!J:J,MATCH(C56,'Wikipedia-Alle verhalen'!C:C,0))>0,\"Yes\",\"No\"))","v":"Yes"}]
["V37a","1955-11-01","De brullende berg",55,"S 18-11-55/28-03-56",2.27,null,{"$f":"IF(ISNA(MATCH(C57,'Wikipedia-Alle verhalen'!C:C,0)),\"\",IF(INDEX('Wikipedia-Alle verhalen'!J:J,MATCH(C57,'Wikipedia-Alle verhalen'!C:C,0))>0,\"Yes\",\"No\"))","v":"Yes"}]
["V37b","1965-06-01","De brullende berg",55,null,7.58,null,{"$f":"IF(ISNA(MATCH(C58,'Wikipedia-Alle verhalen'!C:C,0)),\"\",IF(INDEX('Wikipedia-Alle verhalen'!J:J,MATCH(C58,'Wikipedia-Alle verhalen'!C:C,0))>0,\"Yes\",\"No\"))","v":"Yes"}]
["V38a","1956-04-01","De spokenjagers",55,"S 02-04-56/08-08-56",2.2799999999999998,null,{"$f":"IF(ISNA(MATCH(C59,'Wikipedia-Alle verhalen'!C:C,0)),\"\",IF(INDEX('Wikipedia-Alle verhalen'!J:J,MATCH(C59,'Wikipedia-Alle verhalen'!C:C,0))>0,\"Yes\",\"No\"))","v":"Yes"}]
["V38b","1964-06-01","De spokenjagers",55,null,7.52,null,{"$f":"IF(ISNA(MATCH(C60,'Wikipedia-Alle verhalen'!C:C,0)),\"\",IF(INDEX('Wikipedia-Alle verhalen'!J:J,MATCH(C60,'Wikipedia-Alle verhalen'!C:C,0))>0,\"Yes\",\"No\"))","v":"Yes"}]
["V39","1956-06-01","De groene splinter",62,"KW 56-27/57-36",3.6,null,{"$f":"IF(ISNA(MATCH(C61,'Wikipedia-Alle verhalen'!C:C,0)),\"\",IF(INDEX('Wikipedia-Alle verhalen'!J:J,MATCH(C61,'Wikipedia-Alle verhalen'!C:C,0))>0,\"Yes\",\"No\"))","v":"Yes"}]
["V40a","1956-09-01","De snorrende snor",55,"S 10-09-56/17-01-57",2.29,null,{"$f":"IF(ISNA(MATCH(C62,'Wikipedia-Alle verhalen'!C:C,0)),\"\",IF(INDEX('Wikipedia-Alle verhalen'!J:J,MATCH(C62,'Wikipedia-Alle verhalen'!C:C,0))>0,\"Yes\",\"No\"))","v":"Yes"}]
["V40b","1966-06-01","De snorrende snor",55,null,7.64,null,{"$f":"IF(ISNA(MATCH(C63,'Wikipedia-Alle verhalen'!C:C,0)),\"\",IF(INDEX('Wikipedia-Alle verhalen'!J:J,MATCH(C63,'Wikipedia-Alle verhalen'!C:C,0))>0,\"Yes\",\"No\"))","v":"Yes"}]
["V41a","1957-01-01","De stemmenrover",55,"S 22-01-57/30-05-57",2.2999999999999998,null,{"$f":"IF(ISNA(MATCH(C64,'Wikipedia-Alle verhalen'!C:C,0)),\"\",IF(INDEX('Wikipedia-Alle verhalen'!J:J,MATCH(C64,'Wikipedia-Alle verhalen'!C:C,0))>0,\"Yes\",\"No\"))","v":"Yes"}]
["V41b","1965-06-01","De stemmenrover",55,null,7.62,null,{"$f":"IF(ISNA(MATCH(C65,'Wikipedia-Alle verhalen'!C:C,0)),\"\",IF(INDEX('Wikipedia-Alle verhalen'!J:J,MATCH(C65,'Wikipedia-Alle verhalen'!C:C,0))>0,\"Yes\",\"No\"))","v":"Yes"}]
["V42a","1957-06-01","Het sprekende testament",55,"S 05-06-57/12-10-57",2.3199999999999998,null,{"$f":"IF(ISNA(MATCH(C66,'Wikipedia-Alle verhalen'!C:C,0)),\"\",IF(INDEX('Wikipedia-Alle verhalen'!J:J,MATCH(C66,'Wikipedia-Alle verhalen'!C:C,0))>0,\"Yes\",\"No\"))","v":"Yes"}]
["V42b","1963-01-01","Het sprekende testament",55,null,5.32,null,{"$f":"IF(ISNA(MATCH(C67,'Wikipedia-Alle verhalen'!C:C,0)),\"\",IF(INDEX('Wikipedia-Alle verhalen'!J:J,MATCH(C67,'Wikipedia-Alle verhalen'!C:C,0))>0,\"Yes\",\"No\"))","v":"Yes"}]
["V43a","1957-10-01","De geverniste zeerovers",55,"S 17-10-57/25-02-58",2.33,null,{"$f":"IF(ISNA(MATCH(C68,'Wikipedia-Alle verhalen'!C:C,0)),\"\",IF(INDEX('Wikipedia-Alle verhalen'!J:J,MATCH(C68,'Wikipedia-Alle verhalen'!C:C,0))>0,\"Yes\",\"No\"))","v":"Yes"}]
["V43b","1962-01-01","De geverniste zeerovers",55,null,5.33,null,{"$f":"IF(ISNA(MATCH(C69,'Wikipedia-Alle verhalen'!C:C,0)),\"\",IF(INDEX('Wikipedia-Alle verhalen'!J:J,MATCH(C69,'Wikipedia-Alle verhalen'!C:C,0))>0,\"Yes\",\"No\"))","v":"Yes"}]
["V44a","1958-01-01","De rammelende rally",32,null,24.1,null,{"$f":"IF(ISNA(MATCH(C70,'Wikipedia-Alle verhalen'!C:C,0)),\"\",IF(INDEX('Wikipedia-Alle verhalen'!J:J,MATCH(C70,'Wikipedia-Alle verhalen'!C:C,0))>0,\"Yes\",\"No\"))","v":"No"}]
["V44b","1973-01-01","De rammelende rally",32,"V 1",24.2,null,{"$f":"IF(ISNA(MATCH(C71,'Wikipedia-Alle verhalen'!C:C,0)),\"\",IF(INDEX('Wikipedia-Alle verhalen'!J:J,MATCH(C71,'Wikipedia-Alle verhalen'!C:C,0))>0,\"Yes\",\"No\"))","v":"No"}]
["V45","1958-02-01","Het gouden paard",61,"KW 58-8/59-16",8.1,null,{"$f":"IF(ISNA(MATCH(C72,'Wikipedia-Alle verhalen'!C:C,0)),\"\",IF(INDEX('Wikipedia-Alle verhalen'!J:J,MATCH(C72,'Wikipedia-Alle verhalen'!C:C,0))>0,\"Yes\",\"No\"))","v":"Yes"}]
["V46","1958-03-01","De duistere diamant",55,"S 01-03-58/10-07-58",2.34,null,{"$f":"IF(ISNA(MATCH(C73,'Wikipedia-Alle verhalen'!C:C,0)),\"\",IF(INDEX('Wikipedia-Alle verhalen'!J:J,MATCH(C73,'Wikipedia-Alle verhalen'!C:C,0))>0,\"Yes\",\"No\"))","v":"Yes"}]
["V47","1958-07-01","De zwarte zwaan",55,"S 15-07-58/21-11-58",2.35,null,{"$f":"IF(ISNA(MATCH(C74,'Wikipedia-Alle verhalen'!C:C,0)),\"\",IF(INDEX('Wikipedia-Alle verhalen'!J:J,MATCH(C74,'Wikipedia-Alle verhalen'!C:C,0))>0,\"Yes\",\"No\"))","v":"Yes"}]
["V48","1958-11-01","Het vliegende bed",55,"S 28-11-58/09-04-59",5.36,null,{"$f":"IF(ISNA(MATCH(C75,'Wikipedia-Alle verhalen'!C:C,0)),\"\",IF(INDEX('Wikipedia-Alle verhalen'!J:J,MATCH(C75,'Wikipedia-Alle verhalen'!C:C,0))>0,\"Yes\",\"No\"))","v":"Yes"}]
["V49","1959-04-01","De Texas-rakkers",55,"S 14-04-59/20-08-59",5.37,null,"ok"]
["V50","1959-08-01","De windmakers",55,"S 25-08-59/31-12-59",5.38,null,{"$f":"IF(ISNA(MATCH(C77,'Wikipedia-Alle verhalen'!C:C,0)),\"\",IF(INDEX('Wikipedia-Alle verhalen'!J:J,MATCH(C77,'Wikipedia-Alle verhalen'!C:C,0))>0,\"Yes\",\"No\"))","v":"Yes"}]
["V51","1960-01-01","De gouden cirkel",55,"S 05-01-60/11-01-60",5.39,null,{"$f":"IF(ISNA(MATCH(C78,'Wikipedia-Alle verhalen'!C:C,0)),\"\",IF(INDEX('Wikipedia-Alle verhalen'!J:J,MATCH(C78,'Wikipedia-Alle verhalen'!C:C,0))>0,\"Yes\",\"No\"))","v":"Yes"}]
["V52","1960-05-01","De zingende zwammen",55,"S 19-05-60/26-09-60",5.4,null,{"$f":"IF(ISNA(MATCH(C79,'Wikipedia-Alle verhalen'!C:C,0)),\"\",IF(INDEX('Wikipedia-Alle verhalen'!J:J,MATCH(C79,'Wikipedia-Alle verhalen'!C:C,0))>0,\"Yes\",\"No\"))","v":"Yes"}]
["V53","1960-09-01","De wolkeneters",55,"S 29-09-60/06-02-61",5.41,null,{"$f":"IF(ISNA(MATCH(C80,'Wikipedia-Alle verhalen'!C:C,0)),\"\",IF(INDEX('Wikipedia-Alle verhalen'!J:J,MATCH(C80,'Wikipedia-Alle verhalen'!C:C,0))>0,\"Yes\",\"No\"))","v":"Yes"}]
["V54","1961-02-01","De klankentapper",55,"S 08-02-61/16-06-61",5.43,null,{"$f":"IF(ISNA(MATCH(C81,'Wikipedia-Alle verhalen'!C:C,0)),\"\",IF(INDEX('Wikipedia-Alle verhalen'!J:J,MATCH(C81,'Wikipedia-Alle verhalen'!C:C,0))>0,\"Yes\",\"No\"))","v":"Yes"}]
["V55","1961-06-01","De wilde weldoener",55,"S 20-06-61/25-10-61",5.44,null,{"$f":"IF(ISNA(MATCH(C82,'Wikipedia-Alle verhalen'!C:C,0)),\"\",IF(INDEX('Wikipedia-Alle verhalen'!J:J,MATCH(C82,'Wikipedia-Alle verhalen'!C:C,0))>0,\"Yes\",\"No\"))","v":"Yes"}]
["V56","1961-10-01","Het hondenparadijs",55,"S 27-10-61/06-03-62",5.45,null,{"$f":"IF(ISNA(MATCH(C83,'Wikipedia-Alle verhalen'!C:C,0)),\"\",IF(INDEX('Wikipedia-Alle verhalen'!J:J,MATCH(C83,'Wikipedia-Alle verhalen'!C:C,0))>0,\"Yes\",\"No\"))","v":"Yes"}]
["V57","1962-03-01","De kaartendans",55,"S 08-03-62/13-07-62",5.46,null,{"$f":"IF(ISNA(MATCH(C84,'Wikipedia-Alle verhalen'!C:C,0)),\"\",IF(INDEX('Wikipedia-Alle verhalen'!J:J,MATCH(C84,'Wikipedia-Alle verhalen'!C:C,0))>0,\"Yes\",\"No\"))","v":"Yes"}]
["V58","1962-07-01","De Kwakstralen",55,"S 16-07-62/20-11-62",5.47,null,{"$f":"IF(ISNA(MATCH(C85,'Wikipedia-Alle verhalen'!C:C,0)),\"\",IF(INDEX('Wikipedia-Alle verhalen'!J:J,MATCH(C85,'Wikipedia-Alle verhalen'!C:C,0))>0,\"Yes\",\"No\"))","v":"Yes"}]
["V59","1962-11-01","Het rijmende paard",55,"S 23-11-62/01-04-63",5.48,null,{"$f":"IF(ISNA(MATCH(C86,'Wikipedia-Alle verhalen'!C:C,0)),\"\",IF(INDEX('Wikipedia-Alle verhalen'!J:J,MATCH(C86,'Wikipedia-Alle verhalen'!C:C,0))>0,\"Yes\",\"No\"))","v":"Yes"}]
["V60","1963-04-01","De sissende sampan",56,"S 03-04-63/10-08-63",5.49,null,{"$f":"IF(ISNA(MATCH(C87,'Wikipedia-Alle verhalen'!C:C,0)),\"\",IF(INDEX('Wikipedia-Alle verhalen'!J:J,MATCH(C87,'Wikipedia-Alle verhalen'!C:C,0))>0,\"Yes\",\"No\"))","v":"Yes"}]
["V61","1963-08-01","Sjeik El Ro-jenbiet",55,"S 13-08-63/10-12-63",5.5,null,"ok"]
["V62","1963-12-01","De nerveuze Nerviers",55,"S 23-12-63/01-05-64",7.51,null,"ok"]
["V63","1964-04-01","Het zoemende ei",55,"S 04-04-64/10-09-64",7.53,null,{"$f":"IF(ISNA(MATCH(C90,'Wikipedia-Alle verhalen'!C:C,0)),\"\",IF(INDEX('Wikipedia-Alle verhalen'!J:J,MATCH(C90,'Wikipedia-Alle verhalen'!C:C,0))>0,\"Yes\",\"No\"))","v":"Yes"}]
["V64","1964-09-01","De koddige kater",55,"S 12-09-64/22-01-65",7.54,null,{"$f":"IF(ISNA(MATCH(C91,'Wikipedia-Alle verhalen'!C:C,0)),\"\",IF(INDEX('Wikipedia-Alle verhalen'!J:J,MATCH(C91,'Wikipedia-Alle verhalen'!C:C,0))>0,\"Yes\",\"No\"))","v":"Yes"}]
["V65","1965-01-01","De schone slaper",55,"S 25-01-65/01-06-65",7.57,null,{"$f":"IF(ISNA(MATCH(C92,'Wikipedia-Alle verhalen'!C:C,0)),\"\",IF(INDEX('Wikipedia-Alle verhalen'!J:J,MATCH(C92,'Wikipedia-Alle verhalen'!C:C,0))>0,\"Yes\",\"No\"))","v":"Yes"}]
["V66","1965-06-01","De apekermis",55,"S 03-06-65/09-10-65",7.61,null,{"$f":"IF(ISNA(MATCH(C93,'Wikipedia-Alle verhalen'!C:C,0)),\"\",IF(INDEX('Wikipedia-Alle verhalen'!J:J,MATCH(C93,'Wikipedia-Alle verhalen'!C:C,0))>0,\"Yes\",\"No\"))","v":"Yes"}]
["V67","1965-10-01","Jeromba de Griek",55,"S 12-10-65/21-02-66",7.63,null,{"$f":"IF(ISNA(MATCH(C94,'Wikipedia-Alle verhalen'!C:C,0)),\"\",IF(INDEX('Wikipedia-Alle verhalen'!J:J,MATCH(C94,'Wikipedia-Alle verhalen'!C:C,0))>0,\"Yes\",\"No\"))","v":"Yes"}]
["V68","1966-02-01","De dulle griet",55,"S 23-02-66/01-07-66",7.66,null,{"$f":"IF(ISNA(MATCH(C95,'Wikipedia-Alle verhalen'!C:C,0)),\"\",IF(INDEX('Wikipedia-Alle verhalen'!J:J,MATCH(C95,'Wikipedia-Alle verhalen'!C:C,0))>0,\"Yes\",\"No\"))","v":"Yes"}]
["V69","1966-07-01","De poenschepper",55,"S 04-07-66/11-11-66",8.67,null,{"$f":"IF(ISNA(MATCH(C96,'Wikipedia-Alle verhalen'!C:C,0)),\"\",IF(INDEX('Wikipedia-Alle verhalen'!J:J,MATCH(C96,'Wikipedia-Alle verhalen'!C:C,0))>0,\"Yes\",\"No\"))","v":"Yes"}]
["V70","1966-11-01","Wattman",55,"S 14-11-66/23-03-67",8.7100000000000009,null,{"$f":"IF(ISNA(MATCH(C97,'Wikipedia-Alle verhalen'!C:C,0)),\"\",IF(INDEX('Wikipedia-Alle verhalen'!J:J,MATCH(C97,'Wikipedia-Alle verhalen'!C:C,0))>0,\"Yes\",\"No\"))","v":"Yes"}]
["V71","1967-03-01","Het mini mierennest",55,"S 25-03-67/04-08-67",8.75,null,"ok"]
["V72","1967-08-01","De zeven snaren",55,"S 07-08-67/15-12-67",8.7899999999999991,null,{"$f":"IF(ISNA(MATCH(C99,'Wikipedia-Alle verhalen'!C:C,0)),\"\",IF(INDEX('Wikipedia-Alle verhalen'!J:J,MATCH(C99,'Wikipedia-Alle verhalen'!C:C,0))>0,\"Yes\",\"No\"))","v":"Yes"}]
["V73","1967-12-01","De gramme huurling",55,"S 18-12-67/26-04-68",8.82,null,{"$f":"IF(ISNA(MATCH(C100,'Wikipedia-Alle verhalen'!C:C,0)),\"\",IF(INDEX('Wikipedia-Alle verhalen'!J:J,MATCH(C100,'Wikipedia-Alle verhalen'!C:C,0))>0,\"Yes\",\"No\"))","v":"Yes"}]
["V74","1968-04-01","Tedere Tronica",55,"S 29-04-68/07-09-68",8.86,null,{"$f":"IF(ISNA(MATCH(C101,'Wikipedia-Alle verhalen'!C:C,0)),\"\",IF(INDEX('Wikipedia-Alle verhalen'!J:J,MATCH(C101,'Wikipedia-Alle verhalen'!C:C,0))>0,\"Yes\",\"No\"))","v":"Yes"}]
["V75","1968-09-01","De briesende bruid",55,"S 10-09-68/17-01-69",8.92,null,{"$f":"IF(ISNA(MATCH(C102,'Wikipedia-Alle verhalen'!C:C,0)),\"\",IF(INDEX('Wikipedia-Alle verhalen'!J:J,MATCH(C102,'Wikipedia-Alle verhalen'!C:C,0))>0,\"Yes\",\"No\"))","v":"Yes"}]
["V76","1969-01-01","De junglebloem",55,"S 20-01-69/02-06-69",8.9700000000000006,null,{"$f":"IF(ISNA(MATCH(C103,'Wikipedia-Alle verhalen'!C:C,0)),\"\",IF(INDEX('Wikipedia-Alle verhalen'!J:J,MATCH(C103,'Wikipedia-Alle verhalen'!C:C,0))>0,\"Yes\",\"No\"))","v":"Yes"}]
["V77","1969-06-01","De dromendiefstal",55,"S 04-06-69/10-10-69",8.1020000000000003,null,{"$f":"IF(ISNA(MATCH(C104,'Wikipedia-Alle verhalen'!C:C,0)),\"\",IF(INDEX('Wikipedia-Alle verhalen'!J:J,MATCH(C104,'Wikipedia-Alle verhalen'!C:C,0))>0,\"Yes\",\"No\"))","v":"Yes"}]
["V78","1969-10-01","De charmante koffiepot",55,"S 13-10-69/19-02-70",8.1059999999999999,null,{"$f":"IF(ISNA(MATCH(C105,'Wikipedia-Alle verhalen'!C:C,0)),\"\",IF(INDEX('Wikipedia-Alle verhalen'!J:J,MATCH(C105,'Wikipedia-Alle verhalen'!C:C,0))>0,\"Yes\",\"No\"))","v":"Yes"}]
["V79","1970-02-01","Twee toffe totems",55,"S 21-02-70/03-07-70",8.1080000000000005,null,{"$f":"IF(ISNA(MATCH(C106,'Wikipedia-Alle verhalen'!C:C,0)),\"\",IF(INDEX('Wikipedia-Alle verhalen'!J:J,MATCH(C106,'Wikipedia-Alle verhalen'!C:C,0))>0,\"Yes\",\"No\"))","v":"Yes"}]
["V80","1970-07-01","De toornige tjiftjaf",55,"S 06-07-70/12-11-70",8.1170000000000009,null,{"$f":"IF(ISNA(MATCH(C107,'Wikipedia-Alle verhalen'!C:C,0)),\"\",IF(INDEX('Wikipedia-Alle verhalen'!J:J,MATCH(C107,'Wikipedia-Alle verhalen'!C:C,0))>0,\"Yes\",\"No\"))","v":"Yes"}]
["V81","1970-11-01","De kale kapper",55,"S 14-11-70/30-03-71",8.1219999999999999,null,{"$f":"IF(ISNA(MATCH(C108,'Wikipedia-Alle verhalen'!C:C,0)),\"\",IF(INDEX('Wikipedia-Alle verhalen'!J:J,MATCH(C108,'Wikipedia-Alle verhalen'!C:C,0))>0,\"Yes\",\"No\"))","v":"Yes"}]
["V82","1971-04-01","Het brommende brons",55,"S 01-04-71/12-08-71",8.1280000000000001,null,{"$f":"IF(ISNA(MATCH(C109,'Wikipedia-Alle verhalen'!C:C,0)),\"\",IF(INDEX('Wikipedia-Alle verhalen'!J:J,MATCH(C109,'Wikipedia-Alle verhalen'!C:C,0))>0,\"Yes\",\"No\"))","v":"Yes"}]
["V83","1971-08-01","De steensnoepers",55,"S 14-08-71/27-12-71",8.1300000000000008,null,{"$f":"IF(ISNA(MATCH(C110,'Wikipedia-Alle verhalen'!C:C,0)),\"\",IF(INDEX('Wikipedia-Alle verhalen'!J:J,MATCH(C110,'Wikipedia-Alle verhalen'!C:C,0))>0,\"Yes\",\"No\"))","v":"Yes"}]
["V84","1971-12-01","De gekke gokker",55,"S 29-12-71/08-05-72",8.1349999999999998,null,{"$f":"IF(ISNA(MATCH(C111,'Wikipedia-Alle verhalen'!C:C,0)),\"\",IF(INDEX('Wikipedia-Alle verhalen'!J:J,MATCH(C111,'Wikipedia-Alle verhalen'!C:C,0))>0,\"Yes\",\"No\"))","v":"Yes"}]
["V85","1972-05-01","De boze boomzalver",55,"S 10-05-72/19-09-72",8.1389999999999993,null,{"$f":"IF(ISNA(MATCH(C112,'Wikipedia-Alle verhalen'!C:C,0)),\"\",IF(INDEX('Wikipedia-Alle verhalen'!J:J,MATCH(C112,'Wikipedia-Alle verhalen'!C:C,0))>0,\"Yes\",\"No\"))","v":"Yes"}]
["V86","1972-09-01","De malle mergpijp",55,"S 21-09-72/02-02-73",8.1430000000000007,null,{"$f":"IF(ISNA(MATCH(C113,'Wikipedia-Alle verhalen'!C:C,0)),\"\",IF(INDEX('Wikipedia-Alle verhalen'!J:J,MATCH(C113,'Wikipedia-Alle verhalen'!C:C,0))>0,\"Yes\",\"No\"))","v":"Yes"}]
["V87","1973-02-01","De poppenpakker",55,"S 05-02-73/16-06-73",8.1470000000000002,null,{"$f":"IF(ISNA(MATCH(C114,'Wikipedia-Alle verhalen'!C:C,0)),\"\",IF(INDEX('Wikipedia-Alle verhalen'!J:J,MATCH(C114,'Wikipedia-Alle verhalen'!C:C,0))>0,\"Yes\",\"No\"))","v":"Yes"}]
["V88","1973-03-01","De bevende baobab",55,"E 73-13/74-16",8.1519999999999992,null,{"$f":"IF(ISNA(MATCH(C115,'Wikipedia-Alle verhalen'!C:C,0)),\"\",IF(INDEX('Wikipedia-Alle verhalen'!J:J,MATCH(C115,'Wikipedia-Alle verhalen'!C:C,0))>0,\"Yes\",\"No\"))","v":"Yes"}]
["V89","1973-06-01","De gladde glipper",55,"S 19-06-73/30-10-73",8.1489999999999991,null,{"$f":"IF(ISNA(MATCH(C116,'Wikipedia-Alle verhalen'!C:C,0)),\"\",IF(INDEX('Wikipedia-Alle verhalen'!J:J,MATCH(C116,'Wikipedia-Alle verhalen'!C:C,0))>0,\"Yes\",\"No\"))","v":"Yes"}]
["V90","1973-11-01","Het ros Bazhaar",55,"S 02-11-73/12-03-74",8.1509999999999998,null,{"$f":"IF(ISNA(MATCH(C117,'Wikipedia-Alle verhalen'!C:C,0)),\"\",IF(INDEX('Wikipedia-Alle verhalen'!J:J,MATCH(C117,'Wikipedia-Alle verhalen'!C:C,0))>0,\"Yes\",\"No\"))","v":"Yes"}]
["V91","1973-12-01","De snoezige Snowijt",25,"W 73","8.188+1",null,{"$f":"IF(ISNA(MATCH(C118,'Wikipedia-Alle verhalen'!C:C,0)),\"\",IF(INDEX('Wikipedia-Alle verhalen'!J:J,MATCH(C118,'Wikipedia-Alle verhalen'!C:C,0))>0,\"Yes\",\"No\"))","v":"Yes"}]
["V92","1974-03-01","De nare Varaan",55,"S 14-03-74/24-07-74",8.1530000000000005,null,{"$f":"IF(ISNA(MATCH(C119,'Wikipedia-Alle verhalen'!C:C,0)),\"\",IF(INDEX('Wikipedia-Alle verhalen'!J:J,MATCH(C119,'Wikipedia-Alle verhalen'!C:C,0))>0,\"Yes\",\"No\"))","v":"Yes"}]
["V93","1974-04-01","De mollige meivis",55,"E 74-17/75-19",8.157,null,{"$f":"IF(ISNA(MATCH(C120,'Wikipedia-Alle verhalen'!C:C,0)),\"\",IF(INDEX('Wikipedia-Alle verhalen'!J:J,MATCH(C120,'Wikipedia-Alle verhalen'!C:C,0))>0,\"Yes\",\"No\"))","v":"Yes"}]
["V94","1974-06-01","De vergeten vallei",25,"V 2","16.32+1",null,{"$f":"IF(ISNA(MATCH(C121,'Wikipedia-Alle verhalen'!C:C,0)),\"\",IF(INDEX('Wikipedia-Alle verhalen'!J:J,MATCH(C121,'Wikipedia-Alle verhalen'!C:C,0))>0,\"Yes\",\"No\"))","v":"Yes"}]
["V95","1974-07-01","De poezelige poes",55,"S 26-07-74/04-12-74",8.1549999999999994,null,{"$f":"IF(ISNA(MATCH(C122,'Wikipedia-Alle verhalen'!C:C,0)),\"\",IF(INDEX('Wikipedia-Alle verhalen'!J:J,MATCH(C122,'Wikipedia-Alle verhalen'!C:C,0))>0,\"Yes\",\"No\"))","v":"Yes"}]
["V96","1974-12-01","Beminde Barabas",55,"S 06-12-74/16-04-75",8.1560000000000006,null,{"$f":"IF(ISNA(MATCH(C123,'Wikipedia-Alle verhalen'!C:C,0)),\"\",IF(INDEX('Wikipedia-Alle verhalen'!J:J,MATCH(C123,'Wikipedia-Alle verhalen'!C:C,0))>0,\"Yes\",\"No\"))","v":"Yes"}]
["V97","1974-01-01","De gouden bloem",23,null,"16.50+5",null,{"$f":"IF(ISNA(MATCH(C124,'Wikipedia-Alle verhalen'!C:C,0)),\"\",IF(INDEX('Wikipedia-Alle verhalen'!J:J,MATCH(C124,'Wikipedia-Alle verhalen'!C:C,0))>0,\"Yes\",\"No\"))","v":"No"}]
["V98","1975-01-01","Toffe Tiko",25,"W 74","16.32+2",null,{"$f":"IF(ISNA(MATCH(C125,'Wikipedia-Alle verhalen'!C:C,0)),\"\",IF(INDEX('Wikipedia-Alle verhalen'!J:J,MATCH(C125,'Wikipedia-Alle verhalen'!C:C,0))>0,\"Yes\",\"No\"))","v":"Yes"}]
["V99","1975-04-01","De vinnige viking",55,"S 18-04-75/30-08-75",8.1579999999999995,null,{"$f":"IF(ISNA(MATCH(C126,'Wikipedia-Alle verhalen'!C:C,0)),\"\",IF(INDEX('Wikipedia-Alle verhalen'!J:J,MATCH(C126,'Wikipedia-Alle verhalen'!C:C,0))>0,\"Yes\",\"No\"))","v":"Yes"}]
["V100","1975-05-01","De vlijtige vlinder",55,"E 75-20/76-22",8.1630000000000003,null,{"$f":"IF(ISNA(MATCH(C127,'Wikipedia-Alle verhalen'!C:C,0)),\"\",IF(INDEX('Wikipedia-Alle verhalen'!J:J,MATCH(C127,'Wikipedia-Alle verhalen'!C:C,0))>0,\"Yes\",\"No\"))","v":"Yes"}]
["V101","1975-06-01","Hippus het zeeveulen",25,"V 3","8.193+1",null,{"$f":"IF(ISNA(MATCH(C128,'Wikipedia-Alle verhalen'!C:C,0)),\"\",IF(INDEX('Wikipedia-Alle verhalen'!J:J,MATCH(C128,'Wikipedia-Alle verhalen'!C:C,0))>0,\"Yes\",\"No\"))","v":"Yes"}]
["V102","1975-09-01","De bokkige bombardon",55,"S 02-09-75/12-01-76",8.16,null,{"$f":"IF(ISNA(MATCH(C129,'Wikipedia-Alle verhalen'!C:C,0)),\"\",IF(INDEX('Wikipedia-Alle verhalen'!J:J,MATCH(C129,'Wikipedia-Alle verhalen'!C:C,0))>0,\"Yes\",\"No\"))","v":"Yes"}]
["V103","1975-01-01","De vliegende klomp",null,null,53.4,null,{"$f":"IF(ISNA(MATCH(C130,'Wikipedia-Alle verhalen'!C:C,0)),\"\",IF(INDEX('Wikipedia-Alle verhalen'!J:J,MATCH(C130,'Wikipedia-Alle verhalen'!C:C,0))>0,\"Yes\",\"No\"))","v":"No"}]
["V104","1976-01-01","De blinkende boemerang",55,"S 14-01-76/22-05-76",8.1609999999999996,null,{"$f":"IF(ISNA(MATCH(C131,'Wikipedia-Alle verhalen'!C:C,0)),\"\",IF(INDEX('Wikipedia-Alle verhalen'!J:J,MATCH(C131,'Wikipedia-Alle verhalen'!C:C,0))>0,\"Yes\",\"No\"))","v":"Yes"}]
["V105","1976-04-01","De minilotten van Kokonera",55,null,8.1590000000000007,null,{"$f":"IF(ISNA(MATCH(C132,'Wikipedia-Alle verhalen'!C:C,0)),\"\",IF(INDEX('Wikipedia-Alle verhalen'!J:J,MATCH(C132,'Wikipedia-Alle verhalen'!C:C,0))>0,\"Yes\",\"No\"))","v":"Yes"}]
["V106","1976-05-01","De raap van Rubens",79,"S 25-05-76/29-11-76",8.1639999999999997,null,{"$f":"IF(ISNA(MATCH(C133,'Wikipedia-Alle verhalen'!C:C,0)),\"\",IF(INDEX('Wikipedia-Alle verhalen'!J:J,MATCH(C133,'Wikipedia-Alle verhalen'!C:C,0))>0,\"Yes\",\"No\"))","v":"Yes"}]
["V107","1976-06-01","Het verborgen volk",25,"V 4","8.193+2",null,{"$f":"IF(ISNA(MATCH(C134,'Wikipedia-Alle verhalen'!C:C,0)),\"\",IF(INDEX('Wikipedia-Alle verhalen'!J:J,MATCH(C134,'Wikipedia-Alle verhalen'!C:C,0))>0,\"Yes\",\"No\"))","v":"Yes"}]
["V108","1976-06-01","De maffe maniak",55,"E 76-23/77-24",8.1660000000000004,null,{"$f":"IF(ISNA(MATCH(C135,'Wikipedia-Alle verhalen'!C:C,0)),\"\",IF(INDEX('Wikipedia-Alle verhalen'!J:J,MATCH(C135,'Wikipedia-Alle verhalen'!C:C,0))>0,\"Yes\",\"No\"))","v":"Yes"}]
["V109","1976-11-01","De gouden locomotief",55,null,8.1620000000000008,null,{"$f":"IF(ISNA(MATCH(C136,'Wikipedia-Alle verhalen'!C:C,0)),\"\",IF(INDEX('Wikipedia-Alle verhalen'!J:J,MATCH(C136,'Wikipedia-Alle verhalen'!C:C,0))>0,\"Yes\",\"No\"))","v":"Yes"}]
["V110","1976-12-01","De sputterende spuiter",55,"S 01-12-76/09-04-77",8.1649999999999991,null,{"$f":"IF(ISNA(MATCH(C137,'Wikipedia-Alle verhalen'!C:C,0)),\"\",IF(INDEX('Wikipedia-Alle verhalen'!J:J,MATCH(C137,'Wikipedia-Alle verhalen'!C:C,0))>0,\"Yes\",\"No\"))","v":"Yes"}]
["V111","1977-04-01","De Efteling-elfjes",55,"S 13-04-77/23-08-77",8.1679999999999993,null,{"$f":"IF(ISNA(MATCH(C138,'Wikipedia-Alle verhalen'!C:C,0)),\"\",IF(INDEX('Wikipedia-Alle verhalen'!J:J,MATCH(C138,'Wikipedia-Alle verhalen'!C:C,0))>0,\"Yes\",\"No\"))","v":"Yes"}]
["V112","1977-06-01","De olijke olifant",55,"E 77-25/77-27",8.17,null,{"$f":"IF(ISNA(MATCH(C139,'Wikipedia-Alle verhalen'!C:C,0)),\"\",IF(INDEX('Wikipedia-Alle verhalen'!J:J,MATCH(C139,'Wikipedia-Alle verhalen'!C:C,0))>0,\"Yes\",\"No\"))","v":"Yes"}]
["V113","1977-07-01","De lollige lakens",25,"V 5","16.49+4",null,{"$f":"IF(ISNA(MATCH(C140,'Wikipedia-Alle verhalen'!C:C,0)),\"\",IF(INDEX('Wikipedia-Alle verhalen'!J:J,MATCH(C140,'Wikipedia-Alle verhalen'!C:C,0))>0,\"Yes\",\"No\"))","v":"No"}]
["V114","1977-08-01","De amoureuze amazone",55,"S 25-08-77/04-01-78",8.1690000000000005,null,{"$f":"IF(ISNA(MATCH(C141,'Wikipedia-Alle verhalen'!C:C,0)),\"\",IF(INDEX('Wikipedia-Alle verhalen'!J:J,MATCH(C141,'Wikipedia-Alle verhalen'!C:C,0))>0,\"Yes\",\"No\"))","v":"Yes"}]
["V115","1978-01-01","Stilte! De vis bijt",2,null,"Szs : 1.310+56",null,{"$f":"IF(ISNA(MATCH(C142,'Wikipedia-Alle verhalen'!C:C,0)),\"\",IF(INDEX('Wikipedia-Alle verhalen'!J:J,MATCH(C142,'Wikipedia-Alle verhalen'!C:C,0))>0,\"Yes\",\"No\"))","v":""},"Stilte de vis bijt"]
["V116","1978-01-01","Walli de walvis",55,"S 06-01-78/18-05-78",8.1709999999999994,null,{"$f":"IF(ISNA(MATCH(C143,'Wikipedia-Alle verhalen'!C:C,0)),\"\",IF(INDEX('Wikipedia-Alle verhalen'!J:J,MATCH(C143,'Wikipedia-Alle verhalen'!C:C,0))>0,\"Yes\",\"No\"))","v":"Yes"}]
["V117","1978-01-01","De zingende kaars",55,null,8.1669999999999998,null,{"$f":"IF(ISNA(MATCH(C144,'Wikipedia-Alle verhalen'!C:C,0)),\"\",IF(INDEX('Wikipedia-Alle verhalen'!J:J,MATCH(C144,'Wikipedia-Alle verhalen'!C:C,0))>0,\"Yes\",\"No\"))","v":"Yes"}]
["V118","1978-04-01","Het monster van Loch Ness",32,null,"16.52+5",null,{"$f":"IF(ISNA(MATCH(C145,'Wikipedia-Alle verhalen'!C:C,0)),\"\",IF(INDEX('Wikipedia-Alle verhalen'!J:J,MATCH(C145,'Wikipedia-Alle verhalen'!C:C,0))>0,\"Yes\",\"No\"))","v":"No"}]
["V119","1978-05-01","Het drijvende dorp",55,"S 20-05-78/27-09-78",8.173,null,{"$f":"IF(ISNA(MATCH(C146,'Wikipedia-Alle verhalen'!C:C,0)),\"\",IF(INDEX('Wikipedia-Alle verhalen'!J:J,MATCH(C146,'Wikipedia-Alle verhalen'!C:C,0))>0,\"Yes\",\"No\"))","v":"Yes"}]
["V120","1978-06-01","De heikneuters",25,"V 6","16.49+5",null,{"$f":"IF(ISNA(MATCH(C147,'Wikipedia-Alle verhalen'!C:C,0)),\"\",IF(INDEX('Wikipedia-Alle verhalen'!J:J,MATCH(C147,'Wikipedia-Alle verhalen'!C:C,0))>0,\"Yes\",\"No\"))","v":""},"Het geheim van de kalmthoutse heide","Titel als in vakantieboek6 . Idem het geheim van de kalmthoutse heide."]
["V121","1978-07-01","De kadulle Cupido",55,"E 78-28/79-30",8.1750000000000007,null,{"$f":"IF(ISNA(MATCH(C148,'Wikipedia-Alle verhalen'!C:C,0)),\"\",IF(INDEX('Wikipedia-Alle verhalen'!J:J,MATCH(C148,'Wikipedia-Alle verhalen'!C:C,0))>0,\"Yes\",\"No\"))","v":"Yes"}]
["V122","1978-09-01","Het statige standbeeld",55,"S 29-09-78/08-02-79",8.1739999999999995,null,{"$f":"IF(ISNA(MATCH(C149,'Wikipedia-Alle verhalen'!C:C,0)),\"\",IF(INDEX('Wikipedia-Alle verhalen'!J:J,MATCH(C149,'Wikipedia-Alle verhalen'!C:C,0))>0,\"Yes\",\"No\"))","v":"Yes"}]
["V123","1979-02-01","De pompenplanters",55,"S 10-02-79/22-06-79",8.1760000000000002,null,{"$f":"IF(ISNA(MATCH(C150,'Wikipedia-Alle verhalen'!C:C,0)),\"\",IF(INDEX('Wikipedia-Alle verhalen'!J:J,MATCH(C150,'Wikipedia-Alle verhalen'!C:C,0))>0,\"Yes\",\"No\"))","v":"Yes"}]
["V124","1979-03-01","Het laatste dwaallicht",55,null,8.1720000000000006,null,{"$f":"IF(ISNA(MATCH(C151,'Wikipedia-Alle verhalen'!C:C,0)),\"\",IF(INDEX('Wikipedia-Alle verhalen'!J:J,MATCH(C151,'Wikipedia-Alle verhalen'!C:C,0))>0,\"Yes\",\"No\"))","v":"Yes"}]
["V125","1979-06-01","De witte gems",25,"V 7","16.50+4",null,{"$f":"IF(ISNA(MATCH(C152,'Wikipedia-Alle verhalen'!C:C,0)),\"\",IF(INDEX('Wikipedia-Alle verhalen'!J:J,MATCH(C152,'Wikipedia-Alle verhalen'!C:C,0))>0,\"Yes\",\"No\"))","v":"No"}]
["V126","1979-06-01","De adellijke ark",55,"S 25-06-79/02-11-79",8.1769999999999996,null,{"$f":"IF(ISNA(MATCH(C153,'Wikipedia-Alle verhalen'!C:C,0)),\"\",IF(INDEX('Wikipedia-Alle verhalen'!J:J,MATCH(C153,'Wikipedia-Alle verhalen'!C:C,0))>0,\"Yes\",\"No\"))","v":"Yes"}]
["V127","1979-07-01","Het kregelige ketje",55,"E 79-31/80-33",8.18,null,{"$f":"IF(ISNA(MATCH(C154,'Wikipedia-Alle verhalen'!C:C,0)),\"\",IF(INDEX('Wikipedia-Alle verhalen'!J:J,MATCH(C154,'Wikipedia-Alle verhalen'!C:C,0))>0,\"Yes\",\"No\"))","v":"Yes"}]
["V128","1979-11-01","De stoute steenezel",55,"S 05-11-79/12-03-80",8.1780000000000008,null,{"$f":"IF(ISNA(MATCH(C155,'Wikipedia-Alle verhalen'!C:C,0)),\"\",IF(INDEX('Wikipedia-Alle verhalen'!J:J,MATCH(C155,'Wikipedia-Alle verhalen'!C:C,0))>0,\"Yes\",\"No\"))","v":"Yes"}]
["V129","1980-03-01","De Perenprins",55,"S 14-03-80/25-07-80",8.1809999999999992,null,{"$f":"IF(ISNA(MATCH(C156,'Wikipedia-Alle verhalen'!C:C,0)),\"\",IF(INDEX('Wikipedia-Alle verhalen'!J:J,MATCH(C156,'Wikipedia-Alle verhalen'!C:C,0))>0,\"Yes\",\"No\"))","v":"Yes"}]
["V130","1980-06-01","Het verloren zwaard",25,"V 8","16.51+4",null,{"$f":"IF(ISNA(MATCH(C157,'Wikipedia-Alle verhalen'!C:C,0)),\"\",IF(INDEX('Wikipedia-Alle verhalen'!J:J,MATCH(C157,'Wikipedia-Alle verhalen'!C:C,0))>0,\"Yes\",\"No\"))","v":"No"}]
["V131","1980-07-01","De koperen knullen",55,"S 28-07-80/05-12-80",8.1820000000000004,null,{"$f":"IF(ISNA(MATCH(C158,'Wikipedia-Alle verhalen'!C:C,0)),\"\",IF(INDEX('Wikipedia-Alle verhalen'!J:J,MATCH(C158,'Wikipedia-Alle verhalen'!C:C,0))>0,\"Yes\",\"No\"))","v":"Yes"}]
["V132","1980-08-01","De botte botaknol",55,"E 80-34/81-36",8.1850000000000005,null,{"$f":"IF(ISNA(MATCH(C159,'Wikipedia-Alle verhalen'!C:C,0)),\"\",IF(INDEX('Wikipedia-Alle verhalen'!J:J,MATCH(C159,'Wikipedia-Alle verhalen'!C:C,0))>0,\"Yes\",\"No\"))","v":"Yes"}]
["V133","1980-09-01","De windbrekers",55,null,8.1790000000000003,null,{"$f":"IF(ISNA(MATCH(C160,'Wikipedia-Alle verhalen'!C:C,0)),\"\",IF(INDEX('Wikipedia-Alle verhalen'!J:J,MATCH(C160,'Wikipedia-Alle verhalen'!C:C,0))>0,\"Yes\",\"No\"))","v":"Yes"}]
["V134","1980-12-01","De toffe tamboer",55,"S 08-12-80/16-04-81",8.1829999999999998,null,{"$f":"IF(ISNA(MATCH(C161,'Wikipedia-Alle verhalen'!C:C,0)),\"\",IF(INDEX('Wikipedia-Alle verhalen'!J:J,MATCH(C161,'Wikipedia-Alle verhalen'!C:C,0))>0,\"Yes\",\"No\"))","v":"Yes"}]
["V135","1981-04-01","De rosse reus",55,"S 18-04-81/29-08-81",8.1859999999999999,null,{"$f":"IF(ISNA(MATCH(C162,'Wikipedia-Alle verhalen'!C:C,0)),\"\",IF(INDEX('Wikipedia-Alle verhalen'!J:J,MATCH(C162,'Wikipedia-Alle verhalen'!C:C,0))>0,\"Yes\",\"No\"))","v":"Yes"}]
["V136","1981-06-01","De stenen broden",25,"P 81","16.56+4",null,{"$f":"IF(ISNA(MATCH(C163,'Wikipedia-Alle verhalen'!C:C,0)),\"\",IF(INDEX('Wikipedia-Alle verhalen'!J:J,MATCH(C163,'Wikipedia-Alle verhalen'!C:C,0))>0,\"Yes\",\"No\"))","v":"No"}]
["V137","1981-09-01","De droevige duif",55,"S 01-09-81/09-01-82",8.1869999999999994,null,{"$f":"IF(ISNA(MATCH(C164,'Wikipedia-Alle verhalen'!C:C,0)),\"\",IF(INDEX('Wikipedia-Alle verhalen'!J:J,MATCH(C164,'Wikipedia-Alle verhalen'!C:C,0))>0,\"Yes\",\"No\"))","v":"Yes"}]
["V138","1981-09-01","De regenboogprinses",55,null,8.1839999999999993,null,{"$f":"IF(ISNA(MATCH(C165,'Wikipedia-Alle verhalen'!C:C,0)),\"\",IF(INDEX('Wikipedia-Alle verhalen'!J:J,MATCH(C165,'Wikipedia-Alle verhalen'!C:C,0))>0,\"Yes\",\"No\"))","v":"Yes"}]
["V139","1981-09-01","De woelige wadden",55,"E 81-37/82-38",8.19,null,{"$f":"IF(ISNA(MATCH(C166,'Wikipedia-Alle verhalen'!C:C,0)),\"\",IF(INDEX('Wikipedia-Alle verhalen'!J:J,MATCH(C166,'Wikipedia-Alle verhalen'!C:C,0))>0,\"Yes\",\"No\"))","v":"Yes"}]
["V140","1981-01-01","De zilveren appels",25,null,"16.56+5",null,{"$f":"IF(ISNA(MATCH(C167,'Wikipedia-Alle verhalen'!C:C,0)),\"\",IF(INDEX('Wikipedia-Alle verhalen'!J:J,MATCH(C167,'Wikipedia-Alle verhalen'!C:C,0))>0,\"Yes\",\"No\"))","v":"No"}]
["V141","1982-01-01","De belhamel-bende",55,"S 12-01-82/22-05-82",8.1890000000000001,null,{"$f":"IF(ISNA(MATCH(C168,'Wikipedia-Alle verhalen'!C:C,0)),\"\",IF(INDEX('Wikipedia-Alle verhalen'!J:J,MATCH(C168,'Wikipedia-Alle verhalen'!C:C,0))>0,\"Yes\",\"No\"))","v":"Yes"}]
["V142","1982-04-01","De blijde broodeters",30,null,54.9,null,{"$f":"IF(ISNA(MATCH(C169,'Wikipedia-Alle verhalen'!C:C,0)),\"\",IF(INDEX('Wikipedia-Alle verhalen'!J:J,MATCH(C169,'Wikipedia-Alle verhalen'!C:C,0))>0,\"Yes\",\"No\"))","v":"No"}]
["V143","1982-05-01","Het Bretoense broertje",55,"S 25-05-82/01-10-82",8.1920000000000002,null,{"$f":"IF(ISNA(MATCH(C170,'Wikipedia-Alle verhalen'!C:C,0)),\"\",IF(INDEX('Wikipedia-Alle verhalen'!J:J,MATCH(C170,'Wikipedia-Alle verhalen'!C:C,0))>0,\"Yes\",\"No\"))","v":"Yes"}]
["V144","1982-06-01","Het onbekende eiland",24,"P 81","16.52+4",null,{"$f":"IF(ISNA(MATCH(C171,'Wikipedia-Alle verhalen'!C:C,0)),\"\",IF(INDEX('Wikipedia-Alle verhalen'!J:J,MATCH(C171,'Wikipedia-Alle verhalen'!C:C,0))>0,\"Yes\",\"No\"))","v":"No"}]
["V145","1982-09-01","De natte Navajo",55,"E 82-39/83-41",8.1959999999999997,null,{"$f":"IF(ISNA(MATCH(C172,'Wikipedia-Alle verhalen'!C:C,0)),\"\",IF(INDEX('Wikipedia-Alle verhalen'!J:J,MATCH(C172,'Wikipedia-Alle verhalen'!C:C,0))>0,\"Yes\",\"No\"))","v":"Yes"}]
["V146","1982-10-01","De gouden ganzeveer",55,"S 04-10-82/12-02-83",8.1940000000000008,null,{"$f":"IF(ISNA(MATCH(C173,'Wikipedia-Alle verhalen'!C:C,0)),\"\",IF(INDEX('Wikipedia-Alle verhalen'!J:J,MATCH(C173,'Wikipedia-Alle verhalen'!C:C,0))>0,\"Yes\",\"No\"))","v":"Yes"}]
["V147","1900-03-22","Een bij voor jou en mij",null,null,"34.6+1",null,{"$f":"IF(ISNA(MATCH(C174,'Wikipedia-Alle verhalen'!C:C,0)),\"\",IF(INDEX('Wikipedia-Alle verhalen'!J:J,MATCH(C174,'Wikipedia-Alle verhalen'!C:C,0))>0,\"Yes\",\"No\"))","v":"No"}]
["V148","1983-02-01","De hippe heksen",55,"S 15-02-83/25-06-83",8.1950000000000003,null,{"$f":"IF(ISNA(MATCH(C175,'Wikipedia-Alle verhalen'!C:C,0)),\"\",IF(INDEX('Wikipedia-Alle verhalen'!J:J,MATCH(C175,'Wikipedia-Alle verhalen'!C:C,0))>0,\"Yes\",\"No\"))","v":"Yes"}]
["V149","1983-04-01","Beter voor Bert",30,null,"34.8+2",null,{"$f":"IF(ISNA(MATCH(C176,'Wikipedia-Alle verhalen'!C:C,0)),\"\",IF(INDEX('Wikipedia-Alle verhalen'!J:J,MATCH(C176,'Wikipedia-Alle verhalen'!C:C,0))>0,\"Yes\",\"No\"))","v":"No"}]
["V150","1983-05-01","Sprookjesnacht aan zee",25,"P 83","16.38+5",null,{"$f":"IF(ISNA(MATCH(C177,'Wikipedia-Alle verhalen'!C:C,0)),\"\",IF(INDEX('Wikipedia-Alle verhalen'!J:J,MATCH(C177,'Wikipedia-Alle verhalen'!C:C,0))>0,\"Yes\",\"No\"))","v":"No"}]
["V151","1983-06-01","Het Delta duel",55,"S 28-06-83/05-11-83",8.1969999999999992,null,{"$f":"IF(ISNA(MATCH(C178,'Wikipedia-Alle verhalen'!C:C,0)),\"\",IF(INDEX('Wikipedia-Alle verhalen'!J:J,MATCH(C178,'Wikipedia-Alle verhalen'!C:C,0))>0,\"Yes\",\"No\"))","v":"Yes"}]
["V152","1983-10-01","De tamme tumi",55,"E 83-42/84-44",8.1989999999999998,null,{"$f":"IF(ISNA(MATCH(C179,'Wikipedia-Alle verhalen'!C:C,0)),\"\",IF(INDEX('Wikipedia-Alle verhalen'!J:J,MATCH(C179,'Wikipedia-Alle verhalen'!C:C,0))>0,\"Yes\",\"No\"))","v":"Yes"}]
["V153","1983-11-01","De lieve Lilleham",55,"S 08-11-83/15-03-84",8.1980000000000004,null,{"$f":"IF(ISNA(MATCH(C180,'Wikipedia-Alle verhalen'!C:C,0)),\"\",IF(INDEX('Wikipedia-Alle verhalen'!J:J,MATCH(C180,'Wikipedia-Alle verhalen'!C:C,0))>0,\"Yes\",\"No\"))","v":"Yes"}]
["V154","1984-03-01","Amoris van Amoras",55,"S 17-03-84/28-07-84",8.1999999999999993,null,{"$f":"IF(ISNA(MATCH(C181,'Wikipedia-Alle verhalen'!C:C,0)),\"\",IF(INDEX('Wikipedia-Alle verhalen'!J:J,MATCH(C181,'Wikipedia-Alle verhalen'!C:C,0))>0,\"Yes\",\"No\"))","v":"Yes"}]
["V155","1984-05-01","De bevende berken",32,"V 1","16.51+5",null,{"$f":"IF(ISNA(MATCH(C182,'Wikipedia-Alle verhalen'!C:C,0)),\"\",IF(INDEX('Wikipedia-Alle verhalen'!J:J,MATCH(C182,'Wikipedia-Alle verhalen'!C:C,0))>0,\"Yes\",\"No\"))","v":"No"}]
["V156","1984-07-01","Het dreigende dinges",55,"S 31-07-84/07-12-84",8.2010000000000005,null,{"$f":"IF(ISNA(MATCH(C183,'Wikipedia-Alle verhalen'!C:C,0)),\"\",IF(INDEX('Wikipedia-Alle verhalen'!J:J,MATCH(C183,'Wikipedia-Alle verhalen'!C:C,0))>0,\"Yes\",\"No\"))","v":"Yes"}]
["V157","1984-11-01","De kattige kat",55,"E 84-45/85-47",8.2050000000000001,null,{"$f":"IF(ISNA(MATCH(C184,'Wikipedia-Alle verhalen'!C:C,0)),\"\",IF(INDEX('Wikipedia-Alle verhalen'!J:J,MATCH(C184,'Wikipedia-Alle verhalen'!C:C,0))>0,\"Yes\",\"No\"))","v":"Yes"}]
["V158","1984-12-01","Angst op de Amsterdam",55,"S 10-12-84/19-04-85",8.202,null,"ok"]
["V159","1985-02-01","De tandentikkers",29,null,54.16,null,{"$f":"IF(ISNA(MATCH(C186,'Wikipedia-Alle verhalen'!C:C,0)),\"\",IF(INDEX('Wikipedia-Alle verhalen'!J:J,MATCH(C186,'Wikipedia-Alle verhalen'!C:C,0))>0,\"Yes\",\"No\"))","v":"No"}]
["V160","1985-04-01","De mooie millirem",55,"S 22-04-85/31-08-85",8.2040000000000006,null,{"$f":"IF(ISNA(MATCH(C187,'Wikipedia-Alle verhalen'!C:C,0)),\"\",IF(INDEX('Wikipedia-Alle verhalen'!J:J,MATCH(C187,'Wikipedia-Alle verhalen'!C:C,0))>0,\"Yes\",\"No\"))","v":"Yes"}]
["V161","1985-09-01","De ruige regen",55,null,8.2029999999999994,null,{"$f":"IF(ISNA(MATCH(C188,'Wikipedia-Alle verhalen'!C:C,0)),\"\",IF(INDEX('Wikipedia-Alle verhalen'!J:J,MATCH(C188,'Wikipedia-Alle verhalen'!C:C,0))>0,\"Yes\",\"No\"))","v":"Yes"}]
["V162","1985-09-01","De bonkige baarden",55,"S 03-09-85/13-01-86",8.2059999999999995,null,{"$f":"IF(ISNA(MATCH(C189,'Wikipedia-Alle verhalen'!C:C,0)),\"\",IF(INDEX('Wikipedia-Alle verhalen'!J:J,MATCH(C189,'Wikipedia-Alle verhalen'!C:C,0))>0,\"Yes\",\"No\"))","v":"Yes"}]
["V163","1985-11-01","De kwaaie kwieten",55,"E 85-48/86-50",8.2089999999999996,null,{"$f":"IF(ISNA(MATCH(C190,'Wikipedia-Alle verhalen'!C:C,0)),\"\",IF(INDEX('Wikipedia-Alle verhalen'!J:J,MATCH(C190,'Wikipedia-Alle verhalen'!C:C,0))>0,\"Yes\",\"No\"))","v":"Yes"}]
["V164","1985-12-01","De Tiroolse Trawanten",3,"F 85","16.38+6",null,{"$f":"IF(ISNA(MATCH(C191,'Wikipedia-Alle verhalen'!C:C,0)),\"\",IF(INDEX('Wikipedia-Alle verhalen'!J:J,MATCH(C191,'Wikipedia-Alle verhalen'!C:C,0))>0,\"Yes\",\"No\"))","v":"No"}]
["V165","1986-01-01","De glanzende gletsjer",55,"S 15-01-86/27-05-86",8.2070000000000007,null,{"$f":"IF(ISNA(MATCH(C192,'Wikipedia-Alle verhalen'!C:C,0)),\"\",IF(INDEX('Wikipedia-Alle verhalen'!J:J,MATCH(C192,'Wikipedia-Alle verhalen'!C:C,0))>0,\"Yes\",\"No\"))","v":"Yes"}]
["V166","1986-02-01","Sony-San",32,null,54.18,null,{"$f":"IF(ISNA(MATCH(C193,'Wikipedia-Alle verhalen'!C:C,0)),\"\",IF(INDEX('Wikipedia-Alle verhalen'!J:J,MATCH(C193,'Wikipedia-Alle verhalen'!C:C,0))>0,\"Yes\",\"No\"))","v":"No"}]
["V167","1986-05-01","De hellegathonden",55,"S 29-05-86/06-10-86",8.2080000000000002,null,{"$f":"IF(ISNA(MATCH(C194,'Wikipedia-Alle verhalen'!C:C,0)),\"\",IF(INDEX('Wikipedia-Alle verhalen'!J:J,MATCH(C194,'Wikipedia-Alle verhalen'!C:C,0))>0,\"Yes\",\"No\"))","v":"Yes"}]
["V168","1986-06-01","Tegen de ZZZ",9,"F 86","16.38+7",null,{"$f":"IF(ISNA(MATCH(C195,'Wikipedia-Alle verhalen'!C:C,0)),\"\",IF(INDEX('Wikipedia-Alle verhalen'!J:J,MATCH(C195,'Wikipedia-Alle verhalen'!C:C,0))>0,\"Yes\",\"No\"))","v":"No"},"Suske en wiske tegen de zzz"]
["V169","1986-10-01","De jolige joffer",55,"S 08-10-86/17-02-87",8.2100000000000009,null,{"$f":"IF(ISNA(MATCH(C196,'Wikipedia-Alle verhalen'!C:C,0)),\"\",IF(INDEX('Wikipedia-Alle verhalen'!J:J,MATCH(C196,'Wikipedia-Alle verhalen'!C:C,0))>0,\"Yes\",\"No\"))","v":"Yes"}]
["V170","1986-12-01","De eenzame eenhoorn",53,"E 86-51/87-50",8.2129999999999992,null,{"$f":"IF(ISNA(MATCH(C197,'Wikipedia-Alle verhalen'!C:C,0)),\"\",IF(INDEX('Wikipedia-Alle verhalen'!J:J,MATCH(C197,'Wikipedia-Alle verhalen'!C:C,0))>0,\"Yes\",\"No\"))","v":"Yes"}]
["V171","1987-01-01","De parel in de lotusbloem",55,null,8.2140000000000004,null,{"$f":"IF(ISNA(MATCH(C198,'Wikipedia-Alle verhalen'!C:C,0)),\"\",IF(INDEX('Wikipedia-Alle verhalen'!J:J,MATCH(C198,'Wikipedia-Alle verhalen'!C:C,0))>0,\"Yes\",\"No\"))","v":"Yes"}]
["V172","1987-02-01","De woeste wespen",53,"S 19-02-87/26-06-87",8.2110000000000003,null,{"$f":"IF(ISNA(MATCH(C199,'Wikipedia-Alle verhalen'!C:C,0)),\"\",IF(INDEX('Wikipedia-Alle verhalen'!J:J,MATCH(C199,'Wikipedia-Alle verhalen'!C:C,0))>0,\"Yes\",\"No\"))","v":"Yes"}]
["V173","1987-04-01","Witte zwanen zwarte zwanen",{"$f":"188/4","v":47},null,"16.38+3",null,{"$f":"IF(ISNA(MATCH(C200,'Wikipedia-Alle verhalen'!C:C,0)),\"\",IF(INDEX('Wikipedia-Alle verhalen'!J:J,MATCH(C200,'Wikipedia-Alle verhalen'!C:C,0))>0,\"Yes\",\"No\"))","v":"No"}]
["V174","1987-06-01","De edele elfen",53,"S 29-06-87/31-10-87",8.2119999999999997,null,{"$f":"IF(ISNA(MATCH(C201,'Wikipedia-Alle verhalen'!C:C,0)),\"\",IF(INDEX('Wikipedia-Alle verhalen'!J:J,MATCH(C201,'Wikipedia-Alle verhalen'!C:C,0))>0,\"Yes\",\"No\"))","v":"Yes"}]
["V175","1987-11-01","De Krimson-crisis",55,"S 03-11-87/13-03-88",8.2149999999999999,null,{"$f":"IF(ISNA(MATCH(C202,'Wikipedia-Alle verhalen'!C:C,0)),\"\",IF(INDEX('Wikipedia-Alle verhalen'!J:J,MATCH(C202,'Wikipedia-Alle verhalen'!C:C,0))>0,\"Yes\",\"No\"))","v":"Yes"}]
["V176","1987-12-01","De krachtige krans",55,"E 87-51/89-1",8.218,null,{"$f":"IF(ISNA(MATCH(C203,'Wikipedia-Alle verhalen'!C:C,0)),\"\",IF(INDEX('Wikipedia-Alle verhalen'!J:J,MATCH(C203,'Wikipedia-Alle verhalen'!C:C,0))>0,\"Yes\",\"No\"))","v":"Yes"}]
["V177","1987-01-01","Wijkcomité voor de armen",1,null,"Szs : 1.314+21",null,{"$f":"IF(ISNA(MATCH(C204,'Wikipedia-Alle verhalen'!C:C,0)),\"\",IF(INDEX('Wikipedia-Alle verhalen'!J:J,MATCH(C204,'Wikipedia-Alle verhalen'!C:C,0))>0,\"Yes\",\"No\"))","v":""},"wie geeft wat hij heeft"]
["V178","1988-02-01","Fata Morgana",45,null,"16.38+2",null,{"$f":"IF(ISNA(MATCH(C205,'Wikipedia-Alle verhalen'!C:C,0)),\"\",IF(INDEX('Wikipedia-Alle verhalen'!J:J,MATCH(C205,'Wikipedia-Alle verhalen'!C:C,0))>0,\"Yes\",\"No\"))","v":"No"}]
["V179","1988-03-01","De dappere duinduikers",28,"S 15-03-88/20-05-88","16.43+5",null,{"$f":"IF(ISNA(MATCH(C206,'Wikipedia-Alle verhalen'!C:C,0)),\"\",IF(INDEX('Wikipedia-Alle verhalen'!J:J,MATCH(C206,'Wikipedia-Alle verhalen'!C:C,0))>0,\"Yes\",\"No\"))","v":"No"}]
["V180","1988-05-01","De komieke Coco",55,"S 24-05-88/30-09-88",8.2170000000000005,null,{"$f":"IF(ISNA(MATCH(C207,'Wikipedia-Alle verhalen'!C:C,0)),\"\",IF(INDEX('Wikipedia-Alle verhalen'!J:J,MATCH(C207,'Wikipedia-Alle verhalen'!C:C,0))>0,\"Yes\",\"No\"))","v":"Yes"}]
["V181","1988-10-01","De wervelende waterzak",55,null,8.2159999999999993,null,{"$f":"IF(ISNA(MATCH(C208,'Wikipedia-Alle verhalen'!C:C,0)),\"\",IF(INDEX('Wikipedia-Alle verhalen'!J:J,MATCH(C208,'Wikipedia-Alle verhalen'!C:C,0))>0,\"Yes\",\"No\"))","v":"Yes"}]
["V182","1988-10-01","De speelgoedspiegel",55,"S 03-10-88/09-02-89",8.2189999999999994,null,{"$f":"IF(ISNA(MATCH(C209,'Wikipedia-Alle verhalen'!C:C,0)),\"\",IF(INDEX('Wikipedia-Alle verhalen'!J:J,MATCH(C209,'Wikipedia-Alle verhalen'!C:C,0))>0,\"Yes\",\"No\"))","v":"Yes"}]
["V183","1989-01-01","De kleurenkladder",55,"E 89-2/90-4",8.2230000000000008,null,{"$f":"IF(ISNA(MATCH(C210,'Wikipedia-Alle verhalen'!C:C,0)),\"\",IF(INDEX('Wikipedia-Alle verhalen'!J:J,MATCH(C210,'Wikipedia-Alle verhalen'!C:C,0))>0,\"Yes\",\"No\"))","v":"Yes"}]
["V184","1989-01-01","Het gouden kuipje",29,null,54.23,null,{"$f":"IF(ISNA(MATCH(C211,'Wikipedia-Alle verhalen'!C:C,0)),\"\",IF(INDEX('Wikipedia-Alle verhalen'!J:J,MATCH(C211,'Wikipedia-Alle verhalen'!C:C,0))>0,\"Yes\",\"No\"))","v":"No"}]
["V185","1989-02-01","Sagarmatha",55,"S 11-02-89/23-06-89",8.2200000000000006,null,{"$f":"IF(ISNA(MATCH(C212,'Wikipedia-Alle verhalen'!C:C,0)),\"\",IF(INDEX('Wikipedia-Alle verhalen'!J:J,MATCH(C212,'Wikipedia-Alle verhalen'!C:C,0))>0,\"Yes\",\"No\"))","v":"Yes"}]
["V186","1989-06-01","Bosspel",6,"FB 89","16.41+5",null,{"$f":"IF(ISNA(MATCH(C213,'Wikipedia-Alle verhalen'!C:C,0)),\"\",IF(INDEX('Wikipedia-Alle verhalen'!J:J,MATCH(C213,'Wikipedia-Alle verhalen'!C:C,0))>0,\"Yes\",\"No\"))","v":"No"}]
["V187","1989-06-01","De bezeten bezitter",55,"S 26-06-89/03-11-89",8.2219999999999995,null,{"$f":"IF(ISNA(MATCH(C214,'Wikipedia-Alle verhalen'!C:C,0)),\"\",IF(INDEX('Wikipedia-Alle verhalen'!J:J,MATCH(C214,'Wikipedia-Alle verhalen'!C:C,0))>0,\"Yes\",\"No\"))","v":"Yes"}]
["V188","1989-09-01","De rinoramp",55,null,8.2210000000000001,null,{"$f":"IF(ISNA(MATCH(C215,'Wikipedia-Alle verhalen'!C:C,0)),\"\",IF(INDEX('Wikipedia-Alle verhalen'!J:J,MATCH(C215,'Wikipedia-Alle verhalen'!C:C,0))>0,\"Yes\",\"No\"))","v":"Yes"}]
["V189","1989-11-01","De kleine postruiter",55,"S 06-11-89/16-03-90",8.2240000000000002,null,{"$f":"IF(ISNA(MATCH(C216,'Wikipedia-Alle verhalen'!C:C,0)),\"\",IF(INDEX('Wikipedia-Alle verhalen'!J:J,MATCH(C216,'Wikipedia-Alle verhalen'!C:C,0))>0,\"Yes\",\"No\"))","v":"Yes"}]
["V190","1990-01-01","De gouden friet",16,null,54.24,null,{"$f":"IF(ISNA(MATCH(C217,'Wikipedia-Alle verhalen'!C:C,0)),\"\",IF(INDEX('Wikipedia-Alle verhalen'!J:J,MATCH(C217,'Wikipedia-Alle verhalen'!C:C,0))>0,\"Yes\",\"No\"))","v":"No"}]
["V191","1990-01-01","Het witte wief",55,"E 90-5/91-7",8.2270000000000003,null,{"$f":"IF(ISNA(MATCH(C218,'Wikipedia-Alle verhalen'!C:C,0)),\"\",IF(INDEX('Wikipedia-Alle verhalen'!J:J,MATCH(C218,'Wikipedia-Alle verhalen'!C:C,0))>0,\"Yes\",\"No\"))","v":"Yes"}]
["V192","1990-03-01","De goalgetter",47,"S 19-03-90/10-07-90",8.2249999999999996,null,{"$f":"IF(ISNA(MATCH(C219,'Wikipedia-Alle verhalen'!C:C,0)),\"\",IF(INDEX('Wikipedia-Alle verhalen'!J:J,MATCH(C219,'Wikipedia-Alle verhalen'!C:C,0))>0,\"Yes\",\"No\"))","v":"Yes"}]
["V193","1990-06-01","Knokken in Knossos",23,"FB 90","16.38+4",null,{"$f":"IF(ISNA(MATCH(C220,'Wikipedia-Alle verhalen'!C:C,0)),\"\",IF(INDEX('Wikipedia-Alle verhalen'!J:J,MATCH(C220,'Wikipedia-Alle verhalen'!C:C,0))>0,\"Yes\",\"No\"))","v":"No"}]
["V194","1990-07-01","De mysterieuze mijn",47,"S 12-07-90/31-10-90",8.2260000000000009,null,{"$f":"IF(ISNA(MATCH(C221,'Wikipedia-Alle verhalen'!C:C,0)),\"\",IF(INDEX('Wikipedia-Alle verhalen'!J:J,MATCH(C221,'Wikipedia-Alle verhalen'!C:C,0))>0,\"Yes\",\"No\"))","v":"Yes"}]
["V195","1990-11-01","Het wondere wolfje",47,"S 03-11-90/22-02-91",8.2279999999999998,null,{"$f":"IF(ISNA(MATCH(C222,'Wikipedia-Alle verhalen'!C:C,0)),\"\",IF(INDEX('Wikipedia-Alle verhalen'!J:J,MATCH(C222,'Wikipedia-Alle verhalen'!C:C,0))>0,\"Yes\",\"No\"))","v":"Yes"}]
["V196","1991-02-01","De scherpe schorpioen",47,"E 91-8/92-2",8.2309999999999999,null,{"$f":"IF(ISNA(MATCH(C223,'Wikipedia-Alle verhalen'!C:C,0)),\"\",IF(INDEX('Wikipedia-Alle verhalen'!J:J,MATCH(C223,'Wikipedia-Alle verhalen'!C:C,0))>0,\"Yes\",\"No\"))","v":"Yes"}]
["V197","1991-02-01","Tazuur en Tazijn",47,"S 25-02-91/18-06-91",8.2289999999999992,null,{"$f":"IF(ISNA(MATCH(C224,'Wikipedia-Alle verhalen'!C:C,0)),\"\",IF(INDEX('Wikipedia-Alle verhalen'!J:J,MATCH(C224,'Wikipedia-Alle verhalen'!C:C,0))>0,\"Yes\",\"No\"))","v":"Yes"}]
["V198","1991-06-01","Spruiten voor Sprotje",23,"FB 91","16.42+5",null,{"$f":"IF(ISNA(MATCH(C225,'Wikipedia-Alle verhalen'!C:C,0)),\"\",IF(INDEX('Wikipedia-Alle verhalen'!J:J,MATCH(C225,'Wikipedia-Alle verhalen'!C:C,0))>0,\"Yes\",\"No\"))","v":"No"}]
["V199","1991-07-01","Lambik Baba",47,"S 20-07-91/09-10-91",8.23,null,{"$f":"IF(ISNA(MATCH(C226,'Wikipedia-Alle verhalen'!C:C,0)),\"\",IF(INDEX('Wikipedia-Alle verhalen'!J:J,MATCH(C226,'Wikipedia-Alle verhalen'!C:C,0))>0,\"Yes\",\"No\"))","v":"Yes"}]
["V200","1991-10-01","De Tootootjes",47,"S 11-10-91/01-02-92",8.2319999999999993,null,{"$f":"IF(ISNA(MATCH(C227,'Wikipedia-Alle verhalen'!C:C,0)),\"\",IF(INDEX('Wikipedia-Alle verhalen'!J:J,MATCH(C227,'Wikipedia-Alle verhalen'!C:C,0))>0,\"Yes\",\"No\"))","v":"Yes"}]
["V201","1992-01-01","De krakende Carcas",47,"E 92-3/92-49",8.2349999999999994,null,{"$f":"IF(ISNA(MATCH(C228,'Wikipedia-Alle verhalen'!C:C,0)),\"\",IF(INDEX('Wikipedia-Alle verhalen'!J:J,MATCH(C228,'Wikipedia-Alle verhalen'!C:C,0))>0,\"Yes\",\"No\"))","v":"Yes"}]
["V202","1992-02-01","De klinkende klokken",47,"S 04-02-92/26-05-92",8.2330000000000005,null,{"$f":"IF(ISNA(MATCH(C229,'Wikipedia-Alle verhalen'!C:C,0)),\"\",IF(INDEX('Wikipedia-Alle verhalen'!J:J,MATCH(C229,'Wikipedia-Alle verhalen'!C:C,0))>0,\"Yes\",\"No\"))","v":"Yes"}]
["V203","1992-02-01","Pezige Peekaah",23,"HC 27-02-92/21-04-92","16.47+5",null,{"$f":"IF(ISNA(MATCH(C230,'Wikipedia-Alle verhalen'!C:C,0)),\"\",IF(INDEX('Wikipedia-Alle verhalen'!J:J,MATCH(C230,'Wikipedia-Alle verhalen'!C:C,0))>0,\"Yes\",\"No\"))","v":""},"Pezige Peekah"]
["V204","1992-05-01","Het kristallen kasteel",47,"S 29-05-92/18-09-92",8.234,null,{"$f":"IF(ISNA(MATCH(C231,'Wikipedia-Alle verhalen'!C:C,0)),\"\",IF(INDEX('Wikipedia-Alle verhalen'!J:J,MATCH(C231,'Wikipedia-Alle verhalen'!C:C,0))>0,\"Yes\",\"No\"))","v":"Yes"}]
["V205","1992-09-01","De gulden harpoen",47,"S 21-09-92/11-01-93",8.2360000000000007,null,{"$f":"IF(ISNA(MATCH(C232,'Wikipedia-Alle verhalen'!C:C,0)),\"\",IF(INDEX('Wikipedia-Alle verhalen'!J:J,MATCH(C232,'Wikipedia-Alle verhalen'!C:C,0))>0,\"Yes\",\"No\"))","v":"Yes"}]
["V206","1992-12-01","De stervende ster",47,"E 92-50/93-43",8.2390000000000008,null,{"$f":"IF(ISNA(MATCH(C233,'Wikipedia-Alle verhalen'!C:C,0)),\"\",IF(INDEX('Wikipedia-Alle verhalen'!J:J,MATCH(C233,'Wikipedia-Alle verhalen'!C:C,0))>0,\"Yes\",\"No\"))","v":"Yes"}]
["V207","1993-01-01","De snikkende sirene",47,"S 13-01-93/04-05-93",8.2370000000000001,null,{"$f":"IF(ISNA(MATCH(C234,'Wikipedia-Alle verhalen'!C:C,0)),\"\",IF(INDEX('Wikipedia-Alle verhalen'!J:J,MATCH(C234,'Wikipedia-Alle verhalen'!C:C,0))>0,\"Yes\",\"No\"))","v":"Yes"}]
["V208","1993-03-01","De macabere Macralles",23,"FB 96","16.48+5",null,{"$f":"IF(ISNA(MATCH(C235,'Wikipedia-Alle verhalen'!C:C,0)),\"\",IF(INDEX('Wikipedia-Alle verhalen'!J:J,MATCH(C235,'Wikipedia-Alle verhalen'!C:C,0))>0,\"Yes\",\"No\"))","v":"No"}]
["V209","1993-05-01","De slimme slapjanus",47,"S 06-05-93/28-08-93",8.2379999999999995,null,{"$f":"IF(ISNA(MATCH(C236,'Wikipedia-Alle verhalen'!C:C,0)),\"\",IF(INDEX('Wikipedia-Alle verhalen'!J:J,MATCH(C236,'Wikipedia-Alle verhalen'!C:C,0))>0,\"Yes\",\"No\"))","v":"Yes"}]
["V210","1993-06-01","De Galapagos gassen",23,"FB 93","16.47+4",null,{"$f":"IF(ISNA(MATCH(C237,'Wikipedia-Alle verhalen'!C:C,0)),\"\",IF(INDEX('Wikipedia-Alle verhalen'!J:J,MATCH(C237,'Wikipedia-Alle verhalen'!C:C,0))>0,\"Yes\",\"No\"))","v":""},"De Galapagosgassen"]
["V211","1993-08-01","De pottenproever",47,"S 31-08-93/20-12-93",8.24,null,{"$f":"IF(ISNA(MATCH(C238,'Wikipedia-Alle verhalen'!C:C,0)),\"\",IF(INDEX('Wikipedia-Alle verhalen'!J:J,MATCH(C238,'Wikipedia-Alle verhalen'!C:C,0))>0,\"Yes\",\"No\"))","v":"Yes"}]
["V212","1993-11-01","De averechtse aap",47,"E 93-44/94-38",8.2430000000000003,null,{"$f":"IF(ISNA(MATCH(C239,'Wikipedia-Alle verhalen'!C:C,0)),\"\",IF(INDEX('Wikipedia-Alle verhalen'!J:J,MATCH(C239,'Wikipedia-Alle verhalen'!C:C,0))>0,\"Yes\",\"No\"))","v":"Yes"}]
["V213","1993-12-01","Het Aruba-dossier",47,"S 22-12-93/13-04-94",8.2409999999999997,null,{"$f":"IF(ISNA(MATCH(C240,'Wikipedia-Alle verhalen'!C:C,0)),\"\",IF(INDEX('Wikipedia-Alle verhalen'!J:J,MATCH(C240,'Wikipedia-Alle verhalen'!C:C,0))>0,\"Yes\",\"No\"))","v":"Yes"}]
["V214","1994-04-01","Tokapua toraja",47,"S 15-04-94/05-08-94",8.2420000000000009,null,{"$f":"IF(ISNA(MATCH(C241,'Wikipedia-Alle verhalen'!C:C,0)),\"\",IF(INDEX('Wikipedia-Alle verhalen'!J:J,MATCH(C241,'Wikipedia-Alle verhalen'!C:C,0))>0,\"Yes\",\"No\"))","v":"Yes"}]
["V215","1994-06-01","De mollige marmotten",23,"FB 94","16.48+4",null,{"$f":"IF(ISNA(MATCH(C242,'Wikipedia-Alle verhalen'!C:C,0)),\"\",IF(INDEX('Wikipedia-Alle verhalen'!J:J,MATCH(C242,'Wikipedia-Alle verhalen'!C:C,0))>0,\"Yes\",\"No\"))","v":"No"}]
["V216","1994-08-01","De begeerde berg",47,"S 08-08-94/28-11-94",8.2439999999999998,null,{"$f":"IF(ISNA(MATCH(C243,'Wikipedia-Alle verhalen'!C:C,0)),\"\",IF(INDEX('Wikipedia-Alle verhalen'!J:J,MATCH(C243,'Wikipedia-Alle verhalen'!C:C,0))>0,\"Yes\",\"No\"))","v":"Yes"}]
["V217","1994-09-01","De vonkende vuurman",47,"E 94-39/95",8.2460000000000004,null,{"$f":"IF(ISNA(MATCH(C244,'Wikipedia-Alle verhalen'!C:C,0)),\"\",IF(INDEX('Wikipedia-Alle verhalen'!J:J,MATCH(C244,'Wikipedia-Alle verhalen'!C:C,0))>0,\"Yes\",\"No\"))","v":"Yes"}]
["V218","1994-12-01","De 7 Schaken",{"$f":"79*0+312/4","v":78},"S 03-12-94/06-06-94",8.2449999999999992,null,{"$f":"IF(ISNA(MATCH(C245,'Wikipedia-Alle verhalen'!C:C,0)),\"\",IF(INDEX('Wikipedia-Alle verhalen'!J:J,MATCH(C245,'Wikipedia-Alle verhalen'!C:C,0))>0,\"Yes\",\"No\"))","v":"Yes"}]
["V219","1995-05-01","50 Jaar-Suske en Wiske - Geschiedenis in strip",16,"FB 95","16.46+1",null,{"$f":"IF(ISNA(MATCH(C246,'Wikipedia-Alle verhalen'!C:C,0)),\"\",IF(INDEX('Wikipedia-Alle verhalen'!J:J,MATCH(C246,'Wikipedia-Alle verhalen'!C:C,0))>0,\"Yes\",\"No\"))","v":""},"Geschiedenis in de strip"]
["V220","1995-06-01","Het kostbare kader",47,"S 08-06-95/27-09-95",8.2469999999999999,null,{"$f":"IF(ISNA(MATCH(C247,'Wikipedia-Alle verhalen'!C:C,0)),\"\",IF(INDEX('Wikipedia-Alle verhalen'!J:J,MATCH(C247,'Wikipedia-Alle verhalen'!C:C,0))>0,\"Yes\",\"No\"))","v":"Yes"}]
["V221","1995-08-01","De razende race",47,"E 95/96",8.2490000000000006,null,{"$f":"IF(ISNA(MATCH(C248,'Wikipedia-Alle verhalen'!C:C,0)),\"\",IF(INDEX('Wikipedia-Alle verhalen'!J:J,MATCH(C248,'Wikipedia-Alle verhalen'!C:C,0))>0,\"Yes\",\"No\"))","v":"Yes"}]
["V222","1995-09-01","Robotkop",47,"S 29-09-95/20-01-96",8.2479999999999993,null,{"$f":"IF(ISNA(MATCH(C249,'Wikipedia-Alle verhalen'!C:C,0)),\"\",IF(INDEX('Wikipedia-Alle verhalen'!J:J,MATCH(C249,'Wikipedia-Alle verhalen'!C:C,0))>0,\"Yes\",\"No\"))","v":"Yes"}]
["V223","1996-01-01","Het Grote Gat",47,"S 23-01-96/13-05-96",8.25,null,{"$f":"IF(ISNA(MATCH(C250,'Wikipedia-Alle verhalen'!C:C,0)),\"\",IF(INDEX('Wikipedia-Alle verhalen'!J:J,MATCH(C250,'Wikipedia-Alle verhalen'!C:C,0))>0,\"Yes\",\"No\"))","v":"Yes"}]
["V224","1996-05-01","De verraderlijke Vinson",47,"S 15-05-96/05-09-96",8.2509999999999994,null,{"$f":"IF(ISNA(MATCH(C251,'Wikipedia-Alle verhalen'!C:C,0)),\"\",IF(INDEX('Wikipedia-Alle verhalen'!J:J,MATCH(C251,'Wikipedia-Alle verhalen'!C:C,0))>0,\"Yes\",\"No\"))","v":"Yes"}]
["V225","1996-07-01","Prachtige Pjotr",47,"E 96/97",8.2530000000000001,null,{"$f":"IF(ISNA(MATCH(C252,'Wikipedia-Alle verhalen'!C:C,0)),\"\",IF(INDEX('Wikipedia-Alle verhalen'!J:J,MATCH(C252,'Wikipedia-Alle verhalen'!C:C,0))>0,\"Yes\",\"No\"))","v":"Yes"}]
["V226","1996-09-01","Volle maan",47,"S 07-09-96/19-04-97",8.2520000000000007,null,{"$f":"IF(ISNA(MATCH(C253,'Wikipedia-Alle verhalen'!C:C,0)),\"\",IF(INDEX('Wikipedia-Alle verhalen'!J:J,MATCH(C253,'Wikipedia-Alle verhalen'!C:C,0))>0,\"Yes\",\"No\"))","v":"Yes"}]
["V227","1996-12-01","Tex en Terry",47,"S 31-12-96/21-04-97",8.2539999999999996,null,{"$f":"IF(ISNA(MATCH(C254,'Wikipedia-Alle verhalen'!C:C,0)),\"\",IF(INDEX('Wikipedia-Alle verhalen'!J:J,MATCH(C254,'Wikipedia-Alle verhalen'!C:C,0))>0,\"Yes\",\"No\"))","v":"Yes"}]
["V228","1997-04-01","De mompelende mummie",47,"S 23-04-97/14-08-97",8.2550000000000008,null,{"$f":"IF(ISNA(MATCH(C255,'Wikipedia-Alle verhalen'!C:C,0)),\"\",IF(INDEX('Wikipedia-Alle verhalen'!J:J,MATCH(C255,'Wikipedia-Alle verhalen'!C:C,0))>0,\"Yes\",\"No\"))","v":"Yes"}]
["V229","1997-07-01","De gevederde slang",47,"E 07-97/06-98",8.2579999999999991,null,{"$f":"IF(ISNA(MATCH(C256,'Wikipedia-Alle verhalen'!C:C,0)),\"\",IF(INDEX('Wikipedia-Alle verhalen'!J:J,MATCH(C256,'Wikipedia-Alle verhalen'!C:C,0))>0,\"Yes\",\"No\"))","v":"Yes"}]
["V230","1997-08-01","De vogels der Goden",47,"S 18-08-97/06-12-97",8.2560000000000002,null,{"$f":"IF(ISNA(MATCH(C257,'Wikipedia-Alle verhalen'!C:C,0)),\"\",IF(INDEX('Wikipedia-Alle verhalen'!J:J,MATCH(C257,'Wikipedia-Alle verhalen'!C:C,0))>0,\"Yes\",\"No\"))","v":"Yes"}]
["V231","1997-12-01","Amber",47,"S 09-12-97/30-03-98",8.2590000000000003,null,{"$f":"IF(ISNA(MATCH(C258,'Wikipedia-Alle verhalen'!C:C,0)),\"\",IF(INDEX('Wikipedia-Alle verhalen'!J:J,MATCH(C258,'Wikipedia-Alle verhalen'!C:C,0))>0,\"Yes\",\"No\"))","v":"Yes"}]
["V232","1998-04-01","De rebelse Reinaert",46,"S 01-04-98/08-98",8.2569999999999997,null,{"$f":"IF(ISNA(MATCH(C259,'Wikipedia-Alle verhalen'!C:C,0)),\"\",IF(INDEX('Wikipedia-Alle verhalen'!J:J,MATCH(C259,'Wikipedia-Alle verhalen'!C:C,0))>0,\"Yes\",\"No\"))","v":"Yes"}]
["V233","1998-04-01","Het berenbeklag",46,"E 04-98/03-99",8.2609999999999992,null,{"$f":"IF(ISNA(MATCH(C260,'Wikipedia-Alle verhalen'!C:C,0)),\"\",IF(INDEX('Wikipedia-Alle verhalen'!J:J,MATCH(C260,'Wikipedia-Alle verhalen'!C:C,0))>0,\"Yes\",\"No\"))","v":"Yes"}]
["V234","1998-08-01","De bonte bollen",46,"S 08-98/09-11-98",8.26,null,{"$f":"IF(ISNA(MATCH(C261,'Wikipedia-Alle verhalen'!C:C,0)),\"\",IF(INDEX('Wikipedia-Alle verhalen'!J:J,MATCH(C261,'Wikipedia-Alle verhalen'!C:C,0))>0,\"Yes\",\"No\"))","v":"Yes"}]
["V235","1998-11-01","Het enge eiland",46,"S 12-11-98/01-03-99",8.2620000000000005,null,{"$f":"IF(ISNA(MATCH(C262,'Wikipedia-Alle verhalen'!C:C,0)),\"\",IF(INDEX('Wikipedia-Alle verhalen'!J:J,MATCH(C262,'Wikipedia-Alle verhalen'!C:C,0))>0,\"Yes\",\"No\"))","v":"Yes"}]
["V236","1999-03-01","Het verdronken land",46,"S 03-03-99/22-06-99",8.2629999999999999,null,{"$f":"IF(ISNA(MATCH(C263,'Wikipedia-Alle verhalen'!C:C,0)),\"\",IF(INDEX('Wikipedia-Alle verhalen'!J:J,MATCH(C263,'Wikipedia-Alle verhalen'!C:C,0))>0,\"Yes\",\"No\"))","v":"Yes"}]
["V237","1999-03-01","Papa Razzi",46,"E 03-99/02-00",8.2650000000000006,null,{"$f":"IF(ISNA(MATCH(C264,'Wikipedia-Alle verhalen'!C:C,0)),\"\",IF(INDEX('Wikipedia-Alle verhalen'!J:J,MATCH(C264,'Wikipedia-Alle verhalen'!C:C,0))>0,\"Yes\",\"No\"))","v":"Yes"}]
["V238","1999-06-01","Jeanne Panne",46,"S 24-06-99/09-10-99",8.2639999999999993,null,{"$f":"IF(ISNA(MATCH(C265,'Wikipedia-Alle verhalen'!C:C,0)),\"\",IF(INDEX('Wikipedia-Alle verhalen'!J:J,MATCH(C265,'Wikipedia-Alle verhalen'!C:C,0))>0,\"Yes\",\"No\"))","v":"Yes"}]
["V239","1999-10-01","De kernmonsters",46,"S 12-10-99/31-01-00",8.266,null,{"$f":"IF(ISNA(MATCH(C266,'Wikipedia-Alle verhalen'!C:C,0)),\"\",IF(INDEX('Wikipedia-Alle verhalen'!J:J,MATCH(C266,'Wikipedia-Alle verhalen'!C:C,0))>0,\"Yes\",\"No\"))","v":"Yes"}]
["V240","2000-02-01","Lilli Natal",46,"S 02-02-00/21-05-00",8.2669999999999995,null,{"$f":"IF(ISNA(MATCH(C267,'Wikipedia-Alle verhalen'!C:C,0)),\"\",IF(INDEX('Wikipedia-Alle verhalen'!J:J,MATCH(C267,'Wikipedia-Alle verhalen'!C:C,0))>0,\"Yes\",\"No\"))","v":"Yes"}]
["V241","2000-02-01","De stugge Stuyvesant",46,"E 02-00/12-01",8.2690000000000001,null,{"$f":"IF(ISNA(MATCH(C268,'Wikipedia-Alle verhalen'!C:C,0)),\"\",IF(INDEX('Wikipedia-Alle verhalen'!J:J,MATCH(C268,'Wikipedia-Alle verhalen'!C:C,0))>0,\"Yes\",\"No\"))","v":"Yes"}]
["V242","2000-08-01","De koeiencommissie",46,"S 23-05-00/11-09-00",8.2680000000000007,null,{"$f":"IF(ISNA(MATCH(C269,'Wikipedia-Alle verhalen'!C:C,0)),\"\",IF(INDEX('Wikipedia-Alle verhalen'!J:J,MATCH(C269,'Wikipedia-Alle verhalen'!C:C,0))>0,\"Yes\",\"No\"))","v":"Yes"}]
["V243","2000-09-01","De ongelooflijke Thomas",46,"S 13-09-00/02-01-01",8.27,null,{"$f":"IF(ISNA(MATCH(C270,'Wikipedia-Alle verhalen'!C:C,0)),\"\",IF(INDEX('Wikipedia-Alle verhalen'!J:J,MATCH(C270,'Wikipedia-Alle verhalen'!C:C,0))>0,\"Yes\",\"No\"))","v":"Yes"}]
["V244","2001-01-01","Big Mother",46,"S 04-01-01/07-04-01",8.2710000000000008,null,{"$f":"IF(ISNA(MATCH(C271,'Wikipedia-Alle verhalen'!C:C,0)),\"\",IF(INDEX('Wikipedia-Alle verhalen'!J:J,MATCH(C271,'Wikipedia-Alle verhalen'!C:C,0))>0,\"Yes\",\"No\"))","v":"Yes"}]
["V245","2001-01-01","De Europummel",46,"E 01-01/01-46",8.2729999999999997,null,{"$f":"IF(ISNA(MATCH(C272,'Wikipedia-Alle verhalen'!C:C,0)),\"\",IF(INDEX('Wikipedia-Alle verhalen'!J:J,MATCH(C272,'Wikipedia-Alle verhalen'!C:C,0))>0,\"Yes\",\"No\"))","v":"Yes"}]
["V246","2001-04-01","De blote Belg",46,"S 10-04-01/01-08-01",8.2720000000000002,null,{"$f":"IF(ISNA(MATCH(C273,'Wikipedia-Alle verhalen'!C:C,0)),\"\",IF(INDEX('Wikipedia-Alle verhalen'!J:J,MATCH(C273,'Wikipedia-Alle verhalen'!C:C,0))>0,\"Yes\",\"No\"))","v":"Yes"}]
["V247","2001-08-01","De fleurige Floriade",46,"S 03-08-01/20-11-01",8.2739999999999991,null,{"$f":"IF(ISNA(MATCH(C274,'Wikipedia-Alle verhalen'!C:C,0)),\"\",IF(INDEX('Wikipedia-Alle verhalen'!J:J,MATCH(C274,'Wikipedia-Alle verhalen'!C:C,0))>0,\"Yes\",\"No\"))","v":"Yes"}]
["V248","2001-11-01","De kunstkraker",46,"E 01-48/01-50 - ST 14-02-02/24-12-02",8.2780000000000005,null,{"$f":"IF(ISNA(MATCH(C275,'Wikipedia-Alle verhalen'!C:C,0)),\"\",IF(INDEX('Wikipedia-Alle verhalen'!J:J,MATCH(C275,'Wikipedia-Alle verhalen'!C:C,0))>0,\"Yes\",\"No\"))","v":"Yes"}]
["V249","2001-11-01","Heilig Bloed",46,"S 22-11-01/11-03-02",8.2750000000000004,null,{"$f":"IF(ISNA(MATCH(C276,'Wikipedia-Alle verhalen'!C:C,0)),\"\",IF(INDEX('Wikipedia-Alle verhalen'!J:J,MATCH(C276,'Wikipedia-Alle verhalen'!C:C,0))>0,\"Yes\",\"No\"))","v":"Yes"}]
["V250","2001-01-01","De olijke opruimers",4,null,54.3,null,{"$f":"IF(ISNA(MATCH(C277,'Wikipedia-Alle verhalen'!C:C,0)),\"\",IF(INDEX('Wikipedia-Alle verhalen'!J:J,MATCH(C277,'Wikipedia-Alle verhalen'!C:C,0))>0,\"Yes\",\"No\"))","v":"No"}]
["V251","2002-03-01","In de ban van de Milt",46,"S 13-03-02/02-07-02",8.2759999999999998,null,{"$f":"IF(ISNA(MATCH(C278,'Wikipedia-Alle verhalen'!C:C,0)),\"\",IF(INDEX('Wikipedia-Alle verhalen'!J:J,MATCH(C278,'Wikipedia-Alle verhalen'!C:C,0))>0,\"Yes\",\"No\"))","v":"Yes"}]
["V252","2002-07-01","De verdwenen verteller",46,"S 04-07-02/19-10-02",8.2769999999999992,null,{"$f":"IF(ISNA(MATCH(C279,'Wikipedia-Alle verhalen'!C:C,0)),\"\",IF(INDEX('Wikipedia-Alle verhalen'!J:J,MATCH(C279,'Wikipedia-Alle verhalen'!C:C,0))>0,\"Yes\",\"No\"))","v":"Yes"}]
["V253","2002-09-01","De ludieke les",null,null,54.34,null,{"$f":"IF(ISNA(MATCH(C280,'Wikipedia-Alle verhalen'!C:C,0)),\"\",IF(INDEX('Wikipedia-Alle verhalen'!J:J,MATCH(C280,'Wikipedia-Alle verhalen'!C:C,0))>0,\"Yes\",\"No\"))","v":"No"}]
["V254","2002-10-01","De laatste vloek",46,"S 22-10-02/10-02-03",8.2789999999999999,null,{"$f":"IF(ISNA(MATCH(C281,'Wikipedia-Alle verhalen'!C:C,0)),\"\",IF(INDEX('Wikipedia-Alle verhalen'!J:J,MATCH(C281,'Wikipedia-Alle verhalen'!C:C,0))>0,\"Yes\",\"No\"))","v":"Yes"}]
["V255","2003-02-01","De kus van Odfella",46,"S 12-02-03/02-06-03",8.2799999999999994,null,{"$f":"IF(ISNA(MATCH(C282,'Wikipedia-Alle verhalen'!C:C,0)),\"\",IF(INDEX('Wikipedia-Alle verhalen'!J:J,MATCH(C282,'Wikipedia-Alle verhalen'!C:C,0))>0,\"Yes\",\"No\"))","v":"Yes"}]
["V256","2003-06-01","De gevangene van Prisonov",46,"S 04-06-03/22-09-03",8.2810000000000006,null,{"$f":"IF(ISNA(MATCH(C283,'Wikipedia-Alle verhalen'!C:C,0)),\"\",IF(INDEX('Wikipedia-Alle verhalen'!J:J,MATCH(C283,'Wikipedia-Alle verhalen'!C:C,0))>0,\"Yes\",\"No\"))","v":"Yes"}]
["V257","2003-09-01","De breinbrekers",46,"S 24-09-03/13-01-04",8.282,null,{"$f":"IF(ISNA(MATCH(C284,'Wikipedia-Alle verhalen'!C:C,0)),\"\",IF(INDEX('Wikipedia-Alle verhalen'!J:J,MATCH(C284,'Wikipedia-Alle verhalen'!C:C,0))>0,\"Yes\",\"No\"))","v":"Yes"}]
["V258","2004-01-01","Paniek in Palermo",46,"S 15-01-04/03-05-04",8.2829999999999995,null,{"$f":"IF(ISNA(MATCH(C285,'Wikipedia-Alle verhalen'!C:C,0)),\"\",IF(INDEX('Wikipedia-Alle verhalen'!J:J,MATCH(C285,'Wikipedia-Alle verhalen'!C:C,0))>0,\"Yes\",\"No\"))","v":"Yes"}]
["V259","2004-02-01","De koppige kluizenaar",23,null,14.1,null,{"$f":"IF(ISNA(MATCH(C286,'Wikipedia-Alle verhalen'!C:C,0)),\"\",IF(INDEX('Wikipedia-Alle verhalen'!J:J,MATCH(C286,'Wikipedia-Alle verhalen'!C:C,0))>0,\"Yes\",\"No\"))","v":"No"}]
["V260","2004-05-01","Kaapse kaalkoppen",46,"S 05-05-04/23-08-04",8.2840000000000007,null,{"$f":"IF(ISNA(MATCH(C287,'Wikipedia-Alle verhalen'!C:C,0)),\"\",IF(INDEX('Wikipedia-Alle verhalen'!J:J,MATCH(C287,'Wikipedia-Alle verhalen'!C:C,0))>0,\"Yes\",\"No\"))","v":"Yes"}]
["V261","2004-05-01","De guitige gast",28,null,14.9,null,{"$f":"IF(ISNA(MATCH(C288,'Wikipedia-Alle verhalen'!C:C,0)),\"\",IF(INDEX('Wikipedia-Alle verhalen'!J:J,MATCH(C288,'Wikipedia-Alle verhalen'!C:C,0))>0,\"Yes\",\"No\"))","v":"No"}]
["V262","2004-08-01","Verraad op de Veluwe",46,"S 25-08-04/11-12-04",8.2850000000000001,null,{"$f":"IF(ISNA(MATCH(C289,'Wikipedia-Alle verhalen'!C:C,0)),\"\",IF(INDEX('Wikipedia-Alle verhalen'!J:J,MATCH(C289,'Wikipedia-Alle verhalen'!C:C,0))>0,\"Yes\",\"No\"))","v":"Yes"}]
["V263","2004-10-01","De razende rentmeester",23,"HA 30-10-04/23-12-04",14.8,null,{"$f":"IF(ISNA(MATCH(C290,'Wikipedia-Alle verhalen'!C:C,0)),\"\",IF(INDEX('Wikipedia-Alle verhalen'!J:J,MATCH(C290,'Wikipedia-Alle verhalen'!C:C,0))>0,\"Yes\",\"No\"))","v":"No"}]
["V264","2004-12-01","De flierende fluiter",46,"S 14-12-04/02-04-05",8.2859999999999996,null,{"$f":"IF(ISNA(MATCH(C291,'Wikipedia-Alle verhalen'!C:C,0)),\"\",IF(INDEX('Wikipedia-Alle verhalen'!J:J,MATCH(C291,'Wikipedia-Alle verhalen'!C:C,0))>0,\"Yes\",\"No\"))","v":"Yes"}]
["V265","2005-04-01","De formidabele fantast",46,"S 05-04-05/23-07-05",8.2870000000000008,null,{"$f":"IF(ISNA(MATCH(C292,'Wikipedia-Alle verhalen'!C:C,0)),\"\",IF(INDEX('Wikipedia-Alle verhalen'!J:J,MATCH(C292,'Wikipedia-Alle verhalen'!C:C,0))>0,\"Yes\",\"No\"))","v":"Yes"}]
["V266","2005-05-01","Het mopperende masker",22,"T 05-19/05-40","8.290+2",null,{"$f":"IF(ISNA(MATCH(C293,'Wikipedia-Alle verhalen'!C:C,0)),\"\",IF(INDEX('Wikipedia-Alle verhalen'!J:J,MATCH(C293,'Wikipedia-Alle verhalen'!C:C,0))>0,\"Yes\",\"No\"))","v":"Yes"}]
["V267","2005-07-01","Het slapende goud",46,"S 26-07-05/12-11-05",8.2880000000000003,null,{"$f":"IF(ISNA(MATCH(C294,'Wikipedia-Alle verhalen'!C:C,0)),\"\",IF(INDEX('Wikipedia-Alle verhalen'!J:J,MATCH(C294,'Wikipedia-Alle verhalen'!C:C,0))>0,\"Yes\",\"No\"))","v":"Yes"}]
["V268","2005-09-01","De lepe luis",16,null,"16.66+6",null,{"$f":"IF(ISNA(MATCH(C295,'Wikipedia-Alle verhalen'!C:C,0)),\"\",IF(INDEX('Wikipedia-Alle verhalen'!J:J,MATCH(C295,'Wikipedia-Alle verhalen'!C:C,0))>0,\"Yes\",\"No\"))","v":"No"}]
["V269","2005-09-01","De energieke guiten",25,null,"16.61+4",null,{"$f":"IF(ISNA(MATCH(C296,'Wikipedia-Alle verhalen'!C:C,0)),\"\",IF(INDEX('Wikipedia-Alle verhalen'!J:J,MATCH(C296,'Wikipedia-Alle verhalen'!C:C,0))>0,\"Yes\",\"No\"))","v":"No"}]
["V270","2005-10-01","De blikken blutser",22,"T 05-40/06-9","8.290+1",null,{"$f":"IF(ISNA(MATCH(C297,'Wikipedia-Alle verhalen'!C:C,0)),\"\",IF(INDEX('Wikipedia-Alle verhalen'!J:J,MATCH(C297,'Wikipedia-Alle verhalen'!C:C,0))>0,\"Yes\",\"No\"))","v":"Yes"}]
["V271","2005-11-01","De kaduke klonen",46,"S 14-11-05/15-11-05",8.2889999999999997,null,{"$f":"IF(ISNA(MATCH(C298,'Wikipedia-Alle verhalen'!C:C,0)),\"\",IF(INDEX('Wikipedia-Alle verhalen'!J:J,MATCH(C298,'Wikipedia-Alle verhalen'!C:C,0))>0,\"Yes\",\"No\"))","v":"Yes"}]
["V272","2006-03-01","De sinistere site",26,null,"16.62+5",null,{"$f":"IF(ISNA(MATCH(C299,'Wikipedia-Alle verhalen'!C:C,0)),\"\",IF(INDEX('Wikipedia-Alle verhalen'!J:J,MATCH(C299,'Wikipedia-Alle verhalen'!C:C,0))>0,\"Yes\",\"No\"))","v":"No"}]
["V273","2006-03-01","De bangeschieters",46,"S 02-03-06/21-06-06",8.2910000000000004,null,{"$f":"IF(ISNA(MATCH(C300,'Wikipedia-Alle verhalen'!C:C,0)),\"\",IF(INDEX('Wikipedia-Alle verhalen'!J:J,MATCH(C300,'Wikipedia-Alle verhalen'!C:C,0))>0,\"Yes\",\"No\"))","v":"Yes"}]
["V274","2006-03-01","De primitieve paljassen",22,"T 06-10/06-31","16.63+6",null,{"$f":"IF(ISNA(MATCH(C301,'Wikipedia-Alle verhalen'!C:C,0)),\"\",IF(INDEX('Wikipedia-Alle verhalen'!J:J,MATCH(C301,'Wikipedia-Alle verhalen'!C:C,0))>0,\"Yes\",\"No\"))","v":"No"}]
["V275","2006-06-01","De pronte professor",25,null,14.3,null,{"$f":"IF(ISNA(MATCH(C302,'Wikipedia-Alle verhalen'!C:C,0)),\"\",IF(INDEX('Wikipedia-Alle verhalen'!J:J,MATCH(C302,'Wikipedia-Alle verhalen'!C:C,0))>0,\"Yes\",\"No\"))","v":"No"}]
["V276","2006-06-01","De Nachtwachtbrigade",46,"23-06-06/10-10-06",8.2919999999999998,null,{"$f":"IF(ISNA(MATCH(C303,'Wikipedia-Alle verhalen'!C:C,0)),\"\",IF(INDEX('Wikipedia-Alle verhalen'!J:J,MATCH(C303,'Wikipedia-Alle verhalen'!C:C,0))>0,\"Yes\",\"No\"))","v":"Yes"}]
["V277","2006-08-01","Sinjeur Stekkepoot",22,"T 06-32/07-1","16.64+4",null,{"$f":"IF(ISNA(MATCH(C304,'Wikipedia-Alle verhalen'!C:C,0)),\"\",IF(INDEX('Wikipedia-Alle verhalen'!J:J,MATCH(C304,'Wikipedia-Alle verhalen'!C:C,0))>0,\"Yes\",\"No\"))","v":"No"}]
["V278","2006-08-01","De vergeten vluchtelingen",12,null,"16.66+5",null,{"$f":"IF(ISNA(MATCH(C305,'Wikipedia-Alle verhalen'!C:C,0)),\"\",IF(INDEX('Wikipedia-Alle verhalen'!J:J,MATCH(C305,'Wikipedia-Alle verhalen'!C:C,0))>0,\"Yes\",\"No\"))","v":"No"}]
["V279","2006-08-01","De terugkeer van de lepe luis",16,null,"16.66+7",null,{"$f":"IF(ISNA(MATCH(C306,'Wikipedia-Alle verhalen'!C:C,0)),\"\",IF(INDEX('Wikipedia-Alle verhalen'!J:J,MATCH(C306,'Wikipedia-Alle verhalen'!C:C,0))>0,\"Yes\",\"No\"))","v":"No"}]
["V280","2006-09-01","Het rinkelende raderwerk",22,null,14.7,null,{"$f":"IF(ISNA(MATCH(C307,'Wikipedia-Alle verhalen'!C:C,0)),\"\",IF(INDEX('Wikipedia-Alle verhalen'!J:J,MATCH(C307,'Wikipedia-Alle verhalen'!C:C,0))>0,\"Yes\",\"No\"))","v":"No"}]
["V281","2006-10-01","De kaperkoters",46,"S 12-10-06/31-01-07",8.2929999999999993,null,{"$f":"IF(ISNA(MATCH(C308,'Wikipedia-Alle verhalen'!C:C,0)),\"\",IF(INDEX('Wikipedia-Alle verhalen'!J:J,MATCH(C308,'Wikipedia-Alle verhalen'!C:C,0))>0,\"Yes\",\"No\"))","v":"Yes"}]
["V282","2006-11-01","De weerwaterman",22,null,"16.63+4",null,{"$f":"IF(ISNA(MATCH(C309,'Wikipedia-Alle verhalen'!C:C,0)),\"\",IF(INDEX('Wikipedia-Alle verhalen'!J:J,MATCH(C309,'Wikipedia-Alle verhalen'!C:C,0))>0,\"Yes\",\"No\"))","v":"No"}]
["V283","2007-01-01","De microkomiek",22,"T 07-2/07-23",14.12,null,{"$f":"IF(ISNA(MATCH(C310,'Wikipedia-Alle verhalen'!C:C,0)),\"\",IF(INDEX('Wikipedia-Alle verhalen'!J:J,MATCH(C310,'Wikipedia-Alle verhalen'!C:C,0))>0,\"Yes\",\"No\"))","v":"No"}]
["V284","2007-02-01","De tikkende Tinkan",46,"S 02-02-07/23-05-07",8.2940000000000005,null,{"$f":"IF(ISNA(MATCH(C311,'Wikipedia-Alle verhalen'!C:C,0)),\"\",IF(INDEX('Wikipedia-Alle verhalen'!J:J,MATCH(C311,'Wikipedia-Alle verhalen'!C:C,0))>0,\"Yes\",\"No\"))","v":"Yes"}]
["V285","2007-05-01","De krasse kroko",46,null,8.2949999999999999,null,{"$f":"IF(ISNA(MATCH(C312,'Wikipedia-Alle verhalen'!C:C,0)),\"\",IF(INDEX('Wikipedia-Alle verhalen'!J:J,MATCH(C312,'Wikipedia-Alle verhalen'!C:C,0))>0,\"Yes\",\"No\"))","v":"Yes"}]
["V286","2007-05-01","De curieuze neuzen",46,"S 25-05-07/12-09-07",9.2959999999999994,null,{"$f":"IF(ISNA(MATCH(C313,'Wikipedia-Alle verhalen'!C:C,0)),\"\",IF(INDEX('Wikipedia-Alle verhalen'!J:J,MATCH(C313,'Wikipedia-Alle verhalen'!C:C,0))>0,\"Yes\",\"No\"))","v":"Yes"}]
["V287","2007-06-01","De venijnige vanger",22,"T 07-24/07-45",14.1,null,{"$f":"IF(ISNA(MATCH(C314,'Wikipedia-Alle verhalen'!C:C,0)),\"\",IF(INDEX('Wikipedia-Alle verhalen'!J:J,MATCH(C314,'Wikipedia-Alle verhalen'!C:C,0))>0,\"Yes\",\"No\"))","v":"No"}]
["V288","2007-09-01","De joviale Gille",46,"S 14-09-07/02-01-08",9.2970000000000006,null,{"$f":"IF(ISNA(MATCH(C315,'Wikipedia-Alle verhalen'!C:C,0)),\"\",IF(INDEX('Wikipedia-Alle verhalen'!J:J,MATCH(C315,'Wikipedia-Alle verhalen'!C:C,0))>0,\"Yes\",\"No\"))","v":"Yes"}]
["V289","2007-11-01","De treiterende trien",22,"T 07-46/08-15",14.5,null,{"$f":"IF(ISNA(MATCH(C316,'Wikipedia-Alle verhalen'!C:C,0)),\"\",IF(INDEX('Wikipedia-Alle verhalen'!J:J,MATCH(C316,'Wikipedia-Alle verhalen'!C:C,0))>0,\"Yes\",\"No\"))","v":"No"}]
["V290","2008-01-01","De elfstedenstunt",46,"S 04-01-08/21-04-08",9.298,null,{"$f":"IF(ISNA(MATCH(C317,'Wikipedia-Alle verhalen'!C:C,0)),\"\",IF(INDEX('Wikipedia-Alle verhalen'!J:J,MATCH(C317,'Wikipedia-Alle verhalen'!C:C,0))>0,\"Yes\",\"No\"))","v":"Yes"}]
["V291","2008-03-01","Het babbelende bad",46,null,9.2989999999999995,null,{"$f":"IF(ISNA(MATCH(C318,'Wikipedia-Alle verhalen'!C:C,0)),\"\",IF(INDEX('Wikipedia-Alle verhalen'!J:J,MATCH(C318,'Wikipedia-Alle verhalen'!C:C,0))>0,\"Yes\",\"No\"))","v":"Yes"}]
["V292","2008-04-01","De toetercup",22,"T 08-16/08-37","16.65+3",null,{"$f":"IF(ISNA(MATCH(C319,'Wikipedia-Alle verhalen'!C:C,0)),\"\",IF(INDEX('Wikipedia-Alle verhalen'!J:J,MATCH(C319,'Wikipedia-Alle verhalen'!C:C,0))>0,\"Yes\",\"No\"))","v":"No"}]
["V293","2008-04-01","Het machtige monument",46,"S 23-04-08/11-8-08",9.3000000000000007,null,{"$f":"IF(ISNA(MATCH(C320,'Wikipedia-Alle verhalen'!C:C,0)),\"\",IF(INDEX('Wikipedia-Alle verhalen'!J:J,MATCH(C320,'Wikipedia-Alle verhalen'!C:C,0))>0,\"Yes\",\"No\"))","v":"Yes"}]
["V294","2008-04-01","De bosbollebozen",30,null,"16.66+4",null,{"$f":"IF(ISNA(MATCH(C321,'Wikipedia-Alle verhalen'!C:C,0)),\"\",IF(INDEX('Wikipedia-Alle verhalen'!J:J,MATCH(C321,'Wikipedia-Alle verhalen'!C:C,0))>0,\"Yes\",\"No\"))","v":"No"}]
["V295","2008-08-01","De dartele draak",46,"S 13-08-08/01-12-08",9.3010000000000002,null,{"$f":"IF(ISNA(MATCH(C322,'Wikipedia-Alle verhalen'!C:C,0)),\"\",IF(INDEX('Wikipedia-Alle verhalen'!J:J,MATCH(C322,'Wikipedia-Alle verhalen'!C:C,0))>0,\"Yes\",\"No\"))","v":"Yes"}]
["V296","2008-09-01","De kribbige krab",22,"T 08-39/09-7",14.103,null,{"$f":"IF(ISNA(MATCH(C323,'Wikipedia-Alle verhalen'!C:C,0)),\"\",IF(INDEX('Wikipedia-Alle verhalen'!J:J,MATCH(C323,'Wikipedia-Alle verhalen'!C:C,0))>0,\"Yes\",\"No\"))","v":"No"}]
["V297","2008-12-01","De knikkende knoken",46,"S 03-12-08/21-03-09",9.3030000000000008,null,{"$f":"IF(ISNA(MATCH(C324,'Wikipedia-Alle verhalen'!C:C,0)),\"\",IF(INDEX('Wikipedia-Alle verhalen'!J:J,MATCH(C324,'Wikipedia-Alle verhalen'!C:C,0))>0,\"Yes\",\"No\"))","v":"Yes"}]
["V298","2008-12-01","De sterrensteen",46,null,9.3019999999999996,null,{"$f":"IF(ISNA(MATCH(C325,'Wikipedia-Alle verhalen'!C:C,0)),\"\",IF(INDEX('Wikipedia-Alle verhalen'!J:J,MATCH(C325,'Wikipedia-Alle verhalen'!C:C,0))>0,\"Yes\",\"No\"))","v":"Yes"}]
["V299","2009-02-01","De werken van Lambik",22,"T 09-8/09-28","16.65+6",null,{"$f":"IF(ISNA(MATCH(C326,'Wikipedia-Alle verhalen'!C:C,0)),\"\",IF(INDEX('Wikipedia-Alle verhalen'!J:J,MATCH(C326,'Wikipedia-Alle verhalen'!C:C,0))>0,\"Yes\",\"No\"))","v":"No"}]
["V300","2009-03-01","De jokkende joker",46,"S 24-03-09/13-07-09",9.3040000000000003,null,{"$f":"IF(ISNA(MATCH(C327,'Wikipedia-Alle verhalen'!C:C,0)),\"\",IF(INDEX('Wikipedia-Alle verhalen'!J:J,MATCH(C327,'Wikipedia-Alle verhalen'!C:C,0))>0,\"Yes\",\"No\"))","v":"Yes"}]
["V301","2009-07-01","De tijdbobijn",46,"S 15-07-09/31-10-09",9.3049999999999997,null,{"$f":"IF(ISNA(MATCH(C328,'Wikipedia-Alle verhalen'!C:C,0)),\"\",IF(INDEX('Wikipedia-Alle verhalen'!J:J,MATCH(C328,'Wikipedia-Alle verhalen'!C:C,0))>0,\"Yes\",\"No\"))","v":"Yes"}]
["V302","2009-07-01","De kokende kei",22,"T 09-30/09-51",14.6,null,{"$f":"IF(ISNA(MATCH(C329,'Wikipedia-Alle verhalen'!C:C,0)),\"\",IF(INDEX('Wikipedia-Alle verhalen'!J:J,MATCH(C329,'Wikipedia-Alle verhalen'!C:C,0))>0,\"Yes\",\"No\"))","v":"No"}]
["V303","2009-11-01","De rillende rots",46,"S 03-11-09/20-02-10",9.3070000000000004,null,{"$f":"IF(ISNA(MATCH(C330,'Wikipedia-Alle verhalen'!C:C,0)),\"\",IF(INDEX('Wikipedia-Alle verhalen'!J:J,MATCH(C330,'Wikipedia-Alle verhalen'!C:C,0))>0,\"Yes\",\"No\"))","v":"Yes"}]
["V304","2009-11-01","De stralende staf",46,null,9.3059999999999992,null,{"$f":"IF(ISNA(MATCH(C331,'Wikipedia-Alle verhalen'!C:C,0)),\"\",IF(INDEX('Wikipedia-Alle verhalen'!J:J,MATCH(C331,'Wikipedia-Alle verhalen'!C:C,0))>0,\"Yes\",\"No\"))","v":"Yes"}]
["V305","2009-12-01","Krimson Break",22,"T 09-52/10-21",14.2,null,{"$f":"IF(ISNA(MATCH(C332,'Wikipedia-Alle verhalen'!C:C,0)),\"\",IF(INDEX('Wikipedia-Alle verhalen'!J:J,MATCH(C332,'Wikipedia-Alle verhalen'!C:C,0))>0,\"Yes\",\"No\"))","v":"No"}]
["V306","2010-02-01","De gamegoeroe",46,"S 23-02-10/14-06-10",9.3079999999999998,null,{"$f":"IF(ISNA(MATCH(C333,'Wikipedia-Alle verhalen'!C:C,0)),\"\",IF(INDEX('Wikipedia-Alle verhalen'!J:J,MATCH(C333,'Wikipedia-Alle verhalen'!C:C,0))>0,\"Yes\",\"No\"))","v":"Yes"}]
["V307","2010-05-01","Juffertje Janboel",22,"T 10-22/10-43",null,null,{"$f":"IF(ISNA(MATCH(C334,'Wikipedia-Alle verhalen'!C:C,0)),\"\",IF(INDEX('Wikipedia-Alle verhalen'!J:J,MATCH(C334,'Wikipedia-Alle verhalen'!C:C,0))>0,\"Yes\",\"No\"))","v":"No"}]
["V308","2010-06-01","De halve Havelaar",46,"S 16-06-10/01-10-10",9.31,null,{"$f":"IF(ISNA(MATCH(C335,'Wikipedia-Alle verhalen'!C:C,0)),\"\",IF(INDEX('Wikipedia-Alle verhalen'!J:J,MATCH(C335,'Wikipedia-Alle verhalen'!C:C,0))>0,\"Yes\",\"No\"))","v":"Yes"}]
["V309","2010-07-01","De meteomachine",12,"SWM 1",null,null,{"$f":"IF(ISNA(MATCH(C336,'Wikipedia-Alle verhalen'!C:C,0)),\"\",IF(INDEX('Wikipedia-Alle verhalen'!J:J,MATCH(C336,'Wikipedia-Alle verhalen'!C:C,0))>0,\"Yes\",\"No\"))","v":"No"},"De Meteo Machine"]
["V310","2010-07-01","De watersater",46,null,9.3089999999999993,null,{"$f":"IF(ISNA(MATCH(C337,'Wikipedia-Alle verhalen'!C:C,0)),\"\",IF(INDEX('Wikipedia-Alle verhalen'!J:J,MATCH(C337,'Wikipedia-Alle verhalen'!C:C,0))>0,\"Yes\",\"No\"))","v":"Yes"}]
["V311","2010-09-01","De barre bacterie",12,null,54.49,null,{"$f":"IF(ISNA(MATCH(C338,'Wikipedia-Alle verhalen'!C:C,0)),\"\",IF(INDEX('Wikipedia-Alle verhalen'!J:J,MATCH(C338,'Wikipedia-Alle verhalen'!C:C,0))>0,\"Yes\",\"No\"))","v":"No"}]
["V312","2010-10-01","De stuivende stad",46,"S 04-10-10/22-01-11",9.3109999999999999,null,{"$f":"IF(ISNA(MATCH(C339,'Wikipedia-Alle verhalen'!C:C,0)),\"\",IF(INDEX('Wikipedia-Alle verhalen'!J:J,MATCH(C339,'Wikipedia-Alle verhalen'!C:C,0))>0,\"Yes\",\"No\"))","v":"Yes"}]
["V313","2010-10-01","Taxi Tata",22,"T 10-44/11-13","9.334+1",null,{"$f":"IF(ISNA(MATCH(C340,'Wikipedia-Alle verhalen'!C:C,0)),\"\",IF(INDEX('Wikipedia-Alle verhalen'!J:J,MATCH(C340,'Wikipedia-Alle verhalen'!C:C,0))>0,\"Yes\",\"No\"))","v":"Yes"}]
["V314","2011-01-01","De kwakende Queen",46,"S 25-01-11/12-05-11",9.3130000000000006,null,{"$f":"IF(ISNA(MATCH(C341,'Wikipedia-Alle verhalen'!C:C,0)),\"\",IF(INDEX('Wikipedia-Alle verhalen'!J:J,MATCH(C341,'Wikipedia-Alle verhalen'!C:C,0))>0,\"Yes\",\"No\"))","v":"Yes"}]
["V315","2011-03-01","De zappende ziel",46,null,9.3119999999999994,null,{"$f":"IF(ISNA(MATCH(C342,'Wikipedia-Alle verhalen'!C:C,0)),\"\",IF(INDEX('Wikipedia-Alle verhalen'!J:J,MATCH(C342,'Wikipedia-Alle verhalen'!C:C,0))>0,\"Yes\",\"No\"))","v":"Yes"}]
["V316","2011-04-01","Expeditie Robikson",22,"T 11-14/11-35","9.334+2",null,{"$f":"IF(ISNA(MATCH(C343,'Wikipedia-Alle verhalen'!C:C,0)),\"\",IF(INDEX('Wikipedia-Alle verhalen'!J:J,MATCH(C343,'Wikipedia-Alle verhalen'!C:C,0))>0,\"Yes\",\"No\"))","v":"Yes"}]
["V317","2011-05-01","Het lijdende Leiden",46,"S 14-05-11/02-09-11",9.3140000000000001,null,{"$f":"IF(ISNA(MATCH(C344,'Wikipedia-Alle verhalen'!C:C,0)),\"\",IF(INDEX('Wikipedia-Alle verhalen'!J:J,MATCH(C344,'Wikipedia-Alle verhalen'!C:C,0))>0,\"Yes\",\"No\"))","v":"Yes"}]
["V318","2011-09-01","De spottende spiegel",22,"T 11-36/12-4","16.70+4",null,{"$f":"IF(ISNA(MATCH(C345,'Wikipedia-Alle verhalen'!C:C,0)),\"\",IF(INDEX('Wikipedia-Alle verhalen'!J:J,MATCH(C345,'Wikipedia-Alle verhalen'!C:C,0))>0,\"Yes\",\"No\"))","v":"No"}]
["V319","2011-09-01","De bananenzangers",46,"S 04-09-11/22-12-11",9.3149999999999995,null,{"$f":"IF(ISNA(MATCH(C346,'Wikipedia-Alle verhalen'!C:C,0)),\"\",IF(INDEX('Wikipedia-Alle verhalen'!J:J,MATCH(C346,'Wikipedia-Alle verhalen'!C:C,0))>0,\"Yes\",\"No\"))","v":"Yes"}]
["V320","2011-12-01","Krimsonia",46,"S 24-12-11/10-04-12",9.3160000000000007,null,{"$f":"IF(ISNA(MATCH(C347,'Wikipedia-Alle verhalen'!C:C,0)),\"\",IF(INDEX('Wikipedia-Alle verhalen'!J:J,MATCH(C347,'Wikipedia-Alle verhalen'!C:C,0))>0,\"Yes\",\"No\"))","v":"Yes"}]
["V321","2011-01-01","De laaiende linies",22,null,"16.68+4",null,{"$f":"IF(ISNA(MATCH(C348,'Wikipedia-Alle verhalen'!C:C,0)),\"\",IF(INDEX('Wikipedia-Alle verhalen'!J:J,MATCH(C348,'Wikipedia-Alle verhalen'!C:C,0))>0,\"Yes\",\"No\"))","v":"No"}]
["V322","2012-01-01","Het vurige Vitamitje",22,"T 12-5/12-26","16.70+5",null,{"$f":"IF(ISNA(MATCH(C349,'Wikipedia-Alle verhalen'!C:C,0)),\"\",IF(INDEX('Wikipedia-Alle verhalen'!J:J,MATCH(C349,'Wikipedia-Alle verhalen'!C:C,0))>0,\"Yes\",\"No\"))","v":"No"}]
["V323","2012-04-01","Het bizarre blok",46,"S 12-04-12/01-08-12",9.3170000000000002,null,{"$f":"IF(ISNA(MATCH(C350,'Wikipedia-Alle verhalen'!C:C,0)),\"\",IF(INDEX('Wikipedia-Alle verhalen'!J:J,MATCH(C350,'Wikipedia-Alle verhalen'!C:C,0))>0,\"Yes\",\"No\"))","v":"Yes"}]
["V324","2012-07-01","De coole Kastaar",22,"T 12-27/12-48",14.11,null,{"$f":"IF(ISNA(MATCH(C351,'Wikipedia-Alle verhalen'!C:C,0)),\"\",IF(INDEX('Wikipedia-Alle verhalen'!J:J,MATCH(C351,'Wikipedia-Alle verhalen'!C:C,0))>0,\"Yes\",\"No\"))","v":"No"}]
["V325","2012-08-01","Suske de rat",46,"S 03-08-12/20-11-12",9.3190000000000008,null,{"$f":"IF(ISNA(MATCH(C352,'Wikipedia-Alle verhalen'!C:C,0)),\"\",IF(INDEX('Wikipedia-Alle verhalen'!J:J,MATCH(C352,'Wikipedia-Alle verhalen'!C:C,0))>0,\"Yes\",\"No\"))","v":"Yes"}]
["V326","2012-08-01","De suikerslaven",46,null,9.3179999999999996,null,{"$f":"IF(ISNA(MATCH(C353,'Wikipedia-Alle verhalen'!C:C,0)),\"\",IF(INDEX('Wikipedia-Alle verhalen'!J:J,MATCH(C353,'Wikipedia-Alle verhalen'!C:C,0))>0,\"Yes\",\"No\"))","v":"Yes"}]
["V327","2012-11-01","De tirannieke tor",46,null,9.32,null,{"$f":"IF(ISNA(MATCH(C354,'Wikipedia-Alle verhalen'!C:C,0)),\"\",IF(INDEX('Wikipedia-Alle verhalen'!J:J,MATCH(C354,'Wikipedia-Alle verhalen'!C:C,0))>0,\"Yes\",\"No\"))","v":"Yes"}]
["V328","2012-11-01","Het ijzeren duel",46,"S 22-11-12/11-03-13",9.3209999999999997,null,{"$f":"IF(ISNA(MATCH(C355,'Wikipedia-Alle verhalen'!C:C,0)),\"\",IF(INDEX('Wikipedia-Alle verhalen'!J:J,MATCH(C355,'Wikipedia-Alle verhalen'!C:C,0))>0,\"Yes\",\"No\"))","v":"Yes"}]
["V329","2013-03-01","De vliegende rivier",46,"S 13-03-13/02-07-13",9.3219999999999992,null,{"$f":"IF(ISNA(MATCH(C356,'Wikipedia-Alle verhalen'!C:C,0)),\"\",IF(INDEX('Wikipedia-Alle verhalen'!J:J,MATCH(C356,'Wikipedia-Alle verhalen'!C:C,0))>0,\"Yes\",\"No\"))","v":"Yes"}]
["V330","2013-06-01","De bloedbroeder",null,null,14.4,null,{"$f":"IF(ISNA(MATCH(C357,'Wikipedia-Alle verhalen'!C:C,0)),\"\",IF(INDEX('Wikipedia-Alle verhalen'!J:J,MATCH(C357,'Wikipedia-Alle verhalen'!C:C,0))>0,\"Yes\",\"No\"))","v":"No"}]
["V331","2013-07-01","Barabas de Balorige",46,"S 04-07-13/19-10-13",9.3230000000000004,null,{"$f":"IF(ISNA(MATCH(C358,'Wikipedia-Alle verhalen'!C:C,0)),\"\",IF(INDEX('Wikipedia-Alle verhalen'!J:J,MATCH(C358,'Wikipedia-Alle verhalen'!C:C,0))>0,\"Yes\",\"No\"))","v":"Yes"}]
["V332","2013-10-01","Het oog van Ra",22,null,45.1,null,{"$f":"IF(ISNA(MATCH(C359,'Wikipedia-Alle verhalen'!C:C,0)),\"\",IF(INDEX('Wikipedia-Alle verhalen'!J:J,MATCH(C359,'Wikipedia-Alle verhalen'!C:C,0))>0,\"Yes\",\"No\"))","v":"No"}]
["V333","2013-10-01","De krijgers van Sekhmet",22,null,45.2,null,{"$f":"IF(ISNA(MATCH(C360,'Wikipedia-Alle verhalen'!C:C,0)),\"\",IF(INDEX('Wikipedia-Alle verhalen'!J:J,MATCH(C360,'Wikipedia-Alle verhalen'!C:C,0))>0,\"Yes\",\"No\"))","v":"No"}]
["V334","2013-10-01","De royale ruiter",46,"S 22-10-13/10-02-14",9.3239999999999998,null,{"$f":"IF(ISNA(MATCH(C361,'Wikipedia-Alle verhalen'!C:C,0)),\"\",IF(INDEX('Wikipedia-Alle verhalen'!J:J,MATCH(C361,'Wikipedia-Alle verhalen'!C:C,0))>0,\"Yes\",\"No\"))","v":"Yes"}]
["V335","2013-11-01","De verboden tempel",23,null,45.3,null,{"$f":"IF(ISNA(MATCH(C362,'Wikipedia-Alle verhalen'!C:C,0)),\"\",IF(INDEX('Wikipedia-Alle verhalen'!J:J,MATCH(C362,'Wikipedia-Alle verhalen'!C:C,0))>0,\"Yes\",\"No\"))","v":"No"}]
["V336","2014-02-01","Het schrikkelspook",46,"S 12-02-14/02-06-14",9.3249999999999993,null,{"$f":"IF(ISNA(MATCH(C363,'Wikipedia-Alle verhalen'!C:C,0)),\"\",IF(INDEX('Wikipedia-Alle verhalen'!J:J,MATCH(C363,'Wikipedia-Alle verhalen'!C:C,0))>0,\"Yes\",\"No\"))","v":"Yes"}]
["V337","2014-02-01","Het vervloekte venster",22,null,"16.71+5",null,{"$f":"IF(ISNA(MATCH(C364,'Wikipedia-Alle verhalen'!C:C,0)),\"\",IF(INDEX('Wikipedia-Alle verhalen'!J:J,MATCH(C364,'Wikipedia-Alle verhalen'!C:C,0))>0,\"Yes\",\"No\"))","v":"No"}]
["V338","2014-02-01","De tragische tante",22,null,"44.16+2",null,{"$f":"IF(ISNA(MATCH(C365,'Wikipedia-Alle verhalen'!C:C,0)),\"\",IF(INDEX('Wikipedia-Alle verhalen'!J:J,MATCH(C365,'Wikipedia-Alle verhalen'!C:C,0))>0,\"Yes\",\"No\"))","v":"No"}]
["V339","2014-06-01","Het gebroken dorp",46,"S 04-06-14/22-09-14",9.327,null,{"$f":"IF(ISNA(MATCH(C366,'Wikipedia-Alle verhalen'!C:C,0)),\"\",IF(INDEX('Wikipedia-Alle verhalen'!J:J,MATCH(C366,'Wikipedia-Alle verhalen'!C:C,0))>0,\"Yes\",\"No\"))","v":"Yes"}]
["V340","2014-06-01","De zwarte tulp",46,null,9.3260000000000005,null,{"$f":"IF(ISNA(MATCH(C367,'Wikipedia-Alle verhalen'!C:C,0)),\"\",IF(INDEX('Wikipedia-Alle verhalen'!J:J,MATCH(C367,'Wikipedia-Alle verhalen'!C:C,0))>0,\"Yes\",\"No\"))","v":"Yes"}]
["V341","2014-09-01","Sterrenrood",46,"S 24-09-14/13-01-15",9.3279999999999994,null,{"$f":"IF(ISNA(MATCH(C368,'Wikipedia-Alle verhalen'!C:C,0)),\"\",IF(INDEX('Wikipedia-Alle verhalen'!J:J,MATCH(C368,'Wikipedia-Alle verhalen'!C:C,0))>0,\"Yes\",\"No\"))","v":"Yes"}]
["V342","2014-12-01","Tante Biotica",22,null,54.54,null,{"$f":"IF(ISNA(MATCH(C369,'Wikipedia-Alle verhalen'!C:C,0)),\"\",IF(INDEX('Wikipedia-Alle verhalen'!J:J,MATCH(C369,'Wikipedia-Alle verhalen'!C:C,0))>0,\"Yes\",\"No\"))","v":"No"}]
["V343","2015-01-01","Suskewiet",46,"S 15-01-15/04-05-15",9.3290000000000006,null,{"$f":"IF(ISNA(MATCH(C370,'Wikipedia-Alle verhalen'!C:C,0)),\"\",IF(INDEX('Wikipedia-Alle verhalen'!J:J,MATCH(C370,'Wikipedia-Alle verhalen'!C:C,0))>0,\"Yes\",\"No\"))","v":"Yes"}]
["V344","2015-03-01","De beestige brug",22,null,54.55,null,{"$f":"IF(ISNA(MATCH(C371,'Wikipedia-Alle verhalen'!C:C,0)),\"\",IF(INDEX('Wikipedia-Alle verhalen'!J:J,MATCH(C371,'Wikipedia-Alle verhalen'!C:C,0))>0,\"Yes\",\"No\"))","v":"No"}]
["V345","2015-05-01","De fabuleuze Freak",46,"S 06-05-15/25-08-15",9.33,null,{"$f":"IF(ISNA(MATCH(C372,'Wikipedia-Alle verhalen'!C:C,0)),\"\",IF(INDEX('Wikipedia-Alle verhalen'!J:J,MATCH(C372,'Wikipedia-Alle verhalen'!C:C,0))>0,\"Yes\",\"No\"))","v":"Yes"}]
["V346","2015-08-01","Sooi en Sientje",46,"S 27-08-15/12-12-15",9.3309999999999995,null,{"$f":"IF(ISNA(MATCH(C373,'Wikipedia-Alle verhalen'!C:C,0)),\"\",IF(INDEX('Wikipedia-Alle verhalen'!J:J,MATCH(C373,'Wikipedia-Alle verhalen'!C:C,0))>0,\"Yes\",\"No\"))","v":"Yes"}]
["V347","2015-12-01","Het verloren verleden",46,"S 15-12-15/02-04-16",9.3320000000000007,null,{"$f":"IF(ISNA(MATCH(C374,'Wikipedia-Alle verhalen'!C:C,0)),\"\",IF(INDEX('Wikipedia-Alle verhalen'!J:J,MATCH(C374,'Wikipedia-Alle verhalen'!C:C,0))>0,\"Yes\",\"No\"))","v":"Yes"}]
["V348","2016-02-01","De bibberende Bosch",46,null,9.3330000000000002,null,{"$f":"IF(ISNA(MATCH(C375,'Wikipedia-Alle verhalen'!C:C,0)),\"\",IF(INDEX('Wikipedia-Alle verhalen'!J:J,MATCH(C375,'Wikipedia-Alle verhalen'!C:C,0))>0,\"Yes\",\"No\"))","v":"Yes"}]
["V349","2016-07-01","Het lederen monster",46,"S 19-07-16/05-11-16",9.3350000000000009,null,{"$f":"IF(ISNA(MATCH(C376,'Wikipedia-Alle verhalen'!C:C,0)),\"\",IF(INDEX('Wikipedia-Alle verhalen'!J:J,MATCH(C376,'Wikipedia-Alle verhalen'!C:C,0))>0,\"Yes\",\"No\"))","v":"Yes"}]
["V350","2016-09-01","Het omgekeerde land",46,null,9.3360000000000003,null,{"$f":"IF(ISNA(MATCH(C377,'Wikipedia-Alle verhalen'!C:C,0)),\"\",IF(INDEX('Wikipedia-Alle verhalen'!J:J,MATCH(C377,'Wikipedia-Alle verhalen'!C:C,0))>0,\"Yes\",\"No\"))","v":"Yes"}]
["V351","2016-11-01","Game of Drones",46,"S 08-11-16/23-02-2017",9.3369999999999997,null,{"$f":"IF(ISNA(MATCH(C378,'Wikipedia-Alle verhalen'!C:C,0)),\"\",IF(INDEX('Wikipedia-Alle verhalen'!J:J,MATCH(C378,'Wikipedia-Alle verhalen'!C:C,0))>0,\"Yes\",\"No\"))","v":"Yes"}]
["V352","2017-02-01","De heldenmaker",46,"S 25-02-17",9.3379999999999992,null,{"$f":"IF(ISNA(MATCH(C379,'Wikipedia-Alle verhalen'!C:C,0)),\"\",IF(INDEX('Wikipedia-Alle verhalen'!J:J,MATCH(C379,'Wikipedia-Alle verhalen'!C:C,0))>0,\"Yes\",\"No\"))","v":"Yes"}]
["V353","2017-04-01","De zorgzoekers",null,null,53.12,null,{"$f":"IF(ISNA(MATCH(C380,'Wikipedia-Alle verhalen'!C:C,0)),\"\",IF(INDEX('Wikipedia-Alle verhalen'!J:J,MATCH(C380,'Wikipedia-Alle verhalen'!C:C,0))>0,\"Yes\",\"No\"))","v":"No"}]
["V354","2017-05-01","De planeetvreter",46,null,9.3390000000000004,null,{"$f":"IF(ISNA(MATCH(C381,'Wikipedia-Alle verhalen'!C:C,0)),\"\",IF(INDEX('Wikipedia-Alle verhalen'!J:J,MATCH(C381,'Wikipedia-Alle verhalen'!C:C,0))>0,\"Yes\",\"No\"))","v":"Yes"}]
["V355","2017-06-01","Mami Wata",46,"S 19-06-17/05-10-17",9.34,null,{"$f":"IF(ISNA(MATCH(C382,'Wikipedia-Alle verhalen'!C:C,0)),\"\",IF(INDEX('Wikipedia-Alle verhalen'!J:J,MATCH(C382,'Wikipedia-Alle verhalen'!C:C,0))>0,\"Yes\",\"No\"))","v":"Yes"}]
["V356","2017-09-01","Het Monamysterie",46,null,9.3409999999999993,null,{"$f":"IF(ISNA(MATCH(C383,'Wikipedia-Alle verhalen'!C:C,0)),\"\",IF(INDEX('Wikipedia-Alle verhalen'!J:J,MATCH(C383,'Wikipedia-Alle verhalen'!C:C,0))>0,\"Yes\",\"No\"))","v":"Yes"}]
["V357","2017-10-01","De zwarte zwevers",46,"S 07-10-17/26-01-18",9.3420000000000005,null,{"$f":"IF(ISNA(MATCH(C384,'Wikipedia-Alle verhalen'!C:C,0)),\"\",IF(INDEX('Wikipedia-Alle verhalen'!J:J,MATCH(C384,'Wikipedia-Alle verhalen'!C:C,0))>0,\"Yes\",\"No\"))","v":"Yes"}]
["V358","2018-01-01","SOS Snowbell",46,"S 27-01-18/17-05-18",9.343,null,{"$f":"IF(ISNA(MATCH(C385,'Wikipedia-Alle verhalen'!C:C,0)),\"\",IF(INDEX('Wikipedia-Alle verhalen'!J:J,MATCH(C385,'Wikipedia-Alle verhalen'!C:C,0))>0,\"Yes\",\"No\"))","v":"Yes"}]
["V359","2018-05-01","BRBS 2.0",46,"S 18-05-18",9.3439999999999994,null,{"$f":"IF(ISNA(MATCH(C386,'Wikipedia-Alle verhalen'!C:C,0)),\"\",IF(INDEX('Wikipedia-Alle verhalen'!J:J,MATCH(C386,'Wikipedia-Alle verhalen'!C:C,0))>0,\"Yes\",\"No\"))","v":"Yes"}]
["V360","2018-09-01","Operatie Siggy",46,"S 06-09-18/22-12-18",9.3450000000000006,null,{"$f":"IF(ISNA(MATCH(C387,'Wikipedia-Alle verhalen'!C:C,0)),\"\",IF(INDEX('Wikipedia-Alle verhalen'!J:J,MATCH(C387,'Wikipedia-Alle verhalen'!C:C,0))>0,\"Yes\",\"No\"))","v":"Yes"}]
["V361","2018-12-01","Chronos en Chaos",46,"S 24-12-18/11-04-19",9.3460000000000001,null,{"$f":"IF(ISNA(MATCH(C388,'Wikipedia-Alle verhalen'!C:C,0)),\"\",IF(INDEX('Wikipedia-Alle verhalen'!J:J,MATCH(C388,'Wikipedia-Alle verhalen'!C:C,0))>0,\"Yes\",\"No\"))","v":"Yes"}]
["V362","2019-03-01","De wrede wensput",46,"TEL 02-03-19/20-06-19",9.3480000000000008,null,{"$f":"IF(ISNA(MATCH(C389,'Wikipedia-Alle verhalen'!C:C,0)),\"\",IF(INDEX('Wikipedia-Alle verhalen'!J:J,MATCH(C389,'Wikipedia-Alle verhalen'!C:C,0))>0,\"Yes\",\"No\"))","v":"Yes"}]
["V363","2019-04-01","Lambik Plastiek",46,"S 12-04-19/01-08-19",9.3469999999999995,null,{"$f":"IF(ISNA(MATCH(C390,'Wikipedia-Alle verhalen'!C:C,0)),\"\",IF(INDEX('Wikipedia-Alle verhalen'!J:J,MATCH(C390,'Wikipedia-Alle verhalen'!C:C,0))>0,\"Yes\",\"No\"))","v":"Yes"}]
["V364","2019-06-01","Het lekkere lab",46,"TEL 21-07-19/05-10-19",9.3490000000000002,null,{"$f":"IF(ISNA(MATCH(C391,'Wikipedia-Alle verhalen'!C:C,0)),\"\",IF(INDEX('Wikipedia-Alle verhalen'!J:J,MATCH(C391,'Wikipedia-Alle verhalen'!C:C,0))>0,\"Yes\",\"No\"))","v":"Yes"}]
["V365","2019-10-01","De nacht van de narwal",46,"TEL 07-10-19",9.35,null,{"$f":"IF(ISNA(MATCH(C392,'Wikipedia-Alle verhalen'!C:C,0)),\"\",IF(INDEX('Wikipedia-Alle verhalen'!J:J,MATCH(C392,'Wikipedia-Alle verhalen'!C:C,0))>0,\"Yes\",\"No\"))","v":"Yes"}]
[""]
["Extra stripverhalen van Suske en Wiske"]
["nr.","datum","titel","lengte","Code/Pub","1e Ref."]
["E1","1986-01-01","De geheimzinnige heroïsche belevenissen van de ruimte-agent (p41)",1,"KW 86-4","Szs : 1.248+41",null,null,{"$f":"+#REF!","v":{"$error":"#REF!"}}]
[""]
["Stripverhalen voor SOS Kinderdorpen"]
["nr.","datum","titel","lengte","Code/Pub","1e Ref."]
["SOS1","2015-09-01","De spitse bergen",22,null,57.1]
["SOS2","2015-10-01","De verwoede verzamelaar",22,null,57.2]
["SOS3","2015-10-01","Vredeskruid",22,null,57.3]
["SOS4","2015-10-01","Het naderende noodlot",22,null,57.4]
["SOS5","2015-10-01","De groffe grapjas",22,null,57.5]
["SOS6","2015-10-01","De barabass",22,null,57.6]
["SOS7","2016-09-01","De grandioze gitaar",22,null,57.7]
["SOS8","2016-09-01","De schaal van moraal",22,null,57.8]
["SOS9","2016-09-01","De charmante chirurg",22,null,57.9]
["SOS10","2016-09-01","De pientere pop",22,null,57.1]
["SOS11","2016-10-01","De tollende toverkol",22,null,57.11]
["SOS12","2016-10-01","De irritante imitator",22,null,57.12]
[""]
["Hommages aan Willy Vandersteen"]
["nr.","datum","titel","lengte","Code/Pub","1e Ref."]
["H1","2017-12-01","Cromimi",46,null,12.1]
["H2","2018-11-01","Beoemerang",46,null,null,null,null,"Boemerang"]
[""]
["Additionele stripverhalen van Suske en Wiske"]
["nr.","datum","titel","lengte","Code/Pub","1e Ref."]
["A1","1987-01-01","De lenige liefde (Twee toffe totums)",2,null,"54.22+1",null,"Avonturen en spellenboek"]
["A2","1987-01-01","De wakkere wekker (De vinnige viking)",2,null,"54.22+2",null,"Avonturen en spellenboek"]
["A3","1987-01-01","De snoezige snoepster(De mooie Millirem)",2,null,"54.22+3",null,"Avonturen en spellenboek"]
["A4","1987-01-01","De listige luiaard (De bonkige baarden)",2,null,"54.22+4",null,"Avonturen en spellenboek"]
["A5","1987-01-01","De jolige jager",2,null,"54.22+5",null,"Avonturen en spellenboek","De jollige jager -1",null,null,"Niet in WWWlijst"]
["A6","1987-01-01","De balorige bellers (De droevige druif)",2,null,"54.22+6",null,"Avonturen en spellenboek"]
["A7","1987-01-01","De jolige jager II",2,null,"54.22+7",null,"Avonturen en spellenboek","De jollige jager -2",null,null,"Niet in WWWlijst"]
["A8","1987-01-01","De fliere fluiter (De rosse reus)",2,null,"54.22+8",null,"Avonturen en spellenboek"]
["A9","1987-01-01","De optimist",2,null,"54.22+9",null,"Avonturen en spellenboek",null,null,null,"Niet in WWWlijst"]
["A10","1987-01-01","Schrappen wat niet past",2,null,"54.22+10",null,"Avonturen en spellenboek",null,null,null,"Niet in WWWlijst"]
["A11","1990-06-01","De pico-bello mobiel",1,"FB 90","29.5+7",null,"Door kind getekend. Opgenomen in Familiestripboek met Knokken in Knossos."]

{"sheet":"Review","index":18,"n_rows":400,"n_cols":12,"rows_kept":400,"cut":false,"hidden":true,"merged":[]}
["Verhaal","Cijfer","Aantal","Update",null,null,"year"]
["De adellijke ark",7.95,22,"2019-09-04",{"$f":"MATCH(A2,'Wikipedia-Alle verhalen'!$C:$C,0)","v":130},{"$f":"INDEX('Wikipedia-Alle verhalen'!$B:$B,E2)","v":"23 juni 1979"},{"$f":"IF(ISTEXT(F2),VALUE(RIGHT(F2,4)),YEAR(F2))","v":1979},null,null,"aantal","beoordelingen","gemiddeld"]
["Amber",7.48,35,"2020-02-19",{"$f":"MATCH(A3,'Wikipedia-Alle verhalen'!$C:$C,0)","v":232},{"$f":"INDEX('Wikipedia-Alle verhalen'!$B:$B,E3)","v":"1997-12-08"},1997,null,1945,{"$f":"COUNTIF($G$2:$G$400,I3)","v":1},{"$f":"SUMIF($G$2:$G$400,I3,$C$2:$C$400)","v":40},{"$f":"SUMIF($G$2:$G$400,I3,$B$2:$B$400)/J3","v":7.1}]
["Amoris van Amoras",7.85,48,"2019-11-04",{"$f":"MATCH(A4,'Wikipedia-Alle verhalen'!$C:$C,0)","v":156},{"$f":"INDEX('Wikipedia-Alle verhalen'!$B:$B,E4)","v":"16 maart 1984"},1984,null,1946,3,93,8.2833333333333332]
["De amoureuze Amazone",6.74,31,"2020-06-07",{"$f":"MATCH(A5,'Wikipedia-Alle verhalen'!$C:$C,0)","v":121},{"$f":"INDEX('Wikipedia-Alle verhalen'!$B:$B,E5)","v":"24 augustus 1977"},1977,null,1947,3,109,8.26]
["Angst op de \"Amsterdam\"",8.7899999999999991,49,"2019-12-18",{"$f":"MATCH(A6,'Wikipedia-Alle verhalen'!$C:$C,0)","v":160},{"$f":"INDEX('Wikipedia-Alle verhalen'!$B:$B,E6)","v":"1984-12-08"},1984,null,1948,5,143,7.7720000000000002]
["De apekermis",9.23,55,"2017-05-22",{"$f":"MATCH(A7,'Wikipedia-Alle verhalen'!$C:$C,0)","v":69},{"$f":"INDEX('Wikipedia-Alle verhalen'!$B:$B,E7)","v":"2 juni 1965"},1965,null,1949,2,53,8.7349999999999994]
["Het Aruba-dossier",7.72,18,"2015-11-16",{"$f":"MATCH(A8,'Wikipedia-Alle verhalen'!$C:$C,0)","v":214},{"$f":"INDEX('Wikipedia-Alle verhalen'!$B:$B,E8)","v":"1993-12-21"},1993,null,1950,6,142,8.6216666666666679]
["De averechtse aap",6.5,14,"2016-12-01",{"$f":"MATCH(A9,'Wikipedia-Alle verhalen'!$C:$C,0)","v":213},{"$f":"INDEX('Wikipedia-Alle verhalen'!$B:$B,E9)","v":"1993-11-02"},1993,null,1951,4,105,8.9200000000000017]
["Het babbelende bad",6.51,58,"2018-05-11",{"$f":"MATCH(A10,'Wikipedia-Alle verhalen'!$C:$C,0)","v":292},{"$f":"INDEX('Wikipedia-Alle verhalen'!$B:$B,E10)","v":"12 maart 2008"},2008,null,1952,5,130,8.2539999999999996]
["De bananenzangers",5.89,29,"2020-02-24",{"$f":"MATCH(A11,'Wikipedia-Alle verhalen'!$C:$C,0)","v":320},{"$f":"INDEX('Wikipedia-Alle verhalen'!$B:$B,E11)","v":"2011-09-03"},2011,null,1953,3,77,9.07]
["De bangeschieters",6.47,69,"2020-02-09",{"$f":"MATCH(A12,'Wikipedia-Alle verhalen'!$C:$C,0)","v":274},{"$f":"INDEX('Wikipedia-Alle verhalen'!$B:$B,E12)","v":"2 maart 2006"},2006,null,1954,2,49,9.379999999999999]
["Barabas de Balorige",7.57,21,"2020-02-22",{"$f":"MATCH(A13,'Wikipedia-Alle verhalen'!$C:$C,0)","v":333},{"$f":"INDEX('Wikipedia-Alle verhalen'!$B:$B,E13)","v":"2013-09-11"},2013,null,1955,4,85,8.69]
["De Barabass",6,1,"2015-11-05",{"$f":"MATCH(A14,'Wikipedia-Alle verhalen'!$C:$C,0)","v":354},{"$f":"INDEX('Wikipedia-Alle verhalen'!$B:$B,E14)","v":"31 oktober 2015"},2015,null,1956,3,68,8.4533333333333331]
["De barre bacterie",6,1,"2010-11-27",{"$f":"MATCH(A15,'Wikipedia-Alle verhalen'!$C:$C,0)","v":312},{"$f":"INDEX('Wikipedia-Alle verhalen'!$B:$B,E15)","v":"2010-09-01"},2010,null,1957,3,82,9.19]
["De beestige brug",4.75,4,"2019-01-14",{"$f":"MATCH(A16,'Wikipedia-Alle verhalen'!$C:$C,0)","v":345},{"$f":"INDEX('Wikipedia-Alle verhalen'!$B:$B,E16)","v":"13 maart 2015"},2015,null,1958,4,88,8.61]
["De begeerde berg",6.81,16,"2015-11-24",{"$f":"MATCH(A17,'Wikipedia-Alle verhalen'!$C:$C,0)","v":217},{"$f":"INDEX('Wikipedia-Alle verhalen'!$B:$B,E17)","v":"6 augustus 1994"},1994,null,1959,2,53,8.8099999999999987]
["De Belhamel-bende",7.38,21,"2020-03-21",{"$f":"MATCH(A18,'Wikipedia-Alle verhalen'!$C:$C,0)","v":143},{"$f":"INDEX('Wikipedia-Alle verhalen'!$B:$B,E18)","v":"12 januari 1982"},1982,null,1960,4,85,8.7149999999999999]
["Beminde Barabas",7.68,32,"2020-03-09",{"$f":"MATCH(A19,'Wikipedia-Alle verhalen'!$C:$C,0)","v":99},{"$f":"INDEX('Wikipedia-Alle verhalen'!$B:$B,E19)","v":"1974-12-05"},1974,null,1961,3,70,9]
["Het berenbeklag",7.4,15,"2015-12-07",{"$f":"MATCH(A20,'Wikipedia-Alle verhalen'!$C:$C,0)","v":234},{"$f":"INDEX('Wikipedia-Alle verhalen'!$B:$B,E20)","v":"1998-04-01"},1998,null,1962,3,96,9.2566666666666659]
["Beter voor Bert",5.57,7,"2013-11-08",{"$f":"MATCH(A21,'Wikipedia-Alle verhalen'!$C:$C,0)","v":151},{"$f":"INDEX('Wikipedia-Alle verhalen'!$B:$B,E21)","v":"1983-04-01"},1983,null,1963,3,56,7.9366666666666674]
["Het betoverende boek",7.6,5,"2020-05-22",{"$f":"MATCH(A22,'Wikipedia-Alle verhalen'!$C:$C,0)","v":378},{"$f":"INDEX('Wikipedia-Alle verhalen'!$B:$B,E22)","v":"1 maart 2019"},2019,null,1964,2,44,8.57]
["De bevende Baobab",8.1199999999999992,16,"2016-12-13",{"$f":"MATCH(A23,'Wikipedia-Alle verhalen'!$C:$C,0)","v":91},{"$f":"INDEX('Wikipedia-Alle verhalen'!$B:$B,E23)","v":"31 maart 1973"},1973,null,1965,3,103,8.6833333333333318]
["De bevende berken",6.44,9,"2010-11-03",{"$f":"MATCH(A24,'Wikipedia-Alle verhalen'!$C:$C,0)","v":157},{"$f":"INDEX('Wikipedia-Alle verhalen'!$B:$B,E24)","v":"1 mei 1984"},1984,null,1966,3,89,8.6199999999999992]
["Het bevroren vuur",8.67,28,"2020-06-18",{"$f":"MATCH(A25,'Wikipedia-Alle verhalen'!$C:$C,0)","v":25},{"$f":"INDEX('Wikipedia-Alle verhalen'!$B:$B,E25)","v":"29 oktober 1951"},1951,null,1967,3,72,8.1999999999999993]
["De bezeten bezitter",9,25,"2019-09-11",{"$f":"MATCH(A26,'Wikipedia-Alle verhalen'!$C:$C,0)","v":188},{"$f":"INDEX('Wikipedia-Alle verhalen'!$B:$B,E26)","v":"24 juni 1989"},1989,null,1968,2,41,7.95]
["De bibberende Bosch",7.16,12,"2016-10-03",{"$f":"MATCH(A27,'Wikipedia-Alle verhalen'!$C:$C,0)","v":356},{"$f":"INDEX('Wikipedia-Alle verhalen'!$B:$B,E27)","v":"9 februari 2016"},2016,null,1969,3,56,8.3566666666666656]
["Bibbergoud",8.8699999999999992,33,"2016-10-21",{"$f":"MATCH(A28,'Wikipedia-Alle verhalen'!$C:$C,0)","v":16},{"$f":"INDEX('Wikipedia-Alle verhalen'!$B:$B,E28)","v":"1949-04-16"},1949,null,1970,4,56,7.7075000000000005]
["Big Mother",5.87,64,"2019-03-05",{"$f":"MATCH(A29,'Wikipedia-Alle verhalen'!$C:$C,0)","v":245},{"$f":"INDEX('Wikipedia-Alle verhalen'!$B:$B,E29)","v":"3 januari 2001"},2001,null,1971,3,73,7.7366666666666655]
["Een bij voor jou en mij",6,1,"2010-11-05",{"$f":"MATCH(A30,'Wikipedia-Alle verhalen'!$C:$C,0)","v":149},{"$f":"INDEX('Wikipedia-Alle verhalen'!$B:$B,E30)","v":"1982-01-01"},1982,null,1972,2,42,8.57]
["Billie is verdwenen",7,2,"2003-05-22",{"$f":"MATCH(A31,'Wikipedia-Alle verhalen'!$C:$C,0)","v":{"$error":"#N/A"}},"1980-01-01",{"$f":"IF(ISTEXT(F31),VALUE(RIGHT(F31,4)),YEAR(F31))","v":1980},null,1973,5,78,8.0519999999999996]
["Het bizarre blok",6.82,29,"2020-02-23",{"$f":"MATCH(A32,'Wikipedia-Alle verhalen'!$C:$C,0)","v":324},{"$f":"INDEX('Wikipedia-Alle verhalen'!$B:$B,E32)","v":"2012-04-11"},2012,null,1974,5,93,7.1719999999999997]
["De blijde broodeters",5.66,6,"2010-10-28",{"$f":"MATCH(A33,'Wikipedia-Alle verhalen'!$C:$C,0)","v":144},{"$f":"INDEX('Wikipedia-Alle verhalen'!$B:$B,E33)","v":"1982-04-01"},1982,null,1975,9,130,6.4500000000000011]
["De blikken blutser",5.23,39,"2015-12-03",{"$f":"MATCH(A34,'Wikipedia-Alle verhalen'!$C:$C,0)","v":271},{"$f":"INDEX('Wikipedia-Alle verhalen'!$B:$B,E34)","v":"1 oktober 2005"},2005,null,1976,9,184,6.8755555555555548]
["De blinkende boemerang",7.7,20,"2020-03-04",{"$f":"MATCH(A35,'Wikipedia-Alle verhalen'!$C:$C,0)","v":109},{"$f":"INDEX('Wikipedia-Alle verhalen'!$B:$B,E35)","v":"13 januari 1976"},1976,null,1977,{"$f":"COUNTIF($G$2:$G$400,I35)","v":4},{"$f":"SUMIF($G$2:$G$400,I35,$C$2:$C$400)","v":92},{"$f":"SUMIF($G$2:$G$400,I35,$B$2:$B$400)/J35","v":7.6624999999999996}]
["De bloedbroeder",7,1,"2014-12-06",{"$f":"MATCH(A36,'Wikipedia-Alle verhalen'!$C:$C,0)","v":332},{"$f":"INDEX('Wikipedia-Alle verhalen'!$B:$B,E36)","v":"juni 2013"},2013,null,1978,6,80,7.4766666666666666]
["De blote Belg",5.47,48,"2015-12-20",{"$f":"MATCH(A37,'Wikipedia-Alle verhalen'!$C:$C,0)","v":247},{"$f":"INDEX('Wikipedia-Alle verhalen'!$B:$B,E37)","v":"2001-04-09"},2001,null,1979,5,86,7.25]
["Boemerang",6.25,4,"2018-12-01",{"$f":"MATCH(A38,'Wikipedia-Alle verhalen'!$C:$C,0)","v":376},{"$f":"INDEX('Wikipedia-Alle verhalen'!$B:$B,E38)","v":"2018-11-07"},2018,null,1980,9,102,6.6922222222222221]
["De bokkerijders",8.83,54,"2018-08-08",{"$f":"MATCH(A39,'Wikipedia-Alle verhalen'!$C:$C,0)","v":11},{"$f":"INDEX('Wikipedia-Alle verhalen'!$B:$B,E39)","v":"20 maart 1948"},1948,null,1981,4,51,6.4700000000000006]
["De bokkige bombardon",7.21,19,"2020-06-20",{"$f":"MATCH(A40,'Wikipedia-Alle verhalen'!$C:$C,0)","v":105},{"$f":"INDEX('Wikipedia-Alle verhalen'!$B:$B,E40)","v":"1975-09-01"},1975,null,1982,8,103,6.7550000000000008]
["De bonkige baarden",7.52,17,"2013-11-18",{"$f":"MATCH(A41,'Wikipedia-Alle verhalen'!$C:$C,0)","v":164},{"$f":"INDEX('Wikipedia-Alle verhalen'!$B:$B,E41)","v":"1985-09-02"},1985,null,1983,6,101,7.5633333333333326]
["De bonte bollen",5.82,28,"2015-12-07",{"$f":"MATCH(A42,'Wikipedia-Alle verhalen'!$C:$C,0)","v":235},{"$f":"INDEX('Wikipedia-Alle verhalen'!$B:$B,E42)","v":"22 juli 1998"},1998,null,1984,5,184,7.8080000000000016]
["De bosbollebozen",6.5,4,"2014-11-26",{"$f":"MATCH(A43,'Wikipedia-Alle verhalen'!$C:$C,0)","v":295},{"$f":"INDEX('Wikipedia-Alle verhalen'!$B:$B,E43)","v":"2008-04-01"},2008,null,1985,9,92,6.7166666666666659]
["Bosspel",2.5499999999999998,9,"2010-12-27",{"$f":"MATCH(A44,'Wikipedia-Alle verhalen'!$C:$C,0)","v":187},{"$f":"INDEX('Wikipedia-Alle verhalen'!$B:$B,E44)","v":"1 juni 1989"},1989,null,1986,6,101,7.0533333333333319]
["De botte botaknol",7.13,15,"2014-06-12",{"$f":"MATCH(A45,'Wikipedia-Alle verhalen'!$C:$C,0)","v":136},{"$f":"INDEX('Wikipedia-Alle verhalen'!$B:$B,E45)","v":"18 augustus 1980"},1980,null,1987,6,160,8.1966666666666672]
["De boze boomzalver",9.0399999999999991,23,"2016-12-10",{"$f":"MATCH(A46,'Wikipedia-Alle verhalen'!$C:$C,0)","v":88},{"$f":"INDEX('Wikipedia-Alle verhalen'!$B:$B,E46)","v":"9 mei 1972"},1972,null,1988,5,77,7.8040000000000003]
["BRBS 2.0",7.53,15,"2020-06-20",{"$f":"MATCH(A47,'Wikipedia-Alle verhalen'!$C:$C,0)","v":374},{"$f":"INDEX('Wikipedia-Alle verhalen'!$B:$B,E47)","v":"12 juni 2018"},2018,null,1989,7,98,7.0357142857142856]
["De breinbrekers",7.07,40,"2016-04-24",{"$f":"MATCH(A48,'Wikipedia-Alle verhalen'!$C:$C,0)","v":258},{"$f":"INDEX('Wikipedia-Alle verhalen'!$B:$B,E48)","v":"2003-09-23"},2003,null,1990,7,108,7.1999999999999984]
["Het Bretoense broertje",7,24,"2014-02-26",{"$f":"MATCH(A49,'Wikipedia-Alle verhalen'!$C:$C,0)","v":145},{"$f":"INDEX('Wikipedia-Alle verhalen'!$B:$B,E49)","v":"24 mei 1982"},1982,null,1991,5,61,7.3280000000000003]
["De briesende bruid",7.9,22,"2020-03-17",{"$f":"MATCH(A50,'Wikipedia-Alle verhalen'!$C:$C,0)","v":78},{"$f":"INDEX('Wikipedia-Alle verhalen'!$B:$B,E50)","v":"1968-09-09"},1968,null,1992,6,74,7.3400000000000007]
["Het brommende brons",7.81,22,"2020-05-22",{"$f":"MATCH(A51,'Wikipedia-Alle verhalen'!$C:$C,0)","v":85},{"$f":"INDEX('Wikipedia-Alle verhalen'!$B:$B,E51)","v":"31 maart 1971"},1971,null,1993,6,92,7.3933333333333335]
["De bronzen sleutel",9.25,31,"2019-02-02",{"$f":"MATCH(A52,'Wikipedia-Alle verhalen'!$C:$C,0)","v":19},{"$f":"INDEX('Wikipedia-Alle verhalen'!$B:$B,E52)","v":"2 maart 1950"},1950,null,1994,5,114,7.7979999999999992]
["De brullende berg",8.26,19,"2014-12-14",{"$f":"MATCH(A53,'Wikipedia-Alle verhalen'!$C:$C,0)","v":40},{"$f":"INDEX('Wikipedia-Alle verhalen'!$B:$B,E53)","v":"1955-11-17"},1955,null,1995,4,51,6.52]
["De buitenaardse buis",7.5,2,"2004-02-18",{"$f":"MATCH(A54,'Wikipedia-Alle verhalen'!$C:$C,0)","v":{"$error":"#N/A"}},"1997-01-01",1997,null,1996,5,88,7.0939999999999994]
["De charmante koffiepot",8.75,24,"2020-04-05",{"$f":"MATCH(A55,'Wikipedia-Alle verhalen'!$C:$C,0)","v":81},{"$f":"INDEX('Wikipedia-Alle verhalen'!$B:$B,E55)","v":"11 oktober 1969"},1969,null,1997,15,102,7.0919999999999996]
["Chronos en Chaos",8.66,9,"2020-02-29",{"$f":"MATCH(A56,'Wikipedia-Alle verhalen'!$C:$C,0)","v":377},{"$f":"INDEX('Wikipedia-Alle verhalen'!$B:$B,E56)","v":"2018-12-05"},2018,null,1998,4,98,6.0674999999999999]
["Circus Zere Knie",4.33,3,"2004-05-08",{"$f":"MATCH(A57,'Wikipedia-Alle verhalen'!$C:$C,0)","v":{"$error":"#N/A"}},"2004-05-08",2004,null,1999,4,79,7.5500000000000007]
["De circusbaron",9.44,38,"2015-12-15",{"$f":"MATCH(A58,'Wikipedia-Alle verhalen'!$C:$C,0)","v":34},{"$f":"INDEX('Wikipedia-Alle verhalen'!$B:$B,E58)","v":"1953-12-31"},1953,null,2000,5,145,6.1080000000000005]
["De coole Kastaar",7,1,"2014-12-06",{"$f":"MATCH(A59,'Wikipedia-Alle verhalen'!$C:$C,0)","v":325},{"$f":"INDEX('Wikipedia-Alle verhalen'!$B:$B,E59)","v":"30 juni 2012"},2012,null,2001,6,297,6.1349999999999989]
["Cromimi",9.5,6,"2017-12-26",{"$f":"MATCH(A60,'Wikipedia-Alle verhalen'!$C:$C,0)","v":372},{"$f":"INDEX('Wikipedia-Alle verhalen'!$B:$B,E60)","v":"2017-12-05"},2017,null,2002,3,125,5.6000000000000005]
["De curieuze neuzen",6.36,60,"2014-01-12",{"$f":"MATCH(A61,'Wikipedia-Alle verhalen'!$C:$C,0)","v":287},{"$f":"INDEX('Wikipedia-Alle verhalen'!$B:$B,E61)","v":"24 mei 2007"},2007,null,2003,3,172,6.580000000000001]
["De dappere duinduikers",7.71,7,"2015-10-18",{"$f":"MATCH(A62,'Wikipedia-Alle verhalen'!$C:$C,0)","v":180},{"$f":"INDEX('Wikipedia-Alle verhalen'!$B:$B,E62)","v":"14 maart 1988"},1988,null,2004,8,251,6.7975000000000012]
["De dartele draak",7.29,34,"2020-01-07",{"$f":"MATCH(A63,'Wikipedia-Alle verhalen'!$C:$C,0)","v":296},{"$f":"INDEX('Wikipedia-Alle verhalen'!$B:$B,E63)","v":"12 augustus 2008"},{"$f":"IF(ISTEXT(F63),VALUE(RIGHT(F63,4)),YEAR(F63))","v":2008},null,2005,8,266,6.3412500000000005]
["Het Delta duel",8.61,18,"2013-08-12",{"$f":"MATCH(A64,'Wikipedia-Alle verhalen'!$C:$C,0)","v":153},{"$f":"INDEX('Wikipedia-Alle verhalen'!$B:$B,E64)","v":"27 juni 1983"},1983,null,2006,9,215,7.2922222222222217]
["De dolle musketiers",8.92,28,"2020-02-15",{"$f":"MATCH(A65,'Wikipedia-Alle verhalen'!$C:$C,0)","v":29},{"$f":"INDEX('Wikipedia-Alle verhalen'!$B:$B,E65)","v":"1952-11-26"},1952,null,2007,8,243,6.5787500000000003]
["Het dreigende dinges",9.44,59,"2013-11-16",{"$f":"MATCH(A66,'Wikipedia-Alle verhalen'!$C:$C,0)","v":158},{"$f":"INDEX('Wikipedia-Alle verhalen'!$B:$B,E66)","v":"30 juli 1984"},1984,null,2008,8,200,6.9]
["Het drijvende dorp",8.1999999999999993,20,"2018-08-08",{"$f":"MATCH(A67,'Wikipedia-Alle verhalen'!$C:$C,0)","v":124},{"$f":"INDEX('Wikipedia-Alle verhalen'!$B:$B,E67)","v":"19 mei 1978"},1978,null,2009,{"$f":"COUNTIF($G$2:$G$400,I67)","v":7},{"$f":"SUMIF($G$2:$G$400,I67,$C$2:$C$400)","v":151},{"$f":"SUMIF($G$2:$G$400,I67,$B$2:$B$400)/J67","v":7.1185714285714292}]
["De droevige duif",5.4,25,"2019-01-13",{"$f":"MATCH(A68,'Wikipedia-Alle verhalen'!$C:$C,0)","v":140},{"$f":"INDEX('Wikipedia-Alle verhalen'!$B:$B,E68)","v":"31 augustus 1981"},1981,null,2010,9,174,6.2811111111111115]
["De dromendiefstal",8.94,19,"2020-03-26",{"$f":"MATCH(A69,'Wikipedia-Alle verhalen'!$C:$C,0)","v":80},{"$f":"INDEX('Wikipedia-Alle verhalen'!$B:$B,E69)","v":"3 juni 1969"},1969,null,2011,7,140,7.0414285714285709]
["De duistere diamant",9.4700000000000006,23,"2020-05-09",{"$f":"MATCH(A70,'Wikipedia-Alle verhalen'!$C:$C,0)","v":49},{"$f":"INDEX('Wikipedia-Alle verhalen'!$B:$B,E70)","v":"28 februari 1958"},1958,null,2012,7,139,7.2342857142857131]
["De Dulle Griet",8.6999999999999993,24,"2014-12-14",{"$f":"MATCH(A71,'Wikipedia-Alle verhalen'!$C:$C,0)","v":71},{"$f":"INDEX('Wikipedia-Alle verhalen'!$B:$B,E71)","v":"22 februari 1966"},1966,null,2013,4,58,7.3849999999999998]
["De edele elfen",8.0399999999999991,24,"2014-08-10",{"$f":"MATCH(A72,'Wikipedia-Alle verhalen'!$C:$C,0)","v":176},{"$f":"INDEX('Wikipedia-Alle verhalen'!$B:$B,E72)","v":"27 juni 1987"},1987,null,2014,7,67,7.4342857142857142]
["De eenzame eenhoorn",5.93,31,"2020-01-15",{"$f":"MATCH(A73,'Wikipedia-Alle verhalen'!$C:$C,0)","v":172},{"$f":"INDEX('Wikipedia-Alle verhalen'!$B:$B,E73)","v":"1986-12-15"},1986,null,2015,13,74,6.7476923076923079]
["De Efteling-elfjes",7.91,35,"2018-10-27",{"$f":"MATCH(A74,'Wikipedia-Alle verhalen'!$C:$C,0)","v":118},{"$f":"INDEX('Wikipedia-Alle verhalen'!$B:$B,E74)","v":"1977-04-12"},1977,null,2016,9,61,7.0444444444444443]
["De elektro-aliens",4,3,"2006-11-29",{"$f":"MATCH(A75,'Wikipedia-Alle verhalen'!$C:$C,0)","v":{"$error":"#N/A"}},"1997-01-01",1997,null,2017,7,83,7.2871428571428565]
["De elfstedenstunt",6.23,46,"2020-01-17",{"$f":"MATCH(A76,'Wikipedia-Alle verhalen'!$C:$C,0)","v":291},{"$f":"INDEX('Wikipedia-Alle verhalen'!$B:$B,E76)","v":"2007-12-12"},2007,null,2018,5,46,7.202]
["De energieke Guiten",7.41,17,"2010-11-03",{"$f":"MATCH(A77,'Wikipedia-Alle verhalen'!$C:$C,0)","v":270},{"$f":"INDEX('Wikipedia-Alle verhalen'!$B:$B,E77)","v":"2005-09-24"},2005,null,2019,6,45,7.1983333333333333]
["Het enge eiland",4.93,31,"2016-06-02",{"$f":"MATCH(A78,'Wikipedia-Alle verhalen'!$C:$C,0)","v":236},{"$f":"INDEX('Wikipedia-Alle verhalen'!$B:$B,E78)","v":"1998-11-10"},1998,null,2020,3,26,6.830000000000001]
["Er waren eens Belgen",4,4,"2015-05-07",{"$f":"MATCH(A79,'Wikipedia-Alle verhalen'!$C:$C,0)","v":{"$error":"#N/A"}},"1980-01-01",1980]
["De europummel",4.8099999999999996,60,"2018-08-22",{"$f":"MATCH(A80,'Wikipedia-Alle verhalen'!$C:$C,0)","v":246},{"$f":"INDEX('Wikipedia-Alle verhalen'!$B:$B,E80)","v":"3 januari 2001"},2001]
["Expeditie Robikson",6.16,6,"2020-02-10",{"$f":"MATCH(A81,'Wikipedia-Alle verhalen'!$C:$C,0)","v":317},{"$f":"INDEX('Wikipedia-Alle verhalen'!$B:$B,E81)","v":"26 maart 2011"},2011]
["De fabuleuze Freak",6.7,17,"2020-05-29",{"$f":"MATCH(A82,'Wikipedia-Alle verhalen'!$C:$C,0)","v":347},{"$f":"INDEX('Wikipedia-Alle verhalen'!$B:$B,E82)","v":"16 juni 2015"},2015]
["Fata Morgana",7.96,25,"2017-07-09",{"$f":"MATCH(A83,'Wikipedia-Alle verhalen'!$C:$C,0)","v":179},{"$f":"INDEX('Wikipedia-Alle verhalen'!$B:$B,E83)","v":"februari 1988"},1988]
["De fleurige Floriade",7.38,31,"2019-11-02",{"$f":"MATCH(A84,'Wikipedia-Alle verhalen'!$C:$C,0)","v":249},{"$f":"INDEX('Wikipedia-Alle verhalen'!$B:$B,E84)","v":"2 augustus 2001"},2001]
["De flierende fluiter",6.23,52,"2019-10-28",{"$f":"MATCH(A85,'Wikipedia-Alle verhalen'!$C:$C,0)","v":265},{"$f":"INDEX('Wikipedia-Alle verhalen'!$B:$B,E85)","v":"2004-12-13"},2004]
["De formidabele fantast",8.5299999999999994,49,"2020-02-09",{"$f":"MATCH(A86,'Wikipedia-Alle verhalen'!$C:$C,0)","v":266},{"$f":"INDEX('Wikipedia-Alle verhalen'!$B:$B,E86)","v":"2005-04-04"},2005]
["De Galapagos gassen",8.16,6,"2015-02-28",{"$f":"MATCH(A87,'Wikipedia-Alle verhalen'!$C:$C,0)","v":{"$error":"#N/A"}},"1982-01-01",1982]
["Game of drones",4.1100000000000003,9,"2017-02-22",{"$f":"MATCH(A88,'Wikipedia-Alle verhalen'!$C:$C,0)","v":365},{"$f":"INDEX('Wikipedia-Alle verhalen'!$B:$B,E88)","v":"2016-12-06"},2016]
["De gamegoeroe",5.71,53,"2015-02-13",{"$f":"MATCH(A89,'Wikipedia-Alle verhalen'!$C:$C,0)","v":307},{"$f":"INDEX('Wikipedia-Alle verhalen'!$B:$B,E89)","v":"22 februari 2010"},2010]
["Het gebroken dorp",7.2,10,"2020-02-17",{"$f":"MATCH(A90,'Wikipedia-Alle verhalen'!$C:$C,0)","v":342},{"$f":"INDEX('Wikipedia-Alle verhalen'!$B:$B,E90)","v":"2014-09-09"},2014]
["Het geheim der gladiatoren",9.07,39,"2020-04-25",{"$f":"MATCH(A91,'Wikipedia-Alle verhalen'!$C:$C,0)","v":{"$error":"#N/A"}},"1950-01-01",1950]
["Het geheim van de Kalmthoutse Heide",7.87,8,"2010-11-03",{"$f":"MATCH(A92,'Wikipedia-Alle verhalen'!$C:$C,0)","v":125},{"$f":"INDEX('Wikipedia-Alle verhalen'!$B:$B,E92)","v":"1 juni 1978"},1978]
["Het geheim van de kousenband",8,7,"2019-02-21",{"$f":"MATCH(A93,'Wikipedia-Alle verhalen'!$C:$C,0)","v":{"$error":"#N/A"}},"1985-01-01",1985]
["De gekalibreerde kwibus",6.35,20,"2015-11-15",{"$f":"MATCH(A94,'Wikipedia-Alle verhalen'!$C:$C,0)","v":14},{"$f":"INDEX('Wikipedia-Alle verhalen'!$B:$B,E94)","v":"31 oktober 1948"},1948]
["De gekke gokker",8.34,35,"2020-06-11",{"$f":"MATCH(A95,'Wikipedia-Alle verhalen'!$C:$C,0)","v":87},{"$f":"INDEX('Wikipedia-Alle verhalen'!$B:$B,E95)","v":"1971-12-28"},{"$f":"IF(ISTEXT(F95),VALUE(RIGHT(F95,4)),YEAR(F95))","v":1971}]
["Gelukkig Nieuwjaar!!",8,1,"2011-04-19",{"$f":"MATCH(A96,'Wikipedia-Alle verhalen'!$C:$C,0)","v":{"$error":"#N/A"}},"1985-01-01",1985]
["De gestolen schoen",3.5,2,"2004-05-08",{"$f":"MATCH(A97,'Wikipedia-Alle verhalen'!$C:$C,0)","v":{"$error":"#N/A"}},"1985-01-01",1985]
["De gevangene van Prisonov",6.77,59,"2020-03-01",{"$f":"MATCH(A98,'Wikipedia-Alle verhalen'!$C:$C,0)","v":257},{"$f":"INDEX('Wikipedia-Alle verhalen'!$B:$B,E98)","v":"3 juni 2003"},2003]
["De gevederde slang",7.43,16,"2015-12-06",{"$f":"MATCH(A99,'Wikipedia-Alle verhalen'!$C:$C,0)","v":230},{"$f":"INDEX('Wikipedia-Alle verhalen'!$B:$B,E99)","v":"juni 1997"},1997]
["De geverniste zeerovers",9.1999999999999993,29,"2020-05-03",{"$f":"MATCH(A100,'Wikipedia-Alle verhalen'!$C:$C,0)","v":46},{"$f":"INDEX('Wikipedia-Alle verhalen'!$B:$B,E100)","v":"16 oktober 1957"},1957]
["De gezanten van Mars",9.26,23,"2016-11-23",{"$f":"MATCH(A101,'Wikipedia-Alle verhalen'!$C:$C,0)","v":37},{"$f":"INDEX('Wikipedia-Alle verhalen'!$B:$B,E101)","v":"2 februari 1955"},1955]
["De gladde glipper",7.9,22,"2019-10-16",{"$f":"MATCH(A102,'Wikipedia-Alle verhalen'!$C:$C,0)","v":92},{"$f":"INDEX('Wikipedia-Alle verhalen'!$B:$B,E102)","v":"18 juni 1973"},1973]
["De glanzende gletsjer",7.9,11,"2013-11-23",{"$f":"MATCH(A103,'Wikipedia-Alle verhalen'!$C:$C,0)","v":167},{"$f":"INDEX('Wikipedia-Alle verhalen'!$B:$B,E103)","v":"14 januari 1986"},1986]
["De goalgetter",7.03,33,"2019-02-17",{"$f":"MATCH(A104,'Wikipedia-Alle verhalen'!$C:$C,0)","v":193},{"$f":"INDEX('Wikipedia-Alle verhalen'!$B:$B,E104)","v":"17 maart 1990"},1990]
["De gouden bloem",5.1100000000000003,9,"2010-11-03",{"$f":"MATCH(A105,'Wikipedia-Alle verhalen'!$C:$C,0)","v":101},{"$f":"INDEX('Wikipedia-Alle verhalen'!$B:$B,E105)","v":"januari 1975"},1975]
["De gouden cirkel",9.6,43,"2020-04-30",{"$f":"MATCH(A106,'Wikipedia-Alle verhalen'!$C:$C,0)","v":54},{"$f":"INDEX('Wikipedia-Alle verhalen'!$B:$B,E106)","v":"4 januari 1960"},1960]
["De gouden friet",3.69,13,"2015-11-28",{"$f":"MATCH(A107,'Wikipedia-Alle verhalen'!$C:$C,0)","v":191},{"$f":"INDEX('Wikipedia-Alle verhalen'!$B:$B,E107)","v":"januari 1990"},1990]
["De gouden ganzeveer",7.63,19,"2013-11-08",{"$f":"MATCH(A108,'Wikipedia-Alle verhalen'!$C:$C,0)","v":148},{"$f":"INDEX('Wikipedia-Alle verhalen'!$B:$B,E108)","v":"2 oktober 1982"},1982]
["Het gouden kuipje",3.88,9,"2010-11-02",{"$f":"MATCH(A109,'Wikipedia-Alle verhalen'!$C:$C,0)","v":185},{"$f":"INDEX('Wikipedia-Alle verhalen'!$B:$B,E109)","v":"januari 1989"},1989]
["De gouden locomotief",6.94,17,"2018-02-04",{"$f":"MATCH(A110,'Wikipedia-Alle verhalen'!$C:$C,0)","v":107},{"$f":"INDEX('Wikipedia-Alle verhalen'!$B:$B,E110)","v":"1975-12-01"},1975]
["Het gouden paard",8.85,21,"2020-03-23",{"$f":"MATCH(A111,'Wikipedia-Alle verhalen'!$C:$C,0)","v":48},{"$f":"INDEX('Wikipedia-Alle verhalen'!$B:$B,E111)","v":"26 februari 1958"},1958]
["De gramme huurling",8.44,25,"2016-06-07",{"$f":"MATCH(A112,'Wikipedia-Alle verhalen'!$C:$C,0)","v":76},{"$f":"INDEX('Wikipedia-Alle verhalen'!$B:$B,E112)","v":"1967-12-16"},1967]
["De grandioze gitaar",9.5,4,"2019-12-07",{"$f":"MATCH(A113,'Wikipedia-Alle verhalen'!$C:$C,0)","v":358},{"$f":"INDEX('Wikipedia-Alle verhalen'!$B:$B,E113)","v":"2016-09-03"},2016]
["De groene splinter",8.86,22,"2020-04-12",{"$f":"MATCH(A114,'Wikipedia-Alle verhalen'!$C:$C,0)","v":42},{"$f":"INDEX('Wikipedia-Alle verhalen'!$B:$B,E114)","v":"27 juni 1956"},1956]
["De groffe grapjas",5,2,"2016-09-14",{"$f":"MATCH(A115,'Wikipedia-Alle verhalen'!$C:$C,0)","v":353},{"$f":"INDEX('Wikipedia-Alle verhalen'!$B:$B,E115)","v":"24 oktober 2015"},2015]
["Het Grote Gat",6.5,12,"2016-11-23",{"$f":"MATCH(A116,'Wikipedia-Alle verhalen'!$C:$C,0)","v":224},{"$f":"INDEX('Wikipedia-Alle verhalen'!$B:$B,E116)","v":"22 januari 1996"},1996]
["De guitige gast",7.9,11,"2010-10-27",{"$f":"MATCH(A117,'Wikipedia-Alle verhalen'!$C:$C,0)","v":262},{"$f":"INDEX('Wikipedia-Alle verhalen'!$B:$B,E117)","v":"14 mei 2004"},2004]
["De gulden harpoen",7.5,10,"2016-12-07",{"$f":"MATCH(A118,'Wikipedia-Alle verhalen'!$C:$C,0)","v":206},{"$f":"INDEX('Wikipedia-Alle verhalen'!$B:$B,E118)","v":"1992-09-19"},1992]
["De halve Havelaar",7.19,36,"2015-08-13",{"$f":"MATCH(A119,'Wikipedia-Alle verhalen'!$C:$C,0)","v":309},{"$f":"INDEX('Wikipedia-Alle verhalen'!$B:$B,E119)","v":"15 juni 2010"},2010]
["De hamer van Thor",8,2,"2008-05-14",{"$f":"MATCH(A120,'Wikipedia-Alle verhalen'!$C:$C,0)","v":{"$error":"#N/A"}},"1990-01-01",1990]
["Heilig Bloed",6.66,27,"2017-08-07",{"$f":"MATCH(A121,'Wikipedia-Alle verhalen'!$C:$C,0)","v":251},{"$f":"INDEX('Wikipedia-Alle verhalen'!$B:$B,E121)","v":"2001-11-21"},2001]
["De Heldenmaker",7.53,13,"2020-01-01",{"$f":"MATCH(A122,'Wikipedia-Alle verhalen'!$C:$C,0)","v":366},{"$f":"INDEX('Wikipedia-Alle verhalen'!$B:$B,E122)","v":"14 februari 2017"},2017]
["De hellegathonden",9.06,29,"2016-01-06",{"$f":"MATCH(A123,'Wikipedia-Alle verhalen'!$C:$C,0)","v":169},{"$f":"INDEX('Wikipedia-Alle verhalen'!$B:$B,E123)","v":"28 mei 1986"},1986]
["De hippe heksen",7.26,19,"2016-04-30",{"$f":"MATCH(A124,'Wikipedia-Alle verhalen'!$C:$C,0)","v":150},{"$f":"INDEX('Wikipedia-Alle verhalen'!$B:$B,E124)","v":"14 februari 1983"},1983]
["Hippus het zeeveulen",8.09,11,"2013-11-09",{"$f":"MATCH(A125,'Wikipedia-Alle verhalen'!$C:$C,0)","v":104},{"$f":"INDEX('Wikipedia-Alle verhalen'!$B:$B,E125)","v":"juni 1975"},1975]
["Het hondenparadijs",9,28,"2020-03-22",{"$f":"MATCH(A126,'Wikipedia-Alle verhalen'!$C:$C,0)","v":59},{"$f":"INDEX('Wikipedia-Alle verhalen'!$B:$B,E126)","v":"26 oktober 1961"},1961]
["Het ijzeren duel",7.9,20,"2020-02-21",{"$f":"MATCH(A127,'Wikipedia-Alle verhalen'!$C:$C,0)","v":329},{"$f":"INDEX('Wikipedia-Alle verhalen'!$B:$B,E127)","v":"2012-11-21"},{"$f":"IF(ISTEXT(F127),VALUE(RIGHT(F127,4)),YEAR(F127))","v":2012}]
["De IJzeren Schelvis",9.4,30,"2014-12-13",{"$f":"MATCH(A128,'Wikipedia-Alle verhalen'!$C:$C,0)","v":36},{"$f":"INDEX('Wikipedia-Alle verhalen'!$B:$B,E128)","v":"1954-09-27"},1954]
["In de ban van de Milt",6.37,29,"2015-12-22",{"$f":"MATCH(A129,'Wikipedia-Alle verhalen'!$C:$C,0)","v":252},{"$f":"INDEX('Wikipedia-Alle verhalen'!$B:$B,E129)","v":"12 maart 2002"},2002]
["De interim-job",4.66,3,"2010-08-10",{"$f":"MATCH(A130,'Wikipedia-Alle verhalen'!$C:$C,0)","v":{"$error":"#N/A"}},"1997-01-01",1997]
["De irritante imitator",4.66,3,"2017-07-09",{"$f":"MATCH(A131,'Wikipedia-Alle verhalen'!$C:$C,0)","v":363},{"$f":"INDEX('Wikipedia-Alle verhalen'!$B:$B,E131)","v":"8 oktober 2016"},2016]
["Jeanne Panne",8.6300000000000008,19,"2018-08-27",{"$f":"MATCH(A132,'Wikipedia-Alle verhalen'!$C:$C,0)","v":239},{"$f":"INDEX('Wikipedia-Alle verhalen'!$B:$B,E132)","v":"23 juni 1999"},1999]
["Jeromba de Griek",8.4499999999999993,24,"2018-12-22",{"$f":"MATCH(A133,'Wikipedia-Alle verhalen'!$C:$C,0)","v":70},{"$f":"INDEX('Wikipedia-Alle verhalen'!$B:$B,E133)","v":"11 oktober 1965"},1965]
["De jokkende joker",7.12,40,"2020-01-03",{"$f":"MATCH(A134,'Wikipedia-Alle verhalen'!$C:$C,0)","v":301},{"$f":"INDEX('Wikipedia-Alle verhalen'!$B:$B,E134)","v":"20 mei 2009"},2009]
["De jolige joffer",7.06,16,"2013-11-17",{"$f":"MATCH(A135,'Wikipedia-Alle verhalen'!$C:$C,0)","v":171},{"$f":"INDEX('Wikipedia-Alle verhalen'!$B:$B,E135)","v":"7 oktober 1986"},1986]
["De joviale Gille",6.84,33,"2013-05-03",{"$f":"MATCH(A136,'Wikipedia-Alle verhalen'!$C:$C,0)","v":289},{"$f":"INDEX('Wikipedia-Alle verhalen'!$B:$B,E136)","v":"2007-09-13"},2007]
["Juffertje Janboel",7.5,2,"2019-05-08",{"$f":"MATCH(A137,'Wikipedia-Alle verhalen'!$C:$C,0)","v":308},{"$f":"INDEX('Wikipedia-Alle verhalen'!$B:$B,E137)","v":"22 mei 2010"},2010]
["De junglebloem",7.38,13,"2020-03-22",{"$f":"MATCH(A138,'Wikipedia-Alle verhalen'!$C:$C,0)","v":79},{"$f":"INDEX('Wikipedia-Alle verhalen'!$B:$B,E138)","v":"18 januari 1969"},1969]
["Kaapse kaalkoppen",7.91,49,"2015-12-28",{"$f":"MATCH(A139,'Wikipedia-Alle verhalen'!$C:$C,0)","v":261},{"$f":"INDEX('Wikipedia-Alle verhalen'!$B:$B,E139)","v":"4 mei 2004"},2004]
["De kaartendans",9.3000000000000007,53,"2020-03-24",{"$f":"MATCH(A140,'Wikipedia-Alle verhalen'!$C:$C,0)","v":60},{"$f":"INDEX('Wikipedia-Alle verhalen'!$B:$B,E140)","v":"7 maart 1962"},1962]
["De kaduke klonen",7.18,53,"2019-12-29",{"$f":"MATCH(A141,'Wikipedia-Alle verhalen'!$C:$C,0)","v":272},{"$f":"INDEX('Wikipedia-Alle verhalen'!$B:$B,E141)","v":"2005-11-14"},2005]
["De kadulle Cupido",7.66,9,"2012-12-22",{"$f":"MATCH(A142,'Wikipedia-Alle verhalen'!$C:$C,0)","v":126},{"$f":"INDEX('Wikipedia-Alle verhalen'!$B:$B,E142)","v":"15 juli 1978"},1978]
["De kale kapper",7.93,16,"2020-05-23",{"$f":"MATCH(A143,'Wikipedia-Alle verhalen'!$C:$C,0)","v":84},{"$f":"INDEX('Wikipedia-Alle verhalen'!$B:$B,E143)","v":"1970-11-13"},1970]
["De kaperkoters",7.16,48,"2019-01-25",{"$f":"MATCH(A144,'Wikipedia-Alle verhalen'!$C:$C,0)","v":282},{"$f":"INDEX('Wikipedia-Alle verhalen'!$B:$B,E144)","v":"11 oktober 2006"},2006]
["De kattige kat",6.52,19,"2015-11-12",{"$f":"MATCH(A145,'Wikipedia-Alle verhalen'!$C:$C,0)","v":159},{"$f":"INDEX('Wikipedia-Alle verhalen'!$B:$B,E145)","v":"1984-11-05"},1984]
["De kernmonsters",7.15,19,"2015-12-11",{"$f":"MATCH(A146,'Wikipedia-Alle verhalen'!$C:$C,0)","v":240},{"$f":"INDEX('Wikipedia-Alle verhalen'!$B:$B,E146)","v":"11 oktober 1999"},1999]
["Het kerstmannetje",8,5,"2011-03-27",{"$f":"MATCH(A147,'Wikipedia-Alle verhalen'!$C:$C,0)","v":{"$error":"#N/A"}},"1980-01-01",1980]
["De klankentapper",8.9499999999999993,24,"2020-05-24",{"$f":"MATCH(A148,'Wikipedia-Alle verhalen'!$C:$C,0)","v":57},{"$f":"INDEX('Wikipedia-Alle verhalen'!$B:$B,E148)","v":"7 februari 1961"},1961]
["De kleine postruiter",8.8000000000000007,15,"2019-10-06",{"$f":"MATCH(A149,'Wikipedia-Alle verhalen'!$C:$C,0)","v":190},{"$f":"INDEX('Wikipedia-Alle verhalen'!$B:$B,E149)","v":"1989-11-04"},1989]
["De kleppende klipper",8.6300000000000008,22,"2020-03-19",{"$f":"MATCH(A150,'Wikipedia-Alle verhalen'!$C:$C,0)","v":38},{"$f":"INDEX('Wikipedia-Alle verhalen'!$B:$B,E150)","v":"11 februari 1955"},1955]
["De kleurenkladder",8.57,14,"2013-07-09",{"$f":"MATCH(A151,'Wikipedia-Alle verhalen'!$C:$C,0)","v":184},{"$f":"INDEX('Wikipedia-Alle verhalen'!$B:$B,E151)","v":"9 januari 1989"},1989]
["De klinkende klokken",6.69,13,"2017-06-08",{"$f":"MATCH(A152,'Wikipedia-Alle verhalen'!$C:$C,0)","v":203},{"$f":"INDEX('Wikipedia-Alle verhalen'!$B:$B,E152)","v":"3 februari 1992"},1992]
["De knikkende knoken",7.27,33,"2015-10-08",{"$f":"MATCH(A153,'Wikipedia-Alle verhalen'!$C:$C,0)","v":298},{"$f":"INDEX('Wikipedia-Alle verhalen'!$B:$B,E153)","v":"2008-12-02"},2008]
["Knokken in Knossos",7.83,18,"2010-11-03",{"$f":"MATCH(A154,'Wikipedia-Alle verhalen'!$C:$C,0)","v":194},{"$f":"INDEX('Wikipedia-Alle verhalen'!$B:$B,E154)","v":"1 juni 1990"},1990]
["De Knokkersburcht",8.65,23,"2020-05-23",{"$f":"MATCH(A155,'Wikipedia-Alle verhalen'!$C:$C,0)","v":32},{"$f":"INDEX('Wikipedia-Alle verhalen'!$B:$B,E155)","v":"18 augustus 1953"},1953]
["De koddige kater",8.8000000000000007,21,"2014-12-07",{"$f":"MATCH(A156,'Wikipedia-Alle verhalen'!$C:$C,0)","v":67},{"$f":"INDEX('Wikipedia-Alle verhalen'!$B:$B,E156)","v":"1964-09-11"},1964]
["De koeiencommissie",4.97,48,"2018-09-09",{"$f":"MATCH(A157,'Wikipedia-Alle verhalen'!$C:$C,0)","v":243},{"$f":"INDEX('Wikipedia-Alle verhalen'!$B:$B,E157)","v":"22 mei 2000"},2000]
["De kokende kei",7,1,"2011-11-26",{"$f":"MATCH(A158,'Wikipedia-Alle verhalen'!$C:$C,0)","v":303},{"$f":"INDEX('Wikipedia-Alle verhalen'!$B:$B,E158)","v":"18 juli 2009"},2009]
["De komieke coco",8.5,16,"2018-09-08",{"$f":"MATCH(A159,'Wikipedia-Alle verhalen'!$C:$C,0)","v":181},{"$f":"INDEX('Wikipedia-Alle verhalen'!$B:$B,E159)","v":"21 mei 1988"},{"$f":"IF(ISTEXT(F159),VALUE(RIGHT(F159,4)),YEAR(F159))","v":1988}]
["De koning drinkt",7.94,37,"2020-03-28",{"$f":"MATCH(A160,'Wikipedia-Alle verhalen'!$C:$C,0)","v":9},{"$f":"INDEX('Wikipedia-Alle verhalen'!$B:$B,E160)","v":"1 juli 1947"},1947]
["De koperen knullen",7.33,24,"2020-02-25",{"$f":"MATCH(A161,'Wikipedia-Alle verhalen'!$C:$C,0)","v":135},{"$f":"INDEX('Wikipedia-Alle verhalen'!$B:$B,E161)","v":"26 juli 1980"},1980]
["De koppige kluizenaar",7,9,"2010-10-27",{"$f":"MATCH(A162,'Wikipedia-Alle verhalen'!$C:$C,0)","v":260},{"$f":"INDEX('Wikipedia-Alle verhalen'!$B:$B,E162)","v":"februari 2004"},2004]
["Het kostbare kader",6.38,13,"2015-11-17",{"$f":"MATCH(A163,'Wikipedia-Alle verhalen'!$C:$C,0)","v":221},{"$f":"INDEX('Wikipedia-Alle verhalen'!$B:$B,E163)","v":"7 juni 1995"},1995]
["De krachtige krans",8.4600000000000009,28,"2019-09-11",{"$f":"MATCH(A164,'Wikipedia-Alle verhalen'!$C:$C,0)","v":178},{"$f":"INDEX('Wikipedia-Alle verhalen'!$B:$B,E164)","v":"1987-12-22"},1987]
["De krakende Carcas",7.53,15,"2019-10-23",{"$f":"MATCH(A165,'Wikipedia-Alle verhalen'!$C:$C,0)","v":202},{"$f":"INDEX('Wikipedia-Alle verhalen'!$B:$B,E165)","v":"13 januari 1992"},1992]
["De krasse Kroko",6.63,46,"2019-03-11",{"$f":"MATCH(A166,'Wikipedia-Alle verhalen'!$C:$C,0)","v":286},{"$f":"INDEX('Wikipedia-Alle verhalen'!$B:$B,E166)","v":"2 mei 2007"},2007]
["Het kregelige Ketje",6.52,25,"2019-07-31",{"$f":"MATCH(A167,'Wikipedia-Alle verhalen'!$C:$C,0)","v":131},{"$f":"INDEX('Wikipedia-Alle verhalen'!$B:$B,E167)","v":"30 juli 1979"},1979]
["De kribbige krab",6.5,2,"2010-12-07",{"$f":"MATCH(A168,'Wikipedia-Alle verhalen'!$C:$C,0)","v":297},{"$f":"INDEX('Wikipedia-Alle verhalen'!$B:$B,E168)","v":"2008-09-13"},2008]
["Krimson Break",7,1,"2011-11-26",{"$f":"MATCH(A169,'Wikipedia-Alle verhalen'!$C:$C,0)","v":306},{"$f":"INDEX('Wikipedia-Alle verhalen'!$B:$B,E169)","v":"2009-12-19"},2009]
["De Krimson-crisis",8.64,39,"2019-09-11",{"$f":"MATCH(A170,'Wikipedia-Alle verhalen'!$C:$C,0)","v":177},{"$f":"INDEX('Wikipedia-Alle verhalen'!$B:$B,E170)","v":"1987-11-02"},1987]
["Krimsonia",6.56,25,"2019-12-25",{"$f":"MATCH(A171,'Wikipedia-Alle verhalen'!$C:$C,0)","v":321},{"$f":"INDEX('Wikipedia-Alle verhalen'!$B:$B,E171)","v":"2011-12-23"},2011]
["Het kristallen kasteel",8.07,14,"2016-12-08",{"$f":"MATCH(A172,'Wikipedia-Alle verhalen'!$C:$C,0)","v":205},{"$f":"INDEX('Wikipedia-Alle verhalen'!$B:$B,E172)","v":"27 mei 1992"},1992]
["De kunstkraker",6.62,67,"2018-10-18",{"$f":"MATCH(A173,'Wikipedia-Alle verhalen'!$C:$C,0)","v":250},{"$f":"INDEX('Wikipedia-Alle verhalen'!$B:$B,E173)","v":"2001-11-19"},2001]
["De kus van Odfella",5.9,73,"2019-03-27",{"$f":"MATCH(A174,'Wikipedia-Alle verhalen'!$C:$C,0)","v":256},{"$f":"INDEX('Wikipedia-Alle verhalen'!$B:$B,E174)","v":"11 februari 2003"},2003]
["De kwaaie Kwieten",7.76,13,"2020-01-18",{"$f":"MATCH(A175,'Wikipedia-Alle verhalen'!$C:$C,0)","v":165},{"$f":"INDEX('Wikipedia-Alle verhalen'!$B:$B,E175)","v":"1985-11-25"},1985]
["De kwakende Queen",8.07,26,"2020-02-23",{"$f":"MATCH(A176,'Wikipedia-Alle verhalen'!$C:$C,0)","v":315},{"$f":"INDEX('Wikipedia-Alle verhalen'!$B:$B,E176)","v":"24 januari 2011"},2011]
["De kwakkelende kwakzalver",7.33,3,"2019-11-14",{"$f":"MATCH(A177,'Wikipedia-Alle verhalen'!$C:$C,0)","v":382},{"$f":"INDEX('Wikipedia-Alle verhalen'!$B:$B,E177)","v":"2019-11-06"},2019]
["De Kwakstralen",9.11,18,"2020-03-22",{"$f":"MATCH(A178,'Wikipedia-Alle verhalen'!$C:$C,0)","v":61},{"$f":"INDEX('Wikipedia-Alle verhalen'!$B:$B,E178)","v":"14 juli 1962"},1962]
["De laaiende linies",8.5,2,"2012-01-04",{"$f":"MATCH(A179,'Wikipedia-Alle verhalen'!$C:$C,0)","v":322},{"$f":"INDEX('Wikipedia-Alle verhalen'!$B:$B,E179)","v":"1905-07-03"},2012]
["Het laatste dwaallicht",6.9,20,"2015-10-14",{"$f":"MATCH(A180,'Wikipedia-Alle verhalen'!$C:$C,0)","v":111},{"$f":"INDEX('Wikipedia-Alle verhalen'!$B:$B,E180)","v":"1976-04-14"},{"$f":"IF(ISTEXT(F180),VALUE(RIGHT(F180,4)),YEAR(F180))","v":1976}]
["De laatste vloek",5.74,47,"2015-12-25",{"$f":"MATCH(A181,'Wikipedia-Alle verhalen'!$C:$C,0)","v":255},{"$f":"INDEX('Wikipedia-Alle verhalen'!$B:$B,E181)","v":"21 oktober 2002"},2002]
["Het labyrint van de leeuw",8,1,"2014-12-06",{"$f":"MATCH(A182,'Wikipedia-Alle verhalen'!$C:$C,0)","v":{"$error":"#N/A"}},"2015-01-01",2015]
["De lachende wolf",7.81,22,"2020-05-24",{"$f":"MATCH(A183,'Wikipedia-Alle verhalen'!$C:$C,0)","v":27},{"$f":"INDEX('Wikipedia-Alle verhalen'!$B:$B,E183)","v":"19 juli 1952"},1952]
["De lallende libel",3,1,"2005-11-18",{"$f":"MATCH(A184,'Wikipedia-Alle verhalen'!$C:$C,0)","v":{"$error":"#N/A"}},"2010-01-01",2010]
["Lambik Baba",7.62,16,"2019-08-28",{"$f":"MATCH(A185,'Wikipedia-Alle verhalen'!$C:$C,0)","v":200},{"$f":"INDEX('Wikipedia-Alle verhalen'!$B:$B,E185)","v":"19 juni 1991"},1991]
["Lambik Plastiek",5.66,9,"2020-03-01",{"$f":"MATCH(A186,'Wikipedia-Alle verhalen'!$C:$C,0)","v":379},{"$f":"INDEX('Wikipedia-Alle verhalen'!$B:$B,E186)","v":"13 maart 2019"},2019]
["Lambiorix",8.6,20,"2016-03-31",{"$f":"MATCH(A187,'Wikipedia-Alle verhalen'!$C:$C,0)","v":17},{"$f":"INDEX('Wikipedia-Alle verhalen'!$B:$B,E187)","v":"25 augustus 1949"},1949]
["Het lederen monster",6.69,13,"2018-08-20",{"$f":"MATCH(A188,'Wikipedia-Alle verhalen'!$C:$C,0)","v":357},{"$f":"INDEX('Wikipedia-Alle verhalen'!$B:$B,E188)","v":"7 juni 2016"},2016]
["Het lekkere lab",6.4,5,"2020-04-14",{"$f":"MATCH(A189,'Wikipedia-Alle verhalen'!$C:$C,0)","v":381},{"$f":"INDEX('Wikipedia-Alle verhalen'!$B:$B,E189)","v":"2019-09-03"},2019]
["De lepe luis",4,2,"2005-11-28",{"$f":"MATCH(A190,'Wikipedia-Alle verhalen'!$C:$C,0)","v":269},{"$f":"INDEX('Wikipedia-Alle verhalen'!$B:$B,E190)","v":"2005-09-01"},2005]
["De lieve Lilleham",6.42,19,"2013-08-16",{"$f":"MATCH(A191,'Wikipedia-Alle verhalen'!$C:$C,0)","v":155},{"$f":"INDEX('Wikipedia-Alle verhalen'!$B:$B,E191)","v":"1983-11-07"},1983]
["Het lijdende Leiden",8.23,26,"2020-03-06",{"$f":"MATCH(A192,'Wikipedia-Alle verhalen'!$C:$C,0)","v":318},{"$f":"INDEX('Wikipedia-Alle verhalen'!$B:$B,E192)","v":"13 mei 2011"},2011]
["Lilli Natal",7.7,20,"2015-12-11",{"$f":"MATCH(A193,'Wikipedia-Alle verhalen'!$C:$C,0)","v":241},{"$f":"INDEX('Wikipedia-Alle verhalen'!$B:$B,E193)","v":"1 februari 2000"},2000]
["De lollige lakens",7.12,8,"2015-11-28",{"$f":"MATCH(A194,'Wikipedia-Alle verhalen'!$C:$C,0)","v":120},{"$f":"INDEX('Wikipedia-Alle verhalen'!$B:$B,E194)","v":"1 juli 1977"},1977]
["De macabere macralles",7,13,"2010-11-02",{"$f":"MATCH(A195,'Wikipedia-Alle verhalen'!$C:$C,0)","v":209},{"$f":"INDEX('Wikipedia-Alle verhalen'!$B:$B,E195)","v":"20 maart 1993"},1993]
["Het machtige monument",5.97,37,"2015-11-27",{"$f":"MATCH(A196,'Wikipedia-Alle verhalen'!$C:$C,0)","v":294},{"$f":"INDEX('Wikipedia-Alle verhalen'!$B:$B,E196)","v":"2008-04-22"},2008]
["De maffe maniak",6.7,17,"2018-10-27",{"$f":"MATCH(A197,'Wikipedia-Alle verhalen'!$C:$C,0)","v":114},{"$f":"INDEX('Wikipedia-Alle verhalen'!$B:$B,E197)","v":"5 juni 1976"},1976]
["De malle mergpijp",8.1,19,"2020-06-18",{"$f":"MATCH(A198,'Wikipedia-Alle verhalen'!$C:$C,0)","v":89},{"$f":"INDEX('Wikipedia-Alle verhalen'!$B:$B,E198)","v":"1972-09-20"},1972]
["Mami Wata",7.66,15,"2020-02-27",{"$f":"MATCH(A199,'Wikipedia-Alle verhalen'!$C:$C,0)","v":369},{"$f":"INDEX('Wikipedia-Alle verhalen'!$B:$B,E199)","v":"14 juni 2017"},2017]
["De meteomachine",6,5,"2014-10-08",{"$f":"MATCH(A200,'Wikipedia-Alle verhalen'!$C:$C,0)","v":310},{"$f":"INDEX('Wikipedia-Alle verhalen'!$B:$B,E200)","v":"13 juli 2010"},2010]
["De microkomiek",6,2,"2019-06-17",{"$f":"MATCH(A201,'Wikipedia-Alle verhalen'!$C:$C,0)","v":284},{"$f":"INDEX('Wikipedia-Alle verhalen'!$B:$B,E201)","v":"6 januari 2007"},2007]
["De Minilotten van Kokonera",5.95,24,"2020-03-06",{"$f":"MATCH(A202,'Wikipedia-Alle verhalen'!$C:$C,0)","v":106},{"$f":"INDEX('Wikipedia-Alle verhalen'!$B:$B,E202)","v":"6 oktober 1975"},1975]
["Het mini-mierennest",8.44,29,"2019-09-11",{"$f":"MATCH(A203,'Wikipedia-Alle verhalen'!$C:$C,0)","v":74},{"$f":"INDEX('Wikipedia-Alle verhalen'!$B:$B,E203)","v":"24 maart 1967"},1967]
["De mollige marmotten",8.11,9,"2010-11-02",{"$f":"MATCH(A204,'Wikipedia-Alle verhalen'!$C:$C,0)","v":216},{"$f":"INDEX('Wikipedia-Alle verhalen'!$B:$B,E204)","v":"juni 1994"},1994]
["De mollige meivis",6.16,18,"2020-03-06",{"$f":"MATCH(A205,'Wikipedia-Alle verhalen'!$C:$C,0)","v":96},{"$f":"INDEX('Wikipedia-Alle verhalen'!$B:$B,E205)","v":"1974-04-27"},1974]
["De mompelende mummie",7.23,17,"2016-10-10",{"$f":"MATCH(A206,'Wikipedia-Alle verhalen'!$C:$C,0)","v":229},{"$f":"INDEX('Wikipedia-Alle verhalen'!$B:$B,E206)","v":"1997-04-24"},1997]
["Het Monamysterie",7.33,12,"2020-03-02",{"$f":"MATCH(A207,'Wikipedia-Alle verhalen'!$C:$C,0)","v":370},{"$f":"INDEX('Wikipedia-Alle verhalen'!$B:$B,E207)","v":"2017-09-12"},2017]
["Het monster van Loch Ness",6.58,12,"2013-07-27",{"$f":"MATCH(A208,'Wikipedia-Alle verhalen'!$C:$C,0)","v":123},{"$f":"INDEX('Wikipedia-Alle verhalen'!$B:$B,E208)","v":"1978-04-01"},1978]
["De mooie millirem",7.64,14,"2014-06-12",{"$f":"MATCH(A209,'Wikipedia-Alle verhalen'!$C:$C,0)","v":162},{"$f":"INDEX('Wikipedia-Alle verhalen'!$B:$B,E209)","v":"1985-04-20"},1985]
["Het mopperende masker",5.4,27,"2012-10-08",{"$f":"MATCH(A210,'Wikipedia-Alle verhalen'!$C:$C,0)","v":267},{"$f":"INDEX('Wikipedia-Alle verhalen'!$B:$B,E210)","v":"2005-04-23"},2005]
["De mottenvanger",7.36,19,"2020-06-19",{"$f":"MATCH(A211,'Wikipedia-Alle verhalen'!$C:$C,0)","v":15},{"$f":"INDEX('Wikipedia-Alle verhalen'!$B:$B,E211)","v":"1948-12-08"},1948]
["De mysterieuze cirkel",9,1,"2004-01-29",{"$f":"MATCH(A212,'Wikipedia-Alle verhalen'!$C:$C,0)","v":{"$error":"#N/A"}},"1997-01-01",{"$f":"IF(ISTEXT(F212),VALUE(RIGHT(F212,4)),YEAR(F212))","v":1997}]
["De mysterieuze mijn",8.52,17,"2016-05-19",{"$f":"MATCH(A213,'Wikipedia-Alle verhalen'!$C:$C,0)","v":195},{"$f":"INDEX('Wikipedia-Alle verhalen'!$B:$B,E213)","v":"11 juli 1990"},1990]
["De nacht van de narwal",7.9,10,"2020-01-15",{"$f":"MATCH(A214,'Wikipedia-Alle verhalen'!$C:$C,0)","v":383},{"$f":"INDEX('Wikipedia-Alle verhalen'!$B:$B,E214)","v":"2019-12-03"},2019]
["De Nachtwachtbrigade",7.24,61,"2011-01-21",{"$f":"MATCH(A215,'Wikipedia-Alle verhalen'!$C:$C,0)","v":277},{"$f":"INDEX('Wikipedia-Alle verhalen'!$B:$B,E215)","v":"22 juni 2006"},2006]
["Het naderende noodlot",7,2,"2015-10-24",{"$f":"MATCH(A216,'Wikipedia-Alle verhalen'!$C:$C,0)","v":352},{"$f":"INDEX('Wikipedia-Alle verhalen'!$B:$B,E216)","v":"17 oktober 2015"},2015]
["De nare varaan",7.81,16,"2016-12-14",{"$f":"MATCH(A217,'Wikipedia-Alle verhalen'!$C:$C,0)","v":95},{"$f":"INDEX('Wikipedia-Alle verhalen'!$B:$B,E217)","v":"13 maart 1974"},1974]
["De natte Navajo",5.36,19,"2019-02-09",{"$f":"MATCH(A218,'Wikipedia-Alle verhalen'!$C:$C,0)","v":147},{"$f":"INDEX('Wikipedia-Alle verhalen'!$B:$B,E218)","v":"1982-09-27"},1982]
["De nerveuze Nerviërs",7.39,23,"2014-11-29",{"$f":"MATCH(A219,'Wikipedia-Alle verhalen'!$C:$C,0)","v":65},{"$f":"INDEX('Wikipedia-Alle verhalen'!$B:$B,E219)","v":"1963-12-21"},1963]
["De olijke olifant",8.8800000000000008,18,"2018-10-27",{"$f":"MATCH(A220,'Wikipedia-Alle verhalen'!$C:$C,0)","v":119},{"$f":"INDEX('Wikipedia-Alle verhalen'!$B:$B,E220)","v":"25 juni 1977"},1977]
["Het omgekeerde land",7.7,10,"2020-02-10",{"$f":"MATCH(A221,'Wikipedia-Alle verhalen'!$C:$C,0)","v":364},{"$f":"INDEX('Wikipedia-Alle verhalen'!$B:$B,E221)","v":"2016-09-06"},2016]
["Het onbekende eiland",6.85,7,"2010-11-02",{"$f":"MATCH(A222,'Wikipedia-Alle verhalen'!$C:$C,0)","v":146},{"$f":"INDEX('Wikipedia-Alle verhalen'!$B:$B,E222)","v":"juni 1982"},1982]
["De ongelooflijke Thomas",5,60,"2020-01-04",{"$f":"MATCH(A223,'Wikipedia-Alle verhalen'!$C:$C,0)","v":244},{"$f":"INDEX('Wikipedia-Alle verhalen'!$B:$B,E223)","v":"2000-09-12"},2000]
["Op het eiland Amoras",9.3000000000000007,50,"2020-04-18",{"$f":"MATCH(A224,'Wikipedia-Alle verhalen'!$C:$C,0)","v":{"$error":"#N/A"}},"1946-01-01",1946]
["Operatie Siggy",5.7,10,"2020-02-29",{"$f":"MATCH(A225,'Wikipedia-Alle verhalen'!$C:$C,0)","v":375},{"$f":"INDEX('Wikipedia-Alle verhalen'!$B:$B,E225)","v":"2018-09-12"},2018]
["Operatie woestijn",7,1,"2004-01-29",{"$f":"MATCH(A226,'Wikipedia-Alle verhalen'!$C:$C,0)","v":{"$error":"#N/A"}},"1997-01-01",1997]
["Opvoedingsplan B1",7,2,"2015-12-11",{"$f":"MATCH(A227,'Wikipedia-Alle verhalen'!$C:$C,0)","v":{"$error":"#N/A"}},"1997-01-01",1997]
["Paniek in Palermo",7.67,61,"2017-08-12",{"$f":"MATCH(A228,'Wikipedia-Alle verhalen'!$C:$C,0)","v":259},{"$f":"INDEX('Wikipedia-Alle verhalen'!$B:$B,E228)","v":"14 januari 2004"},2004]
["Papa Razzi",6.8,25,"2016-09-19",{"$f":"MATCH(A229,'Wikipedia-Alle verhalen'!$C:$C,0)","v":238},{"$f":"INDEX('Wikipedia-Alle verhalen'!$B:$B,E229)","v":"maart 1999"},1999]
["De parel in de lotusbloem",9,47,"2018-07-26",{"$f":"MATCH(A230,'Wikipedia-Alle verhalen'!$C:$C,0)","v":173},{"$f":"INDEX('Wikipedia-Alle verhalen'!$B:$B,E230)","v":"1 januari 1987"},1987]
["De perenprins",6.11,26,"2015-11-16",{"$f":"MATCH(A231,'Wikipedia-Alle verhalen'!$C:$C,0)","v":133},{"$f":"INDEX('Wikipedia-Alle verhalen'!$B:$B,E231)","v":"13 maart 1980"},1980]
["Pezige Peekah",7.75,4,"2010-11-03",{"$f":"MATCH(A232,'Wikipedia-Alle verhalen'!$C:$C,0)","v":204},{"$f":"INDEX('Wikipedia-Alle verhalen'!$B:$B,E232)","v":"27 februari 1992"},1992]
["De pientere pop",7.33,3,"2017-09-12",{"$f":"MATCH(A233,'Wikipedia-Alle verhalen'!$C:$C,0)","v":361},{"$f":"INDEX('Wikipedia-Alle verhalen'!$B:$B,E233)","v":"2016-09-24"},2016]
["De pijnloze tandarts",6,1,"2004-01-29",{"$f":"MATCH(A234,'Wikipedia-Alle verhalen'!$C:$C,0)","v":{"$error":"#N/A"}},"1997-01-01",1997]
["De planeetvreter",6.19,26,"2020-02-26",{"$f":"MATCH(A235,'Wikipedia-Alle verhalen'!$C:$C,0)","v":368},{"$f":"INDEX('Wikipedia-Alle verhalen'!$B:$B,E235)","v":"17 mei 2017"},2017]
["De poenschepper",8.75,41,"2018-05-11",{"$f":"MATCH(A236,'Wikipedia-Alle verhalen'!$C:$C,0)","v":72},{"$f":"INDEX('Wikipedia-Alle verhalen'!$B:$B,E236)","v":"2 juli 1966"},1966]
["De poezelige poes",7.14,14,"2016-12-15",{"$f":"MATCH(A237,'Wikipedia-Alle verhalen'!$C:$C,0)","v":98},{"$f":"INDEX('Wikipedia-Alle verhalen'!$B:$B,E237)","v":"25 juli 1974"},1974]
["De pompenplanters",7.6,10,"2017-07-06",{"$f":"MATCH(A238,'Wikipedia-Alle verhalen'!$C:$C,0)","v":128},{"$f":"INDEX('Wikipedia-Alle verhalen'!$B:$B,E238)","v":"9 februari 1979"},1979]
["De poppenpakker",7.3,10,"2019-05-11",{"$f":"MATCH(A239,'Wikipedia-Alle verhalen'!$C:$C,0)","v":90},{"$f":"INDEX('Wikipedia-Alle verhalen'!$B:$B,E239)","v":"3 februari 1973"},1973]
["De pottenproever",8.3699999999999992,16,"2016-12-04",{"$f":"MATCH(A240,'Wikipedia-Alle verhalen'!$C:$C,0)","v":212},{"$f":"INDEX('Wikipedia-Alle verhalen'!$B:$B,E240)","v":"30 augustus 1993"},1993]
["Prachtige Pjotr",6.88,17,"2019-11-20",{"$f":"MATCH(A241,'Wikipedia-Alle verhalen'!$C:$C,0)","v":226},{"$f":"INDEX('Wikipedia-Alle verhalen'!$B:$B,E241)","v":"juli 1996"},1996]
["De preutse prinses",7.09,11,"2020-06-21",{"$f":"MATCH(A242,'Wikipedia-Alle verhalen'!$C:$C,0)","v":385},{"$f":"INDEX('Wikipedia-Alle verhalen'!$B:$B,E242)","v":"31 maart 2020"},2020]
["De primitieve paljassen",8,10,"2019-05-08",{"$f":"MATCH(A243,'Wikipedia-Alle verhalen'!$C:$C,0)","v":275},{"$f":"INDEX('Wikipedia-Alle verhalen'!$B:$B,E243)","v":"4 maart 2006"},2006]
["Prinses Zagemeel",8.75,20,"2020-05-25",{"$f":"MATCH(A244,'Wikipedia-Alle verhalen'!$C:$C,0)","v":10},{"$f":"INDEX('Wikipedia-Alle verhalen'!$B:$B,E244)","v":"1947-11-08"},{"$f":"IF(ISTEXT(F244),VALUE(RIGHT(F244,4)),YEAR(F244))","v":1947}]
["De pronte professor",7.28,7,"2019-03-26",{"$f":"MATCH(A245,'Wikipedia-Alle verhalen'!$C:$C,0)","v":276},{"$f":"INDEX('Wikipedia-Alle verhalen'!$B:$B,E245)","v":"9 juni 2006"},2006]
["Het puike porselein",6,1,"2004-03-01",{"$f":"MATCH(A246,'Wikipedia-Alle verhalen'!$C:$C,0)","v":{"$error":"#N/A"}},"2000-01-01",2000,{"$f":"MATCH(A246,#REF!,0)","v":{"$error":"#REF!"}}]
["De raap van Rubens",9.15,32,"2019-10-06",{"$f":"MATCH(A247,'Wikipedia-Alle verhalen'!$C:$C,0)","v":112},{"$f":"INDEX('Wikipedia-Alle verhalen'!$B:$B,E247)","v":"24 mei 1976"},1976]
["De rammelende rally",7,8,"2010-11-03",{"$f":"MATCH(A248,'Wikipedia-Alle verhalen'!$C:$C,0)","v":47},{"$f":"INDEX('Wikipedia-Alle verhalen'!$B:$B,E248)","v":"1905-05-10"},1950]
["De razende race",6.66,15,"2016-11-25",{"$f":"MATCH(A249,'Wikipedia-Alle verhalen'!$C:$C,0)","v":222},{"$f":"INDEX('Wikipedia-Alle verhalen'!$B:$B,E249)","v":"augustus 1995"},{"$f":"IF(ISTEXT(F249),VALUE(RIGHT(F249,4)),YEAR(F249))","v":1995}]
["De razende rentmeester",5.28,7,"2010-10-27",{"$f":"MATCH(A250,'Wikipedia-Alle verhalen'!$C:$C,0)","v":264},{"$f":"INDEX('Wikipedia-Alle verhalen'!$B:$B,E250)","v":"30 oktober 2004"},2004]
["De rebelse Reinaert",6.12,24,"2020-06-03",{"$f":"MATCH(A251,'Wikipedia-Alle verhalen'!$C:$C,0)","v":233},{"$f":"INDEX('Wikipedia-Alle verhalen'!$B:$B,E251)","v":"31 maart 1998"},1998]
["De regenboogprinses",6.66,18,"2019-12-22",{"$f":"MATCH(A252,'Wikipedia-Alle verhalen'!$C:$C,0)","v":115},{"$f":"INDEX('Wikipedia-Alle verhalen'!$B:$B,E252)","v":"10 juli 1976"},1976]
["Het rijmende paard",9.36,25,"2020-03-19",{"$f":"MATCH(A253,'Wikipedia-Alle verhalen'!$C:$C,0)","v":62},{"$f":"INDEX('Wikipedia-Alle verhalen'!$B:$B,E253)","v":"1962-11-22"},1962]
["Rikki en Wiske",7.1,40,"2020-04-17",{"$f":"MATCH(A254,'Wikipedia-Alle verhalen'!$C:$C,0)","v":{"$error":"#N/A"}},"1945-01-01",1945,{"$f":"MATCH(A254,#REF!,0)","v":{"$error":"#REF!"}}]
["De rillende rots",7.48,41,"2016-09-13",{"$f":"MATCH(A255,'Wikipedia-Alle verhalen'!$C:$C,0)","v":304},{"$f":"INDEX('Wikipedia-Alle verhalen'!$B:$B,E255)","v":"2009-11-02"},2009]
["De Ringelingschat",8.9600000000000009,28,"2018-12-31",{"$f":"MATCH(A256,'Wikipedia-Alle verhalen'!$C:$C,0)","v":22},{"$f":"INDEX('Wikipedia-Alle verhalen'!$B:$B,E256)","v":"2 februari 1951"},1951]
["Het rinkelende raderwerk",7.8,5,"2010-11-02",{"$f":"MATCH(A257,'Wikipedia-Alle verhalen'!$C:$C,0)","v":281},{"$f":"INDEX('Wikipedia-Alle verhalen'!$B:$B,E257)","v":"2006-09-17"},2006]
["De rinoramp",8.07,13,"2012-11-29",{"$f":"MATCH(A258,'Wikipedia-Alle verhalen'!$C:$C,0)","v":189},{"$f":"INDEX('Wikipedia-Alle verhalen'!$B:$B,E258)","v":"1989-09-01"},1989]
["Robotkop",6.04,21,"2016-11-26",{"$f":"MATCH(A259,'Wikipedia-Alle verhalen'!$C:$C,0)","v":223},{"$f":"INDEX('Wikipedia-Alle verhalen'!$B:$B,E259)","v":"1995-09-28"},1995]
["Het ros Bazhaar",8.94,19,"2020-01-05",{"$f":"MATCH(A260,'Wikipedia-Alle verhalen'!$C:$C,0)","v":93},{"$f":"INDEX('Wikipedia-Alle verhalen'!$B:$B,E260)","v":"31 oktober 1973"},1973]
["De rosse reus",6.33,9,"2012-11-04",{"$f":"MATCH(A261,'Wikipedia-Alle verhalen'!$C:$C,0)","v":138},{"$f":"INDEX('Wikipedia-Alle verhalen'!$B:$B,E261)","v":"1981-04-17"},1981]
["De royale ruiter",7.82,17,"2020-02-19",{"$f":"MATCH(A262,'Wikipedia-Alle verhalen'!$C:$C,0)","v":337},{"$f":"INDEX('Wikipedia-Alle verhalen'!$B:$B,E262)","v":"2013-12-11"},2013]
["De ruige regen",7.33,18,"2015-01-21",{"$f":"MATCH(A263,'Wikipedia-Alle verhalen'!$C:$C,0)","v":163},{"$f":"INDEX('Wikipedia-Alle verhalen'!$B:$B,E263)","v":"1985-09-01"},1985]
["Sagarmatha",8.3800000000000008,13,"2012-11-05",{"$f":"MATCH(A264,'Wikipedia-Alle verhalen'!$C:$C,0)","v":186},{"$f":"INDEX('Wikipedia-Alle verhalen'!$B:$B,E264)","v":"10 februari 1989"},1989]
["De schaal van Moraal",8,3,"2016-10-12",{"$f":"MATCH(A265,'Wikipedia-Alle verhalen'!$C:$C,0)","v":359},{"$f":"INDEX('Wikipedia-Alle verhalen'!$B:$B,E265)","v":"2016-09-10"},2016]
["De schat van Beersel",9.35,40,"2020-04-30",{"$f":"MATCH(A266,'Wikipedia-Alle verhalen'!$C:$C,0)","v":28},{"$f":"INDEX('Wikipedia-Alle verhalen'!$B:$B,E266)","v":"23 juli 1952"},1952]
["De scherpe schorpioen",7.6,10,"2015-06-09",{"$f":"MATCH(A267,'Wikipedia-Alle verhalen'!$C:$C,0)","v":197},{"$f":"INDEX('Wikipedia-Alle verhalen'!$B:$B,E267)","v":"18 februari 1991"},1991]
["De schone slaper",8.3699999999999992,24,"2014-12-24",{"$f":"MATCH(A268,'Wikipedia-Alle verhalen'!$C:$C,0)","v":68},{"$f":"INDEX('Wikipedia-Alle verhalen'!$B:$B,E268)","v":"23 januari 1965"},1965]
["Het schrikkelspook",8.23,17,"2020-02-19",{"$f":"MATCH(A269,'Wikipedia-Alle verhalen'!$C:$C,0)","v":338},{"$f":"INDEX('Wikipedia-Alle verhalen'!$B:$B,E269)","v":"12 februari 2014"},2014]
["De sinistere site",7.42,7,"2014-03-16",{"$f":"MATCH(A270,'Wikipedia-Alle verhalen'!$C:$C,0)","v":273},{"$f":"INDEX('Wikipedia-Alle verhalen'!$B:$B,E270)","v":"2005-12-01"},2005]
["Sinjeur Stekkepoot",8.6,5,"2019-05-08",{"$f":"MATCH(A271,'Wikipedia-Alle verhalen'!$C:$C,0)","v":278},{"$f":"INDEX('Wikipedia-Alle verhalen'!$B:$B,E271)","v":"5 augustus 2006"},2006]
["De sissende sampan",8.57,19,"2020-03-19",{"$f":"MATCH(A272,'Wikipedia-Alle verhalen'!$C:$C,0)","v":63},{"$f":"INDEX('Wikipedia-Alle verhalen'!$B:$B,E272)","v":"1963-04-02"},1963]
["Sjeik El Rojenbiet",7.85,14,"2020-03-12",{"$f":"MATCH(A273,'Wikipedia-Alle verhalen'!$C:$C,0)","v":64},{"$f":"INDEX('Wikipedia-Alle verhalen'!$B:$B,E273)","v":"12 augustus 1963"},1963]
["Het slapende goud",5.56,72,"2019-12-29",{"$f":"MATCH(A274,'Wikipedia-Alle verhalen'!$C:$C,0)","v":268},{"$f":"INDEX('Wikipedia-Alle verhalen'!$B:$B,E274)","v":"25 juli 2005"},2005]
["De slimme slapjanus",6.7,17,"2019-04-30",{"$f":"MATCH(A275,'Wikipedia-Alle verhalen'!$C:$C,0)","v":210},{"$f":"INDEX('Wikipedia-Alle verhalen'!$B:$B,E275)","v":"5 mei 1993"},1993]
["De snikkende sirene",8.07,14,"2016-12-06",{"$f":"MATCH(A276,'Wikipedia-Alle verhalen'!$C:$C,0)","v":208},{"$f":"INDEX('Wikipedia-Alle verhalen'!$B:$B,E276)","v":"12 januari 1993"},1993]
["De snoezige Snowijt",8,11,"2018-12-24",{"$f":"MATCH(A277,'Wikipedia-Alle verhalen'!$C:$C,0)","v":94},{"$f":"INDEX('Wikipedia-Alle verhalen'!$B:$B,E277)","v":"1973-12-01"},1973]
["De snorrende snor",7.73,19,"2020-03-12",{"$f":"MATCH(A278,'Wikipedia-Alle verhalen'!$C:$C,0)","v":43},{"$f":"INDEX('Wikipedia-Alle verhalen'!$B:$B,E278)","v":"1956-09-08"},1956]
["Sony-San",5.6,5,"2011-05-07",{"$f":"MATCH(A279,'Wikipedia-Alle verhalen'!$C:$C,0)","v":168},{"$f":"INDEX('Wikipedia-Alle verhalen'!$B:$B,E279)","v":"februari 1986"},1986]
["Sooi en Sientje",7.53,13,"2020-02-16",{"$f":"MATCH(A280,'Wikipedia-Alle verhalen'!$C:$C,0)","v":348},{"$f":"INDEX('Wikipedia-Alle verhalen'!$B:$B,E280)","v":"2015-09-09"},2015]
["SOS Snowbell",7.87,8,"2020-02-28",{"$f":"MATCH(A281,'Wikipedia-Alle verhalen'!$C:$C,0)","v":373},{"$f":"INDEX('Wikipedia-Alle verhalen'!$B:$B,E281)","v":"13 maart 2018"},{"$f":"IF(ISTEXT(F281),VALUE(RIGHT(F281,4)),YEAR(F281))","v":2018}]
["Het Spaanse spook",9.5399999999999991,31,"2019-12-13",{"$f":"MATCH(A282,'Wikipedia-Alle verhalen'!$C:$C,0)","v":13},{"$f":"INDEX('Wikipedia-Alle verhalen'!$B:$B,E282)","v":"1948-09-09"},1948]
["De space-party",7,1,"2004-02-04",{"$f":"MATCH(A283,'Wikipedia-Alle verhalen'!$C:$C,0)","v":{"$error":"#N/A"}},"1997-01-01",1997,{"$f":"MATCH(A283,#REF!,0)","v":{"$error":"#REF!"}}]
["De speelgoedspiegel",8.5,12,"2016-09-30",{"$f":"MATCH(A284,'Wikipedia-Alle verhalen'!$C:$C,0)","v":183},{"$f":"INDEX('Wikipedia-Alle verhalen'!$B:$B,E284)","v":"1 oktober 1988"},1988]
["De speelgoedzaaier",9.36,19,"2020-03-17",{"$f":"MATCH(A285,'Wikipedia-Alle verhalen'!$C:$C,0)","v":35},{"$f":"INDEX('Wikipedia-Alle verhalen'!$B:$B,E285)","v":"15 mei 1954"},1954]
["De spitse bergen",9,4,"2016-11-02",{"$f":"MATCH(A286,'Wikipedia-Alle verhalen'!$C:$C,0)","v":349},{"$f":"INDEX('Wikipedia-Alle verhalen'!$B:$B,E286)","v":"2015-09-26"},2015]
["De spokenjagers",8.77,27,"2016-03-06",{"$f":"MATCH(A287,'Wikipedia-Alle verhalen'!$C:$C,0)","v":41},{"$f":"INDEX('Wikipedia-Alle verhalen'!$B:$B,E287)","v":"31 maart 1956"},1956]
["De spottende spiegel",7,2,"2018-06-02",{"$f":"MATCH(A288,'Wikipedia-Alle verhalen'!$C:$C,0)","v":319},{"$f":"INDEX('Wikipedia-Alle verhalen'!$B:$B,E288)","v":"27 augustus 2011"},2011]
["Het sprekende testament",9.26,26,"2019-12-26",{"$f":"MATCH(A289,'Wikipedia-Alle verhalen'!$C:$C,0)","v":45},{"$f":"INDEX('Wikipedia-Alle verhalen'!$B:$B,E289)","v":"4 juni 1957"},1957]
["De sprietatoom",7.6,23,"2020-04-05",{"$f":"MATCH(A290,'Wikipedia-Alle verhalen'!$C:$C,0)","v":6},{"$f":"INDEX('Wikipedia-Alle verhalen'!$B:$B,E290)","v":"15 mei 1946"},1946]
["Sprookjesnacht aan zee",8,4,"2019-12-14",{"$f":"MATCH(A291,'Wikipedia-Alle verhalen'!$C:$C,0)","v":152},{"$f":"INDEX('Wikipedia-Alle verhalen'!$B:$B,E291)","v":"1 mei 1983"},1983]
["Spruiten voor Sprotje",6.42,7,"2015-03-09",{"$f":"MATCH(A292,'Wikipedia-Alle verhalen'!$C:$C,0)","v":199},{"$f":"INDEX('Wikipedia-Alle verhalen'!$B:$B,E292)","v":"1 juni 1991"},1991]
["De sputterende spuiter",5.85,20,"2018-10-27",{"$f":"MATCH(A293,'Wikipedia-Alle verhalen'!$C:$C,0)","v":117},{"$f":"INDEX('Wikipedia-Alle verhalen'!$B:$B,E293)","v":"1976-11-30"},1976]
["De stalen bloempot",9,23,"2019-11-10",{"$f":"MATCH(A294,'Wikipedia-Alle verhalen'!$C:$C,0)","v":20},{"$f":"INDEX('Wikipedia-Alle verhalen'!$B:$B,E294)","v":"16 mei 1950"},1950]
["Het statige standbeeld",7.5,12,"2014-02-24",{"$f":"MATCH(A295,'Wikipedia-Alle verhalen'!$C:$C,0)","v":127},{"$f":"INDEX('Wikipedia-Alle verhalen'!$B:$B,E295)","v":"1978-09-28"},1978]
["De steensnoepers",7.06,16,"2020-06-08",{"$f":"MATCH(A296,'Wikipedia-Alle verhalen'!$C:$C,0)","v":86},{"$f":"INDEX('Wikipedia-Alle verhalen'!$B:$B,E296)","v":"13 augustus 1971"},1971]
["De stemmenrover",9.11,27,"2014-12-20",{"$f":"MATCH(A297,'Wikipedia-Alle verhalen'!$C:$C,0)","v":44},{"$f":"INDEX('Wikipedia-Alle verhalen'!$B:$B,E297)","v":"21 januari 1957"},1957]
["De stenen broden",7,4,"2015-07-31",{"$f":"MATCH(A298,'Wikipedia-Alle verhalen'!$C:$C,0)","v":139},{"$f":"INDEX('Wikipedia-Alle verhalen'!$B:$B,E298)","v":"1 juni 1981"},1981]
["De sterrenplukkers",9.0299999999999994,28,"2015-12-03",{"$f":"MATCH(A299,'Wikipedia-Alle verhalen'!$C:$C,0)","v":26},{"$f":"INDEX('Wikipedia-Alle verhalen'!$B:$B,E299)","v":"10 maart 1952"},1952]
["Sterrenrood",8.18,16,"2016-08-26",{"$f":"MATCH(A300,'Wikipedia-Alle verhalen'!$C:$C,0)","v":344},{"$f":"INDEX('Wikipedia-Alle verhalen'!$B:$B,E300)","v":"2014-12-19"},2014]
["De sterrensteen",6.66,30,"2018-05-11",{"$f":"MATCH(A301,'Wikipedia-Alle verhalen'!$C:$C,0)","v":299},{"$f":"INDEX('Wikipedia-Alle verhalen'!$B:$B,E301)","v":"2008-12-12"},2008]
["De stervende ster",6.5,18,"2016-12-05",{"$f":"MATCH(A302,'Wikipedia-Alle verhalen'!$C:$C,0)","v":207},{"$f":"INDEX('Wikipedia-Alle verhalen'!$B:$B,E302)","v":"1992-12-07"},1992]
["De stierentemmer",8.5500000000000007,18,"2020-06-09",{"$f":"MATCH(A303,'Wikipedia-Alle verhalen'!$C:$C,0)","v":18},{"$f":"INDEX('Wikipedia-Alle verhalen'!$B:$B,E303)","v":"5 januari 1950"},1950]
["Stilte! De vis bijt",7,2,"2005-11-04",{"$f":"MATCH(A304,'Wikipedia-Alle verhalen'!$C:$C,0)","v":{"$error":"#N/A"}},"1980-01-01",1980,{"$f":"MATCH(A304,#REF!,0)","v":{"$error":"#REF!"}}]
["De stoute steenezel",6.52,17,"2012-10-14",{"$f":"MATCH(A305,'Wikipedia-Alle verhalen'!$C:$C,0)","v":132},{"$f":"INDEX('Wikipedia-Alle verhalen'!$B:$B,E305)","v":"1979-11-03"},1979]
["De straatridder",8.61,21,"2014-12-20",{"$f":"MATCH(A306,'Wikipedia-Alle verhalen'!$C:$C,0)","v":39},{"$f":"INDEX('Wikipedia-Alle verhalen'!$B:$B,E306)","v":"2 juli 1955"},1955]
["De stralende staf",6.45,35,"2018-12-06",{"$f":"MATCH(A307,'Wikipedia-Alle verhalen'!$C:$C,0)","v":305},{"$f":"INDEX('Wikipedia-Alle verhalen'!$B:$B,E307)","v":"2009-11-18"},2009]
["De stugge Stuyvesant",6.87,16,"2018-09-09",{"$f":"MATCH(A308,'Wikipedia-Alle verhalen'!$C:$C,0)","v":242},{"$f":"INDEX('Wikipedia-Alle verhalen'!$B:$B,E308)","v":"februari 2000"},2000]
["De stuivende stad",7.33,36,"2020-03-26",{"$f":"MATCH(A309,'Wikipedia-Alle verhalen'!$C:$C,0)","v":313},{"$f":"INDEX('Wikipedia-Alle verhalen'!$B:$B,E309)","v":"2 oktober 2010"},2010]
["De suikerslaven",5.0199999999999996,38,"2020-03-01",{"$f":"MATCH(A310,'Wikipedia-Alle verhalen'!$C:$C,0)","v":327},{"$f":"INDEX('Wikipedia-Alle verhalen'!$B:$B,E310)","v":"8 augustus 2012"},2012]
["Suske de rat",8.9600000000000009,31,"2020-05-09",{"$f":"MATCH(A311,'Wikipedia-Alle verhalen'!$C:$C,0)","v":326},{"$f":"INDEX('Wikipedia-Alle verhalen'!$B:$B,E311)","v":"2 augustus 2012"},2012]
["Suskewiet",8.08,12,"2020-02-16",{"$f":"MATCH(A312,'Wikipedia-Alle verhalen'!$C:$C,0)","v":346},{"$f":"INDEX('Wikipedia-Alle verhalen'!$B:$B,E312)","v":"18 maart 2015"},2015]
["De tamme Tumi",9.52,34,"2020-02-19",{"$f":"MATCH(A313,'Wikipedia-Alle verhalen'!$C:$C,0)","v":154},{"$f":"INDEX('Wikipedia-Alle verhalen'!$B:$B,E313)","v":"17 oktober 1983"},{"$f":"IF(ISTEXT(F313),VALUE(RIGHT(F313,4)),YEAR(F313))","v":1983}]
["De tamtamkloppers",9.1199999999999992,16,"2020-03-16",{"$f":"MATCH(A314,'Wikipedia-Alle verhalen'!$C:$C,0)","v":31},{"$f":"INDEX('Wikipedia-Alle verhalen'!$B:$B,E314)","v":"1953-04-07"},1953]
["De tandentikkers",6.8,10,"2010-11-03",{"$f":"MATCH(A315,'Wikipedia-Alle verhalen'!$C:$C,0)","v":161},{"$f":"INDEX('Wikipedia-Alle verhalen'!$B:$B,E315)","v":"februari 1985"},1985]
["Tante Biotica",7.5,4,"2017-10-18",{"$f":"MATCH(A316,'Wikipedia-Alle verhalen'!$C:$C,0)","v":343},{"$f":"INDEX('Wikipedia-Alle verhalen'!$B:$B,E316)","v":"2014-12-01"},2014]
["De Tartaarse helm",8.92,26,"2020-04-25",{"$f":"MATCH(A317,'Wikipedia-Alle verhalen'!$C:$C,0)","v":23},{"$f":"INDEX('Wikipedia-Alle verhalen'!$B:$B,E317)","v":"9 mei 1951"},1951]
["Taxi Tata",6.37,8,"2020-02-10",{"$f":"MATCH(A318,'Wikipedia-Alle verhalen'!$C:$C,0)","v":314},{"$f":"INDEX('Wikipedia-Alle verhalen'!$B:$B,E318)","v":"23 oktober 2010"},2010]
["Tazuur en Tazijn",7.07,13,"2019-09-11",{"$f":"MATCH(A319,'Wikipedia-Alle verhalen'!$C:$C,0)","v":198},{"$f":"INDEX('Wikipedia-Alle verhalen'!$B:$B,E319)","v":"23 februari 1991"},1991]
["Team Krimson",5.8,5,"2020-06-22",{"$f":"MATCH(A320,'Wikipedia-Alle verhalen'!$C:$C,0)","v":386},{"$f":"INDEX('Wikipedia-Alle verhalen'!$B:$B,E320)","v":"16 juni 2020"},2020]
["Tedere Tronica",8,19,"2020-03-09",{"$f":"MATCH(A321,'Wikipedia-Alle verhalen'!$C:$C,0)","v":77},{"$f":"INDEX('Wikipedia-Alle verhalen'!$B:$B,E321)","v":"1968-04-27"},1968]
["Tegen de ZZZ",6.77,9,"2011-05-15",{"$f":"MATCH(A322,'Wikipedia-Alle verhalen'!$C:$C,0)","v":170},{"$f":"INDEX('Wikipedia-Alle verhalen'!$B:$B,E322)","v":"juni 1986"},1986]
["Telekinese",9.5,2,"2005-08-08",{"$f":"MATCH(A323,'Wikipedia-Alle verhalen'!$C:$C,0)","v":{"$error":"#N/A"}},"1997-01-01",1997,{"$f":"MATCH(A323,#REF!,0)","v":{"$error":"#REF!"}}]
["Tex en Terry",7.62,16,"2015-12-14",{"$f":"MATCH(A324,'Wikipedia-Alle verhalen'!$C:$C,0)","v":228},{"$f":"INDEX('Wikipedia-Alle verhalen'!$B:$B,E324)","v":"1996-12-30"},1996]
["De Texasrakkers",9.43,32,"2020-05-25",{"$f":"MATCH(A325,'Wikipedia-Alle verhalen'!$C:$C,0)","v":52},{"$f":"INDEX('Wikipedia-Alle verhalen'!$B:$B,E325)","v":"1959-04-13"},1959]
["De tijdbobijn",7.78,32,"2015-08-07",{"$f":"MATCH(A326,'Wikipedia-Alle verhalen'!$C:$C,0)","v":302},{"$f":"INDEX('Wikipedia-Alle verhalen'!$B:$B,E326)","v":"14 juli 2009"},2009]
["De tikkende Tinkan",6.07,52,"2019-12-28",{"$f":"MATCH(A327,'Wikipedia-Alle verhalen'!$C:$C,0)","v":285},{"$f":"INDEX('Wikipedia-Alle verhalen'!$B:$B,E327)","v":"1 februari 2007"},2007]
["De tirannieke tor",6.44,18,"2020-02-21",{"$f":"MATCH(A328,'Wikipedia-Alle verhalen'!$C:$C,0)","v":328},{"$f":"INDEX('Wikipedia-Alle verhalen'!$B:$B,E328)","v":"2012-11-13"},2012]
["De Tiroolse trawanten",3.9,10,"2010-10-27",{"$f":"MATCH(A329,'Wikipedia-Alle verhalen'!$C:$C,0)","v":166},{"$f":"INDEX('Wikipedia-Alle verhalen'!$B:$B,E329)","v":"1985-12-01"},1985]
["De Toetercup",8.5,2,"2011-04-27",{"$f":"MATCH(A330,'Wikipedia-Alle verhalen'!$C:$C,0)","v":293},{"$f":"INDEX('Wikipedia-Alle verhalen'!$B:$B,E330)","v":"2008-04-01"},2008]
["De toffe tamboer",6.3,13,"2012-10-21",{"$f":"MATCH(A331,'Wikipedia-Alle verhalen'!$C:$C,0)","v":137},{"$f":"INDEX('Wikipedia-Alle verhalen'!$B:$B,E331)","v":"1980-12-06"},1980]
["Toffe Tiko",5.81,11,"2015-03-10",{"$f":"MATCH(A332,'Wikipedia-Alle verhalen'!$C:$C,0)","v":100},{"$f":"INDEX('Wikipedia-Alle verhalen'!$B:$B,E332)","v":"januari 1975"},1975]
["Tokapua Toraja",8,9,"2015-11-16",{"$f":"MATCH(A333,'Wikipedia-Alle verhalen'!$C:$C,0)","v":215},{"$f":"INDEX('Wikipedia-Alle verhalen'!$B:$B,E333)","v":"1994-04-14"},1994]
["De tollende toverkol",8.25,4,"2019-09-15",{"$f":"MATCH(A334,'Wikipedia-Alle verhalen'!$C:$C,0)","v":362},{"$f":"INDEX('Wikipedia-Alle verhalen'!$B:$B,E334)","v":"1 oktober 2016"},2016]
["De toornige tjiftjaf",8.52,19,"2020-04-30",{"$f":"MATCH(A335,'Wikipedia-Alle verhalen'!$C:$C,0)","v":83},{"$f":"INDEX('Wikipedia-Alle verhalen'!$B:$B,E335)","v":"4 juli 1970"},1970]
["De Tootootjes",7.93,15,"2016-12-16",{"$f":"MATCH(A336,'Wikipedia-Alle verhalen'!$C:$C,0)","v":201},{"$f":"INDEX('Wikipedia-Alle verhalen'!$B:$B,E336)","v":"10 oktober 1991"},1991]
["De tragische tante",6,2,"2014-12-05",{"$f":"MATCH(A337,'Wikipedia-Alle verhalen'!$C:$C,0)","v":340},{"$f":"INDEX('Wikipedia-Alle verhalen'!$B:$B,E337)","v":"1905-07-06"},2014]
["De treiterende trien",7,2,"2020-06-21",{"$f":"MATCH(A338,'Wikipedia-Alle verhalen'!$C:$C,0)","v":290},{"$f":"INDEX('Wikipedia-Alle verhalen'!$B:$B,E338)","v":"2007-11-10"},{"$f":"IF(ISTEXT(F338),VALUE(RIGHT(F338,4)),YEAR(F338))","v":2007}]
["De Tuftuf-club",9.1300000000000008,23,"2014-06-30",{"$f":"MATCH(A339,'Wikipedia-Alle verhalen'!$C:$C,0)","v":24},{"$f":"INDEX('Wikipedia-Alle verhalen'!$B:$B,E339)","v":"13 juni 1951"},1951]
["Twee toffe totems",7.76,13,"2020-04-07",{"$f":"MATCH(A340,'Wikipedia-Alle verhalen'!$C:$C,0)","v":82},{"$f":"INDEX('Wikipedia-Alle verhalen'!$B:$B,E340)","v":"20 februari 1970"},1970]
["De UFO",8,2,"2004-02-21",{"$f":"MATCH(A341,'Wikipedia-Alle verhalen'!$C:$C,0)","v":{"$error":"#N/A"}},"1997-01-01",1997,{"$f":"MATCH(A341,#REF!,0)","v":{"$error":"#REF!"}}]
["De underdog",6.66,3,"2020-05-30",{"$f":"MATCH(A342,'Wikipedia-Alle verhalen'!$C:$C,0)","v":{"$error":"#N/A"}},"1997-01-01",1997,{"$f":"MATCH(A342,#REF!,0)","v":{"$error":"#REF!"}}]
["Van blad tot boot",8,1,"2003-06-24",{"$f":"MATCH(A343,'Wikipedia-Alle verhalen'!$C:$C,0)","v":{"$error":"#N/A"}},"1960-01-01",1960,{"$f":"MATCH(A343,#REF!,0)","v":{"$error":"#REF!"}}]
["De venijnige vanger",7.5,2,"2019-06-11",{"$f":"MATCH(A344,'Wikipedia-Alle verhalen'!$C:$C,0)","v":288},{"$f":"INDEX('Wikipedia-Alle verhalen'!$B:$B,E344)","v":"9 juni 2007"},2007]
["Het verborgen volk",6.9,10,"2013-11-09",{"$f":"MATCH(A345,'Wikipedia-Alle verhalen'!$C:$C,0)","v":113},{"$f":"INDEX('Wikipedia-Alle verhalen'!$B:$B,E345)","v":"juni 1976"},1976]
["Het verdronken land",7.62,16,"2015-12-09",{"$f":"MATCH(A346,'Wikipedia-Alle verhalen'!$C:$C,0)","v":237},{"$f":"INDEX('Wikipedia-Alle verhalen'!$B:$B,E346)","v":"2 maart 1999"},1999]
["De verdwenen verteller",4.6900000000000004,49,"2016-11-23",{"$f":"MATCH(A347,'Wikipedia-Alle verhalen'!$C:$C,0)","v":253},{"$f":"INDEX('Wikipedia-Alle verhalen'!$B:$B,E347)","v":"3 juli 2002"},2002]
["De vergeten vallei",7.07,13,"2013-11-16",{"$f":"MATCH(A348,'Wikipedia-Alle verhalen'!$C:$C,0)","v":97},{"$f":"INDEX('Wikipedia-Alle verhalen'!$B:$B,E348)","v":"juni 1974"},1974]
["De vergeten vluchtelingen",6.33,6,"2014-10-29",{"$f":"MATCH(A349,'Wikipedia-Alle verhalen'!$C:$C,0)","v":279},{"$f":"INDEX('Wikipedia-Alle verhalen'!$B:$B,E349)","v":"26 augustus 2006"},2006]
["De verloren Van Eyck",7.6,10,"2020-03-21",{"$f":"MATCH(A350,'Wikipedia-Alle verhalen'!$C:$C,0)","v":384},{"$f":"INDEX('Wikipedia-Alle verhalen'!$B:$B,E350)","v":"11 februari 2020"},2020]
["Het verloren verleden",6.33,12,"2020-02-16",{"$f":"MATCH(A351,'Wikipedia-Alle verhalen'!$C:$C,0)","v":355},{"$f":"INDEX('Wikipedia-Alle verhalen'!$B:$B,E351)","v":"2015-12-02"},2015]
["Het verloren zwaard",7.36,11,"2011-03-13",{"$f":"MATCH(A352,'Wikipedia-Alle verhalen'!$C:$C,0)","v":134},{"$f":"INDEX('Wikipedia-Alle verhalen'!$B:$B,E352)","v":"1 juni 1980"},1980]
["Verraad op de Veluwe",8.06,59,"2015-12-28",{"$f":"MATCH(A353,'Wikipedia-Alle verhalen'!$C:$C,0)","v":263},{"$f":"INDEX('Wikipedia-Alle verhalen'!$B:$B,E353)","v":"24 augustus 2004"},2004]
["De verraderlijke Vinson",6.62,16,"2016-11-20",{"$f":"MATCH(A354,'Wikipedia-Alle verhalen'!$C:$C,0)","v":225},{"$f":"INDEX('Wikipedia-Alle verhalen'!$B:$B,E354)","v":"14 mei 1996"},1996]
["Het vervloekte venster",7.5,2,"2014-12-05",{"$f":"MATCH(A355,'Wikipedia-Alle verhalen'!$C:$C,0)","v":339},{"$f":"INDEX('Wikipedia-Alle verhalen'!$B:$B,E355)","v":"2014-04-06"},2014]
["De verwoede verzamelaar",6,2,"2003-05-22",{"$f":"MATCH(A356,'Wikipedia-Alle verhalen'!$C:$C,0)","v":350},{"$f":"INDEX('Wikipedia-Alle verhalen'!$B:$B,E356)","v":"3 oktober 2015"},2015]
["De verwoede verzamelaar",7,1,"2015-10-15",{"$f":"MATCH(A357,'Wikipedia-Alle verhalen'!$C:$C,0)","v":350},{"$f":"INDEX('Wikipedia-Alle verhalen'!$B:$B,E357)","v":"3 oktober 2015"},2015]
["50 jaar Suske en Wiske-geschiedenis in strip",7,2,"2010-10-27",{"$f":"MATCH(A358,'Wikipedia-Alle verhalen'!$C:$C,0)","v":{"$error":"#N/A"}},"1995-01-01",1995,{"$f":"MATCH(A358,#REF!,0)","v":{"$error":"#REF!"}}]
["De vinnige Viking",5.66,18,"2020-03-05",{"$f":"MATCH(A359,'Wikipedia-Alle verhalen'!$C:$C,0)","v":102},{"$f":"INDEX('Wikipedia-Alle verhalen'!$B:$B,E359)","v":"1975-04-17"},1975]
["De vliegende aap",7.95,20,"2020-03-16",{"$f":"MATCH(A360,'Wikipedia-Alle verhalen'!$C:$C,0)","v":7},{"$f":"INDEX('Wikipedia-Alle verhalen'!$B:$B,E360)","v":"1946-09-28"},1946]
["Het vliegende bed",7.65,23,"2020-05-23",{"$f":"MATCH(A361,'Wikipedia-Alle verhalen'!$C:$C,0)","v":51},{"$f":"INDEX('Wikipedia-Alle verhalen'!$B:$B,E361)","v":"1958-11-27"},1958]
["Het vliegende hart",6.16,12,"2011-11-20",{"$f":"MATCH(A362,'Wikipedia-Alle verhalen'!$C:$C,0)","v":30},{"$f":"INDEX('Wikipedia-Alle verhalen'!$B:$B,E362)","v":"1952-12-14"},1952]
["De vliegende klomp",6.62,8,"2010-10-27",{"$f":"MATCH(A363,'Wikipedia-Alle verhalen'!$C:$C,0)","v":108},{"$f":"INDEX('Wikipedia-Alle verhalen'!$B:$B,E363)","v":"1905-05-28"},1970]
["De vliegende rivier",7.15,19,"2020-02-23",{"$f":"MATCH(A364,'Wikipedia-Alle verhalen'!$C:$C,0)","v":331},{"$f":"INDEX('Wikipedia-Alle verhalen'!$B:$B,E364)","v":"19 juni 2013"},{"$f":"IF(ISTEXT(F364),VALUE(RIGHT(F364,4)),YEAR(F364))","v":2013}]
["De vlijtige vlinder",7,14,"2016-12-23",{"$f":"MATCH(A365,'Wikipedia-Alle verhalen'!$C:$C,0)","v":103},{"$f":"INDEX('Wikipedia-Alle verhalen'!$B:$B,E365)","v":"17 mei 1975"},1975]
["De vogels der Goden",7.92,13,"2016-10-10",{"$f":"MATCH(A366,'Wikipedia-Alle verhalen'!$C:$C,0)","v":231},{"$f":"INDEX('Wikipedia-Alle verhalen'!$B:$B,E366)","v":"1997-11-12"},1997]
["Volle maan",7.85,27,"2016-10-23",{"$f":"MATCH(A367,'Wikipedia-Alle verhalen'!$C:$C,0)","v":227},{"$f":"INDEX('Wikipedia-Alle verhalen'!$B:$B,E367)","v":"1996-09-06"},1996]
["De vonkende vuurman",6.86,15,"2016-11-27",{"$f":"MATCH(A368,'Wikipedia-Alle verhalen'!$C:$C,0)","v":218},{"$f":"INDEX('Wikipedia-Alle verhalen'!$B:$B,E368)","v":"1994-09-01"},1994]
["Vredeskruid",6.33,3,"2020-03-24",{"$f":"MATCH(A369,'Wikipedia-Alle verhalen'!$C:$C,0)","v":351},{"$f":"INDEX('Wikipedia-Alle verhalen'!$B:$B,E369)","v":"10 oktober 2015"},2015]
["Walli de walvis",7.05,19,"2013-07-20",{"$f":"MATCH(A370,'Wikipedia-Alle verhalen'!$C:$C,0)","v":122},{"$f":"INDEX('Wikipedia-Alle verhalen'!$B:$B,E370)","v":"5 januari 1978"},1978]
["De watersater",7.43,32,"2015-10-03",{"$f":"MATCH(A371,'Wikipedia-Alle verhalen'!$C:$C,0)","v":311},{"$f":"INDEX('Wikipedia-Alle verhalen'!$B:$B,E371)","v":"14 juli 2010"},2010]
["Wattman",8.41,24,"2020-04-06",{"$f":"MATCH(A372,'Wikipedia-Alle verhalen'!$C:$C,0)","v":73},{"$f":"INDEX('Wikipedia-Alle verhalen'!$B:$B,E372)","v":"1966-11-12"},1966]
["De Weerwaterman",6.75,4,"2010-11-02",{"$f":"MATCH(A373,'Wikipedia-Alle verhalen'!$C:$C,0)","v":283},{"$f":"INDEX('Wikipedia-Alle verhalen'!$B:$B,E373)","v":"2006-11-26"},2006]
["De werken van Lambik",7,1,"2010-11-27",{"$f":"MATCH(A374,'Wikipedia-Alle verhalen'!$C:$C,0)","v":300},{"$f":"INDEX('Wikipedia-Alle verhalen'!$B:$B,E374)","v":"14 februari 2009"},2009]
["De wervelende waterzak",6.35,17,"2019-01-06",{"$f":"MATCH(A375,'Wikipedia-Alle verhalen'!$C:$C,0)","v":182},{"$f":"INDEX('Wikipedia-Alle verhalen'!$B:$B,E375)","v":"1 oktober 1988"},1988]
["De wilde weldoener",9.0500000000000007,18,"2020-03-27",{"$f":"MATCH(A376,'Wikipedia-Alle verhalen'!$C:$C,0)","v":58},{"$f":"INDEX('Wikipedia-Alle verhalen'!$B:$B,E376)","v":"19 juni 1961"},1961]
["De windbrekers",5.33,21,"2019-10-08",{"$f":"MATCH(A377,'Wikipedia-Alle verhalen'!$C:$C,0)","v":116},{"$f":"INDEX('Wikipedia-Alle verhalen'!$B:$B,E377)","v":"6 oktober 1976"},1976]
["De windmakers",8.19,21,"2020-05-25",{"$f":"MATCH(A378,'Wikipedia-Alle verhalen'!$C:$C,0)","v":53},{"$f":"INDEX('Wikipedia-Alle verhalen'!$B:$B,E378)","v":"22 augustus 1959"},1959]
["De witte gems",7.66,12,"2017-03-25",{"$f":"MATCH(A379,'Wikipedia-Alle verhalen'!$C:$C,0)","v":129},{"$f":"INDEX('Wikipedia-Alle verhalen'!$B:$B,E379)","v":"1 juni 1979"},1979]
["De witte uil",6.78,19,"2020-06-11",{"$f":"MATCH(A380,'Wikipedia-Alle verhalen'!$C:$C,0)","v":12},{"$f":"INDEX('Wikipedia-Alle verhalen'!$B:$B,E380)","v":"29 juli 1948"},1948]
["Het witte wief",7.58,17,"2012-12-14",{"$f":"MATCH(A381,'Wikipedia-Alle verhalen'!$C:$C,0)","v":192},{"$f":"INDEX('Wikipedia-Alle verhalen'!$B:$B,E381)","v":"26 januari 1990"},1990]
["Witte zwanen zwarte zwanen",7.71,7,"2017-03-16",{"$f":"MATCH(A382,'Wikipedia-Alle verhalen'!$C:$C,0)","v":175},{"$f":"INDEX('Wikipedia-Alle verhalen'!$B:$B,E382)","v":"1987-04-01"},1987]
["De woelige Wadden",7.15,13,"2013-01-25",{"$f":"MATCH(A383,'Wikipedia-Alle verhalen'!$C:$C,0)","v":141},{"$f":"INDEX('Wikipedia-Alle verhalen'!$B:$B,E383)","v":"1981-09-07"},1981]
["De woeste wespen",7.33,15,"2014-08-11",{"$f":"MATCH(A384,'Wikipedia-Alle verhalen'!$C:$C,0)","v":174},{"$f":"INDEX('Wikipedia-Alle verhalen'!$B:$B,E384)","v":"18 februari 1987"},1987]
["De wolkeneters",8.31,19,"2020-04-07",{"$f":"MATCH(A385,'Wikipedia-Alle verhalen'!$C:$C,0)","v":56},{"$f":"INDEX('Wikipedia-Alle verhalen'!$B:$B,E385)","v":"1960-09-28"},1960]
["Het wondere Wolfje",7.75,8,"2012-12-15",{"$f":"MATCH(A386,'Wikipedia-Alle verhalen'!$C:$C,0)","v":196},{"$f":"INDEX('Wikipedia-Alle verhalen'!$B:$B,E386)","v":"1990-11-02"},1990]
["De wrede wensput",8.3000000000000007,13,"2020-04-19",{"$f":"MATCH(A387,'Wikipedia-Alle verhalen'!$C:$C,0)","v":380},{"$f":"INDEX('Wikipedia-Alle verhalen'!$B:$B,E387)","v":"12 juni 2019"},2019]
["De zappende ziel",7.38,26,"2020-03-09",{"$f":"MATCH(A388,'Wikipedia-Alle verhalen'!$C:$C,0)","v":316},{"$f":"INDEX('Wikipedia-Alle verhalen'!$B:$B,E388)","v":"9 maart 2011"},2011]
["De 7 schaken",9.2100000000000009,65,"2020-02-27",{"$f":"MATCH(A389,'Wikipedia-Alle verhalen'!$C:$C,0)","v":219},{"$f":"INDEX('Wikipedia-Alle verhalen'!$B:$B,E389)","v":"1994-11-29"},1994]
["De zeven snaren",7.72,18,"2019-09-04",{"$f":"MATCH(A390,'Wikipedia-Alle verhalen'!$C:$C,0)","v":75},{"$f":"INDEX('Wikipedia-Alle verhalen'!$B:$B,E390)","v":"5 augustus 1967"},1967]
["De zilveren appels",6.28,7,"2016-10-23",{"$f":"MATCH(A391,'Wikipedia-Alle verhalen'!$C:$C,0)","v":142},{"$f":"INDEX('Wikipedia-Alle verhalen'!$B:$B,E391)","v":"1905-06-03"},1975]
["De zingende kaars",6.69,26,"2018-10-27",{"$f":"MATCH(A392,'Wikipedia-Alle verhalen'!$C:$C,0)","v":110},{"$f":"INDEX('Wikipedia-Alle verhalen'!$B:$B,E392)","v":"9 februari 1976"},{"$f":"IF(ISTEXT(F392),VALUE(RIGHT(F392,4)),YEAR(F392))","v":1976}]
["Het zingende nijlpaard",8.86,23,"2013-05-12",{"$f":"MATCH(A393,'Wikipedia-Alle verhalen'!$C:$C,0)","v":21},{"$f":"INDEX('Wikipedia-Alle verhalen'!$B:$B,E393)","v":"1950-09-23"},1950]
["De zingende zwammen",8.9499999999999993,22,"2020-04-09",{"$f":"MATCH(A394,'Wikipedia-Alle verhalen'!$C:$C,0)","v":55},{"$f":"INDEX('Wikipedia-Alle verhalen'!$B:$B,E394)","v":"18 mei 1960"},1960]
["Het zoemende ei",8.34,23,"2016-01-30",{"$f":"MATCH(A395,'Wikipedia-Alle verhalen'!$C:$C,0)","v":66},{"$f":"INDEX('Wikipedia-Alle verhalen'!$B:$B,E395)","v":"2 mei 1964"},1964]
["De zorgzoekers",6,1,"2019-04-15",{"$f":"MATCH(A396,'Wikipedia-Alle verhalen'!$C:$C,0)","v":367},{"$f":"INDEX('Wikipedia-Alle verhalen'!$B:$B,E396)","v":"2017-04-28"},2017]
["De Zwarte Madam",8.09,52,"2020-06-18",{"$f":"MATCH(A397,'Wikipedia-Alle verhalen'!$C:$C,0)","v":8},{"$f":"INDEX('Wikipedia-Alle verhalen'!$B:$B,E397)","v":"13 februari 1947"},1947]
["De zwarte tulp",7.43,16,"2020-02-19",{"$f":"MATCH(A398,'Wikipedia-Alle verhalen'!$C:$C,0)","v":341},{"$f":"INDEX('Wikipedia-Alle verhalen'!$B:$B,E398)","v":"17 juni 2014"},2014]
["De zwarte zwaan",8.4700000000000006,21,"2020-05-09",{"$f":"MATCH(A399,'Wikipedia-Alle verhalen'!$C:$C,0)","v":50},{"$f":"INDEX('Wikipedia-Alle verhalen'!$B:$B,E399)","v":"14 juli 1958"},1958]
["De zwarte zwevers",6.8,10,"2020-02-28",{"$f":"MATCH(A400,'Wikipedia-Alle verhalen'!$C:$C,0)","v":371},{"$f":"INDEX('Wikipedia-Alle verhalen'!$B:$B,E400)","v":"2017-11-07"},2017]